{"text_format":"1","workbook":"xlsx","n_sheets":23,"sheets":["Intro","Configurator","SKU list","Conf2","SKU2","Conf3","SKU3","Conf4","SKU4","Conf5","SKU5","Conf6","SKU6","Conf7","SKU7","Conf8","SKU8","Conf9","SKU9","Conf10","SKU10","Aggregated SKU List","List"],"not_rendered":{"charts":0,"images":81,"macros":1,"external_links":0,"defined_names":190,"comments":0,"pivot_tables":0},"unopened":[],"bounds":{"document_bytes":16777216,"sheet_cells":100000,"rows_first":2000,"rows_last":500,"rows_between":2000,"halvings":0,"cell_chars":16384,"cell_head_chars":4096},"cells_cut":0,"cells_raw":0,"read":"whole","date_system":"1900"}

{"sheet":"Intro","index":0,"n_rows":38,"n_cols":13,"rows_kept":38,"cut":false,"hidden":false,"merged":[[26,1,26,4],[28,6,28,10],[30,6,30,10]]}
[]
[]
[]
[]
[]
[]
[]
["Welcome to the M6100 switch series configurator. "]
[]
["We made it easy to use: "]
[]
[]
[null,null,"1 -","Enable Content"]
[]
[]
[]
[]
[]
[]
[]
[]
[null,null,"2 -","Configure your NETGEAR M6100 Series Chassis Switch in \"Configurator\" "]
[]
[null,null,"3 -","Find your edited BOM in \"SKU List\" ",null,null,null,null,null,null,null,null,"If you can't use the Green cells (dynamic lists for Slot-1 / Slot-2 / Slot-3) in \"Configurator\" tab, "]
[null,null,null,null,null,null,null,null,null,null,null,null,"please refer to http://support.microsoft.com/kb/3025036/EN-US\n\n"]
[null,null,null,null,null,null,null,null,null,null,null,null,"Your symptom is described as “Symptom 3” in above bulletin."]
[null,"Very fast:  only Green cells are editable ",null,null,null,null,null,null,null,null,null,null,"Please install Microsoft Office and Microsoft Excel updates as explained in \"Resolution\""]
[null,null,null,null,null,null,null,null,null,null,null,null,"1. Please select the right Office 2013 C2R / Office 2013 MSI / Office 2010 / Office 2007 fixes"]
[null,null,null,null,null,null,"New!   10 independent configurations",null,null,null,null,null,"Additionnally, you can remove .exd files in your Temp folder and subfolders"]
[null,null,null,null,null,null,null,null,null,null,null,null,"1. In Windows Explorer, open the %TEMP% folder, and then search for \" *.exd \" in all subfolders."]
[null,null,null,null,null,null,"And the aggregated SKU list in last tab.",null,null,null,null,null,"2. In Windows Explorer, open the %TEMP% folder, and then search for \" *.exd \" in all subfolders."]
[null,null,null,null,null,null,null,null,null,null,null,null,"3. The above bulletin also provides automatic Fix it solutions (scroll down - bottom of the page)"]
[]
[]
[]
[null,null,null,null,null,null,null,null,null,"M6100 Configurator"]
[null,null,null,null,null,null,null,null,null,"Type:","Expert"]
[null,null,null,null,null,null,null,null,null,"Version:","5.2"]

{"sheet":"Configurator","index":1,"n_rows":68,"n_cols":17,"rows_kept":68,"cut":false,"hidden":false,"merged":[[1,8,1,10],[14,5,14,12],[19,5,19,12],[21,5,21,12],[23,5,23,12],[66,11,66,12],[57,11,57,12],[55,11,55,12],[56,11,56,12],[58,11,58,12],[64,11,64,12],[65,11,65,12],[63,11,63,12],[38,6,38,7],[37,5,37,7],[57,0,57,10],[44,8,44,12],[55,0,55,10],[56,0,56,10],[41,11,41,12],[38,10,39,11],[41,5,41,9],[39,1,39,4],[39,6,39,9],[17,0,17,2],[27,14,29,16],[36,1,36,3],[27,5,27,12],[31,9,31,11],[31,4,31,6],[33,4,33,6],[34,9,34,11],[36,5,36,8],[19,14,19,16],[21,14,21,16],[23,14,23,16],[58,0,58,10],[60,0,60,10],[60,11,60,12],[64,0,64,10],[65,0,65,10],[61,0,61,10],[61,11,61,12],[62,0,62,10],[62,11,62,12],[63,0,63,10]]}
[]
[null,null,null,null,null,null,null,null,"Green cells are editable"]
[]
[]
["The M6100 switch series consists of Gigabit access layer and 10 Gigabit distribution layer switches in NETGEAR modular chassis switch product line.  "]
["The M6100 switch series offers high-quality, high-density chassis alternative to stackable switches in campus LAN and midsize organizations demanding networks.  "]
["With more than 1.4 Tbps switching and routing capacity, passive backplane, management and fabric nonstop forwarding redundancy, the M6100 series delivers world-class resiliency and scalability. "]
["Ultimately, operating software and system management features take the complexity out of delivering L2/L3/L4 rich services for enterprise edge and SMB core deployments."]
[]
[" "]
[]
[]
[]
[]
["Select Model",null,null,null,null,"NETGEAR M6100 Series 3-slot Chassis Switch ",null,null,null,null,null,null,null,null,{"$f":"VLOOKUP(F15,List!$L$4:$V$5,9,FALSE)","v":"M6100-3S"}]
[]
["Advanced Layer 2, Layer 3 and Layer 4 feature set - no license required - including RIP, VRRP, OSPF, PIM, BGP, PBR, MLAG, PV(R)ST, RSPAN, DCBX, PFC, ETS and FCoE FIP \n"]
["Information and datasheet",null,null,"here"]
[]
["Blades",null,null,null,"I/O Supervisory - Slot 1","Empty slot with blank panel",null,null,null,null,null,null,null,null,{"$f":"VLOOKUP(F20,List!$L$16:$V$24,9,FALSE)","v":"-"}]
[]
[null,null,null,null,"I/O Back-up Supervisory - Slot 2","Empty slot with blank panel",null,null,null,null,null,null,null,null,{"$f":"VLOOKUP(F22,List!$L$16:$V$24,9,FALSE)","v":"-"}]
[]
[null,null,null,null,"I/O Line Card - Slot 3","Empty slot with blank panel",null,null,null,null,null,null,null,null,{"$f":"VLOOKUP(F24,List!$L$16:$V$24,9,FALSE)","v":"-"}]
[]
["Each Line Card provides line-rate switching and routing capacity.   Each Slot provides 8 x 10G channels (80G half-duplex / 160G full-duplex) access to passive backplane."]
[]
["Number of Power Supply Units",null,null,null,null,"1 power supply unit",null,null,null,null,null,null,null,null,{"$f":"VLOOKUP(F28,List!$L$34:$V$41,9,FALSE)","v":"One unit APS1000W"}]
[]
[]
[]
[null,null,null,null,"Indicate AC Voltage:",null,null,110,"V Þ","Number of PSUs sufficient:",null,null,{"$f":"IF(M33<=10,\"NO\",\"YES\")","v":"YES"},"ç Enough power for the chassis?"]
[null,null,null,null,null,null,null,null,null,null,null,"Power Budget Remaining (Watts):",{"$f":"IF(COUNTIF($O$19:$O$26,\"*XCM89P*\")+COUNTIF($O$19:$O$26,\"*XCM89UP*\")>0,\n\nIF($H$32<220,IF($H$34=\"No\",VLOOKUP($O$28,List!$T$34:$X$41,2,FALSE),VLOOKUP($O$28,List!$T$34:$X$41,3,FALSE)),IF($H$34=\"No\",VLOOKUP($O$28,List!$T$34:$X$41,4,FALSE),VLOOKUP($O$28,List!$T$34:$X$41,5,FALSE)))-VLOOKUP($O$20,List!$T$16:$U$24,2,FALSE)-VLOOKUP($O$22,List!$T$16:$U$24,2,FALSE)-VLOOKUP($O$24,List!$T$16:$U$24,2,FALSE)-IFERROR((COUNTIF($O$19:$O$26,\"XCM8948 + XCM89P\")*48+COUNTIF($O$19:$O$26,\"XCM8944 + XCM89P\")*40)*IF(Class=\"Other\",D39,VLOOKUP(E38,List!M27:O30,3,FALSE)),0)-IFERROR((COUNTIF($O$19:$O$26,\"XCM8948 + XCM89UP\")*48+COUNTIF($O$19:$O$26,\"XCM8944 + XCM89UP\")*40)*IF(J38=\"Other\",I39,VLOOKUP(J38,List!Q27:S29,3,FALSE)),0),\n\nIF($H$32<220,IF($H$34=\"No\",VLOOKUP($O$28,List!$T$34:$X$41,2,FALSE),VLOOKUP($O$28,List!$T$34:$X$41,3,FALSE)),IF($H$34=\"No\",VLOOKUP($O$28,List!$T$34:$X$41,4,FALSE),VLOOKUP($O$28,List!$T$34:$X$41,5,FALSE)))-VLOOKUP($O$20,List!$T$16:$U$24,2,FALSE)-VLOOKUP($O$22,List!$T$16:$U$24,2,FALSE)-VLOOKUP($O$24,List!$T$16:$U$24,2,FALSE)\n\n)","v":640},"Keep adding PSUs until \"YES\""]
[null,null,null,null,"N+1 Required for Redundancy:",null,null,"No"," Þ",null,null,"Power Drawn from Wall (Watts):",{"$f":"IF(COUNTIF($O$19:$O$26,\"*XCM89P*\")+COUNTIF($O$19:$O$26,\"*XCM89UP*\")>0,\n\nROUNDUP((VLOOKUP($O$20,List!$T$16:$U$24,2,FALSE)+VLOOKUP($O$22,List!$T$16:$U$24,2,FALSE)+VLOOKUP($O$24,List!$T$16:$U$24,2,FALSE)+IFERROR((COUNTIF($O$19:$O$26,\"XCM8948 + XCM89P\")*48+COUNTIF($O$19:$O$26,\"XCM8944 + XCM89P\")*40)*IF(Class=\"Other\",D39,VLOOKUP(E38,List!M27:O30,3,FALSE)),0)+IFERROR((COUNTIF($O$19:$O$26,\"XCM8948 + XCM89UP\")*48+COUNTIF($O$19:$O$26,\"XCM8944 + XCM89UP\")*40)*IF(J38=\"Other\",I39,VLOOKUP(J38,List!Q27:S29,3,FALSE)),0))/0.8,0),\n\n\nROUNDUP((VLOOKUP($O$20,List!$T$16:$U$24,2,FALSE)+VLOOKUP($O$22,List!$T$16:$U$24,2,FALSE)+VLOOKUP($O$24,List!$T$16:$U$24,2,FALSE))/0.8,0)\n\n)","v":0}]
[null,null,null,null,null,null,null,null,null,"Thermal Dissipation (BTU/hr):",null,null,{"$f":"ROUNDUP(M34*3.415,0)","v":0}]
[null,null,null,null,null,null,null,null,null,null,null,"Available PoE Budget (Watts):",{"$f":"IF($H$32<220,IF($H$34=\"No\",VLOOKUP($O$28,List!$T$34:$X$41,2,FALSE),VLOOKUP($O$28,List!$T$34:$X$41,3,FALSE)),IF($H$34=\"No\",VLOOKUP($O$28,List!$T$34:$X$41,4,FALSE),VLOOKUP($O$28,List!$T$34:$X$41,5,FALSE)))-VLOOKUP($O$20,List!$T$16:$U$24,2,FALSE)-VLOOKUP($O$22,List!$T$16:$U$24,2,FALSE)-VLOOKUP($O$24,List!$T$16:$U$24,2,FALSE)","v":640}]
[null,{"$f":"\"Blade configuration is  \"&(COUNTIF($O$19:$O$26,\"XCM8948 + XCM89P\")*48+COUNTIF($O$19:$O$26,\"XCM8944 + XCM89P\")*40)&\"  PoE+ ports\"","v":"Blade configuration is  0  PoE+ ports"},null,null,null,{"$f":"\"Blade configuration is  \"&(COUNTIF($O$19:$O$26,\"XCM8948 + XCM89UP\")*48+COUNTIF($O$19:$O$26,\"XCM8944 + XCM89UP\")*40)&\"  UPOE ports\"","v":"Blade configuration is  0  UPOE ports"},null,null,null,null,null,null,{"$f":"IF($M$33>0,\"YES\",\"NO\")","v":"YES"}]
[null,"Wattage W/port?  (Class)",null,"4.0W PSE",{"$f":"IF(D38=\"\",\"\",D38)","v":"4.0W PSE"},"Wattage W/port?  (Class)",null,null,"40W PSE",{"$f":"IF(I38=\"\",\"\",I38)","v":"40W PSE"},null,null,"é"]
[null,{"$f":"IF($E$38=\"other\",\"Override PSE W/port:\",\"\")","v":""},null,20,"W  Þ",null,{"$f":"IF($J$38=\"Other\",\"Override PSE W/port:\",\"\")","v":""},null,40,"W  Þ",{"$f":"\"Total:                                             \"&ROUNDUP(IFERROR((COUNTIF($O$19:$O$26,\"XCM8948 + XCM89P\")*48+COUNTIF($O$19:$O$26,\"XCM8944 + XCM89P\")*40)*IF(Class=\"Other\",D39,VLOOKUP(E38,List!M27:O30,3,FALSE)),0)+IFERROR((COUNTIF($O$19:$O$26,\"XCM8948 + XCM89UP\")*48+COUNTIF($O$19:$O$26,\"XCM8944 + XCM89UP\")*40)*IF(J38=\"Other\",I39,VLOOKUP(J38,List!Q27:S29,3,FALSE)),0),0)&\"W PSE required                                      <--  PoE+ / UPOE  -->\"","v":"Total:                                             0W PSE required                                      <--  PoE+ / UPOE  -->"},null,"Check if your PoE"]
[null,"<------  POE+ requirements ------>",null,null,null,null,"<------  UPOE requirements ------>",null,null,null,null,null,"budget is sufficient"]
[]
["Spare",null,null,null,null," How many Spare Fan Tray units required?",null,null,null,null,null,0,null,"Þ",{"$f":"IF(L42>0,IF(L42=1,L42&\" unit \"&VLOOKUP($O$15,List!$L$47:$V$48,9,FALSE),L42&\" units \"&VLOOKUP($O$15,List!$L$47:$V$48,9,FALSE)),\"-\")","v":"-"}]
[]
[]
["Service",null,null,null,null,"Installation Service required?",null,null,"No service required",null,null,null,null,"Þ",{"$f":"IF(VLOOKUP($I$45,List!$L$43:$T$45,9,FALSE)<>\"-\",VLOOKUP($I$45,List!$L$43:$T$45,9,FALSE)&\" contract\",VLOOKUP($I$45,List!$L$43:$T$45,9,FALSE))","v":"-"}]
[]
[null,null,null,"ProSupport Installation Setup & Configuration (Remote or Onsite):"]
[]
[]
[]
[null,null,null,"Information and datasheet",null,null,"here",null," * Available Only with Onsite Installation"]
[]
["NETGEAR Fully Managed Switches offer 24x7 Lifetime Technical Support and Lifetime Next Business Day Shipping Hardware Replacement  -  for products purchased on of after June 1, 2014 \n"]
[null,null,null,null,null,null,null,null,null,null,null,null,null,null,null,{"$f":"COUNTIF($O$19:$O$26,\"*XCM8944*\")*2+COUNTIF($O$19:$O$26,\"XCM8924X*\")*16","v":0},"SFP+ ports"]
["Optics, DAC Cables",null,null,null,null,null,null,null,null,{"$f":"IF($P$54+$P$55>1,($P$54+$P$55)&\" SFP / SFP+ ports in above configuration:\",\"\")","v":""},null,null,null,null,null,{"$f":"COUNTIF($O$19:$O$26,\"*XCM8944F*\")*40","v":0},"SFP ports "]
[{"$f":"IF(SFP>1,\"For \"&SFP&\" SFP ports, how many 100BASE-FX SFP LC GBIC (multimode, 2km OM4/OM3/OM2/OM1 50/125µm and 62.5/125µm)?\",\"\")","v":""},null,null,null,null,null,null,null,null,null,null,0,null,"Þ",{"$f":"IF(L56=\"\",\"-\",IF(SFP>1,IF(L56>=1,IF(L56=1,L56&\" unit AFM735\",L56&\" units AFM735\"),\"-\"),\"\"))","v":""}]
[{"$f":"IF(SFPP>1,IF(SFP>1,\"For \"&SFP+SFPP&\" SFP/SFP+ ports, how many 1000BASE-SX SFP LC GBIC (multimode, 1000m OM4, 550m OM3 50/125µm, 275m OM2/OM1 62.5/125µm)?\",\"For \"&SFPP&\" SFP+ ports, how many 1000BASE-SX SFP LC GBIC (multimode, 1000m OM4, 550m OM3 50/125µm, 275m OM2/OM1 62.5/125µm)?\"),IF(SFP>1,\"For \"&SFP&\" SFP ports, how many 1000BASE-SX SFP LC GBIC (multimode, 1000m OM4, 550m OM3 50/125µm, 275m OM2/OM1 62.5/125µm)?\",\"\"))","v":""},null,null,null,null,null,null,null,null,null,null,0,null,"Þ",{"$f":"IF(L57=\"\",\"-\",IF(SFP+SFPP>1,IF(L57>=1,IF(L57=1,L57&\" unit AGM731F\",L57&\" units AGM731F\"),\"-\"),\"\"))","v":""}]
[{"$f":"IF(SFPP>1,IF(SFP>1,\"For \"&SFP+SFPP&\" SFP/SFP+ ports, how many 1000BASE-LX SFP LC GBIC (single mode, 10km 9/125µm)?\",\"For \"&SFPP&\" SFP+ ports, how many 1000BASE-LX SFP LC GBIC (single mode, 10km 9/125µm)?\"),IF(SFP>1,\"For \"&SFP&\" SFP ports, how many 1000BASE-LX SFP LC GBIC (single mode, 10km 9/125µm)?\",\"\"))","v":""},null,null,null,null,null,null,null,null,null,null,0,null,"Þ",{"$f":"IF(L58=\"\",\"-\",IF(SFP+SFPP>1,IF(L58>=1,IF(L58=1,L58&\" unit AGM732F\",L58&\" units AGM732F\"),\"-\"),\"\"))","v":""}]
[{"$f":"IF(SFP>1,\"For \"&SFP&\" SFP ports, how many 1000BASE-T SFP RJ45 GBIC?\",\"\")","v":""},null,null,null,null,null,null,null,null,null,null,0,null,"Þ",{"$f":"IF(L59=\"\",\"-\",IF(SFP>1,IF(L59>=1,IF(L59=1,L59&\" unit AGM734\",L59&\" units AGM734\"),\"-\"),\"\"))","v":""}]
[null,null,null,null,{"$f":"IF(SFP+SFPP>1,\"\",\"No optics required in above M6100 switch series configuration\")","v":"No optics required in above M6100 switch series configuration"}]
[{"$f":"IF(SFPP>1,\"For \"&SFPP&\" SFP+ ports, how many 10GBASE-SR SFP+ LC GBIC (multimode, 550m OM4, 300m OM3 50/125µm, 33m OM2/OM1 62.5/125µm)?\",\"\")","v":""},null,null,null,null,null,null,null,null,null,null,0,null,"Þ",{"$f":"IF(L61=\"\",\"-\",IF(SFPP>1,IF(L61>=1,IF(L61=1,L61&\" unit AXM761\",L61&\" units AXM761\"),\"-\"),\"\"))","v":""}]
[{"$f":"IF(SFPP>1,\"For \"&SFPP&\" SFP+ ports, how many 10GBASE-LR SFP+ LC GBIC (single mode, 10km 9/125µm)?\",\"\")","v":""},null,null,null,null,null,null,null,null,null,null,0,null,"Þ",{"$f":"IF(L62=\"\",\"-\",IF(SFPP>1,IF(L62>=1,IF(L62=1,L62&\" unit AXM762\",L62&\" units AXM762\"),\"-\"),\"\"))","v":""}]
[{"$f":"IF(SFPP>1,\"For \"&SFPP&\" SFP+ ports, how many 10GBASE-LRM SFP+ LC GBIC (multimode, 260m OM4/OM3 50/125µm, 220m OM2/OM1 62.5/125µm)?\",\"\")","v":""},null,null,null,null,null,null,null,null,null,null,0,null,"Þ",{"$f":"IF(L63=\"\",\"-\",IF(SFPP>1,IF(L63>=1,IF(L63=1,L63&\" unit AXM763\",L63&\" units AXM763\"),\"-\"),\"\"))","v":""}]
[{"$f":"IF(SFPP>1,\"For \"&SFPP&\" SFP+ ports, how many 10GBASE-LR LITE SFP+ LC GBIC (single mode, 2km 9/125µm)?\",\"\")","v":""},null,null,null,null,null,null,null,null,null,null,0,null,"Þ",{"$f":"IF(L64=\"\",\"-\",IF(SFPP>1,IF(L64>=1,IF(L64=1,L64&\" unit AXM764\",L64&\" units AXM764\"),\"-\"),\"\"))","v":""}]
[{"$f":"IF(SFPP>1,\"For \"&SFPP&\" SFP+ ports, how many passive Direct Attach SFP+ copper DAC cables (1m)?\",\"\")","v":""},null,null,null,null,null,null,null,null,null,null,0,null,"Þ",{"$f":"IF(L65=\"\",\"-\",IF(SFPP>1,IF(L65>=1,IF(L65=1,L65&\" unit AXC761\",L65&\" units AXC761\"),\"-\"),\"\"))","v":""}]
[{"$f":"IF(SFPP>1,\"For \"&SFPP&\" SFP+ ports, how many passive Direct Attach SFP+ copper DAC cables (3m)?\",\"\")","v":""},null,null,null,null,null,null,null,null,null,null,0,null,"Þ",{"$f":"IF(L66=\"\",\"-\",IF(SFPP>1,IF(L66>=1,IF(L66=1,L66&\" unit AXC763\",L66&\" units AXC763\"),\"-\"),\"\"))","v":""}]
[]
["M6100 switch series will only support genuine NETGEAR SFP and SFP+ mini-GBIC transceivers. Third-party DAC cables may be used.\n",null,null,null,null,null,null,null,null,null,null,null,null,null,null,null,"END"]

{"sheet":"SKU list","index":2,"n_rows":69,"n_cols":7,"rows_kept":69,"cut":false,"hidden":false,"merged":[]}
[]
[]
[]
[]
["Category","Quantity","Ordering Number","Description"]
["Chassis Starter Kit",{"$f":"IF(LEN(Configurator!$O$20&Configurator!$O$22&Configurator!$O$24)>3,1,\"\")","v":""},{"$f":"IF(LEN(Configurator!$O$20&Configurator!$O$22&Configurator!$O$24)>3,IF(COUNTIF(Configurator!$O$20:'Configurator'!$O$24,\"XCM8924X\")>=1,\"XCM8903SX-10000S\",IF(COUNTIF(Configurator!$O$20:'Configurator'!$O$24,\"XCM8944F\")>=1,\"XCM8903SF-10000S\",\"XCM8903SK-10000S\")),\"\")","v":""},{"$f":"IF($B6<>\"\",VLOOKUP($C6,List!$C$5:$H$55,2,FALSE)&\"                             Starter kit includes:\",\"\")","v":""}]
[]
[null,null,null,{"$f":"IF($B6<>\"\",\"              ->  1 empty chassis  M6100-3S (XCM8903)                    ->  2 blank panels for open blade slots\",\"\")","v":""}]
[null,null,null,{"$f":"IF($B6<>\"\",IF($C$6=\"XCM8903SK-10000S\",\"              ->  1 blade 40x1G 2x10GBT 2xSFP+  (XCM8944)            ->  3 power supply panels for empty PSU slots\",IF($C$6=\"XCM8903SF-10000S\",\"              ->  1 blade 40xSFP 2x10GBT 2xSFP+  (XCM8944F)         ->  3 power supply panels for empty PSU slots\",IF($C$6=\"XCM8903SX-10000S\",\"              ->  1 blade 24x10GBT or 16xSFP+   (XCM8924X)            ->  3 power supply panels for empty PSU slots\",\"else\"))),\"\")","v":""}]
[null,null,null,{"$f":"IF($B6<>\"\",IF($C$6=\"XCM8903SK-10000S\",\"              ->  1 PoE+ daughter card (XCM89P)                                 ->  Rack-mount kit for 2-post racks  and wiring cabinets\",\"                                                                                                               ->  Rack-mount kit for 2-post racks  and wiring cabinets\"),\"\")","v":""}]
[null,null,null,{"$f":"IF($B6<>\"\",\"              ->  1 power supply unit (APS1000W)                               ->  Complimentary handles for rack-mount kit\",\"\")","v":""}]
[null,null,null,{"$f":"IF($B6<>\"\",\"              ->  1 front-to-back fan tray (AFT603)                               ->  Complimentary sliding rails kit for 4-post racks and wiring cabinets\",\"\")","v":""}]
[]
["I/O Blades",{"$f":"IF(COUNTIF(Configurator!$O$19:$P$68,\"*XCM8948*\")>=1,COUNTIF(Configurator!$O$19:$P$68,\"*XCM8948*\"),\"\")","v":""},{"$f":"IF($B14<>\"\",List!$C8,\"\")","v":""},{"$f":"IF($B14<>\"\",VLOOKUP($C14,List!$C$5:$H$55,2,FALSE),\"\")","v":""}]
[null,{"$f":"IF(COUNTIF(Configurator!$O$19:$P$67,\"*XCM8944*\")-COUNTIF(Configurator!$O$19:$P$67,\"*XCM8944F*\")>=1,IF($C$6=\"XCM8903SK-10000S\",IF( (COUNTIF(Configurator!$O$19:$P$67,\"*XCM8944*\")-COUNTIF(Configurator!$O$19:$P$67,\"*XCM8944F*\"))>=2, COUNTIF(Configurator!$O$19:$P$67,\"*XCM8944*\")-COUNTIF(Configurator!$O$19:$P$67,\"*XCM8944F*\")-1,\"\"),COUNTIF(Configurator!$O$19:$P$67,\"*XCM8944*\")-COUNTIF(Configurator!$O$19:$P$67,\"*XCM8944F*\")), \"\")","v":""},{"$f":"IF($B15<>\"\",List!$C9,\"\")","v":""},{"$f":"IF($B15<>\"\",VLOOKUP($C15,List!$C$5:$H$55,2,FALSE),\"\")","v":""}]
[null,{"$f":"IF(\nCOUNTIF(Configurator!$O$19:$P$68,\"*XCM8944F*\")>=1,\nIF($C$6=\"XCM8903SF-10000S\",IF(COUNTIF(Configurator!$O$19:$P$68,\"*XCM8944F*\")>=2, COUNTIF(Configurator!$O$19:$P$68,\"*XCM8944F*\")-1,\"\"), COUNTIF(Configurator!$O$19:$P$68,\"*XCM8944F*\")),\"\")","v":""},{"$f":"IF($B16<>\"\",List!$C10,\"\")","v":""},{"$f":"IF($B16<>\"\",VLOOKUP($C16,List!$C$5:$H$55,2,FALSE),\"\")","v":""}]
[null,{"$f":"IF(\nCOUNTIF(Configurator!$O$19:$P$68,\"*XCM8924X*\")>=1,\nIF($C$6=\"XCM8903SX-10000S\",IF(COUNTIF(Configurator!$O$19:$P$68,\"*XCM8924X*\")>=2, COUNTIF(Configurator!$O$19:$P$68,\"*XCM8924X*\")-1,\"\"), COUNTIF(Configurator!$O$19:$P$68,\"*XCM8924X*\")),\"\")","v":""},{"$f":"IF($B17<>\"\",List!$C11,\"\")","v":""},{"$f":"IF($B17<>\"\",VLOOKUP($C17,List!$C$5:$H$55,2,FALSE),\"\")","v":""}]
["Accessories",{"$f":"IF(COUNTIF(Configurator!$O$19:$P$68,\"*XCM89P*\")>=1,IF($C$6=\"XCM8903SK-10000S\",IF(COUNTIF(Configurator!$O$19:$P$68,\"*XCM89P*\")>=2,COUNTIF(Configurator!$O$19:$P$68,\"*XCM89P*\")-1,\"\"), COUNTIF(Configurator!$O$19:$P$68,\"*XCM89P*\")), \"\")","v":""},{"$f":"IF($B18<>\"\",List!$C12,\"\")","v":""},{"$f":"IF($B18<>\"\",VLOOKUP($C18,List!$C$5:$H$55,2,FALSE),\"\")","v":""}]
[null,{"$f":"IF(COUNTIF(Configurator!$O$19:$P$68,\"*XCM89UP*\")>=1,COUNTIF(Configurator!$O$19:$P$68,\"*XCM89UP*\"),\"\")","v":""},{"$f":"IF($B19<>\"\",List!$C13,\"\")","v":""},{"$f":"IF($B19<>\"\",VLOOKUP($C19,List!$C$5:$H$55,2,FALSE),\"\")","v":""}]
[null,{"$f":"IFERROR(IF(VLOOKUP(Configurator!$O$28,List!T34:Y41,6,FALSE)>=2,VLOOKUP(Configurator!$O$28,List!T34:Y41,6,FALSE)-1,\"\"),\"\")","v":""},{"$f":"IF($B20<>\"\",IF($F$20=\"NA/EMEA\",\"APS1000W-100NES\",IF($F$20=\"APAC\",\"APS1000W-100AJS\",\"\")),\"\")","v":""},{"$f":"IF($B20<>\"\",VLOOKUP($C20,List!$C$5:$H$55,2,FALSE),\"\")","v":""},"Localization","NA/EMEA"," Þ"]
[null,{"$f":"IF(COUNTIF(Configurator!$O$19:$P$68,\"*AFT603*\")>=1,COUNTIF(Configurator!$O$19:$P$68,\"*AFT603*\"),\"\")","v":""},{"$f":"IF($B21<>\"\",List!$C16,\"\")","v":""},{"$f":"IF($B21<>\"\",VLOOKUP($C21,List!$C$5:$H$55,2,FALSE),\"\")","v":""}]
[null,{"$f":"IF(COUNTIF(Configurator!$O$19:$P$68,\"*RPS4000v2*\")>=1,COUNTIF(Configurator!$O$19:$P$68,\"*RPS4000v2*\"),\"\")","v":""},{"$f":"IF($B22<>\"\",IF($F$20=\"NA/EMEA\",\"RPS4000-200NES\",IF($F$20=\"APAC\",\"RPS4000-200AJS\",\"\")),\"\")","v":""},{"$f":"IF($B22<>\"\",VLOOKUP($C22,List!$C$5:$H$55,2,FALSE),\"\")","v":""}]
["Service",{"$f":"IF(COUNTIF(Configurator!$O$19:$P$68,\"*PSB0304*\")>=1,COUNTIF(Configurator!$O$19:$P$68,\"*PSB0304*\"),\"\")","v":""},{"$f":"IF($B23<>\"\",List!$C19,\"\")","v":""},{"$f":"IF($B23<>\"\",VLOOKUP($C23,List!$C$5:$H$55,2,FALSE),\"\")","v":""}]
[null,{"$f":"IF(COUNTIF(Configurator!$O$19:$P$68,\"*PSP1104*\")>=1,COUNTIF(Configurator!$O$19:$P$68,\"*PSP1104*\"),\"\")","v":""},{"$f":"IF($B24<>\"\",List!$C20,\"\")","v":""},{"$f":"IF($B24<>\"\",VLOOKUP($C24,List!$C$5:$H$55,2,FALSE),\"\")","v":""}]
["Optics_Cables",{"$f":"IF(COUNTIF(Configurator!$O$19:$P$68,\"*AFM735*\")>=1,Configurator!$L56,\"\")","v":""},{"$f":"IF($B25<>\"\",List!$C21,\"\")","v":""},{"$f":"IF($B25<>\"\",VLOOKUP($C25,List!$C$5:$H$55,2,FALSE),\"\")","v":""}]
[null,{"$f":"IF(COUNTIF(Configurator!$O$19:$P$68,\"*AGM731F*\")>=1,Configurator!$L57,\"\")","v":""},{"$f":"IF($B26<>\"\",List!$C22,\"\")","v":""},{"$f":"IF($B26<>\"\",VLOOKUP($C26,List!$C$5:$H$55,2,FALSE),\"\")","v":""}]
[null,{"$f":"IF(COUNTIF(Configurator!$O$19:$P$68,\"*AGM732F*\")>=1,Configurator!$L58,\"\")","v":""},{"$f":"IF($B27<>\"\",List!$C23,\"\")","v":""},{"$f":"IF($B27<>\"\",VLOOKUP($C27,List!$C$5:$H$55,2,FALSE),\"\")","v":""}]
[null,{"$f":"IF(COUNTIF(Configurator!$O$19:$P$68,\"*AGM734*\")>=1,Configurator!$L59,\"\")","v":""},{"$f":"IF($B28<>\"\",List!$C24,\"\")","v":""},{"$f":"IF($B28<>\"\",VLOOKUP($C28,List!$C$5:$H$55,2,FALSE),\"\")","v":""}]
[null,{"$f":"IF(COUNTIF(Configurator!$O$19:$P$68,\"*AXM761*\")>=1,IF(Configurator!$L61<10,Configurator!$L61,IF(MOD(Configurator!$L61/10,1)=0,\"\",Configurator!$L61-10*INT(Configurator!$L61/10))),\"\")","v":""},{"$f":"IF($B29<>\"\",List!$C25,\"\")","v":""},{"$f":"IF($B29<>\"\",VLOOKUP($C29,List!$C$5:$H$55,2,FALSE),\"\")","v":""}]
[null,{"$f":"IF(COUNTIF(Configurator!$O$19:$P$68,\"*AXM761*\")>=1,IF(Configurator!$L61>=10,INT(Configurator!$L61/10),\"\"),\"\")","v":""},{"$f":"IF($B30<>\"\",List!$C26,\"\")","v":""},{"$f":"IF($B30<>\"\",VLOOKUP($C30,List!$C$5:$H$55,2,FALSE),\"\")","v":""}]
[null,{"$f":"IF(COUNTIF(Configurator!$O$19:$P$68,\"*AXM762*\")>=1,IF(Configurator!$L62<10,Configurator!$L62,IF(MOD(Configurator!$L62/10,1)=0,\"\",Configurator!$L62-10*INT(Configurator!$L62/10))),\"\")","v":""},{"$f":"IF($B31<>\"\",List!$C27,\"\")","v":""},{"$f":"IF($B31<>\"\",VLOOKUP($C31,List!$C$5:$H$55,2,FALSE),\"\")","v":""}]
[null,{"$f":"IF(COUNTIF(Configurator!$O$19:$P$68,\"*AXM762*\")>=1,IF(Configurator!$L62>=10,INT(Configurator!$L62/10),\"\"),\"\")","v":""},{"$f":"IF($B32<>\"\",List!$C28,\"\")","v":""},{"$f":"IF($B32<>\"\",VLOOKUP($C32,List!$C$5:$H$55,2,FALSE),\"\")","v":""}]
[null,{"$f":"IF(COUNTIF(Configurator!$O$19:$P$68,\"*AXM763*\")>=1,Configurator!$L63,\"\")","v":""},{"$f":"IF($B33<>\"\",List!$C29,\"\")","v":""},{"$f":"IF($B33<>\"\",VLOOKUP($C33,List!$C$5:$H$55,2,FALSE),\"\")","v":""}]
[null,{"$f":"IF(COUNTIF(Configurator!$O$19:$P$68,\"*AXM764*\")>=1,Configurator!$L64,\"\")","v":""},{"$f":"IF($B34<>\"\",List!$C30,\"\")","v":""},{"$f":"IF($B34<>\"\",VLOOKUP($C34,List!$C$5:$H$55,2,FALSE),\"\")","v":""}]
[null,{"$f":"IF(COUNTIF(Configurator!$O$19:$P$68,\"*AXC761*\")>=1,Configurator!$L65,\"\")","v":""},{"$f":"IF($B35<>\"\",List!$C31,\"\")","v":""},{"$f":"IF($B35<>\"\",VLOOKUP($C35,List!$C$5:$H$55,2,FALSE),\"\")","v":""}]
[null,{"$f":"IF(COUNTIF(Configurator!$O$19:$P$68,\"*AXC763*\")>=1,Configurator!$L66,\"\")","v":""},{"$f":"IF($B36<>\"\",List!$C32,\"\")","v":""},{"$f":"IF($B36<>\"\",VLOOKUP($C36,List!$C$5:$H$55,2,FALSE),\"\")","v":""}]
[]
["Total",{"$f":"IF(SUM(B6:B36)>0,SUM(B6:B36),\"\")","v":""}]
[null,null,null,{"$f":"IFERROR(VLOOKUP($C39,List!$C$5:$H$153,2,FALSE),\"\")","v":""}]
[null,null,null,{"$f":"IFERROR(VLOOKUP($C40,List!$C$5:$H$153,2,FALSE),\"\")","v":""}]
[null,null,null,{"$f":"IFERROR(VLOOKUP($C41,List!$C$5:$H$153,2,FALSE),\"\")","v":""}]
[null,null,null,{"$f":"IFERROR(VLOOKUP($C42,List!$C$5:$H$153,2,FALSE),\"\")","v":""}]
[null,null,null,{"$f":"IFERROR(VLOOKUP($C43,List!$C$5:$H$153,2,FALSE),\"\")","v":""}]
[null,null,null,{"$f":"IFERROR(VLOOKUP($C44,List!$C$5:$H$153,2,FALSE),\"\")","v":""}]
[null,null,null,{"$f":"IFERROR(VLOOKUP($C45,List!$C$5:$H$153,2,FALSE),\"\")","v":""}]
[null,null,null,{"$f":"IFERROR(VLOOKUP($C46,List!$C$5:$H$153,2,FALSE),\"\")","v":""}]
[null,null,null,{"$f":"IFERROR(VLOOKUP($C47,List!$C$5:$H$153,2,FALSE),\"\")","v":""}]
[null,null,null,{"$f":"IFERROR(VLOOKUP($C48,List!$C$5:$H$153,2,FALSE),\"\")","v":""}]
[null,null,null,{"$f":"IFERROR(VLOOKUP($C49,List!$C$5:$H$153,2,FALSE),\"\")","v":""}]
[null,null,null,{"$f":"IFERROR(VLOOKUP($C50,List!$C$5:$H$153,2,FALSE),\"\")","v":""}]
[null,null,null,{"$f":"IFERROR(VLOOKUP($C51,List!$C$5:$H$153,2,FALSE),\"\")","v":""}]
[null,null,null,{"$f":"IFERROR(VLOOKUP($C52,List!$C$5:$H$153,2,FALSE),\"\")","v":""}]
[null,null,null,{"$f":"IFERROR(VLOOKUP($C53,List!$C$5:$H$153,2,FALSE),\"\")","v":""}]
[null,null,null,{"$f":"IFERROR(VLOOKUP($C54,List!$C$5:$H$153,2,FALSE),\"\")","v":""}]
[null,null,null,{"$f":"IFERROR(VLOOKUP($C55,List!$C$5:$H$153,2,FALSE),\"\")","v":""}]
[null,null,null,{"$f":"IFERROR(VLOOKUP($C56,List!$C$5:$H$153,2,FALSE),\"\")","v":""}]
[null,null,null,{"$f":"IFERROR(VLOOKUP($C57,List!$C$5:$H$153,2,FALSE),\"\")","v":""}]
[null,null,null,{"$f":"IFERROR(VLOOKUP($C58,List!$C$5:$H$153,2,FALSE),\"\")","v":""}]
[null,null,null,{"$f":"IFERROR(VLOOKUP($C59,List!$C$5:$H$153,2,FALSE),\"\")","v":""}]
[null,null,null,{"$f":"IFERROR(VLOOKUP($C60,List!$C$5:$H$153,2,FALSE),\"\")","v":""}]
[null,null,null,{"$f":"IFERROR(VLOOKUP($C61,List!$C$5:$H$153,2,FALSE),\"\")","v":""}]
[null,null,null,{"$f":"IFERROR(VLOOKUP($C62,List!$C$5:$H$153,2,FALSE),\"\")","v":""}]
[null,null,null,{"$f":"IFERROR(VLOOKUP($C63,List!$C$5:$H$153,2,FALSE),\"\")","v":""}]
[null,null,null,{"$f":"IFERROR(VLOOKUP($C64,List!$C$5:$H$153,2,FALSE),\"\")","v":""}]
[null,null,null,{"$f":"IFERROR(VLOOKUP($C65,List!$C$5:$H$153,2,FALSE),\"\")","v":""}]
[null,null,null,{"$f":"IFERROR(VLOOKUP($C66,List!$C$5:$H$153,2,FALSE),\"\")","v":""}]
[null,null,null,{"$f":"IFERROR(VLOOKUP($C67,List!$C$5:$H$153,2,FALSE),\"\")","v":""}]
[null,null,null,{"$f":"IFERROR(VLOOKUP($C68,List!$C$5:$H$153,2,FALSE),\"\")","v":""}]
[null,null,null,{"$f":"IFERROR(VLOOKUP($C69,List!$C$5:$H$153,2,FALSE),\"\")","v":""}]

{"sheet":"Conf2","index":3,"n_rows":68,"n_cols":17,"rows_kept":68,"cut":false,"hidden":false,"merged":[[21,5,21,12],[21,14,21,16],[1,8,1,10],[14,5,14,12],[17,0,17,2],[19,5,19,12],[19,14,19,16],[23,5,23,12],[23,14,23,16],[27,5,27,12],[27,14,29,16],[31,4,31,6],[31,9,31,11],[56,0,56,10],[56,11,56,12],[33,4,33,6],[34,9,34,11],[36,1,36,3],[36,5,36,8],[37,5,37,7],[38,6,38,7],[38,10,39,11],[39,1,39,4],[39,6,39,9],[41,5,41,9],[41,11,41,12],[44,8,44,12],[55,0,55,10],[55,11,55,12],[57,0,57,10],[57,11,57,12],[58,0,58,10],[58,11,58,12],[60,0,60,10],[60,11,60,12],[61,0,61,10],[61,11,61,12],[62,0,62,10],[62,11,62,12],[63,0,63,10],[63,11,63,12],[64,0,64,10],[64,11,64,12],[65,0,65,10],[65,11,65,12],[66,11,66,12]]}
[]
[null,null,null,null,null,null,null,null,"Green cells are editable"]
[]
[]
["The M6100 switch series consists of Gigabit access layer and 10 Gigabit distribution layer switches in NETGEAR modular chassis switch product line.  "]
["The M6100 switch series offers high-quality, high-density chassis alternative to stackable switches in campus LAN and midsize organizations demanding networks.  "]
["With more than 1.4 Tbps switching and routing capacity, passive backplane, management and fabric nonstop forwarding redundancy, the M6100 series delivers world-class resiliency and scalability. "]
["Ultimately, operating software and system management features take the complexity out of delivering L2/L3/L4 rich services for enterprise edge and SMB core deployments."]
[]
[" "]
[]
[]
[]
[]
["Select Model",null,null,null,null,"NETGEAR M6100 Series 3-slot Chassis Switch ",null,null,null,null,null,null,null,null,{"$f":"VLOOKUP(F15,List!$L$4:$V$5,9,FALSE)","v":"M6100-3S"}]
[]
["Advanced Layer 2, Layer 3 and Layer 4 feature set - no license required - including RIP, VRRP, OSPF, PIM, BGP, PBR, MLAG, PV(R)ST, RSPAN, DCBX, PFC, ETS and FCoE FIP \n"]
["Information and datasheet",null,null,"here"]
[]
["Blades",null,null,null,"I/O Supervisory - Slot 1","Empty slot with blank panel",null,null,null,null,null,null,null,null,{"$f":"VLOOKUP(F20,List!$L$16:$V$24,9,FALSE)","v":"-"}]
[]
[null,null,null,null,"I/O Back-up Supervisory - Slot 2","Empty slot with blank panel",null,null,null,null,null,null,null,null,{"$f":"VLOOKUP(F22,List!$L$16:$V$24,9,FALSE)","v":"-"}]
[]
[null,null,null,null,"I/O Line Card - Slot 3","Empty slot with blank panel",null,null,null,null,null,null,null,null,{"$f":"VLOOKUP(F24,List!$L$16:$V$24,9,FALSE)","v":"-"}]
[]
["Each Line Card provides line-rate switching and routing capacity.   Each Slot provides 8 x 10G channels (80G half-duplex / 160G full-duplex) access to passive backplane."]
[]
["Number of Power Supply Units",null,null,null,null,"1 power supply unit",null,null,null,null,null,null,null,null,{"$f":"VLOOKUP(F28,List!$L$34:$V$41,9,FALSE)","v":"One unit APS1000W"}]
[]
[]
[]
[null,null,null,null,"Indicate AC Voltage:",null,null,110,"V Þ","Number of PSUs sufficient:",null,null,{"$f":"IF(M33<=10,\"NO\",\"YES\")","v":"YES"},"ç Enough power for the chassis?"]
[null,null,null,null,null,null,null,null,null,null,null,"Power Budget Remaining (Watts):",{"$f":"IF(COUNTIF($O$19:$O$26,\"*XCM89P*\")+COUNTIF($O$19:$O$26,\"*XCM89UP*\")>0,\n\nIF($H$32<220,IF($H$34=\"No\",VLOOKUP($O$28,List!$T$34:$X$41,2,FALSE),VLOOKUP($O$28,List!$T$34:$X$41,3,FALSE)),IF($H$34=\"No\",VLOOKUP($O$28,List!$T$34:$X$41,4,FALSE),VLOOKUP($O$28,List!$T$34:$X$41,5,FALSE)))-VLOOKUP($O$20,List!$T$16:$U$24,2,FALSE)-VLOOKUP($O$22,List!$T$16:$U$24,2,FALSE)-VLOOKUP($O$24,List!$T$16:$U$24,2,FALSE)-IFERROR((COUNTIF($O$19:$O$26,\"XCM8948 + XCM89P\")*48+COUNTIF($O$19:$O$26,\"XCM8944 + XCM89P\")*40)*IF(Class=\"Other\",D39,VLOOKUP(E38,List!M27:O30,3,FALSE)),0)-IFERROR((COUNTIF($O$19:$O$26,\"XCM8948 + XCM89UP\")*48+COUNTIF($O$19:$O$26,\"XCM8944 + XCM89UP\")*40)*IF(J38=\"Other\",I39,VLOOKUP(J38,List!Q27:S29,3,FALSE)),0),\n\nIF($H$32<220,IF($H$34=\"No\",VLOOKUP($O$28,List!$T$34:$X$41,2,FALSE),VLOOKUP($O$28,List!$T$34:$X$41,3,FALSE)),IF($H$34=\"No\",VLOOKUP($O$28,List!$T$34:$X$41,4,FALSE),VLOOKUP($O$28,List!$T$34:$X$41,5,FALSE)))-VLOOKUP($O$20,List!$T$16:$U$24,2,FALSE)-VLOOKUP($O$22,List!$T$16:$U$24,2,FALSE)-VLOOKUP($O$24,List!$T$16:$U$24,2,FALSE)\n\n)","v":640},"Keep adding PSUs until \"YES\""]
[null,null,null,null,"N+1 Required for Redundancy:",null,null,"No"," Þ",null,null,"Power Drawn from Wall (Watts):",{"$f":"IF(COUNTIF($O$19:$O$26,\"*XCM89P*\")+COUNTIF($O$19:$O$26,\"*XCM89UP*\")>0,\n\nROUNDUP((VLOOKUP($O$20,List!$T$16:$U$24,2,FALSE)+VLOOKUP($O$22,List!$T$16:$U$24,2,FALSE)+VLOOKUP($O$24,List!$T$16:$U$24,2,FALSE)+IFERROR((COUNTIF($O$19:$O$26,\"XCM8948 + XCM89P\")*48+COUNTIF($O$19:$O$26,\"XCM8944 + XCM89P\")*40)*IF(Class=\"Other\",D39,VLOOKUP(E38,List!M27:O30,3,FALSE)),0)+IFERROR((COUNTIF($O$19:$O$26,\"XCM8948 + XCM89UP\")*48+COUNTIF($O$19:$O$26,\"XCM8944 + XCM89UP\")*40)*IF(J38=\"Other\",I39,VLOOKUP(J38,List!Q27:S29,3,FALSE)),0))/0.8,0),\n\n\nROUNDUP((VLOOKUP($O$20,List!$T$16:$U$24,2,FALSE)+VLOOKUP($O$22,List!$T$16:$U$24,2,FALSE)+VLOOKUP($O$24,List!$T$16:$U$24,2,FALSE))/0.8,0)\n\n)","v":0}]
[null,null,null,null,null,null,null,null,null,"Thermal Dissipation (BTU/hr):",null,null,{"$f":"ROUNDUP(M34*3.415,0)","v":0}]
[null,null,null,null,null,null,null,null,null,null,null,"Available PoE Budget (Watts):",{"$f":"IF($H$32<220,IF($H$34=\"No\",VLOOKUP($O$28,List!$T$34:$X$41,2,FALSE),VLOOKUP($O$28,List!$T$34:$X$41,3,FALSE)),IF($H$34=\"No\",VLOOKUP($O$28,List!$T$34:$X$41,4,FALSE),VLOOKUP($O$28,List!$T$34:$X$41,5,FALSE)))-VLOOKUP($O$20,List!$T$16:$U$24,2,FALSE)-VLOOKUP($O$22,List!$T$16:$U$24,2,FALSE)-VLOOKUP($O$24,List!$T$16:$U$24,2,FALSE)","v":640}]
[null,{"$f":"\"Blade configuration is  \"&(COUNTIF($O$19:$O$26,\"XCM8948 + XCM89P\")*48+COUNTIF($O$19:$O$26,\"XCM8944 + XCM89P\")*40)&\"  PoE+ ports\"","v":"Blade configuration is  0  PoE+ ports"},null,null,null,{"$f":"\"Blade configuration is  \"&(COUNTIF($O$19:$O$26,\"XCM8948 + XCM89UP\")*48+COUNTIF($O$19:$O$26,\"XCM8944 + XCM89UP\")*40)&\"  UPOE ports\"","v":"Blade configuration is  0  UPOE ports"},null,null,null,null,null,null,{"$f":"IF($M$33>0,\"YES\",\"NO\")","v":"YES"}]
[null,"Wattage W/port?  (Class)",null,"4.0W PSE",{"$f":"IF(D38=\"\",\"\",D38)","v":"4.0W PSE"},"Wattage W/port?  (Class)",null,null,"40W PSE",{"$f":"IF(I38=\"\",\"\",I38)","v":"40W PSE"},null,null,"é"]
[null,{"$f":"IF($E$38=\"other\",\"Override PSE W/port:\",\"\")","v":""},null,20,"W  Þ",null,{"$f":"IF($J$38=\"Other\",\"Override PSE W/port:\",\"\")","v":""},null,40,"W  Þ",{"$f":"\"Total:                                             \"&ROUNDUP(IFERROR((COUNTIF($O$19:$O$26,\"XCM8948 + XCM89P\")*48+COUNTIF($O$19:$O$26,\"XCM8944 + XCM89P\")*40)*IF(Class=\"Other\",D39,VLOOKUP(E38,List!M27:O30,3,FALSE)),0)+IFERROR((COUNTIF($O$19:$O$26,\"XCM8948 + XCM89UP\")*48+COUNTIF($O$19:$O$26,\"XCM8944 + XCM89UP\")*40)*IF(J38=\"Other\",I39,VLOOKUP(J38,List!Q27:S29,3,FALSE)),0),0)&\"W PSE required                                      <--  PoE+ / UPOE  -->\"","v":"Total:                                             0W PSE required                                      <--  PoE+ / UPOE  -->"},null,"Check if your PoE"]
[null,"<------  POE+ requirements ------>",null,null,null,null,"<------  UPOE requirements ------>",null,null,null,null,null,"budget is sufficient"]
[]
["Spare",null,null,null,null," How many Spare Fan Tray units required?",null,null,null,null,null,0,null,"Þ",{"$f":"IF(L42>0,IF(L42=1,L42&\" unit \"&VLOOKUP($O$15,List!$L$47:$V$48,9,FALSE),L42&\" units \"&VLOOKUP($O$15,List!$L$47:$V$48,9,FALSE)),\"-\")","v":"-"}]
[]
[]
["Service",null,null,null,null,"Installation Service required?",null,null,"No service required",null,null,null,null,"Þ",{"$f":"IF(VLOOKUP($I$45,List!$L$43:$T$45,9,FALSE)<>\"-\",VLOOKUP($I$45,List!$L$43:$T$45,9,FALSE)&\" contract\",VLOOKUP($I$45,List!$L$43:$T$45,9,FALSE))","v":"-"}]
[]
[null,null,null,"ProSupport Installation Setup & Configuration (Remote or Onsite):"]
[]
[]
[]
[null,null,null,"Information and datasheet",null,null,"here",null," * Available Only with Onsite Installation"]
[]
["NETGEAR Fully Managed Switches offer 24x7 Lifetime Technical Support and Lifetime Next Business Day Shipping Hardware Replacement  -  for products purchased on of after June 1, 2014 \n"]
[null,null,null,null,null,null,null,null,null,null,null,null,null,null,null,{"$f":"COUNTIF($O$19:$O$26,\"*XCM8944*\")*2+COUNTIF($O$19:$O$26,\"XCM8924X*\")*16","v":0},"SFP+ ports"]
["Optics, DAC Cables",null,null,null,null,null,null,null,null,{"$f":"IF($P$54+$P$55>1,($P$54+$P$55)&\" SFP / SFP+ ports in above configuration:\",\"\")","v":""},null,null,null,null,null,{"$f":"COUNTIF($O$19:$O$26,\"*XCM8944F*\")*40","v":0},"SFP ports "]
[{"$f":"IF(SFP>1,\"For \"&SFP&\" SFP ports, how many 100BASE-FX SFP LC GBIC (multimode, 2km OM4/OM3/OM2/OM1 50/125µm and 62.5/125µm)?\",\"\")","v":""},null,null,null,null,null,null,null,null,null,null,0,null,"Þ",{"$f":"IF(L56=\"\",\"-\",IF(SFP>1,IF(L56>=1,IF(L56=1,L56&\" unit AFM735\",L56&\" units AFM735\"),\"-\"),\"\"))","v":""}]
[{"$f":"IF(SFPP>1,IF(SFP>1,\"For \"&SFP+SFPP&\" SFP/SFP+ ports, how many 1000BASE-SX SFP LC GBIC (multimode, 1000m OM4, 550m OM3 50/125µm, 275m OM2/OM1 62.5/125µm)?\",\"For \"&SFPP&\" SFP+ ports, how many 1000BASE-SX SFP LC GBIC (multimode, 1000m OM4, 550m OM3 50/125µm, 275m OM2/OM1 62.5/125µm)?\"),IF(SFP>1,\"For \"&SFP&\" SFP ports, how many 1000BASE-SX SFP LC GBIC (multimode, 1000m OM4, 550m OM3 50/125µm, 275m OM2/OM1 62.5/125µm)?\",\"\"))","v":""},null,null,null,null,null,null,null,null,null,null,0,null,"Þ",{"$f":"IF(L57=\"\",\"-\",IF(SFP+SFPP>1,IF(L57>=1,IF(L57=1,L57&\" unit AGM731F\",L57&\" units AGM731F\"),\"-\"),\"\"))","v":""}]
[{"$f":"IF(SFPP>1,IF(SFP>1,\"For \"&SFP+SFPP&\" SFP/SFP+ ports, how many 1000BASE-LX SFP LC GBIC (single mode, 10km 9/125µm)?\",\"For \"&SFPP&\" SFP+ ports, how many 1000BASE-LX SFP LC GBIC (single mode, 10km 9/125µm)?\"),IF(SFP>1,\"For \"&SFP&\" SFP ports, how many 1000BASE-LX SFP LC GBIC (single mode, 10km 9/125µm)?\",\"\"))","v":""},null,null,null,null,null,null,null,null,null,null,0,null,"Þ",{"$f":"IF(L58=\"\",\"-\",IF(SFP+SFPP>1,IF(L58>=1,IF(L58=1,L58&\" unit AGM732F\",L58&\" units AGM732F\"),\"-\"),\"\"))","v":""}]
[{"$f":"IF(SFP>1,\"For \"&SFP&\" SFP ports, how many 1000BASE-T SFP RJ45 GBIC?\",\"\")","v":""},null,null,null,null,null,null,null,null,null,null,0,null,"Þ",{"$f":"IF(L59=\"\",\"-\",IF(SFP>1,IF(L59>=1,IF(L59=1,L59&\" unit AGM734\",L59&\" units AGM734\"),\"-\"),\"\"))","v":""}]
[null,null,null,null,{"$f":"IF(SFP+SFPP>1,\"\",\"No optics required in above M6100 switch series configuration\")","v":"No optics required in above M6100 switch series configuration"}]
[{"$f":"IF(SFPP>1,\"For \"&SFPP&\" SFP+ ports, how many 10GBASE-SR SFP+ LC GBIC (multimode, 550m OM4, 300m OM3 50/125µm, 33m OM2/OM1 62.5/125µm)?\",\"\")","v":""},null,null,null,null,null,null,null,null,null,null,0,null,"Þ",{"$f":"IF(L61=\"\",\"-\",IF(SFPP>1,IF(L61>=1,IF(L61=1,L61&\" unit AXM761\",L61&\" units AXM761\"),\"-\"),\"\"))","v":""}]
[{"$f":"IF(SFPP>1,\"For \"&SFPP&\" SFP+ ports, how many 10GBASE-LR SFP+ LC GBIC (single mode, 10km 9/125µm)?\",\"\")","v":""},null,null,null,null,null,null,null,null,null,null,0,null,"Þ",{"$f":"IF(L62=\"\",\"-\",IF(SFPP>1,IF(L62>=1,IF(L62=1,L62&\" unit AXM762\",L62&\" units AXM762\"),\"-\"),\"\"))","v":""}]
[{"$f":"IF(SFPP>1,\"For \"&SFPP&\" SFP+ ports, how many 10GBASE-LRM SFP+ LC GBIC (multimode, 260m OM4/OM3 50/125µm, 220m OM2/OM1 62.5/125µm)?\",\"\")","v":""},null,null,null,null,null,null,null,null,null,null,0,null,"Þ",{"$f":"IF(L63=\"\",\"-\",IF(SFPP>1,IF(L63>=1,IF(L63=1,L63&\" unit AXM763\",L63&\" units AXM763\"),\"-\"),\"\"))","v":""}]
[{"$f":"IF(SFPP>1,\"For \"&SFPP&\" SFP+ ports, how many 10GBASE-LR LITE SFP+ LC GBIC (single mode, 2km 9/125µm)?\",\"\")","v":""},null,null,null,null,null,null,null,null,null,null,0,null,"Þ",{"$f":"IF(L64=\"\",\"-\",IF(SFPP>1,IF(L64>=1,IF(L64=1,L64&\" unit AXM764\",L64&\" units AXM764\"),\"-\"),\"\"))","v":""}]
[{"$f":"IF(SFPP>1,\"For \"&SFPP&\" SFP+ ports, how many passive Direct Attach SFP+ copper DAC cables (1m)?\",\"\")","v":""},null,null,null,null,null,null,null,null,null,null,0,null,"Þ",{"$f":"IF(L65=\"\",\"-\",IF(SFPP>1,IF(L65>=1,IF(L65=1,L65&\" unit AXC761\",L65&\" units AXC761\"),\"-\"),\"\"))","v":""}]
[{"$f":"IF(SFPP>1,\"For \"&SFPP&\" SFP+ ports, how many passive Direct Attach SFP+ copper DAC cables (3m)?\",\"\")","v":""},null,null,null,null,null,null,null,null,null,null,0,null,"Þ",{"$f":"IF(L66=\"\",\"-\",IF(SFPP>1,IF(L66>=1,IF(L66=1,L66&\" unit AXC763\",L66&\" units AXC763\"),\"-\"),\"\"))","v":""}]
[]
["M6100 switch series will only support genuine NETGEAR SFP and SFP+ mini-GBIC transceivers. Third-party DAC cables may be used.\n",null,null,null,null,null,null,null,null,null,null,null,null,null,null,null,"END"]

{"sheet":"SKU2","index":4,"n_rows":69,"n_cols":7,"rows_kept":69,"cut":false,"hidden":false,"merged":[]}
[]
[]
[]
[]
["Category","Quantity","Ordering Number","Description"]
["Chassis Starter Kits",{"$f":"IF(LEN(Conf2!$O$20&Conf2!$O$22&Conf2!$O$24)>3,1,\"\")","v":""},{"$f":"IF(LEN(Conf2!$O$20&Conf2!$O$22&Conf2!$O$24)>3,IF(COUNTIF(Conf2!$O$20:'Conf2'!$O$24,\"XCM8924X\")>=1,\"XCM8903SX-10000S\",IF(COUNTIF(Conf2!$O$20:'Conf2'!$O$24,\"XCM8944F\")>=1,\"XCM8903SF-10000S\",\"XCM8903SK-10000S\")),\"\")","v":""},{"$f":"IF($B6<>\"\",VLOOKUP($C6,List!$C$5:$H$55,2,FALSE)&\"                            Each Starter kit includes:\",\"\")","v":""}]
[]
[null,null,null,{"$f":"IF($B6<>\"\",\"              ->  1 empty chassis  M6100-3S (XCM8903)                    ->  2 blank panels for open blade slots\",\"\")","v":""}]
[null,null,null,{"$f":"IF($B6<>\"\",IF($C$6=\"XCM8903SK-10000S\",\"              ->  1 blade 40x1G 2x10GBT 2xSFP+  (XCM8944)            ->  3 power supply panels for empty PSU slots\",IF($C$6=\"XCM8903SF-10000S\",\"              ->  1 blade 40xSFP 2x10GBT 2xSFP+  (XCM8944F)         ->  3 power supply panels for empty PSU slots\",IF($C$6=\"XCM8903SX-10000S\",\"              ->  1 blade 24x10GBT or 16xSFP+   (XCM8924X)            ->  3 power supply panels for empty PSU slots\",\"else\"))),\"\")","v":""}]
[null,null,null,{"$f":"IF($B6<>\"\",IF($C$6=\"XCM8903SK-10000S\",\"              ->  1 PoE+ daughter card (XCM89P)                                 ->  Rack-mount kit for 2-post racks  and wiring cabinets\",\"                                                                                                               ->  Rack-mount kit for 2-post racks  and wiring cabinets\"),\"\")","v":""}]
[null,null,null,{"$f":"IF($B6<>\"\",\"              ->  1 power supply unit (APS1000W)                               ->  Complimentary handles for rack-mount kit\",\"\")","v":""}]
[null,null,null,{"$f":"IF($B6<>\"\",\"              ->  1 front-to-back fan tray (AFT603)                               ->  Complimentary sliding rails kit for 4-post racks and wiring cabinets\",\"\")","v":""}]
[]
["I/O Blades",{"$f":"IF(COUNTIF(Conf2!$O$19:$P$68,\"*XCM8948*\")>=1,COUNTIF(Conf2!$O$19:$P$68,\"*XCM8948*\"),\"\")","v":""},{"$f":"IF($B14<>\"\",List!$C8,\"\")","v":""},{"$f":"IF($B14<>\"\",VLOOKUP($C14,List!$C$5:$H$55,2,FALSE),\"\")","v":""}]
[null,{"$f":"IF(COUNTIF(Conf2!$O$19:$P$67,\"*XCM8944*\")-COUNTIF(Conf2!$O$19:$P$67,\"*XCM8944F*\")>=1,IF($C$6=\"XCM8903SK-10000S\",IF( (COUNTIF(Conf2!$O$19:$P$67,\"*XCM8944*\")-COUNTIF(Conf2!$O$19:$P$67,\"*XCM8944F*\"))>=2, COUNTIF(Conf2!$O$19:$P$67,\"*XCM8944*\")-COUNTIF(Conf2!$O$19:$P$67,\"*XCM8944F*\")-1,\"\"),COUNTIF(Conf2!$O$19:$P$67,\"*XCM8944*\")-COUNTIF(Conf2!$O$19:$P$67,\"*XCM8944F*\")), \"\")","v":""},{"$f":"IF($B15<>\"\",List!$C9,\"\")","v":""},{"$f":"IF($B15<>\"\",VLOOKUP($C15,List!$C$5:$H$55,2,FALSE),\"\")","v":""}]
[null,{"$f":"IF(\nCOUNTIF(Conf2!$O$19:$P$68,\"*XCM8944F*\")>=1,\nIF($C$6=\"XCM8903SF-10000S\",IF(COUNTIF(Conf2!$O$19:$P$68,\"*XCM8944F*\")>=2, COUNTIF(Conf2!$O$19:$P$68,\"*XCM8944F*\")-1,\"\"), COUNTIF(Conf2!$O$19:$P$68,\"*XCM8944F*\")),\"\")","v":""},{"$f":"IF($B16<>\"\",List!$C10,\"\")","v":""},{"$f":"IF($B16<>\"\",VLOOKUP($C16,List!$C$5:$H$55,2,FALSE),\"\")","v":""}]
[null,{"$f":"IF(\nCOUNTIF(Conf2!$O$19:$P$68,\"*XCM8924X*\")>=1,\nIF($C$6=\"XCM8903SX-10000S\",IF(COUNTIF(Conf2!$O$19:$P$68,\"*XCM8924X*\")>=2, COUNTIF(Conf2!$O$19:$P$68,\"*XCM8924X*\")-1,\"\"), COUNTIF(Conf2!$O$19:$P$68,\"*XCM8924X*\")),\"\")","v":""},{"$f":"IF($B17<>\"\",List!$C11,\"\")","v":""},{"$f":"IF($B17<>\"\",VLOOKUP($C17,List!$C$5:$H$55,2,FALSE),\"\")","v":""}]
["Accessories",{"$f":"IF(COUNTIF(Conf2!$O$19:$P$68,\"*XCM89P*\")>=1,IF($C$6=\"XCM8903SK-10000S\",IF(COUNTIF(Conf2!$O$19:$P$68,\"*XCM89P*\")>=2,COUNTIF(Conf2!$O$19:$P$68,\"*XCM89P*\")-1,\"\"), COUNTIF(Conf2!$O$19:$P$68,\"*XCM89P*\")), \"\")","v":""},{"$f":"IF($B18<>\"\",List!$C12,\"\")","v":""},{"$f":"IF($B18<>\"\",VLOOKUP($C18,List!$C$5:$H$55,2,FALSE),\"\")","v":""}]
[null,{"$f":"IF(COUNTIF(Conf2!$O$19:$P$68,\"*XCM89UP*\")>=1,COUNTIF(Conf2!$O$19:$P$68,\"*XCM89UP*\"),\"\")","v":""},{"$f":"IF($B19<>\"\",List!$C13,\"\")","v":""},{"$f":"IF($B19<>\"\",VLOOKUP($C19,List!$C$5:$H$55,2,FALSE),\"\")","v":""}]
[null,{"$f":"IFERROR(IF(VLOOKUP(Conf2!$O$28,List!T34:Y41,6,FALSE)>=2,VLOOKUP(Conf2!$O$28,List!T34:Y41,6,FALSE)-1,\"\"),\"\")","v":""},{"$f":"IF($B20<>\"\",IF($F$20=\"NA/EMEA\",\"APS1000W-100NES\",IF($F$20=\"APAC\",\"APS1000W-100AJS\",\"\")),\"\")","v":""},{"$f":"IF($B20<>\"\",VLOOKUP($C20,List!$C$5:$H$55,2,FALSE),\"\")","v":""},"Localization","NA/EMEA"," Þ"]
[null,{"$f":"IF(COUNTIF(Conf2!$O$19:$P$68,\"*AFT603*\")>=1,COUNTIF(Conf2!$O$19:$P$68,\"*AFT603*\"),\"\")","v":""},{"$f":"IF($B21<>\"\",List!$C16,\"\")","v":""},{"$f":"IF($B21<>\"\",VLOOKUP($C21,List!$C$5:$H$55,2,FALSE),\"\")","v":""}]
[null,{"$f":"IF(COUNTIF(Conf2!$O$19:$P$68,\"*RPS4000v2*\")>=1,COUNTIF(Conf2!$O$19:$P$68,\"*RPS4000v2*\"),\"\")","v":""},{"$f":"IF($B22<>\"\",IF($F$20=\"NA/EMEA\",\"RPS4000-200NES\",IF($F$20=\"APAC\",\"RPS4000-200AJS\",\"\")),\"\")","v":""},{"$f":"IF($B22<>\"\",VLOOKUP($C22,List!$C$5:$H$55,2,FALSE),\"\")","v":""}]
["Service",{"$f":"IF(COUNTIF(Conf2!$O$19:$P$68,\"*PSB0304*\")>=1,COUNTIF(Conf2!$O$19:$P$68,\"*PSB0304*\"),\"\")","v":""},{"$f":"IF($B23<>\"\",List!$C19,\"\")","v":""},{"$f":"IF($B23<>\"\",VLOOKUP($C23,List!$C$5:$H$55,2,FALSE),\"\")","v":""}]
[null,{"$f":"IF(COUNTIF(Conf2!$O$19:$P$68,\"*PSP1104*\")>=1,COUNTIF(Conf2!$O$19:$P$68,\"*PSP1104*\"),\"\")","v":""},{"$f":"IF($B24<>\"\",List!$C20,\"\")","v":""},{"$f":"IF($B24<>\"\",VLOOKUP($C24,List!$C$5:$H$55,2,FALSE),\"\")","v":""}]
["Optics_Cables",{"$f":"IF(COUNTIF(Conf2!$O$19:$P$68,\"*AFM735*\")>=1,Conf2!$L56,\"\")","v":""},{"$f":"IF($B25<>\"\",List!$C21,\"\")","v":""},{"$f":"IF($B25<>\"\",VLOOKUP($C25,List!$C$5:$H$55,2,FALSE),\"\")","v":""}]
[null,{"$f":"IF(COUNTIF(Conf2!$O$19:$P$68,\"*AGM731F*\")>=1,Conf2!$L57,\"\")","v":""},{"$f":"IF($B26<>\"\",List!$C22,\"\")","v":""},{"$f":"IF($B26<>\"\",VLOOKUP($C26,List!$C$5:$H$55,2,FALSE),\"\")","v":""}]
[null,{"$f":"IF(COUNTIF(Conf2!$O$19:$P$68,\"*AGM732F*\")>=1,Conf2!$L58,\"\")","v":""},{"$f":"IF($B27<>\"\",List!$C23,\"\")","v":""},{"$f":"IF($B27<>\"\",VLOOKUP($C27,List!$C$5:$H$55,2,FALSE),\"\")","v":""}]
[null,{"$f":"IF(COUNTIF(Conf2!$O$19:$P$68,\"*AGM734*\")>=1,Conf2!$L59,\"\")","v":""},{"$f":"IF($B28<>\"\",List!$C24,\"\")","v":""},{"$f":"IF($B28<>\"\",VLOOKUP($C28,List!$C$5:$H$55,2,FALSE),\"\")","v":""}]
[null,{"$f":"IF(COUNTIF(Conf2!$O$19:$P$68,\"*AXM761*\")>=1,IF(Conf2!$L61<10,Conf2!$L61,IF(MOD(Conf2!$L61/10,1)=0,\"\",Conf2!$L61-10*INT(Conf2!$L61/10))),\"\")","v":""},{"$f":"IF($B29<>\"\",List!$C25,\"\")","v":""},{"$f":"IF($B29<>\"\",VLOOKUP($C29,List!$C$5:$H$55,2,FALSE),\"\")","v":""}]
[null,{"$f":"IF(COUNTIF(Conf2!$O$19:$P$68,\"*AXM761*\")>=1,IF(Conf2!$L61>=10,INT(Conf2!$L61/10),\"\"),\"\")","v":""},{"$f":"IF($B30<>\"\",List!$C26,\"\")","v":""},{"$f":"IF($B30<>\"\",VLOOKUP($C30,List!$C$5:$H$55,2,FALSE),\"\")","v":""}]
[null,{"$f":"IF(COUNTIF(Conf2!$O$19:$P$68,\"*AXM762*\")>=1,IF(Conf2!$L62<10,Conf2!$L62,IF(MOD(Conf2!$L62/10,1)=0,\"\",Conf2!$L62-10*INT(Conf2!$L62/10))),\"\")","v":""},{"$f":"IF($B31<>\"\",List!$C27,\"\")","v":""},{"$f":"IF($B31<>\"\",VLOOKUP($C31,List!$C$5:$H$55,2,FALSE),\"\")","v":""}]
[null,{"$f":"IF(COUNTIF(Conf2!$O$19:$P$68,\"*AXM762*\")>=1,IF(Conf2!$L62>=10,INT(Conf2!$L62/10),\"\"),\"\")","v":""},{"$f":"IF($B32<>\"\",List!$C28,\"\")","v":""},{"$f":"IF($B32<>\"\",VLOOKUP($C32,List!$C$5:$H$55,2,FALSE),\"\")","v":""}]
[null,{"$f":"IF(COUNTIF(Conf2!$O$19:$P$68,\"*AXM763*\")>=1,Conf2!$L63,\"\")","v":""},{"$f":"IF($B33<>\"\",List!$C29,\"\")","v":""},{"$f":"IF($B33<>\"\",VLOOKUP($C33,List!$C$5:$H$55,2,FALSE),\"\")","v":""}]
[null,{"$f":"IF(COUNTIF(Conf2!$O$19:$P$68,\"*AXM764*\")>=1,Conf2!$L64,\"\")","v":""},{"$f":"IF($B34<>\"\",List!$C30,\"\")","v":""},{"$f":"IF($B34<>\"\",VLOOKUP($C34,List!$C$5:$H$55,2,FALSE),\"\")","v":""}]
[null,{"$f":"IF(COUNTIF(Conf2!$O$19:$P$68,\"*AXC761*\")>=1,Conf2!$L65,\"\")","v":""},{"$f":"IF($B35<>\"\",List!$C31,\"\")","v":""},{"$f":"IF($B35<>\"\",VLOOKUP($C35,List!$C$5:$H$55,2,FALSE),\"\")","v":""}]
[null,{"$f":"IF(COUNTIF(Conf2!$O$19:$P$68,\"*AXC763*\")>=1,Conf2!$L66,\"\")","v":""},{"$f":"IF($B36<>\"\",List!$C32,\"\")","v":""},{"$f":"IF($B36<>\"\",VLOOKUP($C36,List!$C$5:$H$55,2,FALSE),\"\")","v":""}]
[]
["Total",{"$f":"IF(SUM(B6:B36)>0,SUM(B6:B36),\"\")","v":""}]
[null,null,null,{"$f":"IFERROR(VLOOKUP($C39,List!$C$5:$H$153,2,FALSE),\"\")","v":""}]
[null,null,null,{"$f":"IFERROR(VLOOKUP($C40,List!$C$5:$H$153,2,FALSE),\"\")","v":""}]
[null,null,null,{"$f":"IFERROR(VLOOKUP($C41,List!$C$5:$H$153,2,FALSE),\"\")","v":""}]
[null,null,null,{"$f":"IFERROR(VLOOKUP($C42,List!$C$5:$H$153,2,FALSE),\"\")","v":""}]
[null,null,null,{"$f":"IFERROR(VLOOKUP($C43,List!$C$5:$H$153,2,FALSE),\"\")","v":""}]
[null,null,null,{"$f":"IFERROR(VLOOKUP($C44,List!$C$5:$H$153,2,FALSE),\"\")","v":""}]
[null,null,null,{"$f":"IFERROR(VLOOKUP($C45,List!$C$5:$H$153,2,FALSE),\"\")","v":""}]
[null,null,null,{"$f":"IFERROR(VLOOKUP($C46,List!$C$5:$H$153,2,FALSE),\"\")","v":""}]
[null,null,null,{"$f":"IFERROR(VLOOKUP($C47,List!$C$5:$H$153,2,FALSE),\"\")","v":""}]
[null,null,null,{"$f":"IFERROR(VLOOKUP($C48,List!$C$5:$H$153,2,FALSE),\"\")","v":""}]
[null,null,null,{"$f":"IFERROR(VLOOKUP($C49,List!$C$5:$H$153,2,FALSE),\"\")","v":""}]
[null,null,null,{"$f":"IFERROR(VLOOKUP($C50,List!$C$5:$H$153,2,FALSE),\"\")","v":""}]
[null,null,null,{"$f":"IFERROR(VLOOKUP($C51,List!$C$5:$H$153,2,FALSE),\"\")","v":""}]
[null,null,null,{"$f":"IFERROR(VLOOKUP($C52,List!$C$5:$H$153,2,FALSE),\"\")","v":""}]
[null,null,null,{"$f":"IFERROR(VLOOKUP($C53,List!$C$5:$H$153,2,FALSE),\"\")","v":""}]
[null,null,null,{"$f":"IFERROR(VLOOKUP($C54,List!$C$5:$H$153,2,FALSE),\"\")","v":""}]
[null,null,null,{"$f":"IFERROR(VLOOKUP($C55,List!$C$5:$H$153,2,FALSE),\"\")","v":""}]
[null,null,null,{"$f":"IFERROR(VLOOKUP($C56,List!$C$5:$H$153,2,FALSE),\"\")","v":""}]
[null,null,null,{"$f":"IFERROR(VLOOKUP($C57,List!$C$5:$H$153,2,FALSE),\"\")","v":""}]
[null,null,null,{"$f":"IFERROR(VLOOKUP($C58,List!$C$5:$H$153,2,FALSE),\"\")","v":""}]
[null,null,null,{"$f":"IFERROR(VLOOKUP($C59,List!$C$5:$H$153,2,FALSE),\"\")","v":""}]
[null,null,null,{"$f":"IFERROR(VLOOKUP($C60,List!$C$5:$H$153,2,FALSE),\"\")","v":""}]
[null,null,null,{"$f":"IFERROR(VLOOKUP($C61,List!$C$5:$H$153,2,FALSE),\"\")","v":""}]
[null,null,null,{"$f":"IFERROR(VLOOKUP($C62,List!$C$5:$H$153,2,FALSE),\"\")","v":""}]
[null,null,null,{"$f":"IFERROR(VLOOKUP($C63,List!$C$5:$H$153,2,FALSE),\"\")","v":""}]
[null,null,null,{"$f":"IFERROR(VLOOKUP($C64,List!$C$5:$H$153,2,FALSE),\"\")","v":""}]
[null,null,null,{"$f":"IFERROR(VLOOKUP($C65,List!$C$5:$H$153,2,FALSE),\"\")","v":""}]
[null,null,null,{"$f":"IFERROR(VLOOKUP($C66,List!$C$5:$H$153,2,FALSE),\"\")","v":""}]
[null,null,null,{"$f":"IFERROR(VLOOKUP($C67,List!$C$5:$H$153,2,FALSE),\"\")","v":""}]
[null,null,null,{"$f":"IFERROR(VLOOKUP($C68,List!$C$5:$H$153,2,FALSE),\"\")","v":""}]
[null,null,null,{"$f":"IFERROR(VLOOKUP($C69,List!$C$5:$H$153,2,FALSE),\"\")","v":""}]

{"sheet":"Conf3","index":5,"n_rows":68,"n_cols":17,"rows_kept":68,"cut":false,"hidden":false,"merged":[[21,5,21,12],[21,14,21,16],[1,8,1,10],[14,5,14,12],[17,0,17,2],[19,5,19,12],[19,14,19,16],[23,5,23,12],[23,14,23,16],[27,5,27,12],[27,14,29,16],[31,4,31,6],[31,9,31,11],[56,0,56,10],[56,11,56,12],[33,4,33,6],[34,9,34,11],[36,1,36,3],[36,5,36,8],[37,5,37,7],[38,6,38,7],[38,10,39,11],[39,1,39,4],[39,6,39,9],[41,5,41,9],[41,11,41,12],[44,8,44,12],[55,0,55,10],[55,11,55,12],[57,0,57,10],[57,11,57,12],[58,0,58,10],[58,11,58,12],[60,0,60,10],[60,11,60,12],[61,0,61,10],[61,11,61,12],[62,0,62,10],[62,11,62,12],[63,0,63,10],[63,11,63,12],[64,0,64,10],[64,11,64,12],[65,0,65,10],[65,11,65,12],[66,11,66,12]]}
[]
[null,null,null,null,null,null,null,null,"Green cells are editable"]
[]
[]
["The M6100 switch series consists of Gigabit access layer and 10 Gigabit distribution layer switches in NETGEAR modular chassis switch product line.  "]
["The M6100 switch series offers high-quality, high-density chassis alternative to stackable switches in campus LAN and midsize organizations demanding networks.  "]
["With more than 1.4 Tbps switching and routing capacity, passive backplane, management and fabric nonstop forwarding redundancy, the M6100 series delivers world-class resiliency and scalability. "]
["Ultimately, operating software and system management features take the complexity out of delivering L2/L3/L4 rich services for enterprise edge and SMB core deployments."]
[]
[" "]
[]
[]
[]
[]
["Select Model",null,null,null,null,"NETGEAR M6100 Series 3-slot Chassis Switch ",null,null,null,null,null,null,null,null,{"$f":"VLOOKUP(F15,List!$L$4:$V$5,9,FALSE)","v":"M6100-3S"}]
[]
["Advanced Layer 2, Layer 3 and Layer 4 feature set - no license required - including RIP, VRRP, OSPF, PIM, BGP, PBR, MLAG, PV(R)ST, RSPAN, DCBX, PFC, ETS and FCoE FIP \n"]
["Information and datasheet",null,null,"here"]
[]
["Blades",null,null,null,"I/O Supervisory - Slot 1","Empty slot with blank panel",null,null,null,null,null,null,null,null,{"$f":"VLOOKUP(F20,List!$L$16:$V$24,9,FALSE)","v":"-"}]
[]
[null,null,null,null,"I/O Back-up Supervisory - Slot 2","Empty slot with blank panel",null,null,null,null,null,null,null,null,{"$f":"VLOOKUP(F22,List!$L$16:$V$24,9,FALSE)","v":"-"}]
[]
[null,null,null,null,"I/O Line Card - Slot 3","Empty slot with blank panel",null,null,null,null,null,null,null,null,{"$f":"VLOOKUP(F24,List!$L$16:$V$24,9,FALSE)","v":"-"}]
[]
["Each Line Card provides line-rate switching and routing capacity.   Each Slot provides 8 x 10G channels (80G half-duplex / 160G full-duplex) access to passive backplane."]
[]
["Number of Power Supply Units",null,null,null,null,"1 power supply unit",null,null,null,null,null,null,null,null,{"$f":"VLOOKUP(F28,List!$L$34:$V$41,9,FALSE)","v":"One unit APS1000W"}]
[]
[]
[]
[null,null,null,null,"Indicate AC Voltage:",null,null,110,"V Þ","Number of PSUs sufficient:",null,null,{"$f":"IF(M33<=10,\"NO\",\"YES\")","v":"YES"},"ç Enough power for the chassis?"]
[null,null,null,null,null,null,null,null,null,null,null,"Power Budget Remaining (Watts):",{"$f":"IF(COUNTIF($O$19:$O$26,\"*XCM89P*\")+COUNTIF($O$19:$O$26,\"*XCM89UP*\")>0,\n\nIF($H$32<220,IF($H$34=\"No\",VLOOKUP($O$28,List!$T$34:$X$41,2,FALSE),VLOOKUP($O$28,List!$T$34:$X$41,3,FALSE)),IF($H$34=\"No\",VLOOKUP($O$28,List!$T$34:$X$41,4,FALSE),VLOOKUP($O$28,List!$T$34:$X$41,5,FALSE)))-VLOOKUP($O$20,List!$T$16:$U$24,2,FALSE)-VLOOKUP($O$22,List!$T$16:$U$24,2,FALSE)-VLOOKUP($O$24,List!$T$16:$U$24,2,FALSE)-IFERROR((COUNTIF($O$19:$O$26,\"XCM8948 + XCM89P\")*48+COUNTIF($O$19:$O$26,\"XCM8944 + XCM89P\")*40)*IF(Class=\"Other\",D39,VLOOKUP(E38,List!M27:O30,3,FALSE)),0)-IFERROR((COUNTIF($O$19:$O$26,\"XCM8948 + XCM89UP\")*48+COUNTIF($O$19:$O$26,\"XCM8944 + XCM89UP\")*40)*IF(J38=\"Other\",I39,VLOOKUP(J38,List!Q27:S29,3,FALSE)),0),\n\nIF($H$32<220,IF($H$34=\"No\",VLOOKUP($O$28,List!$T$34:$X$41,2,FALSE),VLOOKUP($O$28,List!$T$34:$X$41,3,FALSE)),IF($H$34=\"No\",VLOOKUP($O$28,List!$T$34:$X$41,4,FALSE),VLOOKUP($O$28,List!$T$34:$X$41,5,FALSE)))-VLOOKUP($O$20,List!$T$16:$U$24,2,FALSE)-VLOOKUP($O$22,List!$T$16:$U$24,2,FALSE)-VLOOKUP($O$24,List!$T$16:$U$24,2,FALSE)\n\n)","v":640},"Keep adding PSUs until \"YES\""]
[null,null,null,null,"N+1 Required for Redundancy:",null,null,"No"," Þ",null,null,"Power Drawn from Wall (Watts):",{"$f":"IF(COUNTIF($O$19:$O$26,\"*XCM89P*\")+COUNTIF($O$19:$O$26,\"*XCM89UP*\")>0,\n\nROUNDUP((VLOOKUP($O$20,List!$T$16:$U$24,2,FALSE)+VLOOKUP($O$22,List!$T$16:$U$24,2,FALSE)+VLOOKUP($O$24,List!$T$16:$U$24,2,FALSE)+IFERROR((COUNTIF($O$19:$O$26,\"XCM8948 + XCM89P\")*48+COUNTIF($O$19:$O$26,\"XCM8944 + XCM89P\")*40)*IF(Class=\"Other\",D39,VLOOKUP(E38,List!M27:O30,3,FALSE)),0)+IFERROR((COUNTIF($O$19:$O$26,\"XCM8948 + XCM89UP\")*48+COUNTIF($O$19:$O$26,\"XCM8944 + XCM89UP\")*40)*IF(J38=\"Other\",I39,VLOOKUP(J38,List!Q27:S29,3,FALSE)),0))/0.8,0),\n\n\nROUNDUP((VLOOKUP($O$20,List!$T$16:$U$24,2,FALSE)+VLOOKUP($O$22,List!$T$16:$U$24,2,FALSE)+VLOOKUP($O$24,List!$T$16:$U$24,2,FALSE))/0.8,0)\n\n)","v":0}]
[null,null,null,null,null,null,null,null,null,"Thermal Dissipation (BTU/hr):",null,null,{"$f":"ROUNDUP(M34*3.415,0)","v":0}]
[null,null,null,null,null,null,null,null,null,null,null,"Available PoE Budget (Watts):",{"$f":"IF($H$32<220,IF($H$34=\"No\",VLOOKUP($O$28,List!$T$34:$X$41,2,FALSE),VLOOKUP($O$28,List!$T$34:$X$41,3,FALSE)),IF($H$34=\"No\",VLOOKUP($O$28,List!$T$34:$X$41,4,FALSE),VLOOKUP($O$28,List!$T$34:$X$41,5,FALSE)))-VLOOKUP($O$20,List!$T$16:$U$24,2,FALSE)-VLOOKUP($O$22,List!$T$16:$U$24,2,FALSE)-VLOOKUP($O$24,List!$T$16:$U$24,2,FALSE)","v":640}]
[null,{"$f":"\"Blade configuration is  \"&(COUNTIF($O$19:$O$26,\"XCM8948 + XCM89P\")*48+COUNTIF($O$19:$O$26,\"XCM8944 + XCM89P\")*40)&\"  PoE+ ports\"","v":"Blade configuration is  0  PoE+ ports"},null,null,null,{"$f":"\"Blade configuration is  \"&(COUNTIF($O$19:$O$26,\"XCM8948 + XCM89UP\")*48+COUNTIF($O$19:$O$26,\"XCM8944 + XCM89UP\")*40)&\"  UPOE ports\"","v":"Blade configuration is  0  UPOE ports"},null,null,null,null,null,null,{"$f":"IF($M$33>0,\"YES\",\"NO\")","v":"YES"}]
[null,"Wattage W/port?  (Class)",null,"4.0W PSE",{"$f":"IF(D38=\"\",\"\",D38)","v":"4.0W PSE"},"Wattage W/port?  (Class)",null,null,"40W PSE",{"$f":"IF(I38=\"\",\"\",I38)","v":"40W PSE"},null,null,"é"]
[null,{"$f":"IF($E$38=\"other\",\"Override PSE W/port:\",\"\")","v":""},null,20,"W  Þ",null,{"$f":"IF($J$38=\"Other\",\"Override PSE W/port:\",\"\")","v":""},null,40,"W  Þ",{"$f":"\"Total:                                             \"&ROUNDUP(IFERROR((COUNTIF($O$19:$O$26,\"XCM8948 + XCM89P\")*48+COUNTIF($O$19:$O$26,\"XCM8944 + XCM89P\")*40)*IF(Class=\"Other\",D39,VLOOKUP(E38,List!M27:O30,3,FALSE)),0)+IFERROR((COUNTIF($O$19:$O$26,\"XCM8948 + XCM89UP\")*48+COUNTIF($O$19:$O$26,\"XCM8944 + XCM89UP\")*40)*IF(J38=\"Other\",I39,VLOOKUP(J38,List!Q27:S29,3,FALSE)),0),0)&\"W PSE required                                      <--  PoE+ / UPOE  -->\"","v":"Total:                                             0W PSE required                                      <--  PoE+ / UPOE  -->"},null,"Check if your PoE"]
[null,"<------  POE+ requirements ------>",null,null,null,null,"<------  UPOE requirements ------>",null,null,null,null,null,"budget is sufficient"]
[]
["Spare",null,null,null,null," How many Spare Fan Tray units required?",null,null,null,null,null,0,null,"Þ",{"$f":"IF(L42>0,IF(L42=1,L42&\" unit \"&VLOOKUP($O$15,List!$L$47:$V$48,9,FALSE),L42&\" units \"&VLOOKUP($O$15,List!$L$47:$V$48,9,FALSE)),\"-\")","v":"-"}]
[]
[]
["Service",null,null,null,null,"Installation Service required?",null,null,"No service required",null,null,null,null,"Þ",{"$f":"IF(VLOOKUP($I$45,List!$L$43:$T$45,9,FALSE)<>\"-\",VLOOKUP($I$45,List!$L$43:$T$45,9,FALSE)&\" contract\",VLOOKUP($I$45,List!$L$43:$T$45,9,FALSE))","v":"-"}]
[]
[null,null,null,"ProSupport Installation Setup & Configuration (Remote or Onsite):"]
[]
[]
[]
[null,null,null,"Information and datasheet",null,null,"here",null," * Available Only with Onsite Installation"]
[]
["NETGEAR Fully Managed Switches offer 24x7 Lifetime Technical Support and Lifetime Next Business Day Shipping Hardware Replacement  -  for products purchased on of after June 1, 2014 \n"]
[null,null,null,null,null,null,null,null,null,null,null,null,null,null,null,{"$f":"COUNTIF($O$19:$O$26,\"*XCM8944*\")*2+COUNTIF($O$19:$O$26,\"XCM8924X*\")*16","v":0},"SFP+ ports"]
["Optics, DAC Cables",null,null,null,null,null,null,null,null,{"$f":"IF($P$54+$P$55>1,($P$54+$P$55)&\" SFP / SFP+ ports in above configuration:\",\"\")","v":""},null,null,null,null,null,{"$f":"COUNTIF($O$19:$O$26,\"*XCM8944F*\")*40","v":0},"SFP ports "]
[{"$f":"IF(SFP>1,\"For \"&SFP&\" SFP ports, how many 100BASE-FX SFP LC GBIC (multimode, 2km OM4/OM3/OM2/OM1 50/125µm and 62.5/125µm)?\",\"\")","v":""},null,null,null,null,null,null,null,null,null,null,0,null,"Þ",{"$f":"IF(L56=\"\",\"-\",IF(SFP>1,IF(L56>=1,IF(L56=1,L56&\" unit AFM735\",L56&\" units AFM735\"),\"-\"),\"\"))","v":""}]
[{"$f":"IF(SFPP>1,IF(SFP>1,\"For \"&SFP+SFPP&\" SFP/SFP+ ports, how many 1000BASE-SX SFP LC GBIC (multimode, 1000m OM4, 550m OM3 50/125µm, 275m OM2/OM1 62.5/125µm)?\",\"For \"&SFPP&\" SFP+ ports, how many 1000BASE-SX SFP LC GBIC (multimode, 1000m OM4, 550m OM3 50/125µm, 275m OM2/OM1 62.5/125µm)?\"),IF(SFP>1,\"For \"&SFP&\" SFP ports, how many 1000BASE-SX SFP LC GBIC (multimode, 1000m OM4, 550m OM3 50/125µm, 275m OM2/OM1 62.5/125µm)?\",\"\"))","v":""},null,null,null,null,null,null,null,null,null,null,0,null,"Þ",{"$f":"IF(L57=\"\",\"-\",IF(SFP+SFPP>1,IF(L57>=1,IF(L57=1,L57&\" unit AGM731F\",L57&\" units AGM731F\"),\"-\"),\"\"))","v":""}]
[{"$f":"IF(SFPP>1,IF(SFP>1,\"For \"&SFP+SFPP&\" SFP/SFP+ ports, how many 1000BASE-LX SFP LC GBIC (single mode, 10km 9/125µm)?\",\"For \"&SFPP&\" SFP+ ports, how many 1000BASE-LX SFP LC GBIC (single mode, 10km 9/125µm)?\"),IF(SFP>1,\"For \"&SFP&\" SFP ports, how many 1000BASE-LX SFP LC GBIC (single mode, 10km 9/125µm)?\",\"\"))","v":""},null,null,null,null,null,null,null,null,null,null,0,null,"Þ",{"$f":"IF(L58=\"\",\"-\",IF(SFP+SFPP>1,IF(L58>=1,IF(L58=1,L58&\" unit AGM732F\",L58&\" units AGM732F\"),\"-\"),\"\"))","v":""}]
[{"$f":"IF(SFP>1,\"For \"&SFP&\" SFP ports, how many 1000BASE-T SFP RJ45 GBIC?\",\"\")","v":""},null,null,null,null,null,null,null,null,null,null,0,null,"Þ",{"$f":"IF(L59=\"\",\"-\",IF(SFP>1,IF(L59>=1,IF(L59=1,L59&\" unit AGM734\",L59&\" units AGM734\"),\"-\"),\"\"))","v":""}]
[null,null,null,null,{"$f":"IF(SFP+SFPP>1,\"\",\"No optics required in above M6100 switch series configuration\")","v":"No optics required in above M6100 switch series configuration"}]
[{"$f":"IF(SFPP>1,\"For \"&SFPP&\" SFP+ ports, how many 10GBASE-SR SFP+ LC GBIC (multimode, 550m OM4, 300m OM3 50/125µm, 33m OM2/OM1 62.5/125µm)?\",\"\")","v":""},null,null,null,null,null,null,null,null,null,null,0,null,"Þ",{"$f":"IF(L61=\"\",\"-\",IF(SFPP>1,IF(L61>=1,IF(L61=1,L61&\" unit AXM761\",L61&\" units AXM761\"),\"-\"),\"\"))","v":""}]
[{"$f":"IF(SFPP>1,\"For \"&SFPP&\" SFP+ ports, how many 10GBASE-LR SFP+ LC GBIC (single mode, 10km 9/125µm)?\",\"\")","v":""},null,null,null,null,null,null,null,null,null,null,0,null,"Þ",{"$f":"IF(L62=\"\",\"-\",IF(SFPP>1,IF(L62>=1,IF(L62=1,L62&\" unit AXM762\",L62&\" units AXM762\"),\"-\"),\"\"))","v":""}]
[{"$f":"IF(SFPP>1,\"For \"&SFPP&\" SFP+ ports, how many 10GBASE-LRM SFP+ LC GBIC (multimode, 260m OM4/OM3 50/125µm, 220m OM2/OM1 62.5/125µm)?\",\"\")","v":""},null,null,null,null,null,null,null,null,null,null,0,null,"Þ",{"$f":"IF(L63=\"\",\"-\",IF(SFPP>1,IF(L63>=1,IF(L63=1,L63&\" unit AXM763\",L63&\" units AXM763\"),\"-\"),\"\"))","v":""}]
[{"$f":"IF(SFPP>1,\"For \"&SFPP&\" SFP+ ports, how many 10GBASE-LR LITE SFP+ LC GBIC (single mode, 2km 9/125µm)?\",\"\")","v":""},null,null,null,null,null,null,null,null,null,null,0,null,"Þ",{"$f":"IF(L64=\"\",\"-\",IF(SFPP>1,IF(L64>=1,IF(L64=1,L64&\" unit AXM764\",L64&\" units AXM764\"),\"-\"),\"\"))","v":""}]
[{"$f":"IF(SFPP>1,\"For \"&SFPP&\" SFP+ ports, how many passive Direct Attach SFP+ copper DAC cables (1m)?\",\"\")","v":""},null,null,null,null,null,null,null,null,null,null,0,null,"Þ",{"$f":"IF(L65=\"\",\"-\",IF(SFPP>1,IF(L65>=1,IF(L65=1,L65&\" unit AXC761\",L65&\" units AXC761\"),\"-\"),\"\"))","v":""}]
[{"$f":"IF(SFPP>1,\"For \"&SFPP&\" SFP+ ports, how many passive Direct Attach SFP+ copper DAC cables (3m)?\",\"\")","v":""},null,null,null,null,null,null,null,null,null,null,0,null,"Þ",{"$f":"IF(L66=\"\",\"-\",IF(SFPP>1,IF(L66>=1,IF(L66=1,L66&\" unit AXC763\",L66&\" units AXC763\"),\"-\"),\"\"))","v":""}]
[]
["M6100 switch series will only support genuine NETGEAR SFP and SFP+ mini-GBIC transceivers. Third-party DAC cables may be used.\n",null,null,null,null,null,null,null,null,null,null,null,null,null,null,null,"END"]

{"sheet":"SKU3","index":6,"n_rows":69,"n_cols":7,"rows_kept":69,"cut":false,"hidden":false,"merged":[]}
[]
[]
[]
[]
["Category","Quantity","Ordering Number","Description"]
["Chassis Starter Kit",{"$f":"IF(LEN(Conf3!$O$20&Conf3!$O$22&Conf3!$O$24)>3,1,\"\")","v":""},{"$f":"IF(LEN(Conf3!$O$20&Conf3!$O$22&Conf3!$O$24)>3,IF(COUNTIF(Conf3!$O$20:'Conf3'!$O$24,\"XCM8924X\")>=1,\"XCM8903SX-10000S\",IF(COUNTIF(Conf3!$O$20:'Conf3'!$O$24,\"XCM8944F\")>=1,\"XCM8903SF-10000S\",\"XCM8903SK-10000S\")),\"\")","v":""},{"$f":"IF($B6<>\"\",VLOOKUP($C6,List!$C$5:$H$55,2,FALSE)&\"                             Starter kit includes:\",\"\")","v":""}]
[]
[null,null,null,{"$f":"IF($B6<>\"\",\"              ->  1 empty chassis  M6100-3S (XCM8903)                    ->  2 blank panels for open blade slots\",\"\")","v":""}]
[null,null,null,{"$f":"IF($B6<>\"\",IF($C$6=\"XCM8903SK-10000S\",\"              ->  1 blade 40x1G 2x10GBT 2xSFP+  (XCM8944)            ->  3 power supply panels for empty PSU slots\",IF($C$6=\"XCM8903SF-10000S\",\"              ->  1 blade 40xSFP 2x10GBT 2xSFP+  (XCM8944F)         ->  3 power supply panels for empty PSU slots\",IF($C$6=\"XCM8903SX-10000S\",\"              ->  1 blade 24x10GBT or 16xSFP+   (XCM8924X)            ->  3 power supply panels for empty PSU slots\",\"else\"))),\"\")","v":""}]
[null,null,null,{"$f":"IF($B6<>\"\",IF($C$6=\"XCM8903SK-10000S\",\"              ->  1 PoE+ daughter card (XCM89P)                                 ->  Rack-mount kit for 2-post racks  and wiring cabinets\",\"                                                                                                               ->  Rack-mount kit for 2-post racks  and wiring cabinets\"),\"\")","v":""}]
[null,null,null,{"$f":"IF($B6<>\"\",\"              ->  1 power supply unit (APS1000W)                               ->  Complimentary handles for rack-mount kit\",\"\")","v":""}]
[null,null,null,{"$f":"IF($B6<>\"\",\"              ->  1 front-to-back fan tray (AFT603)                               ->  Complimentary sliding rails kit for 4-post racks and wiring cabinets\",\"\")","v":""}]
[]
["I/O Blades",{"$f":"IF(COUNTIF(Conf3!$O$19:$P$68,\"*XCM8948*\")>=1,COUNTIF(Conf3!$O$19:$P$68,\"*XCM8948*\"),\"\")","v":""},{"$f":"IF($B14<>\"\",List!$C8,\"\")","v":""},{"$f":"IF($B14<>\"\",VLOOKUP($C14,List!$C$5:$H$55,2,FALSE),\"\")","v":""}]
[null,{"$f":"IF(COUNTIF(Conf3!$O$19:$P$67,\"*XCM8944*\")-COUNTIF(Conf3!$O$19:$P$67,\"*XCM8944F*\")>=1,IF($C$6=\"XCM8903SK-10000S\",IF( (COUNTIF(Conf3!$O$19:$P$67,\"*XCM8944*\")-COUNTIF(Conf3!$O$19:$P$67,\"*XCM8944F*\"))>=2, COUNTIF(Conf3!$O$19:$P$67,\"*XCM8944*\")-COUNTIF(Conf3!$O$19:$P$67,\"*XCM8944F*\")-1,\"\"),COUNTIF(Conf3!$O$19:$P$67,\"*XCM8944*\")-COUNTIF(Conf3!$O$19:$P$67,\"*XCM8944F*\")), \"\")","v":""},{"$f":"IF($B15<>\"\",List!$C9,\"\")","v":""},{"$f":"IF($B15<>\"\",VLOOKUP($C15,List!$C$5:$H$55,2,FALSE),\"\")","v":""}]
[null,{"$f":"IF(\nCOUNTIF(Conf3!$O$19:$P$68,\"*XCM8944F*\")>=1,\nIF($C$6=\"XCM8903SF-10000S\",IF(COUNTIF(Conf3!$O$19:$P$68,\"*XCM8944F*\")>=2, COUNTIF(Conf3!$O$19:$P$68,\"*XCM8944F*\")-1,\"\"), COUNTIF(Conf3!$O$19:$P$68,\"*XCM8944F*\")),\"\")","v":""},{"$f":"IF($B16<>\"\",List!$C10,\"\")","v":""},{"$f":"IF($B16<>\"\",VLOOKUP($C16,List!$C$5:$H$55,2,FALSE),\"\")","v":""}]
[null,{"$f":"IF(\nCOUNTIF(Conf3!$O$19:$P$68,\"*XCM8924X*\")>=1,\nIF($C$6=\"XCM8903SX-10000S\",IF(COUNTIF(Conf3!$O$19:$P$68,\"*XCM8924X*\")>=2, COUNTIF(Conf3!$O$19:$P$68,\"*XCM8924X*\")-1,\"\"), COUNTIF(Conf3!$O$19:$P$68,\"*XCM8924X*\")),\"\")","v":""},{"$f":"IF($B17<>\"\",List!$C11,\"\")","v":""},{"$f":"IF($B17<>\"\",VLOOKUP($C17,List!$C$5:$H$55,2,FALSE),\"\")","v":""}]
["Accessories",{"$f":"IF(COUNTIF(Conf3!$O$19:$P$68,\"*XCM89P*\")>=1,IF($C$6=\"XCM8903SK-10000S\",IF(COUNTIF(Conf3!$O$19:$P$68,\"*XCM89P*\")>=2,COUNTIF(Conf3!$O$19:$P$68,\"*XCM89P*\")-1,\"\"), COUNTIF(Conf3!$O$19:$P$68,\"*XCM89P*\")), \"\")","v":""},{"$f":"IF($B18<>\"\",List!$C12,\"\")","v":""},{"$f":"IF($B18<>\"\",VLOOKUP($C18,List!$C$5:$H$55,2,FALSE),\"\")","v":""}]
[null,{"$f":"IF(COUNTIF(Conf3!$O$19:$P$68,\"*XCM89UP*\")>=1,COUNTIF(Conf3!$O$19:$P$68,\"*XCM89UP*\"),\"\")","v":""},{"$f":"IF($B19<>\"\",List!$C13,\"\")","v":""},{"$f":"IF($B19<>\"\",VLOOKUP($C19,List!$C$5:$H$55,2,FALSE),\"\")","v":""}]
[null,{"$f":"IFERROR(IF(VLOOKUP(Conf3!$O$28,List!T34:Y41,6,FALSE)>=2,VLOOKUP(Conf3!$O$28,List!T34:Y41,6,FALSE)-1,\"\"),\"\")","v":""},{"$f":"IF($B20<>\"\",IF($F$20=\"NA/EMEA\",\"APS1000W-100NES\",IF($F$20=\"APAC\",\"APS1000W-100AJS\",\"\")),\"\")","v":""},{"$f":"IF($B20<>\"\",VLOOKUP($C20,List!$C$5:$H$55,2,FALSE),\"\")","v":""},"Localization","NA/EMEA"," Þ"]
[null,{"$f":"IF(COUNTIF(Conf3!$O$19:$P$68,\"*AFT603*\")>=1,COUNTIF(Conf3!$O$19:$P$68,\"*AFT603*\"),\"\")","v":""},{"$f":"IF($B21<>\"\",List!$C16,\"\")","v":""},{"$f":"IF($B21<>\"\",VLOOKUP($C21,List!$C$5:$H$55,2,FALSE),\"\")","v":""}]
[null,{"$f":"IF(COUNTIF(Conf3!$O$19:$P$68,\"*RPS4000v2*\")>=1,COUNTIF(Conf3!$O$19:$P$68,\"*RPS4000v2*\"),\"\")","v":""},{"$f":"IF($B22<>\"\",IF($F$20=\"NA/EMEA\",\"RPS4000-200NES\",IF($F$20=\"APAC\",\"RPS4000-200AJS\",\"\")),\"\")","v":""},{"$f":"IF($B22<>\"\",VLOOKUP($C22,List!$C$5:$H$55,2,FALSE),\"\")","v":""}]
["Service",{"$f":"IF(COUNTIF(Conf3!$O$19:$P$68,\"*PSB0304*\")>=1,COUNTIF(Conf3!$O$19:$P$68,\"*PSB0304*\"),\"\")","v":""},{"$f":"IF($B23<>\"\",List!$C19,\"\")","v":""},{"$f":"IF($B23<>\"\",VLOOKUP($C23,List!$C$5:$H$55,2,FALSE),\"\")","v":""}]
[null,{"$f":"IF(COUNTIF(Conf3!$O$19:$P$68,\"*PSP1104*\")>=1,COUNTIF(Conf3!$O$19:$P$68,\"*PSP1104*\"),\"\")","v":""},{"$f":"IF($B24<>\"\",List!$C20,\"\")","v":""},{"$f":"IF($B24<>\"\",VLOOKUP($C24,List!$C$5:$H$55,2,FALSE),\"\")","v":""}]
["Optics_Cables",{"$f":"IF(COUNTIF(Conf3!$O$19:$P$68,\"*AFM735*\")>=1,Conf3!$L56,\"\")","v":""},{"$f":"IF($B25<>\"\",List!$C21,\"\")","v":""},{"$f":"IF($B25<>\"\",VLOOKUP($C25,List!$C$5:$H$55,2,FALSE),\"\")","v":""}]
[null,{"$f":"IF(COUNTIF(Conf3!$O$19:$P$68,\"*AGM731F*\")>=1,Conf3!$L57,\"\")","v":""},{"$f":"IF($B26<>\"\",List!$C22,\"\")","v":""},{"$f":"IF($B26<>\"\",VLOOKUP($C26,List!$C$5:$H$55,2,FALSE),\"\")","v":""}]
[null,{"$f":"IF(COUNTIF(Conf3!$O$19:$P$68,\"*AGM732F*\")>=1,Conf3!$L58,\"\")","v":""},{"$f":"IF($B27<>\"\",List!$C23,\"\")","v":""},{"$f":"IF($B27<>\"\",VLOOKUP($C27,List!$C$5:$H$55,2,FALSE),\"\")","v":""}]
[null,{"$f":"IF(COUNTIF(Conf3!$O$19:$P$68,\"*AGM734*\")>=1,Conf3!$L59,\"\")","v":""},{"$f":"IF($B28<>\"\",List!$C24,\"\")","v":""},{"$f":"IF($B28<>\"\",VLOOKUP($C28,List!$C$5:$H$55,2,FALSE),\"\")","v":""}]
[null,{"$f":"IF(COUNTIF(Conf3!$O$19:$P$68,\"*AXM761*\")>=1,IF(Conf3!$L61<10,Conf3!$L61,IF(MOD(Conf3!$L61/10,1)=0,\"\",Conf3!$L61-10*INT(Conf3!$L61/10))),\"\")","v":""},{"$f":"IF($B29<>\"\",List!$C25,\"\")","v":""},{"$f":"IF($B29<>\"\",VLOOKUP($C29,List!$C$5:$H$55,2,FALSE),\"\")","v":""}]
[null,{"$f":"IF(COUNTIF(Conf3!$O$19:$P$68,\"*AXM761*\")>=1,IF(Conf3!$L61>=10,INT(Conf3!$L61/10),\"\"),\"\")","v":""},{"$f":"IF($B30<>\"\",List!$C26,\"\")","v":""},{"$f":"IF($B30<>\"\",VLOOKUP($C30,List!$C$5:$H$55,2,FALSE),\"\")","v":""}]
[null,{"$f":"IF(COUNTIF(Conf3!$O$19:$P$68,\"*AXM762*\")>=1,IF(Conf3!$L62<10,Conf3!$L62,IF(MOD(Conf3!$L62/10,1)=0,\"\",Conf3!$L62-10*INT(Conf3!$L62/10))),\"\")","v":""},{"$f":"IF($B31<>\"\",List!$C27,\"\")","v":""},{"$f":"IF($B31<>\"\",VLOOKUP($C31,List!$C$5:$H$55,2,FALSE),\"\")","v":""}]
[null,{"$f":"IF(COUNTIF(Conf3!$O$19:$P$68,\"*AXM762*\")>=1,IF(Conf3!$L62>=10,INT(Conf3!$L62/10),\"\"),\"\")","v":""},{"$f":"IF($B32<>\"\",List!$C28,\"\")","v":""},{"$f":"IF($B32<>\"\",VLOOKUP($C32,List!$C$5:$H$55,2,FALSE),\"\")","v":""}]
[null,{"$f":"IF(COUNTIF(Conf3!$O$19:$P$68,\"*AXM763*\")>=1,Conf3!$L63,\"\")","v":""},{"$f":"IF($B33<>\"\",List!$C29,\"\")","v":""},{"$f":"IF($B33<>\"\",VLOOKUP($C33,List!$C$5:$H$55,2,FALSE),\"\")","v":""}]
[null,{"$f":"IF(COUNTIF(Conf3!$O$19:$P$68,\"*AXM764*\")>=1,Conf3!$L64,\"\")","v":""},{"$f":"IF($B34<>\"\",List!$C30,\"\")","v":""},{"$f":"IF($B34<>\"\",VLOOKUP($C34,List!$C$5:$H$55,2,FALSE),\"\")","v":""}]
[null,{"$f":"IF(COUNTIF(Conf3!$O$19:$P$68,\"*AXC761*\")>=1,Conf3!$L65,\"\")","v":""},{"$f":"IF($B35<>\"\",List!$C31,\"\")","v":""},{"$f":"IF($B35<>\"\",VLOOKUP($C35,List!$C$5:$H$55,2,FALSE),\"\")","v":""}]
[null,{"$f":"IF(COUNTIF(Conf3!$O$19:$P$68,\"*AXC763*\")>=1,Conf3!$L66,\"\")","v":""},{"$f":"IF($B36<>\"\",List!$C32,\"\")","v":""},{"$f":"IF($B36<>\"\",VLOOKUP($C36,List!$C$5:$H$55,2,FALSE),\"\")","v":""}]
[]
["Total",{"$f":"IF(SUM(B6:B36)>0,SUM(B6:B36),\"\")","v":""}]
[null,null,null,{"$f":"IFERROR(VLOOKUP($C39,List!$C$5:$H$153,2,FALSE),\"\")","v":""}]
[null,null,null,{"$f":"IFERROR(VLOOKUP($C40,List!$C$5:$H$153,2,FALSE),\"\")","v":""}]
[null,null,null,{"$f":"IFERROR(VLOOKUP($C41,List!$C$5:$H$153,2,FALSE),\"\")","v":""}]
[null,null,null,{"$f":"IFERROR(VLOOKUP($C42,List!$C$5:$H$153,2,FALSE),\"\")","v":""}]
[null,null,null,{"$f":"IFERROR(VLOOKUP($C43,List!$C$5:$H$153,2,FALSE),\"\")","v":""}]
[null,null,null,{"$f":"IFERROR(VLOOKUP($C44,List!$C$5:$H$153,2,FALSE),\"\")","v":""}]
[null,null,null,{"$f":"IFERROR(VLOOKUP($C45,List!$C$5:$H$153,2,FALSE),\"\")","v":""}]
[null,null,null,{"$f":"IFERROR(VLOOKUP($C46,List!$C$5:$H$153,2,FALSE),\"\")","v":""}]
[null,null,null,{"$f":"IFERROR(VLOOKUP($C47,List!$C$5:$H$153,2,FALSE),\"\")","v":""}]
[null,null,null,{"$f":"IFERROR(VLOOKUP($C48,List!$C$5:$H$153,2,FALSE),\"\")","v":""}]
[null,null,null,{"$f":"IFERROR(VLOOKUP($C49,List!$C$5:$H$153,2,FALSE),\"\")","v":""}]
[null,null,null,{"$f":"IFERROR(VLOOKUP($C50,List!$C$5:$H$153,2,FALSE),\"\")","v":""}]
[null,null,null,{"$f":"IFERROR(VLOOKUP($C51,List!$C$5:$H$153,2,FALSE),\"\")","v":""}]
[null,null,null,{"$f":"IFERROR(VLOOKUP($C52,List!$C$5:$H$153,2,FALSE),\"\")","v":""}]
[null,null,null,{"$f":"IFERROR(VLOOKUP($C53,List!$C$5:$H$153,2,FALSE),\"\")","v":""}]
[null,null,null,{"$f":"IFERROR(VLOOKUP($C54,List!$C$5:$H$153,2,FALSE),\"\")","v":""}]
[null,null,null,{"$f":"IFERROR(VLOOKUP($C55,List!$C$5:$H$153,2,FALSE),\"\")","v":""}]
[null,null,null,{"$f":"IFERROR(VLOOKUP($C56,List!$C$5:$H$153,2,FALSE),\"\")","v":""}]
[null,null,null,{"$f":"IFERROR(VLOOKUP($C57,List!$C$5:$H$153,2,FALSE),\"\")","v":""}]
[null,null,null,{"$f":"IFERROR(VLOOKUP($C58,List!$C$5:$H$153,2,FALSE),\"\")","v":""}]
[null,null,null,{"$f":"IFERROR(VLOOKUP($C59,List!$C$5:$H$153,2,FALSE),\"\")","v":""}]
[null,null,null,{"$f":"IFERROR(VLOOKUP($C60,List!$C$5:$H$153,2,FALSE),\"\")","v":""}]
[null,null,null,{"$f":"IFERROR(VLOOKUP($C61,List!$C$5:$H$153,2,FALSE),\"\")","v":""}]
[null,null,null,{"$f":"IFERROR(VLOOKUP($C62,List!$C$5:$H$153,2,FALSE),\"\")","v":""}]
[null,null,null,{"$f":"IFERROR(VLOOKUP($C63,List!$C$5:$H$153,2,FALSE),\"\")","v":""}]
[null,null,null,{"$f":"IFERROR(VLOOKUP($C64,List!$C$5:$H$153,2,FALSE),\"\")","v":""}]
[null,null,null,{"$f":"IFERROR(VLOOKUP($C65,List!$C$5:$H$153,2,FALSE),\"\")","v":""}]
[null,null,null,{"$f":"IFERROR(VLOOKUP($C66,List!$C$5:$H$153,2,FALSE),\"\")","v":""}]
[null,null,null,{"$f":"IFERROR(VLOOKUP($C67,List!$C$5:$H$153,2,FALSE),\"\")","v":""}]
[null,null,null,{"$f":"IFERROR(VLOOKUP($C68,List!$C$5:$H$153,2,FALSE),\"\")","v":""}]
[null,null,null,{"$f":"IFERROR(VLOOKUP($C69,List!$C$5:$H$153,2,FALSE),\"\")","v":""}]

{"sheet":"Conf4","index":7,"n_rows":68,"n_cols":17,"rows_kept":68,"cut":false,"hidden":false,"merged":[[21,5,21,12],[21,14,21,16],[1,8,1,10],[14,5,14,12],[17,0,17,2],[19,5,19,12],[19,14,19,16],[23,5,23,12],[23,14,23,16],[27,5,27,12],[27,14,29,16],[31,4,31,6],[31,9,31,11],[56,0,56,10],[56,11,56,12],[33,4,33,6],[34,9,34,11],[36,1,36,3],[36,5,36,8],[37,5,37,7],[38,6,38,7],[38,10,39,11],[39,1,39,4],[39,6,39,9],[41,5,41,9],[41,11,41,12],[44,8,44,12],[55,0,55,10],[55,11,55,12],[57,0,57,10],[57,11,57,12],[58,0,58,10],[58,11,58,12],[60,0,60,10],[60,11,60,12],[61,0,61,10],[61,11,61,12],[62,0,62,10],[62,11,62,12],[63,0,63,10],[63,11,63,12],[64,0,64,10],[64,11,64,12],[65,0,65,10],[65,11,65,12],[66,11,66,12]]}
[]
[null,null,null,null,null,null,null,null,"Green cells are editable"]
[]
[]
["The M6100 switch series consists of Gigabit access layer and 10 Gigabit distribution layer switches in NETGEAR modular chassis switch product line.  "]
["The M6100 switch series offers high-quality, high-density chassis alternative to stackable switches in campus LAN and midsize organizations demanding networks.  "]
["With more than 1.4 Tbps switching and routing capacity, passive backplane, management and fabric nonstop forwarding redundancy, the M6100 series delivers world-class resiliency and scalability. "]
["Ultimately, operating software and system management features take the complexity out of delivering L2/L3/L4 rich services for enterprise edge and SMB core deployments."]
[]
[" "]
[]
[]
[]
[]
["Select Model",null,null,null,null,"NETGEAR M6100 Series 3-slot Chassis Switch ",null,null,null,null,null,null,null,null,{"$f":"VLOOKUP(F15,List!$L$4:$V$5,9,FALSE)","v":"M6100-3S"}]
[]
["Advanced Layer 2, Layer 3 and Layer 4 feature set - no license required - including RIP, VRRP, OSPF, PIM, BGP, PBR, MLAG, PV(R)ST, RSPAN, DCBX, PFC, ETS and FCoE FIP \n"]
["Information and datasheet",null,null,"here"]
[]
["Blades",null,null,null,"I/O Supervisory - Slot 1","Empty slot with blank panel",null,null,null,null,null,null,null,null,{"$f":"VLOOKUP(F20,List!$L$16:$V$24,9,FALSE)","v":"-"}]
[]
[null,null,null,null,"I/O Back-up Supervisory - Slot 2","Empty slot with blank panel",null,null,null,null,null,null,null,null,{"$f":"VLOOKUP(F22,List!$L$16:$V$24,9,FALSE)","v":"-"}]
[]
[null,null,null,null,"I/O Line Card - Slot 3","Empty slot with blank panel",null,null,null,null,null,null,null,null,{"$f":"VLOOKUP(F24,List!$L$16:$V$24,9,FALSE)","v":"-"}]
[]
["Each Line Card provides line-rate switching and routing capacity.   Each Slot provides 8 x 10G channels (80G half-duplex / 160G full-duplex) access to passive backplane."]
[]
["Number of Power Supply Units",null,null,null,null,"1 power supply unit",null,null,null,null,null,null,null,null,{"$f":"VLOOKUP(F28,List!$L$34:$V$41,9,FALSE)","v":"One unit APS1000W"}]
[]
[]
[]
[null,null,null,null,"Indicate AC Voltage:",null,null,110,"V Þ","Number of PSUs sufficient:",null,null,{"$f":"IF(M33<=10,\"NO\",\"YES\")","v":"YES"},"ç Enough power for the chassis?"]
[null,null,null,null,null,null,null,null,null,null,null,"Power Budget Remaining (Watts):",{"$f":"IF(COUNTIF($O$19:$O$26,\"*XCM89P*\")+COUNTIF($O$19:$O$26,\"*XCM89UP*\")>0,\n\nIF($H$32<220,IF($H$34=\"No\",VLOOKUP($O$28,List!$T$34:$X$41,2,FALSE),VLOOKUP($O$28,List!$T$34:$X$41,3,FALSE)),IF($H$34=\"No\",VLOOKUP($O$28,List!$T$34:$X$41,4,FALSE),VLOOKUP($O$28,List!$T$34:$X$41,5,FALSE)))-VLOOKUP($O$20,List!$T$16:$U$24,2,FALSE)-VLOOKUP($O$22,List!$T$16:$U$24,2,FALSE)-VLOOKUP($O$24,List!$T$16:$U$24,2,FALSE)-IFERROR((COUNTIF($O$19:$O$26,\"XCM8948 + XCM89P\")*48+COUNTIF($O$19:$O$26,\"XCM8944 + XCM89P\")*40)*IF(Class=\"Other\",D39,VLOOKUP(E38,List!M27:O30,3,FALSE)),0)-IFERROR((COUNTIF($O$19:$O$26,\"XCM8948 + XCM89UP\")*48+COUNTIF($O$19:$O$26,\"XCM8944 + XCM89UP\")*40)*IF(J38=\"Other\",I39,VLOOKUP(J38,List!Q27:S29,3,FALSE)),0),\n\nIF($H$32<220,IF($H$34=\"No\",VLOOKUP($O$28,List!$T$34:$X$41,2,FALSE),VLOOKUP($O$28,List!$T$34:$X$41,3,FALSE)),IF($H$34=\"No\",VLOOKUP($O$28,List!$T$34:$X$41,4,FALSE),VLOOKUP($O$28,List!$T$34:$X$41,5,FALSE)))-VLOOKUP($O$20,List!$T$16:$U$24,2,FALSE)-VLOOKUP($O$22,List!$T$16:$U$24,2,FALSE)-VLOOKUP($O$24,List!$T$16:$U$24,2,FALSE)\n\n)","v":640},"Keep adding PSUs until \"YES\""]
[null,null,null,null,"N+1 Required for Redundancy:",null,null,"No"," Þ",null,null,"Power Drawn from Wall (Watts):",{"$f":"IF(COUNTIF($O$19:$O$26,\"*XCM89P*\")+COUNTIF($O$19:$O$26,\"*XCM89UP*\")>0,\n\nROUNDUP((VLOOKUP($O$20,List!$T$16:$U$24,2,FALSE)+VLOOKUP($O$22,List!$T$16:$U$24,2,FALSE)+VLOOKUP($O$24,List!$T$16:$U$24,2,FALSE)+IFERROR((COUNTIF($O$19:$O$26,\"XCM8948 + XCM89P\")*48+COUNTIF($O$19:$O$26,\"XCM8944 + XCM89P\")*40)*IF(Class=\"Other\",D39,VLOOKUP(E38,List!M27:O30,3,FALSE)),0)+IFERROR((COUNTIF($O$19:$O$26,\"XCM8948 + XCM89UP\")*48+COUNTIF($O$19:$O$26,\"XCM8944 + XCM89UP\")*40)*IF(J38=\"Other\",I39,VLOOKUP(J38,List!Q27:S29,3,FALSE)),0))/0.8,0),\n\n\nROUNDUP((VLOOKUP($O$20,List!$T$16:$U$24,2,FALSE)+VLOOKUP($O$22,List!$T$16:$U$24,2,FALSE)+VLOOKUP($O$24,List!$T$16:$U$24,2,FALSE))/0.8,0)\n\n)","v":0}]
[null,null,null,null,null,null,null,null,null,"Thermal Dissipation (BTU/hr):",null,null,{"$f":"ROUNDUP(M34*3.415,0)","v":0}]
[null,null,null,null,null,null,null,null,null,null,null,"Available PoE Budget (Watts):",{"$f":"IF($H$32<220,IF($H$34=\"No\",VLOOKUP($O$28,List!$T$34:$X$41,2,FALSE),VLOOKUP($O$28,List!$T$34:$X$41,3,FALSE)),IF($H$34=\"No\",VLOOKUP($O$28,List!$T$34:$X$41,4,FALSE),VLOOKUP($O$28,List!$T$34:$X$41,5,FALSE)))-VLOOKUP($O$20,List!$T$16:$U$24,2,FALSE)-VLOOKUP($O$22,List!$T$16:$U$24,2,FALSE)-VLOOKUP($O$24,List!$T$16:$U$24,2,FALSE)","v":640}]
[null,{"$f":"\"Blade configuration is  \"&(COUNTIF($O$19:$O$26,\"XCM8948 + XCM89P\")*48+COUNTIF($O$19:$O$26,\"XCM8944 + XCM89P\")*40)&\"  PoE+ ports\"","v":"Blade configuration is  0  PoE+ ports"},null,null,null,{"$f":"\"Blade configuration is  \"&(COUNTIF($O$19:$O$26,\"XCM8948 + XCM89UP\")*48+COUNTIF($O$19:$O$26,\"XCM8944 + XCM89UP\")*40)&\"  UPOE ports\"","v":"Blade configuration is  0  UPOE ports"},null,null,null,null,null,null,{"$f":"IF($M$33>0,\"YES\",\"NO\")","v":"YES"}]
[null,"Wattage W/port?  (Class)",null,"4.0W PSE",{"$f":"IF(D38=\"\",\"\",D38)","v":"4.0W PSE"},"Wattage W/port?  (Class)",null,null,"40W PSE",{"$f":"IF(I38=\"\",\"\",I38)","v":"40W PSE"},null,null,"é"]
[null,{"$f":"IF($E$38=\"other\",\"Override PSE W/port:\",\"\")","v":""},null,20,"W  Þ",null,{"$f":"IF($J$38=\"Other\",\"Override PSE W/port:\",\"\")","v":""},null,40,"W  Þ",{"$f":"\"Total:                                             \"&ROUNDUP(IFERROR((COUNTIF($O$19:$O$26,\"XCM8948 + XCM89P\")*48+COUNTIF($O$19:$O$26,\"XCM8944 + XCM89P\")*40)*IF(Class=\"Other\",D39,VLOOKUP(E38,List!M27:O30,3,FALSE)),0)+IFERROR((COUNTIF($O$19:$O$26,\"XCM8948 + XCM89UP\")*48+COUNTIF($O$19:$O$26,\"XCM8944 + XCM89UP\")*40)*IF(J38=\"Other\",I39,VLOOKUP(J38,List!Q27:S29,3,FALSE)),0),0)&\"W PSE required                                      <--  PoE+ / UPOE  -->\"","v":"Total:                                             0W PSE required                                      <--  PoE+ / UPOE  -->"},null,"Check if your PoE"]
[null,"<------  POE+ requirements ------>",null,null,null,null,"<------  UPOE requirements ------>",null,null,null,null,null,"budget is sufficient"]
[]
["Spare",null,null,null,null," How many Spare Fan Tray units required?",null,null,null,null,null,0,null,"Þ",{"$f":"IF(L42>0,IF(L42=1,L42&\" unit \"&VLOOKUP($O$15,List!$L$47:$V$48,9,FALSE),L42&\" units \"&VLOOKUP($O$15,List!$L$47:$V$48,9,FALSE)),\"-\")","v":"-"}]
[]
[]
["Service",null,null,null,null,"Installation Service required?",null,null,"No service required",null,null,null,null,"Þ",{"$f":"IF(VLOOKUP($I$45,List!$L$43:$T$45,9,FALSE)<>\"-\",VLOOKUP($I$45,List!$L$43:$T$45,9,FALSE)&\" contract\",VLOOKUP($I$45,List!$L$43:$T$45,9,FALSE))","v":"-"}]
[]
[null,null,null,"ProSupport Installation Setup & Configuration (Remote or Onsite):"]
[]
[]
[]
[null,null,null,"Information and datasheet",null,null,"here",null," * Available Only with Onsite Installation"]
[]
["NETGEAR Fully Managed Switches offer 24x7 Lifetime Technical Support and Lifetime Next Business Day Shipping Hardware Replacement  -  for products purchased on of after June 1, 2014 \n"]
[null,null,null,null,null,null,null,null,null,null,null,null,null,null,null,{"$f":"COUNTIF($O$19:$O$26,\"*XCM8944*\")*2+COUNTIF($O$19:$O$26,\"XCM8924X*\")*16","v":0},"SFP+ ports"]
["Optics, DAC Cables",null,null,null,null,null,null,null,null,{"$f":"IF($P$54+$P$55>1,($P$54+$P$55)&\" SFP / SFP+ ports in above configuration:\",\"\")","v":""},null,null,null,null,null,{"$f":"COUNTIF($O$19:$O$26,\"*XCM8944F*\")*40","v":0},"SFP ports "]
[{"$f":"IF(SFP>1,\"For \"&SFP&\" SFP ports, how many 100BASE-FX SFP LC GBIC (multimode, 2km OM4/OM3/OM2/OM1 50/125µm and 62.5/125µm)?\",\"\")","v":""},null,null,null,null,null,null,null,null,null,null,0,null,"Þ",{"$f":"IF(L56=\"\",\"-\",IF(SFP>1,IF(L56>=1,IF(L56=1,L56&\" unit AFM735\",L56&\" units AFM735\"),\"-\"),\"\"))","v":""}]
[{"$f":"IF(SFPP>1,IF(SFP>1,\"For \"&SFP+SFPP&\" SFP/SFP+ ports, how many 1000BASE-SX SFP LC GBIC (multimode, 1000m OM4, 550m OM3 50/125µm, 275m OM2/OM1 62.5/125µm)?\",\"For \"&SFPP&\" SFP+ ports, how many 1000BASE-SX SFP LC GBIC (multimode, 1000m OM4, 550m OM3 50/125µm, 275m OM2/OM1 62.5/125µm)?\"),IF(SFP>1,\"For \"&SFP&\" SFP ports, how many 1000BASE-SX SFP LC GBIC (multimode, 1000m OM4, 550m OM3 50/125µm, 275m OM2/OM1 62.5/125µm)?\",\"\"))","v":""},null,null,null,null,null,null,null,null,null,null,0,null,"Þ",{"$f":"IF(L57=\"\",\"-\",IF(SFP+SFPP>1,IF(L57>=1,IF(L57=1,L57&\" unit AGM731F\",L57&\" units AGM731F\"),\"-\"),\"\"))","v":""}]
[{"$f":"IF(SFPP>1,IF(SFP>1,\"For \"&SFP+SFPP&\" SFP/SFP+ ports, how many 1000BASE-LX SFP LC GBIC (single mode, 10km 9/125µm)?\",\"For \"&SFPP&\" SFP+ ports, how many 1000BASE-LX SFP LC GBIC (single mode, 10km 9/125µm)?\"),IF(SFP>1,\"For \"&SFP&\" SFP ports, how many 1000BASE-LX SFP LC GBIC (single mode, 10km 9/125µm)?\",\"\"))","v":""},null,null,null,null,null,null,null,null,null,null,0,null,"Þ",{"$f":"IF(L58=\"\",\"-\",IF(SFP+SFPP>1,IF(L58>=1,IF(L58=1,L58&\" unit AGM732F\",L58&\" units AGM732F\"),\"-\"),\"\"))","v":""}]
[{"$f":"IF(SFP>1,\"For \"&SFP&\" SFP ports, how many 1000BASE-T SFP RJ45 GBIC?\",\"\")","v":""},null,null,null,null,null,null,null,null,null,null,0,null,"Þ",{"$f":"IF(L59=\"\",\"-\",IF(SFP>1,IF(L59>=1,IF(L59=1,L59&\" unit AGM734\",L59&\" units AGM734\"),\"-\"),\"\"))","v":""}]
[null,null,null,null,{"$f":"IF(SFP+SFPP>1,\"\",\"No optics required in above M6100 switch series configuration\")","v":"No optics required in above M6100 switch series configuration"}]
[{"$f":"IF(SFPP>1,\"For \"&SFPP&\" SFP+ ports, how many 10GBASE-SR SFP+ LC GBIC (multimode, 550m OM4, 300m OM3 50/125µm, 33m OM2/OM1 62.5/125µm)?\",\"\")","v":""},null,null,null,null,null,null,null,null,null,null,0,null,"Þ",{"$f":"IF(L61=\"\",\"-\",IF(SFPP>1,IF(L61>=1,IF(L61=1,L61&\" unit AXM761\",L61&\" units AXM761\"),\"-\"),\"\"))","v":""}]
[{"$f":"IF(SFPP>1,\"For \"&SFPP&\" SFP+ ports, how many 10GBASE-LR SFP+ LC GBIC (single mode, 10km 9/125µm)?\",\"\")","v":""},null,null,null,null,null,null,null,null,null,null,0,null,"Þ",{"$f":"IF(L62=\"\",\"-\",IF(SFPP>1,IF(L62>=1,IF(L62=1,L62&\" unit AXM762\",L62&\" units AXM762\"),\"-\"),\"\"))","v":""}]
[{"$f":"IF(SFPP>1,\"For \"&SFPP&\" SFP+ ports, how many 10GBASE-LRM SFP+ LC GBIC (multimode, 260m OM4/OM3 50/125µm, 220m OM2/OM1 62.5/125µm)?\",\"\")","v":""},null,null,null,null,null,null,null,null,null,null,0,null,"Þ",{"$f":"IF(L63=\"\",\"-\",IF(SFPP>1,IF(L63>=1,IF(L63=1,L63&\" unit AXM763\",L63&\" units AXM763\"),\"-\"),\"\"))","v":""}]
[{"$f":"IF(SFPP>1,\"For \"&SFPP&\" SFP+ ports, how many 10GBASE-LR LITE SFP+ LC GBIC (single mode, 2km 9/125µm)?\",\"\")","v":""},null,null,null,null,null,null,null,null,null,null,0,null,"Þ",{"$f":"IF(L64=\"\",\"-\",IF(SFPP>1,IF(L64>=1,IF(L64=1,L64&\" unit AXM764\",L64&\" units AXM764\"),\"-\"),\"\"))","v":""}]
[{"$f":"IF(SFPP>1,\"For \"&SFPP&\" SFP+ ports, how many passive Direct Attach SFP+ copper DAC cables (1m)?\",\"\")","v":""},null,null,null,null,null,null,null,null,null,null,0,null,"Þ",{"$f":"IF(L65=\"\",\"-\",IF(SFPP>1,IF(L65>=1,IF(L65=1,L65&\" unit AXC761\",L65&\" units AXC761\"),\"-\"),\"\"))","v":""}]
[{"$f":"IF(SFPP>1,\"For \"&SFPP&\" SFP+ ports, how many passive Direct Attach SFP+ copper DAC cables (3m)?\",\"\")","v":""},null,null,null,null,null,null,null,null,null,null,0,null,"Þ",{"$f":"IF(L66=\"\",\"-\",IF(SFPP>1,IF(L66>=1,IF(L66=1,L66&\" unit AXC763\",L66&\" units AXC763\"),\"-\"),\"\"))","v":""}]
[]
["M6100 switch series will only support genuine NETGEAR SFP and SFP+ mini-GBIC transceivers. Third-party DAC cables may be used.\n",null,null,null,null,null,null,null,null,null,null,null,null,null,null,null,"END"]

{"sheet":"SKU4","index":8,"n_rows":69,"n_cols":7,"rows_kept":69,"cut":false,"hidden":false,"merged":[]}
[]
[]
[]
[]
["Category","Quantity","Ordering Number","Description"]
["Chassis Starter Kit",{"$f":"IF(LEN(Conf4!$O$20&Conf4!$O$22&Conf4!$O$24)>3,1,\"\")","v":""},{"$f":"IF(LEN(Conf4!$O$20&Conf4!$O$22&Conf4!$O$24)>3,IF(COUNTIF(Conf4!$O$20:'Conf4'!$O$24,\"XCM8924X\")>=1,\"XCM8903SX-10000S\",IF(COUNTIF(Conf4!$O$20:'Conf4'!$O$24,\"XCM8944F\")>=1,\"XCM8903SF-10000S\",\"XCM8903SK-10000S\")),\"\")","v":""},{"$f":"IF($B6<>\"\",VLOOKUP($C6,List!$C$5:$H$55,2,FALSE)&\"                             Starter kit includes:\",\"\")","v":""}]
[]
[null,null,null,{"$f":"IF($B6<>\"\",\"              ->  1 empty chassis  M6100-3S (XCM8903)                    ->  2 blank panels for open blade slots\",\"\")","v":""}]
[null,null,null,{"$f":"IF($B6<>\"\",IF($C$6=\"XCM8903SK-10000S\",\"              ->  1 blade 40x1G 2x10GBT 2xSFP+  (XCM8944)            ->  3 power supply panels for empty PSU slots\",IF($C$6=\"XCM8903SF-10000S\",\"              ->  1 blade 40xSFP 2x10GBT 2xSFP+  (XCM8944F)         ->  3 power supply panels for empty PSU slots\",IF($C$6=\"XCM8903SX-10000S\",\"              ->  1 blade 24x10GBT or 16xSFP+   (XCM8924X)            ->  3 power supply panels for empty PSU slots\",\"else\"))),\"\")","v":""}]
[null,null,null,{"$f":"IF($B6<>\"\",IF($C$6=\"XCM8903SK-10000S\",\"              ->  1 PoE+ daughter card (XCM89P)                                 ->  Rack-mount kit for 2-post racks  and wiring cabinets\",\"                                                                                                               ->  Rack-mount kit for 2-post racks  and wiring cabinets\"),\"\")","v":""}]
[null,null,null,{"$f":"IF($B6<>\"\",\"              ->  1 power supply unit (APS1000W)                               ->  Complimentary handles for rack-mount kit\",\"\")","v":""}]
[null,null,null,{"$f":"IF($B6<>\"\",\"              ->  1 front-to-back fan tray (AFT603)                               ->  Complimentary sliding rails kit for 4-post racks and wiring cabinets\",\"\")","v":""}]
[]
["I/O Blades",{"$f":"IF(COUNTIF(Conf4!$O$19:$P$68,\"*XCM8948*\")>=1,COUNTIF(Conf4!$O$19:$P$68,\"*XCM8948*\"),\"\")","v":""},{"$f":"IF($B14<>\"\",List!$C8,\"\")","v":""},{"$f":"IF($B14<>\"\",VLOOKUP($C14,List!$C$5:$H$55,2,FALSE),\"\")","v":""}]
[null,{"$f":"IF(COUNTIF(Conf4!$O$19:$P$67,\"*XCM8944*\")-COUNTIF(Conf4!$O$19:$P$67,\"*XCM8944F*\")>=1,IF($C$6=\"XCM8903SK-10000S\",IF( (COUNTIF(Conf4!$O$19:$P$67,\"*XCM8944*\")-COUNTIF(Conf4!$O$19:$P$67,\"*XCM8944F*\"))>=2, COUNTIF(Conf4!$O$19:$P$67,\"*XCM8944*\")-COUNTIF(Conf4!$O$19:$P$67,\"*XCM8944F*\")-1,\"\"),COUNTIF(Conf4!$O$19:$P$67,\"*XCM8944*\")-COUNTIF(Conf4!$O$19:$P$67,\"*XCM8944F*\")), \"\")","v":""},{"$f":"IF($B15<>\"\",List!$C9,\"\")","v":""},{"$f":"IF($B15<>\"\",VLOOKUP($C15,List!$C$5:$H$55,2,FALSE),\"\")","v":""}]
[null,{"$f":"IF(\nCOUNTIF(Conf4!$O$19:$P$68,\"*XCM8944F*\")>=1,\nIF($C$6=\"XCM8903SF-10000S\",IF(COUNTIF(Conf4!$O$19:$P$68,\"*XCM8944F*\")>=2, COUNTIF(Conf4!$O$19:$P$68,\"*XCM8944F*\")-1,\"\"), COUNTIF(Conf4!$O$19:$P$68,\"*XCM8944F*\")),\"\")","v":""},{"$f":"IF($B16<>\"\",List!$C10,\"\")","v":""},{"$f":"IF($B16<>\"\",VLOOKUP($C16,List!$C$5:$H$55,2,FALSE),\"\")","v":""}]
[null,{"$f":"IF(\nCOUNTIF(Conf4!$O$19:$P$68,\"*XCM8924X*\")>=1,\nIF($C$6=\"XCM8903SX-10000S\",IF(COUNTIF(Conf4!$O$19:$P$68,\"*XCM8924X*\")>=2, COUNTIF(Conf4!$O$19:$P$68,\"*XCM8924X*\")-1,\"\"), COUNTIF(Conf4!$O$19:$P$68,\"*XCM8924X*\")),\"\")","v":""},{"$f":"IF($B17<>\"\",List!$C11,\"\")","v":""},{"$f":"IF($B17<>\"\",VLOOKUP($C17,List!$C$5:$H$55,2,FALSE),\"\")","v":""}]
["Accessories",{"$f":"IF(COUNTIF(Conf4!$O$19:$P$68,\"*XCM89P*\")>=1,IF($C$6=\"XCM8903SK-10000S\",IF(COUNTIF(Conf4!$O$19:$P$68,\"*XCM89P*\")>=2,COUNTIF(Conf4!$O$19:$P$68,\"*XCM89P*\")-1,\"\"), COUNTIF(Conf4!$O$19:$P$68,\"*XCM89P*\")), \"\")","v":""},{"$f":"IF($B18<>\"\",List!$C12,\"\")","v":""},{"$f":"IF($B18<>\"\",VLOOKUP($C18,List!$C$5:$H$55,2,FALSE),\"\")","v":""}]
[null,{"$f":"IF(COUNTIF(Conf4!$O$19:$P$68,\"*XCM89UP*\")>=1,COUNTIF(Conf4!$O$19:$P$68,\"*XCM89UP*\"),\"\")","v":""},{"$f":"IF($B19<>\"\",List!$C13,\"\")","v":""},{"$f":"IF($B19<>\"\",VLOOKUP($C19,List!$C$5:$H$55,2,FALSE),\"\")","v":""}]
[null,{"$f":"IFERROR(IF(VLOOKUP(Conf4!$O$28,List!T34:Y41,6,FALSE)>=2,VLOOKUP(Conf4!$O$28,List!T34:Y41,6,FALSE)-1,\"\"),\"\")","v":""},{"$f":"IF($B20<>\"\",IF($F$20=\"NA/EMEA\",\"APS1000W-100NES\",IF($F$20=\"APAC\",\"APS1000W-100AJS\",\"\")),\"\")","v":""},{"$f":"IF($B20<>\"\",VLOOKUP($C20,List!$C$5:$H$55,2,FALSE),\"\")","v":""},"Localization","NA/EMEA"," Þ"]
[null,{"$f":"IF(COUNTIF(Conf4!$O$19:$P$68,\"*AFT603*\")>=1,COUNTIF(Conf4!$O$19:$P$68,\"*AFT603*\"),\"\")","v":""},{"$f":"IF($B21<>\"\",List!$C16,\"\")","v":""},{"$f":"IF($B21<>\"\",VLOOKUP($C21,List!$C$5:$H$55,2,FALSE),\"\")","v":""}]
[null,{"$f":"IF(COUNTIF(Conf4!$O$19:$P$68,\"*RPS4000v2*\")>=1,COUNTIF(Conf4!$O$19:$P$68,\"*RPS4000v2*\"),\"\")","v":""},{"$f":"IF($B22<>\"\",IF($F$20=\"NA/EMEA\",\"RPS4000-200NES\",IF($F$20=\"APAC\",\"RPS4000-200AJS\",\"\")),\"\")","v":""},{"$f":"IF($B22<>\"\",VLOOKUP($C22,List!$C$5:$H$55,2,FALSE),\"\")","v":""}]
["Service",{"$f":"IF(COUNTIF(Conf4!$O$19:$P$68,\"*PSB0304*\")>=1,COUNTIF(Conf4!$O$19:$P$68,\"*PSB0304*\"),\"\")","v":""},{"$f":"IF($B23<>\"\",List!$C19,\"\")","v":""},{"$f":"IF($B23<>\"\",VLOOKUP($C23,List!$C$5:$H$55,2,FALSE),\"\")","v":""}]
[null,{"$f":"IF(COUNTIF(Conf4!$O$19:$P$68,\"*PSP1104*\")>=1,COUNTIF(Conf4!$O$19:$P$68,\"*PSP1104*\"),\"\")","v":""},{"$f":"IF($B24<>\"\",List!$C20,\"\")","v":""},{"$f":"IF($B24<>\"\",VLOOKUP($C24,List!$C$5:$H$55,2,FALSE),\"\")","v":""}]
["Optics_Cables",{"$f":"IF(COUNTIF(Conf4!$O$19:$P$68,\"*AFM735*\")>=1,Conf4!$L56,\"\")","v":""},{"$f":"IF($B25<>\"\",List!$C21,\"\")","v":""},{"$f":"IF($B25<>\"\",VLOOKUP($C25,List!$C$5:$H$55,2,FALSE),\"\")","v":""}]
[null,{"$f":"IF(COUNTIF(Conf4!$O$19:$P$68,\"*AGM731F*\")>=1,Conf4!$L57,\"\")","v":""},{"$f":"IF($B26<>\"\",List!$C22,\"\")","v":""},{"$f":"IF($B26<>\"\",VLOOKUP($C26,List!$C$5:$H$55,2,FALSE),\"\")","v":""}]
[null,{"$f":"IF(COUNTIF(Conf4!$O$19:$P$68,\"*AGM732F*\")>=1,Conf4!$L58,\"\")","v":""},{"$f":"IF($B27<>\"\",List!$C23,\"\")","v":""},{"$f":"IF($B27<>\"\",VLOOKUP($C27,List!$C$5:$H$55,2,FALSE),\"\")","v":""}]
[null,{"$f":"IF(COUNTIF(Conf4!$O$19:$P$68,\"*AGM734*\")>=1,Conf4!$L59,\"\")","v":""},{"$f":"IF($B28<>\"\",List!$C24,\"\")","v":""},{"$f":"IF($B28<>\"\",VLOOKUP($C28,List!$C$5:$H$55,2,FALSE),\"\")","v":""}]
[null,{"$f":"IF(COUNTIF(Conf4!$O$19:$P$68,\"*AXM761*\")>=1,IF(Conf4!$L61<10,Conf4!$L61,IF(MOD(Conf4!$L61/10,1)=0,\"\",Conf4!$L61-10*INT(Conf4!$L61/10))),\"\")","v":""},{"$f":"IF($B29<>\"\",List!$C25,\"\")","v":""},{"$f":"IF($B29<>\"\",VLOOKUP($C29,List!$C$5:$H$55,2,FALSE),\"\")","v":""}]
[null,{"$f":"IF(COUNTIF(Conf4!$O$19:$P$68,\"*AXM761*\")>=1,IF(Conf4!$L61>=10,INT(Conf4!$L61/10),\"\"),\"\")","v":""},{"$f":"IF($B30<>\"\",List!$C26,\"\")","v":""},{"$f":"IF($B30<>\"\",VLOOKUP($C30,List!$C$5:$H$55,2,FALSE),\"\")","v":""}]
[null,{"$f":"IF(COUNTIF(Conf4!$O$19:$P$68,\"*AXM762*\")>=1,IF(Conf4!$L62<10,Conf4!$L62,IF(MOD(Conf4!$L62/10,1)=0,\"\",Conf4!$L62-10*INT(Conf4!$L62/10))),\"\")","v":""},{"$f":"IF($B31<>\"\",List!$C27,\"\")","v":""},{"$f":"IF($B31<>\"\",VLOOKUP($C31,List!$C$5:$H$55,2,FALSE),\"\")","v":""}]
[null,{"$f":"IF(COUNTIF(Conf4!$O$19:$P$68,\"*AXM762*\")>=1,IF(Conf4!$L62>=10,INT(Conf4!$L62/10),\"\"),\"\")","v":""},{"$f":"IF($B32<>\"\",List!$C28,\"\")","v":""},{"$f":"IF($B32<>\"\",VLOOKUP($C32,List!$C$5:$H$55,2,FALSE),\"\")","v":""}]
[null,{"$f":"IF(COUNTIF(Conf4!$O$19:$P$68,\"*AXM763*\")>=1,Conf4!$L63,\"\")","v":""},{"$f":"IF($B33<>\"\",List!$C29,\"\")","v":""},{"$f":"IF($B33<>\"\",VLOOKUP($C33,List!$C$5:$H$55,2,FALSE),\"\")","v":""}]
[null,{"$f":"IF(COUNTIF(Conf4!$O$19:$P$68,\"*AXM764*\")>=1,Conf4!$L64,\"\")","v":""},{"$f":"IF($B34<>\"\",List!$C30,\"\")","v":""},{"$f":"IF($B34<>\"\",VLOOKUP($C34,List!$C$5:$H$55,2,FALSE),\"\")","v":""}]
[null,{"$f":"IF(COUNTIF(Conf4!$O$19:$P$68,\"*AXC761*\")>=1,Conf4!$L65,\"\")","v":""},{"$f":"IF($B35<>\"\",List!$C31,\"\")","v":""},{"$f":"IF($B35<>\"\",VLOOKUP($C35,List!$C$5:$H$55,2,FALSE),\"\")","v":""}]
[null,{"$f":"IF(COUNTIF(Conf4!$O$19:$P$68,\"*AXC763*\")>=1,Conf4!$L66,\"\")","v":""},{"$f":"IF($B36<>\"\",List!$C32,\"\")","v":""},{"$f":"IF($B36<>\"\",VLOOKUP($C36,List!$C$5:$H$55,2,FALSE),\"\")","v":""}]
[]
["Total",{"$f":"IF(SUM(B6:B36)>0,SUM(B6:B36),\"\")","v":""}]
[null,null,null,{"$f":"IFERROR(VLOOKUP($C39,List!$C$5:$H$153,2,FALSE),\"\")","v":""}]
[null,null,null,{"$f":"IFERROR(VLOOKUP($C40,List!$C$5:$H$153,2,FALSE),\"\")","v":""}]
[null,null,null,{"$f":"IFERROR(VLOOKUP($C41,List!$C$5:$H$153,2,FALSE),\"\")","v":""}]
[null,null,null,{"$f":"IFERROR(VLOOKUP($C42,List!$C$5:$H$153,2,FALSE),\"\")","v":""}]
[null,null,null,{"$f":"IFERROR(VLOOKUP($C43,List!$C$5:$H$153,2,FALSE),\"\")","v":""}]
[null,null,null,{"$f":"IFERROR(VLOOKUP($C44,List!$C$5:$H$153,2,FALSE),\"\")","v":""}]
[null,null,null,{"$f":"IFERROR(VLOOKUP($C45,List!$C$5:$H$153,2,FALSE),\"\")","v":""}]
[null,null,null,{"$f":"IFERROR(VLOOKUP($C46,List!$C$5:$H$153,2,FALSE),\"\")","v":""}]
[null,null,null,{"$f":"IFERROR(VLOOKUP($C47,List!$C$5:$H$153,2,FALSE),\"\")","v":""}]
[null,null,null,{"$f":"IFERROR(VLOOKUP($C48,List!$C$5:$H$153,2,FALSE),\"\")","v":""}]
[null,null,null,{"$f":"IFERROR(VLOOKUP($C49,List!$C$5:$H$153,2,FALSE),\"\")","v":""}]
[null,null,null,{"$f":"IFERROR(VLOOKUP($C50,List!$C$5:$H$153,2,FALSE),\"\")","v":""}]
[null,null,null,{"$f":"IFERROR(VLOOKUP($C51,List!$C$5:$H$153,2,FALSE),\"\")","v":""}]
[null,null,null,{"$f":"IFERROR(VLOOKUP($C52,List!$C$5:$H$153,2,FALSE),\"\")","v":""}]
[null,null,null,{"$f":"IFERROR(VLOOKUP($C53,List!$C$5:$H$153,2,FALSE),\"\")","v":""}]
[null,null,null,{"$f":"IFERROR(VLOOKUP($C54,List!$C$5:$H$153,2,FALSE),\"\")","v":""}]
[null,null,null,{"$f":"IFERROR(VLOOKUP($C55,List!$C$5:$H$153,2,FALSE),\"\")","v":""}]
[null,null,null,{"$f":"IFERROR(VLOOKUP($C56,List!$C$5:$H$153,2,FALSE),\"\")","v":""}]
[null,null,null,{"$f":"IFERROR(VLOOKUP($C57,List!$C$5:$H$153,2,FALSE),\"\")","v":""}]
[null,null,null,{"$f":"IFERROR(VLOOKUP($C58,List!$C$5:$H$153,2,FALSE),\"\")","v":""}]
[null,null,null,{"$f":"IFERROR(VLOOKUP($C59,List!$C$5:$H$153,2,FALSE),\"\")","v":""}]
[null,null,null,{"$f":"IFERROR(VLOOKUP($C60,List!$C$5:$H$153,2,FALSE),\"\")","v":""}]
[null,null,null,{"$f":"IFERROR(VLOOKUP($C61,List!$C$5:$H$153,2,FALSE),\"\")","v":""}]
[null,null,null,{"$f":"IFERROR(VLOOKUP($C62,List!$C$5:$H$153,2,FALSE),\"\")","v":""}]
[null,null,null,{"$f":"IFERROR(VLOOKUP($C63,List!$C$5:$H$153,2,FALSE),\"\")","v":""}]
[null,null,null,{"$f":"IFERROR(VLOOKUP($C64,List!$C$5:$H$153,2,FALSE),\"\")","v":""}]
[null,null,null,{"$f":"IFERROR(VLOOKUP($C65,List!$C$5:$H$153,2,FALSE),\"\")","v":""}]
[null,null,null,{"$f":"IFERROR(VLOOKUP($C66,List!$C$5:$H$153,2,FALSE),\"\")","v":""}]
[null,null,null,{"$f":"IFERROR(VLOOKUP($C67,List!$C$5:$H$153,2,FALSE),\"\")","v":""}]
[null,null,null,{"$f":"IFERROR(VLOOKUP($C68,List!$C$5:$H$153,2,FALSE),\"\")","v":""}]
[null,null,null,{"$f":"IFERROR(VLOOKUP($C69,List!$C$5:$H$153,2,FALSE),\"\")","v":""}]

{"sheet":"Conf5","index":9,"n_rows":68,"n_cols":17,"rows_kept":68,"cut":false,"hidden":false,"merged":[[21,5,21,12],[21,14,21,16],[1,8,1,10],[14,5,14,12],[17,0,17,2],[19,5,19,12],[19,14,19,16],[23,5,23,12],[23,14,23,16],[27,5,27,12],[27,14,29,16],[31,4,31,6],[31,9,31,11],[56,0,56,10],[56,11,56,12],[33,4,33,6],[34,9,34,11],[36,1,36,3],[36,5,36,8],[37,5,37,7],[38,6,38,7],[38,10,39,11],[39,1,39,4],[39,6,39,9],[41,5,41,9],[41,11,41,12],[44,8,44,12],[55,0,55,10],[55,11,55,12],[57,0,57,10],[57,11,57,12],[58,0,58,10],[58,11,58,12],[60,0,60,10],[60,11,60,12],[61,0,61,10],[61,11,61,12],[62,0,62,10],[62,11,62,12],[63,0,63,10],[63,11,63,12],[64,0,64,10],[64,11,64,12],[65,0,65,10],[65,11,65,12],[66,11,66,12]]}
[]
[null,null,null,null,null,null,null,null,"Green cells are editable"]
[]
[]
["The M6100 switch series consists of Gigabit access layer and 10 Gigabit distribution layer switches in NETGEAR modular chassis switch product line.  "]
["The M6100 switch series offers high-quality, high-density chassis alternative to stackable switches in campus LAN and midsize organizations demanding networks.  "]
["With more than 1.4 Tbps switching and routing capacity, passive backplane, management and fabric nonstop forwarding redundancy, the M6100 series delivers world-class resiliency and scalability. "]
["Ultimately, operating software and system management features take the complexity out of delivering L2/L3/L4 rich services for enterprise edge and SMB core deployments."]
[]
[" "]
[]
[]
[]
[]
["Select Model",null,null,null,null,"NETGEAR M6100 Series 3-slot Chassis Switch ",null,null,null,null,null,null,null,null,{"$f":"VLOOKUP(F15,List!$L$4:$V$5,9,FALSE)","v":"M6100-3S"}]
[]
["Advanced Layer 2, Layer 3 and Layer 4 feature set - no license required - including RIP, VRRP, OSPF, PIM, BGP, PBR, MLAG, PV(R)ST, RSPAN, DCBX, PFC, ETS and FCoE FIP \n"]
["Information and datasheet",null,null,"here"]
[]
["Blades",null,null,null,"I/O Supervisory - Slot 1","Empty slot with blank panel",null,null,null,null,null,null,null,null,{"$f":"VLOOKUP(F20,List!$L$16:$V$24,9,FALSE)","v":"-"}]
[]
[null,null,null,null,"I/O Back-up Supervisory - Slot 2","Empty slot with blank panel",null,null,null,null,null,null,null,null,{"$f":"VLOOKUP(F22,List!$L$16:$V$24,9,FALSE)","v":"-"}]
[]
[null,null,null,null,"I/O Line Card - Slot 3","Empty slot with blank panel",null,null,null,null,null,null,null,null,{"$f":"VLOOKUP(F24,List!$L$16:$V$24,9,FALSE)","v":"-"}]
[]
["Each Line Card provides line-rate switching and routing capacity.   Each Slot provides 8 x 10G channels (80G half-duplex / 160G full-duplex) access to passive backplane."]
[]
["Number of Power Supply Units",null,null,null,null,"1 power supply unit",null,null,null,null,null,null,null,null,{"$f":"VLOOKUP(F28,List!$L$34:$V$41,9,FALSE)","v":"One unit APS1000W"}]
[]
[]
[]
[null,null,null,null,"Indicate AC Voltage:",null,null,110,"V Þ","Number of PSUs sufficient:",null,null,{"$f":"IF(M33<=10,\"NO\",\"YES\")","v":"YES"},"ç Enough power for the chassis?"]
[null,null,null,null,null,null,null,null,null,null,null,"Power Budget Remaining (Watts):",{"$f":"IF(COUNTIF($O$19:$O$26,\"*XCM89P*\")+COUNTIF($O$19:$O$26,\"*XCM89UP*\")>0,\n\nIF($H$32<220,IF($H$34=\"No\",VLOOKUP($O$28,List!$T$34:$X$41,2,FALSE),VLOOKUP($O$28,List!$T$34:$X$41,3,FALSE)),IF($H$34=\"No\",VLOOKUP($O$28,List!$T$34:$X$41,4,FALSE),VLOOKUP($O$28,List!$T$34:$X$41,5,FALSE)))-VLOOKUP($O$20,List!$T$16:$U$24,2,FALSE)-VLOOKUP($O$22,List!$T$16:$U$24,2,FALSE)-VLOOKUP($O$24,List!$T$16:$U$24,2,FALSE)-IFERROR((COUNTIF($O$19:$O$26,\"XCM8948 + XCM89P\")*48+COUNTIF($O$19:$O$26,\"XCM8944 + XCM89P\")*40)*IF(Class=\"Other\",D39,VLOOKUP(E38,List!M27:O30,3,FALSE)),0)-IFERROR((COUNTIF($O$19:$O$26,\"XCM8948 + XCM89UP\")*48+COUNTIF($O$19:$O$26,\"XCM8944 + XCM89UP\")*40)*IF(J38=\"Other\",I39,VLOOKUP(J38,List!Q27:S29,3,FALSE)),0),\n\nIF($H$32<220,IF($H$34=\"No\",VLOOKUP($O$28,List!$T$34:$X$41,2,FALSE),VLOOKUP($O$28,List!$T$34:$X$41,3,FALSE)),IF($H$34=\"No\",VLOOKUP($O$28,List!$T$34:$X$41,4,FALSE),VLOOKUP($O$28,List!$T$34:$X$41,5,FALSE)))-VLOOKUP($O$20,List!$T$16:$U$24,2,FALSE)-VLOOKUP($O$22,List!$T$16:$U$24,2,FALSE)-VLOOKUP($O$24,List!$T$16:$U$24,2,FALSE)\n\n)","v":640},"Keep adding PSUs until \"YES\""]
[null,null,null,null,"N+1 Required for Redundancy:",null,null,"No"," Þ",null,null,"Power Drawn from Wall (Watts):",{"$f":"IF(COUNTIF($O$19:$O$26,\"*XCM89P*\")+COUNTIF($O$19:$O$26,\"*XCM89UP*\")>0,\n\nROUNDUP((VLOOKUP($O$20,List!$T$16:$U$24,2,FALSE)+VLOOKUP($O$22,List!$T$16:$U$24,2,FALSE)+VLOOKUP($O$24,List!$T$16:$U$24,2,FALSE)+IFERROR((COUNTIF($O$19:$O$26,\"XCM8948 + XCM89P\")*48+COUNTIF($O$19:$O$26,\"XCM8944 + XCM89P\")*40)*IF(Class=\"Other\",D39,VLOOKUP(E38,List!M27:O30,3,FALSE)),0)+IFERROR((COUNTIF($O$19:$O$26,\"XCM8948 + XCM89UP\")*48+COUNTIF($O$19:$O$26,\"XCM8944 + XCM89UP\")*40)*IF(J38=\"Other\",I39,VLOOKUP(J38,List!Q27:S29,3,FALSE)),0))/0.8,0),\n\n\nROUNDUP((VLOOKUP($O$20,List!$T$16:$U$24,2,FALSE)+VLOOKUP($O$22,List!$T$16:$U$24,2,FALSE)+VLOOKUP($O$24,List!$T$16:$U$24,2,FALSE))/0.8,0)\n\n)","v":0}]
[null,null,null,null,null,null,null,null,null,"Thermal Dissipation (BTU/hr):",null,null,{"$f":"ROUNDUP(M34*3.415,0)","v":0}]
[null,null,null,null,null,null,null,null,null,null,null,"Available PoE Budget (Watts):",{"$f":"IF($H$32<220,IF($H$34=\"No\",VLOOKUP($O$28,List!$T$34:$X$41,2,FALSE),VLOOKUP($O$28,List!$T$34:$X$41,3,FALSE)),IF($H$34=\"No\",VLOOKUP($O$28,List!$T$34:$X$41,4,FALSE),VLOOKUP($O$28,List!$T$34:$X$41,5,FALSE)))-VLOOKUP($O$20,List!$T$16:$U$24,2,FALSE)-VLOOKUP($O$22,List!$T$16:$U$24,2,FALSE)-VLOOKUP($O$24,List!$T$16:$U$24,2,FALSE)","v":640}]
[null,{"$f":"\"Blade configuration is  \"&(COUNTIF($O$19:$O$26,\"XCM8948 + XCM89P\")*48+COUNTIF($O$19:$O$26,\"XCM8944 + XCM89P\")*40)&\"  PoE+ ports\"","v":"Blade configuration is  0  PoE+ ports"},null,null,null,{"$f":"\"Blade configuration is  \"&(COUNTIF($O$19:$O$26,\"XCM8948 + XCM89UP\")*48+COUNTIF($O$19:$O$26,\"XCM8944 + XCM89UP\")*40)&\"  UPOE ports\"","v":"Blade configuration is  0  UPOE ports"},null,null,null,null,null,null,{"$f":"IF($M$33>0,\"YES\",\"NO\")","v":"YES"}]
[null,"Wattage W/port?  (Class)",null,"4.0W PSE",{"$f":"IF(D38=\"\",\"\",D38)","v":"4.0W PSE"},"Wattage W/port?  (Class)",null,null,"40W PSE",{"$f":"IF(I38=\"\",\"\",I38)","v":"40W PSE"},null,null,"é"]
[null,{"$f":"IF($E$38=\"other\",\"Override PSE W/port:\",\"\")","v":""},null,20,"W  Þ",null,{"$f":"IF($J$38=\"Other\",\"Override PSE W/port:\",\"\")","v":""},null,40,"W  Þ",{"$f":"\"Total:                                             \"&ROUNDUP(IFERROR((COUNTIF($O$19:$O$26,\"XCM8948 + XCM89P\")*48+COUNTIF($O$19:$O$26,\"XCM8944 + XCM89P\")*40)*IF(Class=\"Other\",D39,VLOOKUP(E38,List!M27:O30,3,FALSE)),0)+IFERROR((COUNTIF($O$19:$O$26,\"XCM8948 + XCM89UP\")*48+COUNTIF($O$19:$O$26,\"XCM8944 + XCM89UP\")*40)*IF(J38=\"Other\",I39,VLOOKUP(J38,List!Q27:S29,3,FALSE)),0),0)&\"W PSE required                                      <--  PoE+ / UPOE  -->\"","v":"Total:                                             0W PSE required                                      <--  PoE+ / UPOE  -->"},null,"Check if your PoE"]
[null,"<------  POE+ requirements ------>",null,null,null,null,"<------  UPOE requirements ------>",null,null,null,null,null,"budget is sufficient"]
[]
["Spare",null,null,null,null," How many Spare Fan Tray units required?",null,null,null,null,null,0,null,"Þ",{"$f":"IF(L42>0,IF(L42=1,L42&\" unit \"&VLOOKUP($O$15,List!$L$47:$V$48,9,FALSE),L42&\" units \"&VLOOKUP($O$15,List!$L$47:$V$48,9,FALSE)),\"-\")","v":"-"}]
[]
[]
["Service",null,null,null,null,"Installation Service required?",null,null,"No service required",null,null,null,null,"Þ",{"$f":"IF(VLOOKUP($I$45,List!$L$43:$T$45,9,FALSE)<>\"-\",VLOOKUP($I$45,List!$L$43:$T$45,9,FALSE)&\" contract\",VLOOKUP($I$45,List!$L$43:$T$45,9,FALSE))","v":"-"}]
[]
[null,null,null,"ProSupport Installation Setup & Configuration (Remote or Onsite):"]
[]
[]
[]
[null,null,null,"Information and datasheet",null,null,"here",null," * Available Only with Onsite Installation"]
[]
["NETGEAR Fully Managed Switches offer 24x7 Lifetime Technical Support and Lifetime Next Business Day Shipping Hardware Replacement  -  for products purchased on of after June 1, 2014 \n"]
[null,null,null,null,null,null,null,null,null,null,null,null,null,null,null,{"$f":"COUNTIF($O$19:$O$26,\"*XCM8944*\")*2+COUNTIF($O$19:$O$26,\"XCM8924X*\")*16","v":0},"SFP+ ports"]
["Optics, DAC Cables",null,null,null,null,null,null,null,null,{"$f":"IF($P$54+$P$55>1,($P$54+$P$55)&\" SFP / SFP+ ports in above configuration:\",\"\")","v":""},null,null,null,null,null,{"$f":"COUNTIF($O$19:$O$26,\"*XCM8944F*\")*40","v":0},"SFP ports "]
[{"$f":"IF(SFP>1,\"For \"&SFP&\" SFP ports, how many 100BASE-FX SFP LC GBIC (multimode, 2km OM4/OM3/OM2/OM1 50/125µm and 62.5/125µm)?\",\"\")","v":""},null,null,null,null,null,null,null,null,null,null,0,null,"Þ",{"$f":"IF(L56=\"\",\"-\",IF(SFP>1,IF(L56>=1,IF(L56=1,L56&\" unit AFM735\",L56&\" units AFM735\"),\"-\"),\"\"))","v":""}]
[{"$f":"IF(SFPP>1,IF(SFP>1,\"For \"&SFP+SFPP&\" SFP/SFP+ ports, how many 1000BASE-SX SFP LC GBIC (multimode, 1000m OM4, 550m OM3 50/125µm, 275m OM2/OM1 62.5/125µm)?\",\"For \"&SFPP&\" SFP+ ports, how many 1000BASE-SX SFP LC GBIC (multimode, 1000m OM4, 550m OM3 50/125µm, 275m OM2/OM1 62.5/125µm)?\"),IF(SFP>1,\"For \"&SFP&\" SFP ports, how many 1000BASE-SX SFP LC GBIC (multimode, 1000m OM4, 550m OM3 50/125µm, 275m OM2/OM1 62.5/125µm)?\",\"\"))","v":""},null,null,null,null,null,null,null,null,null,null,0,null,"Þ",{"$f":"IF(L57=\"\",\"-\",IF(SFP+SFPP>1,IF(L57>=1,IF(L57=1,L57&\" unit AGM731F\",L57&\" units AGM731F\"),\"-\"),\"\"))","v":""}]
[{"$f":"IF(SFPP>1,IF(SFP>1,\"For \"&SFP+SFPP&\" SFP/SFP+ ports, how many 1000BASE-LX SFP LC GBIC (single mode, 10km 9/125µm)?\",\"For \"&SFPP&\" SFP+ ports, how many 1000BASE-LX SFP LC GBIC (single mode, 10km 9/125µm)?\"),IF(SFP>1,\"For \"&SFP&\" SFP ports, how many 1000BASE-LX SFP LC GBIC (single mode, 10km 9/125µm)?\",\"\"))","v":""},null,null,null,null,null,null,null,null,null,null,0,null,"Þ",{"$f":"IF(L58=\"\",\"-\",IF(SFP+SFPP>1,IF(L58>=1,IF(L58=1,L58&\" unit AGM732F\",L58&\" units AGM732F\"),\"-\"),\"\"))","v":""}]
[{"$f":"IF(SFP>1,\"For \"&SFP&\" SFP ports, how many 1000BASE-T SFP RJ45 GBIC?\",\"\")","v":""},null,null,null,null,null,null,null,null,null,null,0,null,"Þ",{"$f":"IF(L59=\"\",\"-\",IF(SFP>1,IF(L59>=1,IF(L59=1,L59&\" unit AGM734\",L59&\" units AGM734\"),\"-\"),\"\"))","v":""}]
[null,null,null,null,{"$f":"IF(SFP+SFPP>1,\"\",\"No optics required in above M6100 switch series configuration\")","v":"No optics required in above M6100 switch series configuration"}]
[{"$f":"IF(SFPP>1,\"For \"&SFPP&\" SFP+ ports, how many 10GBASE-SR SFP+ LC GBIC (multimode, 550m OM4, 300m OM3 50/125µm, 33m OM2/OM1 62.5/125µm)?\",\"\")","v":""},null,null,null,null,null,null,null,null,null,null,0,null,"Þ",{"$f":"IF(L61=\"\",\"-\",IF(SFPP>1,IF(L61>=1,IF(L61=1,L61&\" unit AXM761\",L61&\" units AXM761\"),\"-\"),\"\"))","v":""}]
[{"$f":"IF(SFPP>1,\"For \"&SFPP&\" SFP+ ports, how many 10GBASE-LR SFP+ LC GBIC (single mode, 10km 9/125µm)?\",\"\")","v":""},null,null,null,null,null,null,null,null,null,null,0,null,"Þ",{"$f":"IF(L62=\"\",\"-\",IF(SFPP>1,IF(L62>=1,IF(L62=1,L62&\" unit AXM762\",L62&\" units AXM762\"),\"-\"),\"\"))","v":""}]
[{"$f":"IF(SFPP>1,\"For \"&SFPP&\" SFP+ ports, how many 10GBASE-LRM SFP+ LC GBIC (multimode, 260m OM4/OM3 50/125µm, 220m OM2/OM1 62.5/125µm)?\",\"\")","v":""},null,null,null,null,null,null,null,null,null,null,0,null,"Þ",{"$f":"IF(L63=\"\",\"-\",IF(SFPP>1,IF(L63>=1,IF(L63=1,L63&\" unit AXM763\",L63&\" units AXM763\"),\"-\"),\"\"))","v":""}]
[{"$f":"IF(SFPP>1,\"For \"&SFPP&\" SFP+ ports, how many 10GBASE-LR LITE SFP+ LC GBIC (single mode, 2km 9/125µm)?\",\"\")","v":""},null,null,null,null,null,null,null,null,null,null,0,null,"Þ",{"$f":"IF(L64=\"\",\"-\",IF(SFPP>1,IF(L64>=1,IF(L64=1,L64&\" unit AXM764\",L64&\" units AXM764\"),\"-\"),\"\"))","v":""}]
[{"$f":"IF(SFPP>1,\"For \"&SFPP&\" SFP+ ports, how many passive Direct Attach SFP+ copper DAC cables (1m)?\",\"\")","v":""},null,null,null,null,null,null,null,null,null,null,0,null,"Þ",{"$f":"IF(L65=\"\",\"-\",IF(SFPP>1,IF(L65>=1,IF(L65=1,L65&\" unit AXC761\",L65&\" units AXC761\"),\"-\"),\"\"))","v":""}]
[{"$f":"IF(SFPP>1,\"For \"&SFPP&\" SFP+ ports, how many passive Direct Attach SFP+ copper DAC cables (3m)?\",\"\")","v":""},null,null,null,null,null,null,null,null,null,null,0,null,"Þ",{"$f":"IF(L66=\"\",\"-\",IF(SFPP>1,IF(L66>=1,IF(L66=1,L66&\" unit AXC763\",L66&\" units AXC763\"),\"-\"),\"\"))","v":""}]
[]
["M6100 switch series will only support genuine NETGEAR SFP and SFP+ mini-GBIC transceivers. Third-party DAC cables may be used.\n",null,null,null,null,null,null,null,null,null,null,null,null,null,null,null,"END"]

{"sheet":"SKU5","index":10,"n_rows":69,"n_cols":7,"rows_kept":69,"cut":false,"hidden":false,"merged":[]}
[]
[]
[]
[]
["Category","Quantity","Ordering Number","Description"]
["Chassis Starter Kit",{"$f":"IF(LEN(Conf5!$O$20&Conf5!$O$22&Conf5!$O$24)>3,1,\"\")","v":""},{"$f":"IF(LEN(Conf5!$O$20&Conf5!$O$22&Conf5!$O$24)>3,IF(COUNTIF(Conf5!$O$20:'Conf5'!$O$24,\"XCM8924X\")>=1,\"XCM8903SX-10000S\",IF(COUNTIF(Conf5!$O$20:'Conf5'!$O$24,\"XCM8944F\")>=1,\"XCM8903SF-10000S\",\"XCM8903SK-10000S\")),\"\")","v":""},{"$f":"IF($B6<>\"\",VLOOKUP($C6,List!$C$5:$H$55,2,FALSE)&\"                             Starter kit includes:\",\"\")","v":""}]
[]
[null,null,null,{"$f":"IF($B6<>\"\",\"              ->  1 empty chassis  M6100-3S (XCM8903)                    ->  2 blank panels for open blade slots\",\"\")","v":""}]
[null,null,null,{"$f":"IF($B6<>\"\",IF($C$6=\"XCM8903SK-10000S\",\"              ->  1 blade 40x1G 2x10GBT 2xSFP+  (XCM8944)            ->  3 power supply panels for empty PSU slots\",IF($C$6=\"XCM8903SF-10000S\",\"              ->  1 blade 40xSFP 2x10GBT 2xSFP+  (XCM8944F)         ->  3 power supply panels for empty PSU slots\",IF($C$6=\"XCM8903SX-10000S\",\"              ->  1 blade 24x10GBT or 16xSFP+   (XCM8924X)            ->  3 power supply panels for empty PSU slots\",\"else\"))),\"\")","v":""}]
[null,null,null,{"$f":"IF($B6<>\"\",IF($C$6=\"XCM8903SK-10000S\",\"              ->  1 PoE+ daughter card (XCM89P)                                 ->  Rack-mount kit for 2-post racks  and wiring cabinets\",\"                                                                                                               ->  Rack-mount kit for 2-post racks  and wiring cabinets\"),\"\")","v":""}]
[null,null,null,{"$f":"IF($B6<>\"\",\"              ->  1 power supply unit (APS1000W)                               ->  Complimentary handles for rack-mount kit\",\"\")","v":""}]
[null,null,null,{"$f":"IF($B6<>\"\",\"              ->  1 front-to-back fan tray (AFT603)                               ->  Complimentary sliding rails kit for 4-post racks and wiring cabinets\",\"\")","v":""}]
[]
["I/O Blades",{"$f":"IF(COUNTIF(Conf5!$O$19:$P$68,\"*XCM8948*\")>=1,COUNTIF(Conf5!$O$19:$P$68,\"*XCM8948*\"),\"\")","v":""},{"$f":"IF($B14<>\"\",List!$C8,\"\")","v":""},{"$f":"IF($B14<>\"\",VLOOKUP($C14,List!$C$5:$H$55,2,FALSE),\"\")","v":""}]
[null,{"$f":"IF(COUNTIF(Conf5!$O$19:$P$67,\"*XCM8944*\")-COUNTIF(Conf5!$O$19:$P$67,\"*XCM8944F*\")>=1,IF($C$6=\"XCM8903SK-10000S\",IF( (COUNTIF(Conf5!$O$19:$P$67,\"*XCM8944*\")-COUNTIF(Conf5!$O$19:$P$67,\"*XCM8944F*\"))>=2, COUNTIF(Conf5!$O$19:$P$67,\"*XCM8944*\")-COUNTIF(Conf5!$O$19:$P$67,\"*XCM8944F*\")-1,\"\"),COUNTIF(Conf5!$O$19:$P$67,\"*XCM8944*\")-COUNTIF(Conf5!$O$19:$P$67,\"*XCM8944F*\")), \"\")","v":""},{"$f":"IF($B15<>\"\",List!$C9,\"\")","v":""},{"$f":"IF($B15<>\"\",VLOOKUP($C15,List!$C$5:$H$55,2,FALSE),\"\")","v":""}]
[null,{"$f":"IF(\nCOUNTIF(Conf5!$O$19:$P$68,\"*XCM8944F*\")>=1,\nIF($C$6=\"XCM8903SF-10000S\",IF(COUNTIF(Conf5!$O$19:$P$68,\"*XCM8944F*\")>=2, COUNTIF(Conf5!$O$19:$P$68,\"*XCM8944F*\")-1,\"\"), COUNTIF(Conf5!$O$19:$P$68,\"*XCM8944F*\")),\"\")","v":""},{"$f":"IF($B16<>\"\",List!$C10,\"\")","v":""},{"$f":"IF($B16<>\"\",VLOOKUP($C16,List!$C$5:$H$55,2,FALSE),\"\")","v":""}]
[null,{"$f":"IF(\nCOUNTIF(Conf5!$O$19:$P$68,\"*XCM8924X*\")>=1,\nIF($C$6=\"XCM8903SX-10000S\",IF(COUNTIF(Conf5!$O$19:$P$68,\"*XCM8924X*\")>=2, COUNTIF(Conf5!$O$19:$P$68,\"*XCM8924X*\")-1,\"\"), COUNTIF(Conf5!$O$19:$P$68,\"*XCM8924X*\")),\"\")","v":""},{"$f":"IF($B17<>\"\",List!$C11,\"\")","v":""},{"$f":"IF($B17<>\"\",VLOOKUP($C17,List!$C$5:$H$55,2,FALSE),\"\")","v":""}]
["Accessories",{"$f":"IF(COUNTIF(Conf5!$O$19:$P$68,\"*XCM89P*\")>=1,IF($C$6=\"XCM8903SK-10000S\",IF(COUNTIF(Conf5!$O$19:$P$68,\"*XCM89P*\")>=2,COUNTIF(Conf5!$O$19:$P$68,\"*XCM89P*\")-1,\"\"), COUNTIF(Conf5!$O$19:$P$68,\"*XCM89P*\")), \"\")","v":""},{"$f":"IF($B18<>\"\",List!$C12,\"\")","v":""},{"$f":"IF($B18<>\"\",VLOOKUP($C18,List!$C$5:$H$55,2,FALSE),\"\")","v":""}]
[null,{"$f":"IF(COUNTIF(Conf5!$O$19:$P$68,\"*XCM89UP*\")>=1,COUNTIF(Conf5!$O$19:$P$68,\"*XCM89UP*\"),\"\")","v":""},{"$f":"IF($B19<>\"\",List!$C13,\"\")","v":""},{"$f":"IF($B19<>\"\",VLOOKUP($C19,List!$C$5:$H$55,2,FALSE),\"\")","v":""}]
[null,{"$f":"IFERROR(IF(VLOOKUP(Conf5!$O$28,List!T34:Y41,6,FALSE)>=2,VLOOKUP(Conf5!$O$28,List!T34:Y41,6,FALSE)-1,\"\"),\"\")","v":""},{"$f":"IF($B20<>\"\",IF($F$20=\"NA/EMEA\",\"APS1000W-100NES\",IF($F$20=\"APAC\",\"APS1000W-100AJS\",\"\")),\"\")","v":""},{"$f":"IF($B20<>\"\",VLOOKUP($C20,List!$C$5:$H$55,2,FALSE),\"\")","v":""},"Localization","NA/EMEA"," Þ"]
[null,{"$f":"IF(COUNTIF(Conf5!$O$19:$P$68,\"*AFT603*\")>=1,COUNTIF(Conf5!$O$19:$P$68,\"*AFT603*\"),\"\")","v":""},{"$f":"IF($B21<>\"\",List!$C16,\"\")","v":""},{"$f":"IF($B21<>\"\",VLOOKUP($C21,List!$C$5:$H$55,2,FALSE),\"\")","v":""}]
[null,{"$f":"IF(COUNTIF(Conf5!$O$19:$P$68,\"*RPS4000v2*\")>=1,COUNTIF(Conf5!$O$19:$P$68,\"*RPS4000v2*\"),\"\")","v":""},{"$f":"IF($B22<>\"\",IF($F$20=\"NA/EMEA\",\"RPS4000-200NES\",IF($F$20=\"APAC\",\"RPS4000-200AJS\",\"\")),\"\")","v":""},{"$f":"IF($B22<>\"\",VLOOKUP($C22,List!$C$5:$H$55,2,FALSE),\"\")","v":""}]
["Service",{"$f":"IF(COUNTIF(Conf5!$O$19:$P$68,\"*PSB0304*\")>=1,COUNTIF(Conf5!$O$19:$P$68,\"*PSB0304*\"),\"\")","v":""},{"$f":"IF($B23<>\"\",List!$C19,\"\")","v":""},{"$f":"IF($B23<>\"\",VLOOKUP($C23,List!$C$5:$H$55,2,FALSE),\"\")","v":""}]
[null,{"$f":"IF(COUNTIF(Conf5!$O$19:$P$68,\"*PSP1104*\")>=1,COUNTIF(Conf5!$O$19:$P$68,\"*PSP1104*\"),\"\")","v":""},{"$f":"IF($B24<>\"\",List!$C20,\"\")","v":""},{"$f":"IF($B24<>\"\",VLOOKUP($C24,List!$C$5:$H$55,2,FALSE),\"\")","v":""}]
["Optics_Cables",{"$f":"IF(COUNTIF(Conf5!$O$19:$P$68,\"*AFM735*\")>=1,Conf5!$L56,\"\")","v":""},{"$f":"IF($B25<>\"\",List!$C21,\"\")","v":""},{"$f":"IF($B25<>\"\",VLOOKUP($C25,List!$C$5:$H$55,2,FALSE),\"\")","v":""}]
[null,{"$f":"IF(COUNTIF(Conf5!$O$19:$P$68,\"*AGM731F*\")>=1,Conf5!$L57,\"\")","v":""},{"$f":"IF($B26<>\"\",List!$C22,\"\")","v":""},{"$f":"IF($B26<>\"\",VLOOKUP($C26,List!$C$5:$H$55,2,FALSE),\"\")","v":""}]
[null,{"$f":"IF(COUNTIF(Conf5!$O$19:$P$68,\"*AGM732F*\")>=1,Conf5!$L58,\"\")","v":""},{"$f":"IF($B27<>\"\",List!$C23,\"\")","v":""},{"$f":"IF($B27<>\"\",VLOOKUP($C27,List!$C$5:$H$55,2,FALSE),\"\")","v":""}]
[null,{"$f":"IF(COUNTIF(Conf5!$O$19:$P$68,\"*AGM734*\")>=1,Conf5!$L59,\"\")","v":""},{"$f":"IF($B28<>\"\",List!$C24,\"\")","v":""},{"$f":"IF($B28<>\"\",VLOOKUP($C28,List!$C$5:$H$55,2,FALSE),\"\")","v":""}]
[null,{"$f":"IF(COUNTIF(Conf5!$O$19:$P$68,\"*AXM761*\")>=1,IF(Conf5!$L61<10,Conf5!$L61,IF(MOD(Conf5!$L61/10,1)=0,\"\",Conf5!$L61-10*INT(Conf5!$L61/10))),\"\")","v":""},{"$f":"IF($B29<>\"\",List!$C25,\"\")","v":""},{"$f":"IF($B29<>\"\",VLOOKUP($C29,List!$C$5:$H$55,2,FALSE),\"\")","v":""}]
[null,{"$f":"IF(COUNTIF(Conf5!$O$19:$P$68,\"*AXM761*\")>=1,IF(Conf5!$L61>=10,INT(Conf5!$L61/10),\"\"),\"\")","v":""},{"$f":"IF($B30<>\"\",List!$C26,\"\")","v":""},{"$f":"IF($B30<>\"\",VLOOKUP($C30,List!$C$5:$H$55,2,FALSE),\"\")","v":""}]
[null,{"$f":"IF(COUNTIF(Conf5!$O$19:$P$68,\"*AXM762*\")>=1,IF(Conf5!$L62<10,Conf5!$L62,IF(MOD(Conf5!$L62/10,1)=0,\"\",Conf5!$L62-10*INT(Conf5!$L62/10))),\"\")","v":""},{"$f":"IF($B31<>\"\",List!$C27,\"\")","v":""},{"$f":"IF($B31<>\"\",VLOOKUP($C31,List!$C$5:$H$55,2,FALSE),\"\")","v":""}]
[null,{"$f":"IF(COUNTIF(Conf5!$O$19:$P$68,\"*AXM762*\")>=1,IF(Conf5!$L62>=10,INT(Conf5!$L62/10),\"\"),\"\")","v":""},{"$f":"IF($B32<>\"\",List!$C28,\"\")","v":""},{"$f":"IF($B32<>\"\",VLOOKUP($C32,List!$C$5:$H$55,2,FALSE),\"\")","v":""}]
[null,{"$f":"IF(COUNTIF(Conf5!$O$19:$P$68,\"*AXM763*\")>=1,Conf5!$L63,\"\")","v":""},{"$f":"IF($B33<>\"\",List!$C29,\"\")","v":""},{"$f":"IF($B33<>\"\",VLOOKUP($C33,List!$C$5:$H$55,2,FALSE),\"\")","v":""}]
[null,{"$f":"IF(COUNTIF(Conf5!$O$19:$P$68,\"*AXM764*\")>=1,Conf5!$L64,\"\")","v":""},{"$f":"IF($B34<>\"\",List!$C30,\"\")","v":""},{"$f":"IF($B34<>\"\",VLOOKUP($C34,List!$C$5:$H$55,2,FALSE),\"\")","v":""}]
[null,{"$f":"IF(COUNTIF(Conf5!$O$19:$P$68,\"*AXC761*\")>=1,Conf5!$L65,\"\")","v":""},{"$f":"IF($B35<>\"\",List!$C31,\"\")","v":""},{"$f":"IF($B35<>\"\",VLOOKUP($C35,List!$C$5:$H$55,2,FALSE),\"\")","v":""}]
[null,{"$f":"IF(COUNTIF(Conf5!$O$19:$P$68,\"*AXC763*\")>=1,Conf5!$L66,\"\")","v":""},{"$f":"IF($B36<>\"\",List!$C32,\"\")","v":""},{"$f":"IF($B36<>\"\",VLOOKUP($C36,List!$C$5:$H$55,2,FALSE),\"\")","v":""}]
[]
["Total",{"$f":"IF(SUM(B6:B36)>0,SUM(B6:B36),\"\")","v":""}]
[null,null,null,{"$f":"IFERROR(VLOOKUP($C39,List!$C$5:$H$153,2,FALSE),\"\")","v":""}]
[null,null,null,{"$f":"IFERROR(VLOOKUP($C40,List!$C$5:$H$153,2,FALSE),\"\")","v":""}]
[null,null,null,{"$f":"IFERROR(VLOOKUP($C41,List!$C$5:$H$153,2,FALSE),\"\")","v":""}]
[null,null,null,{"$f":"IFERROR(VLOOKUP($C42,List!$C$5:$H$153,2,FALSE),\"\")","v":""}]
[null,null,null,{"$f":"IFERROR(VLOOKUP($C43,List!$C$5:$H$153,2,FALSE),\"\")","v":""}]
[null,null,null,{"$f":"IFERROR(VLOOKUP($C44,List!$C$5:$H$153,2,FALSE),\"\")","v":""}]
[null,null,null,{"$f":"IFERROR(VLOOKUP($C45,List!$C$5:$H$153,2,FALSE),\"\")","v":""}]
[null,null,null,{"$f":"IFERROR(VLOOKUP($C46,List!$C$5:$H$153,2,FALSE),\"\")","v":""}]
[null,null,null,{"$f":"IFERROR(VLOOKUP($C47,List!$C$5:$H$153,2,FALSE),\"\")","v":""}]
[null,null,null,{"$f":"IFERROR(VLOOKUP($C48,List!$C$5:$H$153,2,FALSE),\"\")","v":""}]
[null,null,null,{"$f":"IFERROR(VLOOKUP($C49,List!$C$5:$H$153,2,FALSE),\"\")","v":""}]
[null,null,null,{"$f":"IFERROR(VLOOKUP($C50,List!$C$5:$H$153,2,FALSE),\"\")","v":""}]
[null,null,null,{"$f":"IFERROR(VLOOKUP($C51,List!$C$5:$H$153,2,FALSE),\"\")","v":""}]
[null,null,null,{"$f":"IFERROR(VLOOKUP($C52,List!$C$5:$H$153,2,FALSE),\"\")","v":""}]
[null,null,null,{"$f":"IFERROR(VLOOKUP($C53,List!$C$5:$H$153,2,FALSE),\"\")","v":""}]
[null,null,null,{"$f":"IFERROR(VLOOKUP($C54,List!$C$5:$H$153,2,FALSE),\"\")","v":""}]
[null,null,null,{"$f":"IFERROR(VLOOKUP($C55,List!$C$5:$H$153,2,FALSE),\"\")","v":""}]
[null,null,null,{"$f":"IFERROR(VLOOKUP($C56,List!$C$5:$H$153,2,FALSE),\"\")","v":""}]
[null,null,null,{"$f":"IFERROR(VLOOKUP($C57,List!$C$5:$H$153,2,FALSE),\"\")","v":""}]
[null,null,null,{"$f":"IFERROR(VLOOKUP($C58,List!$C$5:$H$153,2,FALSE),\"\")","v":""}]
[null,null,null,{"$f":"IFERROR(VLOOKUP($C59,List!$C$5:$H$153,2,FALSE),\"\")","v":""}]
[null,null,null,{"$f":"IFERROR(VLOOKUP($C60,List!$C$5:$H$153,2,FALSE),\"\")","v":""}]
[null,null,null,{"$f":"IFERROR(VLOOKUP($C61,List!$C$5:$H$153,2,FALSE),\"\")","v":""}]
[null,null,null,{"$f":"IFERROR(VLOOKUP($C62,List!$C$5:$H$153,2,FALSE),\"\")","v":""}]
[null,null,null,{"$f":"IFERROR(VLOOKUP($C63,List!$C$5:$H$153,2,FALSE),\"\")","v":""}]
[null,null,null,{"$f":"IFERROR(VLOOKUP($C64,List!$C$5:$H$153,2,FALSE),\"\")","v":""}]
[null,null,null,{"$f":"IFERROR(VLOOKUP($C65,List!$C$5:$H$153,2,FALSE),\"\")","v":""}]
[null,null,null,{"$f":"IFERROR(VLOOKUP($C66,List!$C$5:$H$153,2,FALSE),\"\")","v":""}]
[null,null,null,{"$f":"IFERROR(VLOOKUP($C67,List!$C$5:$H$153,2,FALSE),\"\")","v":""}]
[null,null,null,{"$f":"IFERROR(VLOOKUP($C68,List!$C$5:$H$153,2,FALSE),\"\")","v":""}]
[null,null,null,{"$f":"IFERROR(VLOOKUP($C69,List!$C$5:$H$153,2,FALSE),\"\")","v":""}]

{"sheet":"Conf6","index":11,"n_rows":68,"n_cols":17,"rows_kept":68,"cut":false,"hidden":false,"merged":[[21,5,21,12],[21,14,21,16],[1,8,1,10],[14,5,14,12],[17,0,17,2],[19,5,19,12],[19,14,19,16],[23,5,23,12],[23,14,23,16],[27,5,27,12],[27,14,29,16],[31,4,31,6],[31,9,31,11],[56,0,56,10],[56,11,56,12],[33,4,33,6],[34,9,34,11],[36,1,36,3],[36,5,36,8],[37,5,37,7],[38,6,38,7],[38,10,39,11],[39,1,39,4],[39,6,39,9],[41,5,41,9],[41,11,41,12],[44,8,44,12],[55,0,55,10],[55,11,55,12],[57,0,57,10],[57,11,57,12],[58,0,58,10],[58,11,58,12],[60,0,60,10],[60,11,60,12],[61,0,61,10],[61,11,61,12],[62,0,62,10],[62,11,62,12],[63,0,63,10],[63,11,63,12],[64,0,64,10],[64,11,64,12],[65,0,65,10],[65,11,65,12],[66,11,66,12]]}
[]
[null,null,null,null,null,null,null,null,"Green cells are editable"]
[]
[]
["The M6100 switch series consists of Gigabit access layer and 10 Gigabit distribution layer switches in NETGEAR modular chassis switch product line.  "]
["The M6100 switch series offers high-quality, high-density chassis alternative to stackable switches in campus LAN and midsize organizations demanding networks.  "]
["With more than 1.4 Tbps switching and routing capacity, passive backplane, management and fabric nonstop forwarding redundancy, the M6100 series delivers world-class resiliency and scalability. "]
["Ultimately, operating software and system management features take the complexity out of delivering L2/L3/L4 rich services for enterprise edge and SMB core deployments."]
[]
[" "]
[]
[]
[]
[]
["Select Model",null,null,null,null,"NETGEAR M6100 Series 3-slot Chassis Switch ",null,null,null,null,null,null,null,null,{"$f":"VLOOKUP(F15,List!$L$4:$V$5,9,FALSE)","v":"M6100-3S"}]
[]
["Advanced Layer 2, Layer 3 and Layer 4 feature set - no license required - including RIP, VRRP, OSPF, PIM, BGP, PBR, MLAG, PV(R)ST, RSPAN, DCBX, PFC, ETS and FCoE FIP \n"]
["Information and datasheet",null,null,"here"]
[]
["Blades",null,null,null,"I/O Supervisory - Slot 1","Empty slot with blank panel",null,null,null,null,null,null,null,null,{"$f":"VLOOKUP(F20,List!$L$16:$V$24,9,FALSE)","v":"-"}]
[]
[null,null,null,null,"I/O Back-up Supervisory - Slot 2","Empty slot with blank panel",null,null,null,null,null,null,null,null,{"$f":"VLOOKUP(F22,List!$L$16:$V$24,9,FALSE)","v":"-"}]
[]
[null,null,null,null,"I/O Line Card - Slot 3","Empty slot with blank panel",null,null,null,null,null,null,null,null,{"$f":"VLOOKUP(F24,List!$L$16:$V$24,9,FALSE)","v":"-"}]
[]
["Each Line Card provides line-rate switching and routing capacity.   Each Slot provides 8 x 10G channels (80G half-duplex / 160G full-duplex) access to passive backplane."]
[]
["Number of Power Supply Units",null,null,null,null,"1 power supply unit",null,null,null,null,null,null,null,null,{"$f":"VLOOKUP(F28,List!$L$34:$V$41,9,FALSE)","v":"One unit APS1000W"}]
[]
[]
[]
[null,null,null,null,"Indicate AC Voltage:",null,null,110,"V Þ","Number of PSUs sufficient:",null,null,{"$f":"IF(M33<=10,\"NO\",\"YES\")","v":"YES"},"ç Enough power for the chassis?"]
[null,null,null,null,null,null,null,null,null,null,null,"Power Budget Remaining (Watts):",{"$f":"IF(COUNTIF($O$19:$O$26,\"*XCM89P*\")+COUNTIF($O$19:$O$26,\"*XCM89UP*\")>0,\n\nIF($H$32<220,IF($H$34=\"No\",VLOOKUP($O$28,List!$T$34:$X$41,2,FALSE),VLOOKUP($O$28,List!$T$34:$X$41,3,FALSE)),IF($H$34=\"No\",VLOOKUP($O$28,List!$T$34:$X$41,4,FALSE),VLOOKUP($O$28,List!$T$34:$X$41,5,FALSE)))-VLOOKUP($O$20,List!$T$16:$U$24,2,FALSE)-VLOOKUP($O$22,List!$T$16:$U$24,2,FALSE)-VLOOKUP($O$24,List!$T$16:$U$24,2,FALSE)-IFERROR((COUNTIF($O$19:$O$26,\"XCM8948 + XCM89P\")*48+COUNTIF($O$19:$O$26,\"XCM8944 + XCM89P\")*40)*IF(Class=\"Other\",D39,VLOOKUP(E38,List!M27:O30,3,FALSE)),0)-IFERROR((COUNTIF($O$19:$O$26,\"XCM8948 + XCM89UP\")*48+COUNTIF($O$19:$O$26,\"XCM8944 + XCM89UP\")*40)*IF(J38=\"Other\",I39,VLOOKUP(J38,List!Q27:S29,3,FALSE)),0),\n\nIF($H$32<220,IF($H$34=\"No\",VLOOKUP($O$28,List!$T$34:$X$41,2,FALSE),VLOOKUP($O$28,List!$T$34:$X$41,3,FALSE)),IF($H$34=\"No\",VLOOKUP($O$28,List!$T$34:$X$41,4,FALSE),VLOOKUP($O$28,List!$T$34:$X$41,5,FALSE)))-VLOOKUP($O$20,List!$T$16:$U$24,2,FALSE)-VLOOKUP($O$22,List!$T$16:$U$24,2,FALSE)-VLOOKUP($O$24,List!$T$16:$U$24,2,FALSE)\n\n)","v":640},"Keep adding PSUs until \"YES\""]
[null,null,null,null,"N+1 Required for Redundancy:",null,null,"No"," Þ",null,null,"Power Drawn from Wall (Watts):",{"$f":"IF(COUNTIF($O$19:$O$26,\"*XCM89P*\")+COUNTIF($O$19:$O$26,\"*XCM89UP*\")>0,\n\nROUNDUP((VLOOKUP($O$20,List!$T$16:$U$24,2,FALSE)+VLOOKUP($O$22,List!$T$16:$U$24,2,FALSE)+VLOOKUP($O$24,List!$T$16:$U$24,2,FALSE)+IFERROR((COUNTIF($O$19:$O$26,\"XCM8948 + XCM89P\")*48+COUNTIF($O$19:$O$26,\"XCM8944 + XCM89P\")*40)*IF(Class=\"Other\",D39,VLOOKUP(E38,List!M27:O30,3,FALSE)),0)+IFERROR((COUNTIF($O$19:$O$26,\"XCM8948 + XCM89UP\")*48+COUNTIF($O$19:$O$26,\"XCM8944 + XCM89UP\")*40)*IF(J38=\"Other\",I39,VLOOKUP(J38,List!Q27:S29,3,FALSE)),0))/0.8,0),\n\n\nROUNDUP((VLOOKUP($O$20,List!$T$16:$U$24,2,FALSE)+VLOOKUP($O$22,List!$T$16:$U$24,2,FALSE)+VLOOKUP($O$24,List!$T$16:$U$24,2,FALSE))/0.8,0)\n\n)","v":0}]
[null,null,null,null,null,null,null,null,null,"Thermal Dissipation (BTU/hr):",null,null,{"$f":"ROUNDUP(M34*3.415,0)","v":0}]
[null,null,null,null,null,null,null,null,null,null,null,"Available PoE Budget (Watts):",{"$f":"IF($H$32<220,IF($H$34=\"No\",VLOOKUP($O$28,List!$T$34:$X$41,2,FALSE),VLOOKUP($O$28,List!$T$34:$X$41,3,FALSE)),IF($H$34=\"No\",VLOOKUP($O$28,List!$T$34:$X$41,4,FALSE),VLOOKUP($O$28,List!$T$34:$X$41,5,FALSE)))-VLOOKUP($O$20,List!$T$16:$U$24,2,FALSE)-VLOOKUP($O$22,List!$T$16:$U$24,2,FALSE)-VLOOKUP($O$24,List!$T$16:$U$24,2,FALSE)","v":640}]
[null,{"$f":"\"Blade configuration is  \"&(COUNTIF($O$19:$O$26,\"XCM8948 + XCM89P\")*48+COUNTIF($O$19:$O$26,\"XCM8944 + XCM89P\")*40)&\"  PoE+ ports\"","v":"Blade configuration is  0  PoE+ ports"},null,null,null,{"$f":"\"Blade configuration is  \"&(COUNTIF($O$19:$O$26,\"XCM8948 + XCM89UP\")*48+COUNTIF($O$19:$O$26,\"XCM8944 + XCM89UP\")*40)&\"  UPOE ports\"","v":"Blade configuration is  0  UPOE ports"},null,null,null,null,null,null,{"$f":"IF($M$33>0,\"YES\",\"NO\")","v":"YES"}]
[null,"Wattage W/port?  (Class)",null,"4.0W PSE",{"$f":"IF(D38=\"\",\"\",D38)","v":"4.0W PSE"},"Wattage W/port?  (Class)",null,null,"40W PSE",{"$f":"IF(I38=\"\",\"\",I38)","v":"40W PSE"},null,null,"é"]
[null,{"$f":"IF($E$38=\"other\",\"Override PSE W/port:\",\"\")","v":""},null,20,"W  Þ",null,{"$f":"IF($J$38=\"Other\",\"Override PSE W/port:\",\"\")","v":""},null,40,"W  Þ",{"$f":"\"Total:                                             \"&ROUNDUP(IFERROR((COUNTIF($O$19:$O$26,\"XCM8948 + XCM89P\")*48+COUNTIF($O$19:$O$26,\"XCM8944 + XCM89P\")*40)*IF(Class=\"Other\",D39,VLOOKUP(E38,List!M27:O30,3,FALSE)),0)+IFERROR((COUNTIF($O$19:$O$26,\"XCM8948 + XCM89UP\")*48+COUNTIF($O$19:$O$26,\"XCM8944 + XCM89UP\")*40)*IF(J38=\"Other\",I39,VLOOKUP(J38,List!Q27:S29,3,FALSE)),0),0)&\"W PSE required                                      <--  PoE+ / UPOE  -->\"","v":"Total:                                             0W PSE required                                      <--  PoE+ / UPOE  -->"},null,"Check if your PoE"]
[null,"<------  POE+ requirements ------>",null,null,null,null,"<------  UPOE requirements ------>",null,null,null,null,null,"budget is sufficient"]
[]
["Spare",null,null,null,null," How many Spare Fan Tray units required?",null,null,null,null,null,0,null,"Þ",{"$f":"IF(L42>0,IF(L42=1,L42&\" unit \"&VLOOKUP($O$15,List!$L$47:$V$48,9,FALSE),L42&\" units \"&VLOOKUP($O$15,List!$L$47:$V$48,9,FALSE)),\"-\")","v":"-"}]
[]
[]
["Service",null,null,null,null,"Installation Service required?",null,null,"No service required",null,null,null,null,"Þ",{"$f":"IF(VLOOKUP($I$45,List!$L$43:$T$45,9,FALSE)<>\"-\",VLOOKUP($I$45,List!$L$43:$T$45,9,FALSE)&\" contract\",VLOOKUP($I$45,List!$L$43:$T$45,9,FALSE))","v":"-"}]
[]
[null,null,null,"ProSupport Installation Setup & Configuration (Remote or Onsite):"]
[]
[]
[]
[null,null,null,"Information and datasheet",null,null,"here",null," * Available Only with Onsite Installation"]
[]
["NETGEAR Fully Managed Switches offer 24x7 Lifetime Technical Support and Lifetime Next Business Day Shipping Hardware Replacement  -  for products purchased on of after June 1, 2014 \n"]
[null,null,null,null,null,null,null,null,null,null,null,null,null,null,null,{"$f":"COUNTIF($O$19:$O$26,\"*XCM8944*\")*2+COUNTIF($O$19:$O$26,\"XCM8924X*\")*16","v":0},"SFP+ ports"]
["Optics, DAC Cables",null,null,null,null,null,null,null,null,{"$f":"IF($P$54+$P$55>1,($P$54+$P$55)&\" SFP / SFP+ ports in above configuration:\",\"\")","v":""},null,null,null,null,null,{"$f":"COUNTIF($O$19:$O$26,\"*XCM8944F*\")*40","v":0},"SFP ports "]
[{"$f":"IF(SFP>1,\"For \"&SFP&\" SFP ports, how many 100BASE-FX SFP LC GBIC (multimode, 2km OM4/OM3/OM2/OM1 50/125µm and 62.5/125µm)?\",\"\")","v":""},null,null,null,null,null,null,null,null,null,null,0,null,"Þ",{"$f":"IF(L56=\"\",\"-\",IF(SFP>1,IF(L56>=1,IF(L56=1,L56&\" unit AFM735\",L56&\" units AFM735\"),\"-\"),\"\"))","v":""}]
[{"$f":"IF(SFPP>1,IF(SFP>1,\"For \"&SFP+SFPP&\" SFP/SFP+ ports, how many 1000BASE-SX SFP LC GBIC (multimode, 1000m OM4, 550m OM3 50/125µm, 275m OM2/OM1 62.5/125µm)?\",\"For \"&SFPP&\" SFP+ ports, how many 1000BASE-SX SFP LC GBIC (multimode, 1000m OM4, 550m OM3 50/125µm, 275m OM2/OM1 62.5/125µm)?\"),IF(SFP>1,\"For \"&SFP&\" SFP ports, how many 1000BASE-SX SFP LC GBIC (multimode, 1000m OM4, 550m OM3 50/125µm, 275m OM2/OM1 62.5/125µm)?\",\"\"))","v":""},null,null,null,null,null,null,null,null,null,null,0,null,"Þ",{"$f":"IF(L57=\"\",\"-\",IF(SFP+SFPP>1,IF(L57>=1,IF(L57=1,L57&\" unit AGM731F\",L57&\" units AGM731F\"),\"-\"),\"\"))","v":""}]
[{"$f":"IF(SFPP>1,IF(SFP>1,\"For \"&SFP+SFPP&\" SFP/SFP+ ports, how many 1000BASE-LX SFP LC GBIC (single mode, 10km 9/125µm)?\",\"For \"&SFPP&\" SFP+ ports, how many 1000BASE-LX SFP LC GBIC (single mode, 10km 9/125µm)?\"),IF(SFP>1,\"For \"&SFP&\" SFP ports, how many 1000BASE-LX SFP LC GBIC (single mode, 10km 9/125µm)?\",\"\"))","v":""},null,null,null,null,null,null,null,null,null,null,0,null,"Þ",{"$f":"IF(L58=\"\",\"-\",IF(SFP+SFPP>1,IF(L58>=1,IF(L58=1,L58&\" unit AGM732F\",L58&\" units AGM732F\"),\"-\"),\"\"))","v":""}]
[{"$f":"IF(SFP>1,\"For \"&SFP&\" SFP ports, how many 1000BASE-T SFP RJ45 GBIC?\",\"\")","v":""},null,null,null,null,null,null,null,null,null,null,0,null,"Þ",{"$f":"IF(L59=\"\",\"-\",IF(SFP>1,IF(L59>=1,IF(L59=1,L59&\" unit AGM734\",L59&\" units AGM734\"),\"-\"),\"\"))","v":""}]
[null,null,null,null,{"$f":"IF(SFP+SFPP>1,\"\",\"No optics required in above M6100 switch series configuration\")","v":"No optics required in above M6100 switch series configuration"}]
[{"$f":"IF(SFPP>1,\"For \"&SFPP&\" SFP+ ports, how many 10GBASE-SR SFP+ LC GBIC (multimode, 550m OM4, 300m OM3 50/125µm, 33m OM2/OM1 62.5/125µm)?\",\"\")","v":""},null,null,null,null,null,null,null,null,null,null,0,null,"Þ",{"$f":"IF(L61=\"\",\"-\",IF(SFPP>1,IF(L61>=1,IF(L61=1,L61&\" unit AXM761\",L61&\" units AXM761\"),\"-\"),\"\"))","v":""}]
[{"$f":"IF(SFPP>1,\"For \"&SFPP&\" SFP+ ports, how many 10GBASE-LR SFP+ LC GBIC (single mode, 10km 9/125µm)?\",\"\")","v":""},null,null,null,null,null,null,null,null,null,null,0,null,"Þ",{"$f":"IF(L62=\"\",\"-\",IF(SFPP>1,IF(L62>=1,IF(L62=1,L62&\" unit AXM762\",L62&\" units AXM762\"),\"-\"),\"\"))","v":""}]
[{"$f":"IF(SFPP>1,\"For \"&SFPP&\" SFP+ ports, how many 10GBASE-LRM SFP+ LC GBIC (multimode, 260m OM4/OM3 50/125µm, 220m OM2/OM1 62.5/125µm)?\",\"\")","v":""},null,null,null,null,null,null,null,null,null,null,0,null,"Þ",{"$f":"IF(L63=\"\",\"-\",IF(SFPP>1,IF(L63>=1,IF(L63=1,L63&\" unit AXM763\",L63&\" units AXM763\"),\"-\"),\"\"))","v":""}]
[{"$f":"IF(SFPP>1,\"For \"&SFPP&\" SFP+ ports, how many 10GBASE-LR LITE SFP+ LC GBIC (single mode, 2km 9/125µm)?\",\"\")","v":""},null,null,null,null,null,null,null,null,null,null,0,null,"Þ",{"$f":"IF(L64=\"\",\"-\",IF(SFPP>1,IF(L64>=1,IF(L64=1,L64&\" unit AXM764\",L64&\" units AXM764\"),\"-\"),\"\"))","v":""}]
[{"$f":"IF(SFPP>1,\"For \"&SFPP&\" SFP+ ports, how many passive Direct Attach SFP+ copper DAC cables (1m)?\",\"\")","v":""},null,null,null,null,null,null,null,null,null,null,0,null,"Þ",{"$f":"IF(L65=\"\",\"-\",IF(SFPP>1,IF(L65>=1,IF(L65=1,L65&\" unit AXC761\",L65&\" units AXC761\"),\"-\"),\"\"))","v":""}]
[{"$f":"IF(SFPP>1,\"For \"&SFPP&\" SFP+ ports, how many passive Direct Attach SFP+ copper DAC cables (3m)?\",\"\")","v":""},null,null,null,null,null,null,null,null,null,null,0,null,"Þ",{"$f":"IF(L66=\"\",\"-\",IF(SFPP>1,IF(L66>=1,IF(L66=1,L66&\" unit AXC763\",L66&\" units AXC763\"),\"-\"),\"\"))","v":""}]
[]
["M6100 switch series will only support genuine NETGEAR SFP and SFP+ mini-GBIC transceivers. Third-party DAC cables may be used.\n",null,null,null,null,null,null,null,null,null,null,null,null,null,null,null,"END"]

{"sheet":"SKU6","index":12,"n_rows":69,"n_cols":7,"rows_kept":69,"cut":false,"hidden":false,"merged":[]}
[]
[]
[]
[]
["Category","Quantity","Ordering Number","Description"]
["Chassis Starter Kit",{"$f":"IF(LEN(Conf6!$O$20&Conf6!$O$22&Conf6!$O$24)>3,1,\"\")","v":""},{"$f":"IF(LEN(Conf6!$O$20&Conf6!$O$22&Conf6!$O$24)>3,IF(COUNTIF(Conf6!$O$20:'Conf6'!$O$24,\"XCM8924X\")>=1,\"XCM8903SX-10000S\",IF(COUNTIF(Conf6!$O$20:'Conf6'!$O$24,\"XCM8944F\")>=1,\"XCM8903SF-10000S\",\"XCM8903SK-10000S\")),\"\")","v":""},{"$f":"IF($B6<>\"\",VLOOKUP($C6,List!$C$5:$H$55,2,FALSE)&\"                             Starter kit includes:\",\"\")","v":""}]
[]
[null,null,null,{"$f":"IF($B6<>\"\",\"              ->  1 empty chassis  M6100-3S (XCM8903)                    ->  2 blank panels for open blade slots\",\"\")","v":""}]
[null,null,null,{"$f":"IF($B6<>\"\",IF($C$6=\"XCM8903SK-10000S\",\"              ->  1 blade 40x1G 2x10GBT 2xSFP+  (XCM8944)            ->  3 power supply panels for empty PSU slots\",IF($C$6=\"XCM8903SF-10000S\",\"              ->  1 blade 40xSFP 2x10GBT 2xSFP+  (XCM8944F)         ->  3 power supply panels for empty PSU slots\",IF($C$6=\"XCM8903SX-10000S\",\"              ->  1 blade 24x10GBT or 16xSFP+   (XCM8924X)            ->  3 power supply panels for empty PSU slots\",\"else\"))),\"\")","v":""}]
[null,null,null,{"$f":"IF($B6<>\"\",IF($C$6=\"XCM8903SK-10000S\",\"              ->  1 PoE+ daughter card (XCM89P)                                 ->  Rack-mount kit for 2-post racks  and wiring cabinets\",\"                                                                                                               ->  Rack-mount kit for 2-post racks  and wiring cabinets\"),\"\")","v":""}]
[null,null,null,{"$f":"IF($B6<>\"\",\"              ->  1 power supply unit (APS1000W)                               ->  Complimentary handles for rack-mount kit\",\"\")","v":""}]
[null,null,null,{"$f":"IF($B6<>\"\",\"              ->  1 front-to-back fan tray (AFT603)                               ->  Complimentary sliding rails kit for 4-post racks and wiring cabinets\",\"\")","v":""}]
[]
["I/O Blades",{"$f":"IF(COUNTIF(Conf6!$O$19:$P$68,\"*XCM8948*\")>=1,COUNTIF(Conf6!$O$19:$P$68,\"*XCM8948*\"),\"\")","v":""},{"$f":"IF($B14<>\"\",List!$C8,\"\")","v":""},{"$f":"IF($B14<>\"\",VLOOKUP($C14,List!$C$5:$H$55,2,FALSE),\"\")","v":""}]
[null,{"$f":"IF(COUNTIF(Conf6!$O$19:$P$67,\"*XCM8944*\")-COUNTIF(Conf6!$O$19:$P$67,\"*XCM8944F*\")>=1,IF($C$6=\"XCM8903SK-10000S\",IF( (COUNTIF(Conf6!$O$19:$P$67,\"*XCM8944*\")-COUNTIF(Conf6!$O$19:$P$67,\"*XCM8944F*\"))>=2, COUNTIF(Conf6!$O$19:$P$67,\"*XCM8944*\")-COUNTIF(Conf6!$O$19:$P$67,\"*XCM8944F*\")-1,\"\"),COUNTIF(Conf6!$O$19:$P$67,\"*XCM8944*\")-COUNTIF(Conf6!$O$19:$P$67,\"*XCM8944F*\")), \"\")","v":""},{"$f":"IF($B15<>\"\",List!$C9,\"\")","v":""},{"$f":"IF($B15<>\"\",VLOOKUP($C15,List!$C$5:$H$55,2,FALSE),\"\")","v":""}]
[null,{"$f":"IF(\nCOUNTIF(Conf6!$O$19:$P$68,\"*XCM8944F*\")>=1,\nIF($C$6=\"XCM8903SF-10000S\",IF(COUNTIF(Conf6!$O$19:$P$68,\"*XCM8944F*\")>=2, COUNTIF(Conf6!$O$19:$P$68,\"*XCM8944F*\")-1,\"\"), COUNTIF(Conf6!$O$19:$P$68,\"*XCM8944F*\")),\"\")","v":""},{"$f":"IF($B16<>\"\",List!$C10,\"\")","v":""},{"$f":"IF($B16<>\"\",VLOOKUP($C16,List!$C$5:$H$55,2,FALSE),\"\")","v":""}]
[null,{"$f":"IF(\nCOUNTIF(Conf6!$O$19:$P$68,\"*XCM8924X*\")>=1,\nIF($C$6=\"XCM8903SX-10000S\",IF(COUNTIF(Conf6!$O$19:$P$68,\"*XCM8924X*\")>=2, COUNTIF(Conf6!$O$19:$P$68,\"*XCM8924X*\")-1,\"\"), COUNTIF(Conf6!$O$19:$P$68,\"*XCM8924X*\")),\"\")","v":""},{"$f":"IF($B17<>\"\",List!$C11,\"\")","v":""},{"$f":"IF($B17<>\"\",VLOOKUP($C17,List!$C$5:$H$55,2,FALSE),\"\")","v":""}]
["Accessories",{"$f":"IF(COUNTIF(Conf6!$O$19:$P$68,\"*XCM89P*\")>=1,IF($C$6=\"XCM8903SK-10000S\",IF(COUNTIF(Conf6!$O$19:$P$68,\"*XCM89P*\")>=2,COUNTIF(Conf6!$O$19:$P$68,\"*XCM89P*\")-1,\"\"), COUNTIF(Conf6!$O$19:$P$68,\"*XCM89P*\")), \"\")","v":""},{"$f":"IF($B18<>\"\",List!$C12,\"\")","v":""},{"$f":"IF($B18<>\"\",VLOOKUP($C18,List!$C$5:$H$55,2,FALSE),\"\")","v":""}]
[null,{"$f":"IF(COUNTIF(Conf6!$O$19:$P$68,\"*XCM89UP*\")>=1,COUNTIF(Conf6!$O$19:$P$68,\"*XCM89UP*\"),\"\")","v":""},{"$f":"IF($B19<>\"\",List!$C13,\"\")","v":""},{"$f":"IF($B19<>\"\",VLOOKUP($C19,List!$C$5:$H$55,2,FALSE),\"\")","v":""}]
[null,{"$f":"IFERROR(IF(VLOOKUP(Conf6!$O$28,List!T34:Y41,6,FALSE)>=2,VLOOKUP(Conf6!$O$28,List!T34:Y41,6,FALSE)-1,\"\"),\"\")","v":""},{"$f":"IF($B20<>\"\",IF($F$20=\"NA/EMEA\",\"APS1000W-100NES\",IF($F$20=\"APAC\",\"APS1000W-100AJS\",\"\")),\"\")","v":""},{"$f":"IF($B20<>\"\",VLOOKUP($C20,List!$C$5:$H$55,2,FALSE),\"\")","v":""},"Localization","NA/EMEA"," Þ"]
[null,{"$f":"IF(COUNTIF(Conf6!$O$19:$P$68,\"*AFT603*\")>=1,COUNTIF(Conf6!$O$19:$P$68,\"*AFT603*\"),\"\")","v":""},{"$f":"IF($B21<>\"\",List!$C16,\"\")","v":""},{"$f":"IF($B21<>\"\",VLOOKUP($C21,List!$C$5:$H$55,2,FALSE),\"\")","v":""}]
[null,{"$f":"IF(COUNTIF(Conf6!$O$19:$P$68,\"*RPS4000v2*\")>=1,COUNTIF(Conf6!$O$19:$P$68,\"*RPS4000v2*\"),\"\")","v":""},{"$f":"IF($B22<>\"\",IF($F$20=\"NA/EMEA\",\"RPS4000-200NES\",IF($F$20=\"APAC\",\"RPS4000-200AJS\",\"\")),\"\")","v":""},{"$f":"IF($B22<>\"\",VLOOKUP($C22,List!$C$5:$H$55,2,FALSE),\"\")","v":""}]
["Service",{"$f":"IF(COUNTIF(Conf6!$O$19:$P$68,\"*PSB0304*\")>=1,COUNTIF(Conf6!$O$19:$P$68,\"*PSB0304*\"),\"\")","v":""},{"$f":"IF($B23<>\"\",List!$C19,\"\")","v":""},{"$f":"IF($B23<>\"\",VLOOKUP($C23,List!$C$5:$H$55,2,FALSE),\"\")","v":""}]
[null,{"$f":"IF(COUNTIF(Conf6!$O$19:$P$68,\"*PSP1104*\")>=1,COUNTIF(Conf6!$O$19:$P$68,\"*PSP1104*\"),\"\")","v":""},{"$f":"IF($B24<>\"\",List!$C20,\"\")","v":""},{"$f":"IF($B24<>\"\",VLOOKUP($C24,List!$C$5:$H$55,2,FALSE),\"\")","v":""}]
["Optics_Cables",{"$f":"IF(COUNTIF(Conf6!$O$19:$P$68,\"*AFM735*\")>=1,Conf6!$L56,\"\")","v":""},{"$f":"IF($B25<>\"\",List!$C21,\"\")","v":""},{"$f":"IF($B25<>\"\",VLOOKUP($C25,List!$C$5:$H$55,2,FALSE),\"\")","v":""}]
[null,{"$f":"IF(COUNTIF(Conf6!$O$19:$P$68,\"*AGM731F*\")>=1,Conf6!$L57,\"\")","v":""},{"$f":"IF($B26<>\"\",List!$C22,\"\")","v":""},{"$f":"IF($B26<>\"\",VLOOKUP($C26,List!$C$5:$H$55,2,FALSE),\"\")","v":""}]
[null,{"$f":"IF(COUNTIF(Conf6!$O$19:$P$68,\"*AGM732F*\")>=1,Conf6!$L58,\"\")","v":""},{"$f":"IF($B27<>\"\",List!$C23,\"\")","v":""},{"$f":"IF($B27<>\"\",VLOOKUP($C27,List!$C$5:$H$55,2,FALSE),\"\")","v":""}]
[null,{"$f":"IF(COUNTIF(Conf6!$O$19:$P$68,\"*AGM734*\")>=1,Conf6!$L59,\"\")","v":""},{"$f":"IF($B28<>\"\",List!$C24,\"\")","v":""},{"$f":"IF($B28<>\"\",VLOOKUP($C28,List!$C$5:$H$55,2,FALSE),\"\")","v":""}]
[null,{"$f":"IF(COUNTIF(Conf6!$O$19:$P$68,\"*AXM761*\")>=1,IF(Conf6!$L61<10,Conf6!$L61,IF(MOD(Conf6!$L61/10,1)=0,\"\",Conf6!$L61-10*INT(Conf6!$L61/10))),\"\")","v":""},{"$f":"IF($B29<>\"\",List!$C25,\"\")","v":""},{"$f":"IF($B29<>\"\",VLOOKUP($C29,List!$C$5:$H$55,2,FALSE),\"\")","v":""}]
[null,{"$f":"IF(COUNTIF(Conf6!$O$19:$P$68,\"*AXM761*\")>=1,IF(Conf6!$L61>=10,INT(Conf6!$L61/10),\"\"),\"\")","v":""},{"$f":"IF($B30<>\"\",List!$C26,\"\")","v":""},{"$f":"IF($B30<>\"\",VLOOKUP($C30,List!$C$5:$H$55,2,FALSE),\"\")","v":""}]
[null,{"$f":"IF(COUNTIF(Conf6!$O$19:$P$68,\"*AXM762*\")>=1,IF(Conf6!$L62<10,Conf6!$L62,IF(MOD(Conf6!$L62/10,1)=0,\"\",Conf6!$L62-10*INT(Conf6!$L62/10))),\"\")","v":""},{"$f":"IF($B31<>\"\",List!$C27,\"\")","v":""},{"$f":"IF($B31<>\"\",VLOOKUP($C31,List!$C$5:$H$55,2,FALSE),\"\")","v":""}]
[null,{"$f":"IF(COUNTIF(Conf6!$O$19:$P$68,\"*AXM762*\")>=1,IF(Conf6!$L62>=10,INT(Conf6!$L62/10),\"\"),\"\")","v":""},{"$f":"IF($B32<>\"\",List!$C28,\"\")","v":""},{"$f":"IF($B32<>\"\",VLOOKUP($C32,List!$C$5:$H$55,2,FALSE),\"\")","v":""}]
[null,{"$f":"IF(COUNTIF(Conf6!$O$19:$P$68,\"*AXM763*\")>=1,Conf6!$L63,\"\")","v":""},{"$f":"IF($B33<>\"\",List!$C29,\"\")","v":""},{"$f":"IF($B33<>\"\",VLOOKUP($C33,List!$C$5:$H$55,2,FALSE),\"\")","v":""}]
[null,{"$f":"IF(COUNTIF(Conf6!$O$19:$P$68,\"*AXM764*\")>=1,Conf6!$L64,\"\")","v":""},{"$f":"IF($B34<>\"\",List!$C30,\"\")","v":""},{"$f":"IF($B34<>\"\",VLOOKUP($C34,List!$C$5:$H$55,2,FALSE),\"\")","v":""}]
[null,{"$f":"IF(COUNTIF(Conf6!$O$19:$P$68,\"*AXC761*\")>=1,Conf6!$L65,\"\")","v":""},{"$f":"IF($B35<>\"\",List!$C31,\"\")","v":""},{"$f":"IF($B35<>\"\",VLOOKUP($C35,List!$C$5:$H$55,2,FALSE),\"\")","v":""}]
[null,{"$f":"IF(COUNTIF(Conf6!$O$19:$P$68,\"*AXC763*\")>=1,Conf6!$L66,\"\")","v":""},{"$f":"IF($B36<>\"\",List!$C32,\"\")","v":""},{"$f":"IF($B36<>\"\",VLOOKUP($C36,List!$C$5:$H$55,2,FALSE),\"\")","v":""}]
[]
["Total",{"$f":"IF(SUM(B6:B36)>0,SUM(B6:B36),\"\")","v":""}]
[null,null,null,{"$f":"IFERROR(VLOOKUP($C39,List!$C$5:$H$153,2,FALSE),\"\")","v":""}]
[null,null,null,{"$f":"IFERROR(VLOOKUP($C40,List!$C$5:$H$153,2,FALSE),\"\")","v":""}]
[null,null,null,{"$f":"IFERROR(VLOOKUP($C41,List!$C$5:$H$153,2,FALSE),\"\")","v":""}]
[null,null,null,{"$f":"IFERROR(VLOOKUP($C42,List!$C$5:$H$153,2,FALSE),\"\")","v":""}]
[null,null,null,{"$f":"IFERROR(VLOOKUP($C43,List!$C$5:$H$153,2,FALSE),\"\")","v":""}]
[null,null,null,{"$f":"IFERROR(VLOOKUP($C44,List!$C$5:$H$153,2,FALSE),\"\")","v":""}]
[null,null,null,{"$f":"IFERROR(VLOOKUP($C45,List!$C$5:$H$153,2,FALSE),\"\")","v":""}]
[null,null,null,{"$f":"IFERROR(VLOOKUP($C46,List!$C$5:$H$153,2,FALSE),\"\")","v":""}]
[null,null,null,{"$f":"IFERROR(VLOOKUP($C47,List!$C$5:$H$153,2,FALSE),\"\")","v":""}]
[null,null,null,{"$f":"IFERROR(VLOOKUP($C48,List!$C$5:$H$153,2,FALSE),\"\")","v":""}]
[null,null,null,{"$f":"IFERROR(VLOOKUP($C49,List!$C$5:$H$153,2,FALSE),\"\")","v":""}]
[null,null,null,{"$f":"IFERROR(VLOOKUP($C50,List!$C$5:$H$153,2,FALSE),\"\")","v":""}]
[null,null,null,{"$f":"IFERROR(VLOOKUP($C51,List!$C$5:$H$153,2,FALSE),\"\")","v":""}]
[null,null,null,{"$f":"IFERROR(VLOOKUP($C52,List!$C$5:$H$153,2,FALSE),\"\")","v":""}]
[null,null,null,{"$f":"IFERROR(VLOOKUP($C53,List!$C$5:$H$153,2,FALSE),\"\")","v":""}]
[null,null,null,{"$f":"IFERROR(VLOOKUP($C54,List!$C$5:$H$153,2,FALSE),\"\")","v":""}]
[null,null,null,{"$f":"IFERROR(VLOOKUP($C55,List!$C$5:$H$153,2,FALSE),\"\")","v":""}]
[null,null,null,{"$f":"IFERROR(VLOOKUP($C56,List!$C$5:$H$153,2,FALSE),\"\")","v":""}]
[null,null,null,{"$f":"IFERROR(VLOOKUP($C57,List!$C$5:$H$153,2,FALSE),\"\")","v":""}]
[null,null,null,{"$f":"IFERROR(VLOOKUP($C58,List!$C$5:$H$153,2,FALSE),\"\")","v":""}]
[null,null,null,{"$f":"IFERROR(VLOOKUP($C59,List!$C$5:$H$153,2,FALSE),\"\")","v":""}]
[null,null,null,{"$f":"IFERROR(VLOOKUP($C60,List!$C$5:$H$153,2,FALSE),\"\")","v":""}]
[null,null,null,{"$f":"IFERROR(VLOOKUP($C61,List!$C$5:$H$153,2,FALSE),\"\")","v":""}]
[null,null,null,{"$f":"IFERROR(VLOOKUP($C62,List!$C$5:$H$153,2,FALSE),\"\")","v":""}]
[null,null,null,{"$f":"IFERROR(VLOOKUP($C63,List!$C$5:$H$153,2,FALSE),\"\")","v":""}]
[null,null,null,{"$f":"IFERROR(VLOOKUP($C64,List!$C$5:$H$153,2,FALSE),\"\")","v":""}]
[null,null,null,{"$f":"IFERROR(VLOOKUP($C65,List!$C$5:$H$153,2,FALSE),\"\")","v":""}]
[null,null,null,{"$f":"IFERROR(VLOOKUP($C66,List!$C$5:$H$153,2,FALSE),\"\")","v":""}]
[null,null,null,{"$f":"IFERROR(VLOOKUP($C67,List!$C$5:$H$153,2,FALSE),\"\")","v":""}]
[null,null,null,{"$f":"IFERROR(VLOOKUP($C68,List!$C$5:$H$153,2,FALSE),\"\")","v":""}]
[null,null,null,{"$f":"IFERROR(VLOOKUP($C69,List!$C$5:$H$153,2,FALSE),\"\")","v":""}]

{"sheet":"Conf7","index":13,"n_rows":68,"n_cols":17,"rows_kept":68,"cut":false,"hidden":false,"merged":[[21,5,21,12],[21,14,21,16],[1,8,1,10],[14,5,14,12],[17,0,17,2],[19,5,19,12],[19,14,19,16],[23,5,23,12],[23,14,23,16],[27,5,27,12],[27,14,29,16],[31,4,31,6],[31,9,31,11],[56,0,56,10],[56,11,56,12],[33,4,33,6],[34,9,34,11],[36,1,36,3],[36,5,36,8],[37,5,37,7],[38,6,38,7],[38,10,39,11],[39,1,39,4],[39,6,39,9],[41,5,41,9],[41,11,41,12],[44,8,44,12],[55,0,55,10],[55,11,55,12],[57,0,57,10],[57,11,57,12],[58,0,58,10],[58,11,58,12],[60,0,60,10],[60,11,60,12],[61,0,61,10],[61,11,61,12],[62,0,62,10],[62,11,62,12],[63,0,63,10],[63,11,63,12],[64,0,64,10],[64,11,64,12],[65,0,65,10],[65,11,65,12],[66,11,66,12]]}
[]
[null,null,null,null,null,null,null,null,"Green cells are editable"]
[]
[]
["The M6100 switch series consists of Gigabit access layer and 10 Gigabit distribution layer switches in NETGEAR modular chassis switch product line.  "]
["The M6100 switch series offers high-quality, high-density chassis alternative to stackable switches in campus LAN and midsize organizations demanding networks.  "]
["With more than 1.4 Tbps switching and routing capacity, passive backplane, management and fabric nonstop forwarding redundancy, the M6100 series delivers world-class resiliency and scalability. "]
["Ultimately, operating software and system management features take the complexity out of delivering L2/L3/L4 rich services for enterprise edge and SMB core deployments."]
[]
[" "]
[]
[]
[]
[]
["Select Model",null,null,null,null,"NETGEAR M6100 Series 3-slot Chassis Switch ",null,null,null,null,null,null,null,null,{"$f":"VLOOKUP(F15,List!$L$4:$V$5,9,FALSE)","v":"M6100-3S"}]
[]
["Advanced Layer 2, Layer 3 and Layer 4 feature set - no license required - including RIP, VRRP, OSPF, PIM, BGP, PBR, MLAG, PV(R)ST, RSPAN, DCBX, PFC, ETS and FCoE FIP \n"]
["Information and datasheet",null,null,"here"]
[]
["Blades",null,null,null,"I/O Supervisory - Slot 1","Empty slot with blank panel",null,null,null,null,null,null,null,null,{"$f":"VLOOKUP(F20,List!$L$16:$V$24,9,FALSE)","v":"-"}]
[]
[null,null,null,null,"I/O Back-up Supervisory - Slot 2","Empty slot with blank panel",null,null,null,null,null,null,null,null,{"$f":"VLOOKUP(F22,List!$L$16:$V$24,9,FALSE)","v":"-"}]
[]
[null,null,null,null,"I/O Line Card - Slot 3","Empty slot with blank panel",null,null,null,null,null,null,null,null,{"$f":"VLOOKUP(F24,List!$L$16:$V$24,9,FALSE)","v":"-"}]
[]
["Each Line Card provides line-rate switching and routing capacity.   Each Slot provides 8 x 10G channels (80G half-duplex / 160G full-duplex) access to passive backplane."]
[]
["Number of Power Supply Units",null,null,null,null,"1 power supply unit",null,null,null,null,null,null,null,null,{"$f":"VLOOKUP(F28,List!$L$34:$V$41,9,FALSE)","v":"One unit APS1000W"}]
[]
[]
[]
[null,null,null,null,"Indicate AC Voltage:",null,null,110,"V Þ","Number of PSUs sufficient:",null,null,{"$f":"IF(M33<=10,\"NO\",\"YES\")","v":"YES"},"ç Enough power for the chassis?"]
[null,null,null,null,null,null,null,null,null,null,null,"Power Budget Remaining (Watts):",{"$f":"IF(COUNTIF($O$19:$O$26,\"*XCM89P*\")+COUNTIF($O$19:$O$26,\"*XCM89UP*\")>0,\n\nIF($H$32<220,IF($H$34=\"No\",VLOOKUP($O$28,List!$T$34:$X$41,2,FALSE),VLOOKUP($O$28,List!$T$34:$X$41,3,FALSE)),IF($H$34=\"No\",VLOOKUP($O$28,List!$T$34:$X$41,4,FALSE),VLOOKUP($O$28,List!$T$34:$X$41,5,FALSE)))-VLOOKUP($O$20,List!$T$16:$U$24,2,FALSE)-VLOOKUP($O$22,List!$T$16:$U$24,2,FALSE)-VLOOKUP($O$24,List!$T$16:$U$24,2,FALSE)-IFERROR((COUNTIF($O$19:$O$26,\"XCM8948 + XCM89P\")*48+COUNTIF($O$19:$O$26,\"XCM8944 + XCM89P\")*40)*IF(Class=\"Other\",D39,VLOOKUP(E38,List!M27:O30,3,FALSE)),0)-IFERROR((COUNTIF($O$19:$O$26,\"XCM8948 + XCM89UP\")*48+COUNTIF($O$19:$O$26,\"XCM8944 + XCM89UP\")*40)*IF(J38=\"Other\",I39,VLOOKUP(J38,List!Q27:S29,3,FALSE)),0),\n\nIF($H$32<220,IF($H$34=\"No\",VLOOKUP($O$28,List!$T$34:$X$41,2,FALSE),VLOOKUP($O$28,List!$T$34:$X$41,3,FALSE)),IF($H$34=\"No\",VLOOKUP($O$28,List!$T$34:$X$41,4,FALSE),VLOOKUP($O$28,List!$T$34:$X$41,5,FALSE)))-VLOOKUP($O$20,List!$T$16:$U$24,2,FALSE)-VLOOKUP($O$22,List!$T$16:$U$24,2,FALSE)-VLOOKUP($O$24,List!$T$16:$U$24,2,FALSE)\n\n)","v":640},"Keep adding PSUs until \"YES\""]
[null,null,null,null,"N+1 Required for Redundancy:",null,null,"No"," Þ",null,null,"Power Drawn from Wall (Watts):",{"$f":"IF(COUNTIF($O$19:$O$26,\"*XCM89P*\")+COUNTIF($O$19:$O$26,\"*XCM89UP*\")>0,\n\nROUNDUP((VLOOKUP($O$20,List!$T$16:$U$24,2,FALSE)+VLOOKUP($O$22,List!$T$16:$U$24,2,FALSE)+VLOOKUP($O$24,List!$T$16:$U$24,2,FALSE)+IFERROR((COUNTIF($O$19:$O$26,\"XCM8948 + XCM89P\")*48+COUNTIF($O$19:$O$26,\"XCM8944 + XCM89P\")*40)*IF(Class=\"Other\",D39,VLOOKUP(E38,List!M27:O30,3,FALSE)),0)+IFERROR((COUNTIF($O$19:$O$26,\"XCM8948 + XCM89UP\")*48+COUNTIF($O$19:$O$26,\"XCM8944 + XCM89UP\")*40)*IF(J38=\"Other\",I39,VLOOKUP(J38,List!Q27:S29,3,FALSE)),0))/0.8,0),\n\n\nROUNDUP((VLOOKUP($O$20,List!$T$16:$U$24,2,FALSE)+VLOOKUP($O$22,List!$T$16:$U$24,2,FALSE)+VLOOKUP($O$24,List!$T$16:$U$24,2,FALSE))/0.8,0)\n\n)","v":0}]
[null,null,null,null,null,null,null,null,null,"Thermal Dissipation (BTU/hr):",null,null,{"$f":"ROUNDUP(M34*3.415,0)","v":0}]
[null,null,null,null,null,null,null,null,null,null,null,"Available PoE Budget (Watts):",{"$f":"IF($H$32<220,IF($H$34=\"No\",VLOOKUP($O$28,List!$T$34:$X$41,2,FALSE),VLOOKUP($O$28,List!$T$34:$X$41,3,FALSE)),IF($H$34=\"No\",VLOOKUP($O$28,List!$T$34:$X$41,4,FALSE),VLOOKUP($O$28,List!$T$34:$X$41,5,FALSE)))-VLOOKUP($O$20,List!$T$16:$U$24,2,FALSE)-VLOOKUP($O$22,List!$T$16:$U$24,2,FALSE)-VLOOKUP($O$24,List!$T$16:$U$24,2,FALSE)","v":640}]
[null,{"$f":"\"Blade configuration is  \"&(COUNTIF($O$19:$O$26,\"XCM8948 + XCM89P\")*48+COUNTIF($O$19:$O$26,\"XCM8944 + XCM89P\")*40)&\"  PoE+ ports\"","v":"Blade configuration is  0  PoE+ ports"},null,null,null,{"$f":"\"Blade configuration is  \"&(COUNTIF($O$19:$O$26,\"XCM8948 + XCM89UP\")*48+COUNTIF($O$19:$O$26,\"XCM8944 + XCM89UP\")*40)&\"  UPOE ports\"","v":"Blade configuration is  0  UPOE ports"},null,null,null,null,null,null,{"$f":"IF($M$33>0,\"YES\",\"NO\")","v":"YES"}]
[null,"Wattage W/port?  (Class)",null,"4.0W PSE",{"$f":"IF(D38=\"\",\"\",D38)","v":"4.0W PSE"},"Wattage W/port?  (Class)",null,null,"40W PSE",{"$f":"IF(I38=\"\",\"\",I38)","v":"40W PSE"},null,null,"é"]
[null,{"$f":"IF($E$38=\"other\",\"Override PSE W/port:\",\"\")","v":""},null,20,"W  Þ",null,{"$f":"IF($J$38=\"Other\",\"Override PSE W/port:\",\"\")","v":""},null,40,"W  Þ",{"$f":"\"Total:                                             \"&ROUNDUP(IFERROR((COUNTIF($O$19:$O$26,\"XCM8948 + XCM89P\")*48+COUNTIF($O$19:$O$26,\"XCM8944 + XCM89P\")*40)*IF(Class=\"Other\",D39,VLOOKUP(E38,List!M27:O30,3,FALSE)),0)+IFERROR((COUNTIF($O$19:$O$26,\"XCM8948 + XCM89UP\")*48+COUNTIF($O$19:$O$26,\"XCM8944 + XCM89UP\")*40)*IF(J38=\"Other\",I39,VLOOKUP(J38,List!Q27:S29,3,FALSE)),0),0)&\"W PSE required                                      <--  PoE+ / UPOE  -->\"","v":"Total:                                             0W PSE required                                      <--  PoE+ / UPOE  -->"},null,"Check if your PoE"]
[null,"<------  POE+ requirements ------>",null,null,null,null,"<------  UPOE requirements ------>",null,null,null,null,null,"budget is sufficient"]
[]
["Spare",null,null,null,null," How many Spare Fan Tray units required?",null,null,null,null,null,0,null,"Þ",{"$f":"IF(L42>0,IF(L42=1,L42&\" unit \"&VLOOKUP($O$15,List!$L$47:$V$48,9,FALSE),L42&\" units \"&VLOOKUP($O$15,List!$L$47:$V$48,9,FALSE)),\"-\")","v":"-"}]
[]
[]
["Service",null,null,null,null,"Installation Service required?",null,null,"No service required",null,null,null,null,"Þ",{"$f":"IF(VLOOKUP($I$45,List!$L$43:$T$45,9,FALSE)<>\"-\",VLOOKUP($I$45,List!$L$43:$T$45,9,FALSE)&\" contract\",VLOOKUP($I$45,List!$L$43:$T$45,9,FALSE))","v":"-"}]
[]
[null,null,null,"ProSupport Installation Setup & Configuration (Remote or Onsite):"]
[]
[]
[]
[null,null,null,"Information and datasheet",null,null,"here",null," * Available Only with Onsite Installation"]
[]
["NETGEAR Fully Managed Switches offer 24x7 Lifetime Technical Support and Lifetime Next Business Day Shipping Hardware Replacement  -  for products purchased on of after June 1, 2014 \n"]
[null,null,null,null,null,null,null,null,null,null,null,null,null,null,null,{"$f":"COUNTIF($O$19:$O$26,\"*XCM8944*\")*2+COUNTIF($O$19:$O$26,\"XCM8924X*\")*16","v":0},"SFP+ ports"]
["Optics, DAC Cables",null,null,null,null,null,null,null,null,{"$f":"IF($P$54+$P$55>1,($P$54+$P$55)&\" SFP / SFP+ ports in above configuration:\",\"\")","v":""},null,null,null,null,null,{"$f":"COUNTIF($O$19:$O$26,\"*XCM8944F*\")*40","v":0},"SFP ports "]
[{"$f":"IF(SFP>1,\"For \"&SFP&\" SFP ports, how many 100BASE-FX SFP LC GBIC (multimode, 2km OM4/OM3/OM2/OM1 50/125µm and 62.5/125µm)?\",\"\")","v":""},null,null,null,null,null,null,null,null,null,null,0,null,"Þ",{"$f":"IF(L56=\"\",\"-\",IF(SFP>1,IF(L56>=1,IF(L56=1,L56&\" unit AFM735\",L56&\" units AFM735\"),\"-\"),\"\"))","v":""}]
[{"$f":"IF(SFPP>1,IF(SFP>1,\"For \"&SFP+SFPP&\" SFP/SFP+ ports, how many 1000BASE-SX SFP LC GBIC (multimode, 1000m OM4, 550m OM3 50/125µm, 275m OM2/OM1 62.5/125µm)?\",\"For \"&SFPP&\" SFP+ ports, how many 1000BASE-SX SFP LC GBIC (multimode, 1000m OM4, 550m OM3 50/125µm, 275m OM2/OM1 62.5/125µm)?\"),IF(SFP>1,\"For \"&SFP&\" SFP ports, how many 1000BASE-SX SFP LC GBIC (multimode, 1000m OM4, 550m OM3 50/125µm, 275m OM2/OM1 62.5/125µm)?\",\"\"))","v":""},null,null,null,null,null,null,null,null,null,null,0,null,"Þ",{"$f":"IF(L57=\"\",\"-\",IF(SFP+SFPP>1,IF(L57>=1,IF(L57=1,L57&\" unit AGM731F\",L57&\" units AGM731F\"),\"-\"),\"\"))","v":""}]
[{"$f":"IF(SFPP>1,IF(SFP>1,\"For \"&SFP+SFPP&\" SFP/SFP+ ports, how many 1000BASE-LX SFP LC GBIC (single mode, 10km 9/125µm)?\",\"For \"&SFPP&\" SFP+ ports, how many 1000BASE-LX SFP LC GBIC (single mode, 10km 9/125µm)?\"),IF(SFP>1,\"For \"&SFP&\" SFP ports, how many 1000BASE-LX SFP LC GBIC (single mode, 10km 9/125µm)?\",\"\"))","v":""},null,null,null,null,null,null,null,null,null,null,0,null,"Þ",{"$f":"IF(L58=\"\",\"-\",IF(SFP+SFPP>1,IF(L58>=1,IF(L58=1,L58&\" unit AGM732F\",L58&\" units AGM732F\"),\"-\"),\"\"))","v":""}]
[{"$f":"IF(SFP>1,\"For \"&SFP&\" SFP ports, how many 1000BASE-T SFP RJ45 GBIC?\",\"\")","v":""},null,null,null,null,null,null,null,null,null,null,0,null,"Þ",{"$f":"IF(L59=\"\",\"-\",IF(SFP>1,IF(L59>=1,IF(L59=1,L59&\" unit AGM734\",L59&\" units AGM734\"),\"-\"),\"\"))","v":""}]
[null,null,null,null,{"$f":"IF(SFP+SFPP>1,\"\",\"No optics required in above M6100 switch series configuration\")","v":"No optics required in above M6100 switch series configuration"}]
[{"$f":"IF(SFPP>1,\"For \"&SFPP&\" SFP+ ports, how many 10GBASE-SR SFP+ LC GBIC (multimode, 550m OM4, 300m OM3 50/125µm, 33m OM2/OM1 62.5/125µm)?\",\"\")","v":""},null,null,null,null,null,null,null,null,null,null,0,null,"Þ",{"$f":"IF(L61=\"\",\"-\",IF(SFPP>1,IF(L61>=1,IF(L61=1,L61&\" unit AXM761\",L61&\" units AXM761\"),\"-\"),\"\"))","v":""}]
[{"$f":"IF(SFPP>1,\"For \"&SFPP&\" SFP+ ports, how many 10GBASE-LR SFP+ LC GBIC (single mode, 10km 9/125µm)?\",\"\")","v":""},null,null,null,null,null,null,null,null,null,null,0,null,"Þ",{"$f":"IF(L62=\"\",\"-\",IF(SFPP>1,IF(L62>=1,IF(L62=1,L62&\" unit AXM762\",L62&\" units AXM762\"),\"-\"),\"\"))","v":""}]
[{"$f":"IF(SFPP>1,\"For \"&SFPP&\" SFP+ ports, how many 10GBASE-LRM SFP+ LC GBIC (multimode, 260m OM4/OM3 50/125µm, 220m OM2/OM1 62.5/125µm)?\",\"\")","v":""},null,null,null,null,null,null,null,null,null,null,0,null,"Þ",{"$f":"IF(L63=\"\",\"-\",IF(SFPP>1,IF(L63>=1,IF(L63=1,L63&\" unit AXM763\",L63&\" units AXM763\"),\"-\"),\"\"))","v":""}]
[{"$f":"IF(SFPP>1,\"For \"&SFPP&\" SFP+ ports, how many 10GBASE-LR LITE SFP+ LC GBIC (single mode, 2km 9/125µm)?\",\"\")","v":""},null,null,null,null,null,null,null,null,null,null,0,null,"Þ",{"$f":"IF(L64=\"\",\"-\",IF(SFPP>1,IF(L64>=1,IF(L64=1,L64&\" unit AXM764\",L64&\" units AXM764\"),\"-\"),\"\"))","v":""}]
[{"$f":"IF(SFPP>1,\"For \"&SFPP&\" SFP+ ports, how many passive Direct Attach SFP+ copper DAC cables (1m)?\",\"\")","v":""},null,null,null,null,null,null,null,null,null,null,0,null,"Þ",{"$f":"IF(L65=\"\",\"-\",IF(SFPP>1,IF(L65>=1,IF(L65=1,L65&\" unit AXC761\",L65&\" units AXC761\"),\"-\"),\"\"))","v":""}]
[{"$f":"IF(SFPP>1,\"For \"&SFPP&\" SFP+ ports, how many passive Direct Attach SFP+ copper DAC cables (3m)?\",\"\")","v":""},null,null,null,null,null,null,null,null,null,null,0,null,"Þ",{"$f":"IF(L66=\"\",\"-\",IF(SFPP>1,IF(L66>=1,IF(L66=1,L66&\" unit AXC763\",L66&\" units AXC763\"),\"-\"),\"\"))","v":""}]
[]
["M6100 switch series will only support genuine NETGEAR SFP and SFP+ mini-GBIC transceivers. Third-party DAC cables may be used.\n",null,null,null,null,null,null,null,null,null,null,null,null,null,null,null,"END"]

{"sheet":"SKU7","index":14,"n_rows":69,"n_cols":7,"rows_kept":69,"cut":false,"hidden":false,"merged":[]}
[]
[]
[]
[]
["Category","Quantity","Ordering Number","Description"]
["Chassis Starter Kit",{"$f":"IF(LEN(Conf7!$O$20&Conf7!$O$22&Conf7!$O$24)>3,1,\"\")","v":""},{"$f":"IF(LEN(Conf7!$O$20&Conf7!$O$22&Conf7!$O$24)>3,IF(COUNTIF(Conf7!$O$20:'Conf7'!$O$24,\"XCM8924X\")>=1,\"XCM8903SX-10000S\",IF(COUNTIF(Conf7!$O$20:'Conf7'!$O$24,\"XCM8944F\")>=1,\"XCM8903SF-10000S\",\"XCM8903SK-10000S\")),\"\")","v":""},{"$f":"IF($B6<>\"\",VLOOKUP($C6,List!$C$5:$H$55,2,FALSE)&\"                             Starter kit includes:\",\"\")","v":""}]
[]
[null,null,null,{"$f":"IF($B6<>\"\",\"              ->  1 empty chassis  M6100-3S (XCM8903)                    ->  2 blank panels for open blade slots\",\"\")","v":""}]
[null,null,null,{"$f":"IF($B6<>\"\",IF($C$6=\"XCM8903SK-10000S\",\"              ->  1 blade 40x1G 2x10GBT 2xSFP+  (XCM8944)            ->  3 power supply panels for empty PSU slots\",IF($C$6=\"XCM8903SF-10000S\",\"              ->  1 blade 40xSFP 2x10GBT 2xSFP+  (XCM8944F)         ->  3 power supply panels for empty PSU slots\",IF($C$6=\"XCM8903SX-10000S\",\"              ->  1 blade 24x10GBT or 16xSFP+   (XCM8924X)            ->  3 power supply panels for empty PSU slots\",\"else\"))),\"\")","v":""}]
[null,null,null,{"$f":"IF($B6<>\"\",IF($C$6=\"XCM8903SK-10000S\",\"              ->  1 PoE+ daughter card (XCM89P)                                 ->  Rack-mount kit for 2-post racks  and wiring cabinets\",\"                                                                                                               ->  Rack-mount kit for 2-post racks  and wiring cabinets\"),\"\")","v":""}]
[null,null,null,{"$f":"IF($B6<>\"\",\"              ->  1 power supply unit (APS1000W)                               ->  Complimentary handles for rack-mount kit\",\"\")","v":""}]
[null,null,null,{"$f":"IF($B6<>\"\",\"              ->  1 front-to-back fan tray (AFT603)                               ->  Complimentary sliding rails kit for 4-post racks and wiring cabinets\",\"\")","v":""}]
[]
["I/O Blades",{"$f":"IF(COUNTIF(Conf7!$O$19:$P$68,\"*XCM8948*\")>=1,COUNTIF(Conf7!$O$19:$P$68,\"*XCM8948*\"),\"\")","v":""},{"$f":"IF($B14<>\"\",List!$C8,\"\")","v":""},{"$f":"IF($B14<>\"\",VLOOKUP($C14,List!$C$5:$H$55,2,FALSE),\"\")","v":""}]
[null,{"$f":"IF(COUNTIF(Conf7!$O$19:$P$67,\"*XCM8944*\")-COUNTIF(Conf7!$O$19:$P$67,\"*XCM8944F*\")>=1,IF($C$6=\"XCM8903SK-10000S\",IF( (COUNTIF(Conf7!$O$19:$P$67,\"*XCM8944*\")-COUNTIF(Conf7!$O$19:$P$67,\"*XCM8944F*\"))>=2, COUNTIF(Conf7!$O$19:$P$67,\"*XCM8944*\")-COUNTIF(Conf7!$O$19:$P$67,\"*XCM8944F*\")-1,\"\"),COUNTIF(Conf7!$O$19:$P$67,\"*XCM8944*\")-COUNTIF(Conf7!$O$19:$P$67,\"*XCM8944F*\")), \"\")","v":""},{"$f":"IF($B15<>\"\",List!$C9,\"\")","v":""},{"$f":"IF($B15<>\"\",VLOOKUP($C15,List!$C$5:$H$55,2,FALSE),\"\")","v":""}]
[null,{"$f":"IF(\nCOUNTIF(Conf7!$O$19:$P$68,\"*XCM8944F*\")>=1,\nIF($C$6=\"XCM8903SF-10000S\",IF(COUNTIF(Conf7!$O$19:$P$68,\"*XCM8944F*\")>=2, COUNTIF(Conf7!$O$19:$P$68,\"*XCM8944F*\")-1,\"\"), COUNTIF(Conf7!$O$19:$P$68,\"*XCM8944F*\")),\"\")","v":""},{"$f":"IF($B16<>\"\",List!$C10,\"\")","v":""},{"$f":"IF($B16<>\"\",VLOOKUP($C16,List!$C$5:$H$55,2,FALSE),\"\")","v":""}]
[null,{"$f":"IF(\nCOUNTIF(Conf7!$O$19:$P$68,\"*XCM8924X*\")>=1,\nIF($C$6=\"XCM8903SX-10000S\",IF(COUNTIF(Conf7!$O$19:$P$68,\"*XCM8924X*\")>=2, COUNTIF(Conf7!$O$19:$P$68,\"*XCM8924X*\")-1,\"\"), COUNTIF(Conf7!$O$19:$P$68,\"*XCM8924X*\")),\"\")","v":""},{"$f":"IF($B17<>\"\",List!$C11,\"\")","v":""},{"$f":"IF($B17<>\"\",VLOOKUP($C17,List!$C$5:$H$55,2,FALSE),\"\")","v":""}]
["Accessories",{"$f":"IF(COUNTIF(Conf7!$O$19:$P$68,\"*XCM89P*\")>=1,IF($C$6=\"XCM8903SK-10000S\",IF(COUNTIF(Conf7!$O$19:$P$68,\"*XCM89P*\")>=2,COUNTIF(Conf7!$O$19:$P$68,\"*XCM89P*\")-1,\"\"), COUNTIF(Conf7!$O$19:$P$68,\"*XCM89P*\")), \"\")","v":""},{"$f":"IF($B18<>\"\",List!$C12,\"\")","v":""},{"$f":"IF($B18<>\"\",VLOOKUP($C18,List!$C$5:$H$55,2,FALSE),\"\")","v":""}]
[null,{"$f":"IF(COUNTIF(Conf7!$O$19:$P$68,\"*XCM89UP*\")>=1,COUNTIF(Conf7!$O$19:$P$68,\"*XCM89UP*\"),\"\")","v":""},{"$f":"IF($B19<>\"\",List!$C13,\"\")","v":""},{"$f":"IF($B19<>\"\",VLOOKUP($C19,List!$C$5:$H$55,2,FALSE),\"\")","v":""}]
[null,{"$f":"IFERROR(IF(VLOOKUP(Conf7!$O$28,List!T34:Y41,6,FALSE)>=2,VLOOKUP(Conf7!$O$28,List!T34:Y41,6,FALSE)-1,\"\"),\"\")","v":""},{"$f":"IF($B20<>\"\",IF($F$20=\"NA/EMEA\",\"APS1000W-100NES\",IF($F$20=\"APAC\",\"APS1000W-100AJS\",\"\")),\"\")","v":""},{"$f":"IF($B20<>\"\",VLOOKUP($C20,List!$C$5:$H$55,2,FALSE),\"\")","v":""},"Localization","NA/EMEA"," Þ"]
[null,{"$f":"IF(COUNTIF(Conf7!$O$19:$P$68,\"*AFT603*\")>=1,COUNTIF(Conf7!$O$19:$P$68,\"*AFT603*\"),\"\")","v":""},{"$f":"IF($B21<>\"\",List!$C16,\"\")","v":""},{"$f":"IF($B21<>\"\",VLOOKUP($C21,List!$C$5:$H$55,2,FALSE),\"\")","v":""}]
[null,{"$f":"IF(COUNTIF(Conf7!$O$19:$P$68,\"*RPS4000v2*\")>=1,COUNTIF(Conf7!$O$19:$P$68,\"*RPS4000v2*\"),\"\")","v":""},{"$f":"IF($B22<>\"\",IF($F$20=\"NA/EMEA\",\"RPS4000-200NES\",IF($F$20=\"APAC\",\"RPS4000-200AJS\",\"\")),\"\")","v":""},{"$f":"IF($B22<>\"\",VLOOKUP($C22,List!$C$5:$H$55,2,FALSE),\"\")","v":""}]
["Service",{"$f":"IF(COUNTIF(Conf7!$O$19:$P$68,\"*PSB0304*\")>=1,COUNTIF(Conf7!$O$19:$P$68,\"*PSB0304*\"),\"\")","v":""},{"$f":"IF($B23<>\"\",List!$C19,\"\")","v":""},{"$f":"IF($B23<>\"\",VLOOKUP($C23,List!$C$5:$H$55,2,FALSE),\"\")","v":""}]
[null,{"$f":"IF(COUNTIF(Conf7!$O$19:$P$68,\"*PSP1104*\")>=1,COUNTIF(Conf7!$O$19:$P$68,\"*PSP1104*\"),\"\")","v":""},{"$f":"IF($B24<>\"\",List!$C20,\"\")","v":""},{"$f":"IF($B24<>\"\",VLOOKUP($C24,List!$C$5:$H$55,2,FALSE),\"\")","v":""}]
["Optics_Cables",{"$f":"IF(COUNTIF(Conf7!$O$19:$P$68,\"*AFM735*\")>=1,Conf7!$L56,\"\")","v":""},{"$f":"IF($B25<>\"\",List!$C21,\"\")","v":""},{"$f":"IF($B25<>\"\",VLOOKUP($C25,List!$C$5:$H$55,2,FALSE),\"\")","v":""}]
[null,{"$f":"IF(COUNTIF(Conf7!$O$19:$P$68,\"*AGM731F*\")>=1,Conf7!$L57,\"\")","v":""},{"$f":"IF($B26<>\"\",List!$C22,\"\")","v":""},{"$f":"IF($B26<>\"\",VLOOKUP($C26,List!$C$5:$H$55,2,FALSE),\"\")","v":""}]
[null,{"$f":"IF(COUNTIF(Conf7!$O$19:$P$68,\"*AGM732F*\")>=1,Conf7!$L58,\"\")","v":""},{"$f":"IF($B27<>\"\",List!$C23,\"\")","v":""},{"$f":"IF($B27<>\"\",VLOOKUP($C27,List!$C$5:$H$55,2,FALSE),\"\")","v":""}]
[null,{"$f":"IF(COUNTIF(Conf7!$O$19:$P$68,\"*AGM734*\")>=1,Conf7!$L59,\"\")","v":""},{"$f":"IF($B28<>\"\",List!$C24,\"\")","v":""},{"$f":"IF($B28<>\"\",VLOOKUP($C28,List!$C$5:$H$55,2,FALSE),\"\")","v":""}]
[null,{"$f":"IF(COUNTIF(Conf7!$O$19:$P$68,\"*AXM761*\")>=1,IF(Conf7!$L61<10,Conf7!$L61,IF(MOD(Conf7!$L61/10,1)=0,\"\",Conf7!$L61-10*INT(Conf7!$L61/10))),\"\")","v":""},{"$f":"IF($B29<>\"\",List!$C25,\"\")","v":""},{"$f":"IF($B29<>\"\",VLOOKUP($C29,List!$C$5:$H$55,2,FALSE),\"\")","v":""}]
[null,{"$f":"IF(COUNTIF(Conf7!$O$19:$P$68,\"*AXM761*\")>=1,IF(Conf7!$L61>=10,INT(Conf7!$L61/10),\"\"),\"\")","v":""},{"$f":"IF($B30<>\"\",List!$C26,\"\")","v":""},{"$f":"IF($B30<>\"\",VLOOKUP($C30,List!$C$5:$H$55,2,FALSE),\"\")","v":""}]
[null,{"$f":"IF(COUNTIF(Conf7!$O$19:$P$68,\"*AXM762*\")>=1,IF(Conf7!$L62<10,Conf7!$L62,IF(MOD(Conf7!$L62/10,1)=0,\"\",Conf7!$L62-10*INT(Conf7!$L62/10))),\"\")","v":""},{"$f":"IF($B31<>\"\",List!$C27,\"\")","v":""},{"$f":"IF($B31<>\"\",VLOOKUP($C31,List!$C$5:$H$55,2,FALSE),\"\")","v":""}]
[null,{"$f":"IF(COUNTIF(Conf7!$O$19:$P$68,\"*AXM762*\")>=1,IF(Conf7!$L62>=10,INT(Conf7!$L62/10),\"\"),\"\")","v":""},{"$f":"IF($B32<>\"\",List!$C28,\"\")","v":""},{"$f":"IF($B32<>\"\",VLOOKUP($C32,List!$C$5:$H$55,2,FALSE),\"\")","v":""}]
[null,{"$f":"IF(COUNTIF(Conf7!$O$19:$P$68,\"*AXM763*\")>=1,Conf7!$L63,\"\")","v":""},{"$f":"IF($B33<>\"\",List!$C29,\"\")","v":""},{"$f":"IF($B33<>\"\",VLOOKUP($C33,List!$C$5:$H$55,2,FALSE),\"\")","v":""}]
[null,{"$f":"IF(COUNTIF(Conf7!$O$19:$P$68,\"*AXM764*\")>=1,Conf7!$L64,\"\")","v":""},{"$f":"IF($B34<>\"\",List!$C30,\"\")","v":""},{"$f":"IF($B34<>\"\",VLOOKUP($C34,List!$C$5:$H$55,2,FALSE),\"\")","v":""}]
[null,{"$f":"IF(COUNTIF(Conf7!$O$19:$P$68,\"*AXC761*\")>=1,Conf7!$L65,\"\")","v":""},{"$f":"IF($B35<>\"\",List!$C31,\"\")","v":""},{"$f":"IF($B35<>\"\",VLOOKUP($C35,List!$C$5:$H$55,2,FALSE),\"\")","v":""}]
[null,{"$f":"IF(COUNTIF(Conf7!$O$19:$P$68,\"*AXC763*\")>=1,Conf7!$L66,\"\")","v":""},{"$f":"IF($B36<>\"\",List!$C32,\"\")","v":""},{"$f":"IF($B36<>\"\",VLOOKUP($C36,List!$C$5:$H$55,2,FALSE),\"\")","v":""}]
[]
["Total",{"$f":"IF(SUM(B6:B36)>0,SUM(B6:B36),\"\")","v":""}]
[null,null,null,{"$f":"IFERROR(VLOOKUP($C39,List!$C$5:$H$153,2,FALSE),\"\")","v":""}]
[null,null,null,{"$f":"IFERROR(VLOOKUP($C40,List!$C$5:$H$153,2,FALSE),\"\")","v":""}]
[null,null,null,{"$f":"IFERROR(VLOOKUP($C41,List!$C$5:$H$153,2,FALSE),\"\")","v":""}]
[null,null,null,{"$f":"IFERROR(VLOOKUP($C42,List!$C$5:$H$153,2,FALSE),\"\")","v":""}]
[null,null,null,{"$f":"IFERROR(VLOOKUP($C43,List!$C$5:$H$153,2,FALSE),\"\")","v":""}]
[null,null,null,{"$f":"IFERROR(VLOOKUP($C44,List!$C$5:$H$153,2,FALSE),\"\")","v":""}]
[null,null,null,{"$f":"IFERROR(VLOOKUP($C45,List!$C$5:$H$153,2,FALSE),\"\")","v":""}]
[null,null,null,{"$f":"IFERROR(VLOOKUP($C46,List!$C$5:$H$153,2,FALSE),\"\")","v":""}]
[null,null,null,{"$f":"IFERROR(VLOOKUP($C47,List!$C$5:$H$153,2,FALSE),\"\")","v":""}]
[null,null,null,{"$f":"IFERROR(VLOOKUP($C48,List!$C$5:$H$153,2,FALSE),\"\")","v":""}]
[null,null,null,{"$f":"IFERROR(VLOOKUP($C49,List!$C$5:$H$153,2,FALSE),\"\")","v":""}]
[null,null,null,{"$f":"IFERROR(VLOOKUP($C50,List!$C$5:$H$153,2,FALSE),\"\")","v":""}]
[null,null,null,{"$f":"IFERROR(VLOOKUP($C51,List!$C$5:$H$153,2,FALSE),\"\")","v":""}]
[null,null,null,{"$f":"IFERROR(VLOOKUP($C52,List!$C$5:$H$153,2,FALSE),\"\")","v":""}]
[null,null,null,{"$f":"IFERROR(VLOOKUP($C53,List!$C$5:$H$153,2,FALSE),\"\")","v":""}]
[null,null,null,{"$f":"IFERROR(VLOOKUP($C54,List!$C$5:$H$153,2,FALSE),\"\")","v":""}]
[null,null,null,{"$f":"IFERROR(VLOOKUP($C55,List!$C$5:$H$153,2,FALSE),\"\")","v":""}]
[null,null,null,{"$f":"IFERROR(VLOOKUP($C56,List!$C$5:$H$153,2,FALSE),\"\")","v":""}]
[null,null,null,{"$f":"IFERROR(VLOOKUP($C57,List!$C$5:$H$153,2,FALSE),\"\")","v":""}]
[null,null,null,{"$f":"IFERROR(VLOOKUP($C58,List!$C$5:$H$153,2,FALSE),\"\")","v":""}]
[null,null,null,{"$f":"IFERROR(VLOOKUP($C59,List!$C$5:$H$153,2,FALSE),\"\")","v":""}]
[null,null,null,{"$f":"IFERROR(VLOOKUP($C60,List!$C$5:$H$153,2,FALSE),\"\")","v":""}]
[null,null,null,{"$f":"IFERROR(VLOOKUP($C61,List!$C$5:$H$153,2,FALSE),\"\")","v":""}]
[null,null,null,{"$f":"IFERROR(VLOOKUP($C62,List!$C$5:$H$153,2,FALSE),\"\")","v":""}]
[null,null,null,{"$f":"IFERROR(VLOOKUP($C63,List!$C$5:$H$153,2,FALSE),\"\")","v":""}]
[null,null,null,{"$f":"IFERROR(VLOOKUP($C64,List!$C$5:$H$153,2,FALSE),\"\")","v":""}]
[null,null,null,{"$f":"IFERROR(VLOOKUP($C65,List!$C$5:$H$153,2,FALSE),\"\")","v":""}]
[null,null,null,{"$f":"IFERROR(VLOOKUP($C66,List!$C$5:$H$153,2,FALSE),\"\")","v":""}]
[null,null,null,{"$f":"IFERROR(VLOOKUP($C67,List!$C$5:$H$153,2,FALSE),\"\")","v":""}]
[null,null,null,{"$f":"IFERROR(VLOOKUP($C68,List!$C$5:$H$153,2,FALSE),\"\")","v":""}]
[null,null,null,{"$f":"IFERROR(VLOOKUP($C69,List!$C$5:$H$153,2,FALSE),\"\")","v":""}]

{"sheet":"Conf8","index":15,"n_rows":68,"n_cols":17,"rows_kept":68,"cut":false,"hidden":false,"merged":[[21,5,21,12],[21,14,21,16],[1,8,1,10],[14,5,14,12],[17,0,17,2],[19,5,19,12],[19,14,19,16],[23,5,23,12],[23,14,23,16],[27,5,27,12],[27,14,29,16],[31,4,31,6],[31,9,31,11],[56,0,56,10],[56,11,56,12],[33,4,33,6],[34,9,34,11],[36,1,36,3],[36,5,36,8],[37,5,37,7],[38,6,38,7],[38,10,39,11],[39,1,39,4],[39,6,39,9],[41,5,41,9],[41,11,41,12],[44,8,44,12],[55,0,55,10],[55,11,55,12],[57,0,57,10],[57,11,57,12],[58,0,58,10],[58,11,58,12],[60,0,60,10],[60,11,60,12],[61,0,61,10],[61,11,61,12],[62,0,62,10],[62,11,62,12],[63,0,63,10],[63,11,63,12],[64,0,64,10],[64,11,64,12],[65,0,65,10],[65,11,65,12],[66,11,66,12]]}
[]
[null,null,null,null,null,null,null,null,"Green cells are editable"]
[]
[]
["The M6100 switch series consists of Gigabit access layer and 10 Gigabit distribution layer switches in NETGEAR modular chassis switch product line.  "]
["The M6100 switch series offers high-quality, high-density chassis alternative to stackable switches in campus LAN and midsize organizations demanding networks.  "]
["With more than 1.4 Tbps switching and routing capacity, passive backplane, management and fabric nonstop forwarding redundancy, the M6100 series delivers world-class resiliency and scalability. "]
["Ultimately, operating software and system management features take the complexity out of delivering L2/L3/L4 rich services for enterprise edge and SMB core deployments."]
[]
[" "]
[]
[]
[]
[]
["Select Model",null,null,null,null,"NETGEAR M6100 Series 3-slot Chassis Switch ",null,null,null,null,null,null,null,null,{"$f":"VLOOKUP(F15,List!$L$4:$V$5,9,FALSE)","v":"M6100-3S"}]
[]
["Advanced Layer 2, Layer 3 and Layer 4 feature set - no license required - including RIP, VRRP, OSPF, PIM, BGP, PBR, MLAG, PV(R)ST, RSPAN, DCBX, PFC, ETS and FCoE FIP \n"]
["Information and datasheet",null,null,"here"]
[]
["Blades",null,null,null,"I/O Supervisory - Slot 1","Empty slot with blank panel",null,null,null,null,null,null,null,null,{"$f":"VLOOKUP(F20,List!$L$16:$V$24,9,FALSE)","v":"-"}]
[]
[null,null,null,null,"I/O Back-up Supervisory - Slot 2","Empty slot with blank panel",null,null,null,null,null,null,null,null,{"$f":"VLOOKUP(F22,List!$L$16:$V$24,9,FALSE)","v":"-"}]
[]
[null,null,null,null,"I/O Line Card - Slot 3","Empty slot with blank panel",null,null,null,null,null,null,null,null,{"$f":"VLOOKUP(F24,List!$L$16:$V$24,9,FALSE)","v":"-"}]
[]
["Each Line Card provides line-rate switching and routing capacity.   Each Slot provides 8 x 10G channels (80G half-duplex / 160G full-duplex) access to passive backplane."]
[]
["Number of Power Supply Units",null,null,null,null,"1 power supply unit",null,null,null,null,null,null,null,null,{"$f":"VLOOKUP(F28,List!$L$34:$V$41,9,FALSE)","v":"One unit APS1000W"}]
[]
[]
[]
[null,null,null,null,"Indicate AC Voltage:",null,null,110,"V Þ","Number of PSUs sufficient:",null,null,{"$f":"IF(M33<=10,\"NO\",\"YES\")","v":"YES"},"ç Enough power for the chassis?"]
[null,null,null,null,null,null,null,null,null,null,null,"Power Budget Remaining (Watts):",{"$f":"IF(COUNTIF($O$19:$O$26,\"*XCM89P*\")+COUNTIF($O$19:$O$26,\"*XCM89UP*\")>0,\n\nIF($H$32<220,IF($H$34=\"No\",VLOOKUP($O$28,List!$T$34:$X$41,2,FALSE),VLOOKUP($O$28,List!$T$34:$X$41,3,FALSE)),IF($H$34=\"No\",VLOOKUP($O$28,List!$T$34:$X$41,4,FALSE),VLOOKUP($O$28,List!$T$34:$X$41,5,FALSE)))-VLOOKUP($O$20,List!$T$16:$U$24,2,FALSE)-VLOOKUP($O$22,List!$T$16:$U$24,2,FALSE)-VLOOKUP($O$24,List!$T$16:$U$24,2,FALSE)-IFERROR((COUNTIF($O$19:$O$26,\"XCM8948 + XCM89P\")*48+COUNTIF($O$19:$O$26,\"XCM8944 + XCM89P\")*40)*IF(Class=\"Other\",D39,VLOOKUP(E38,List!M27:O30,3,FALSE)),0)-IFERROR((COUNTIF($O$19:$O$26,\"XCM8948 + XCM89UP\")*48+COUNTIF($O$19:$O$26,\"XCM8944 + XCM89UP\")*40)*IF(J38=\"Other\",I39,VLOOKUP(J38,List!Q27:S29,3,FALSE)),0),\n\nIF($H$32<220,IF($H$34=\"No\",VLOOKUP($O$28,List!$T$34:$X$41,2,FALSE),VLOOKUP($O$28,List!$T$34:$X$41,3,FALSE)),IF($H$34=\"No\",VLOOKUP($O$28,List!$T$34:$X$41,4,FALSE),VLOOKUP($O$28,List!$T$34:$X$41,5,FALSE)))-VLOOKUP($O$20,List!$T$16:$U$24,2,FALSE)-VLOOKUP($O$22,List!$T$16:$U$24,2,FALSE)-VLOOKUP($O$24,List!$T$16:$U$24,2,FALSE)\n\n)","v":640},"Keep adding PSUs until \"YES\""]
[null,null,null,null,"N+1 Required for Redundancy:",null,null,"No"," Þ",null,null,"Power Drawn from Wall (Watts):",{"$f":"IF(COUNTIF($O$19:$O$26,\"*XCM89P*\")+COUNTIF($O$19:$O$26,\"*XCM89UP*\")>0,\n\nROUNDUP((VLOOKUP($O$20,List!$T$16:$U$24,2,FALSE)+VLOOKUP($O$22,List!$T$16:$U$24,2,FALSE)+VLOOKUP($O$24,List!$T$16:$U$24,2,FALSE)+IFERROR((COUNTIF($O$19:$O$26,\"XCM8948 + XCM89P\")*48+COUNTIF($O$19:$O$26,\"XCM8944 + XCM89P\")*40)*IF(Class=\"Other\",D39,VLOOKUP(E38,List!M27:O30,3,FALSE)),0)+IFERROR((COUNTIF($O$19:$O$26,\"XCM8948 + XCM89UP\")*48+COUNTIF($O$19:$O$26,\"XCM8944 + XCM89UP\")*40)*IF(J38=\"Other\",I39,VLOOKUP(J38,List!Q27:S29,3,FALSE)),0))/0.8,0),\n\n\nROUNDUP((VLOOKUP($O$20,List!$T$16:$U$24,2,FALSE)+VLOOKUP($O$22,List!$T$16:$U$24,2,FALSE)+VLOOKUP($O$24,List!$T$16:$U$24,2,FALSE))/0.8,0)\n\n)","v":0}]
[null,null,null,null,null,null,null,null,null,"Thermal Dissipation (BTU/hr):",null,null,{"$f":"ROUNDUP(M34*3.415,0)","v":0}]
[null,null,null,null,null,null,null,null,null,null,null,"Available PoE Budget (Watts):",{"$f":"IF($H$32<220,IF($H$34=\"No\",VLOOKUP($O$28,List!$T$34:$X$41,2,FALSE),VLOOKUP($O$28,List!$T$34:$X$41,3,FALSE)),IF($H$34=\"No\",VLOOKUP($O$28,List!$T$34:$X$41,4,FALSE),VLOOKUP($O$28,List!$T$34:$X$41,5,FALSE)))-VLOOKUP($O$20,List!$T$16:$U$24,2,FALSE)-VLOOKUP($O$22,List!$T$16:$U$24,2,FALSE)-VLOOKUP($O$24,List!$T$16:$U$24,2,FALSE)","v":640}]
[null,{"$f":"\"Blade configuration is  \"&(COUNTIF($O$19:$O$26,\"XCM8948 + XCM89P\")*48+COUNTIF($O$19:$O$26,\"XCM8944 + XCM89P\")*40)&\"  PoE+ ports\"","v":"Blade configuration is  0  PoE+ ports"},null,null,null,{"$f":"\"Blade configuration is  \"&(COUNTIF($O$19:$O$26,\"XCM8948 + XCM89UP\")*48+COUNTIF($O$19:$O$26,\"XCM8944 + XCM89UP\")*40)&\"  UPOE ports\"","v":"Blade configuration is  0  UPOE ports"},null,null,null,null,null,null,{"$f":"IF($M$33>0,\"YES\",\"NO\")","v":"YES"}]
[null,"Wattage W/port?  (Class)",null,"4.0W PSE",{"$f":"IF(D38=\"\",\"\",D38)","v":"4.0W PSE"},"Wattage W/port?  (Class)",null,null,"40W PSE",{"$f":"IF(I38=\"\",\"\",I38)","v":"40W PSE"},null,null,"é"]
[null,{"$f":"IF($E$38=\"other\",\"Override PSE W/port:\",\"\")","v":""},null,20,"W  Þ",null,{"$f":"IF($J$38=\"Other\",\"Override PSE W/port:\",\"\")","v":""},null,40,"W  Þ",{"$f":"\"Total:                                             \"&ROUNDUP(IFERROR((COUNTIF($O$19:$O$26,\"XCM8948 + XCM89P\")*48+COUNTIF($O$19:$O$26,\"XCM8944 + XCM89P\")*40)*IF(Class=\"Other\",D39,VLOOKUP(E38,List!M27:O30,3,FALSE)),0)+IFERROR((COUNTIF($O$19:$O$26,\"XCM8948 + XCM89UP\")*48+COUNTIF($O$19:$O$26,\"XCM8944 + XCM89UP\")*40)*IF(J38=\"Other\",I39,VLOOKUP(J38,List!Q27:S29,3,FALSE)),0),0)&\"W PSE required                                      <--  PoE+ / UPOE  -->\"","v":"Total:                                             0W PSE required                                      <--  PoE+ / UPOE  -->"},null,"Check if your PoE"]
[null,"<------  POE+ requirements ------>",null,null,null,null,"<------  UPOE requirements ------>",null,null,null,null,null,"budget is sufficient"]
[]
["Spare",null,null,null,null," How many Spare Fan Tray units required?",null,null,null,null,null,0,null,"Þ",{"$f":"IF(L42>0,IF(L42=1,L42&\" unit \"&VLOOKUP($O$15,List!$L$47:$V$48,9,FALSE),L42&\" units \"&VLOOKUP($O$15,List!$L$47:$V$48,9,FALSE)),\"-\")","v":"-"}]
[]
[]
["Service",null,null,null,null,"Installation Service required?",null,null,"No service required",null,null,null,null,"Þ",{"$f":"IF(VLOOKUP($I$45,List!$L$43:$T$45,9,FALSE)<>\"-\",VLOOKUP($I$45,List!$L$43:$T$45,9,FALSE)&\" contract\",VLOOKUP($I$45,List!$L$43:$T$45,9,FALSE))","v":"-"}]
[]
[null,null,null,"ProSupport Installation Setup & Configuration (Remote or Onsite):"]
[]
[]
[]
[null,null,null,"Information and datasheet",null,null,"here",null," * Available Only with Onsite Installation"]
[]
["NETGEAR Fully Managed Switches offer 24x7 Lifetime Technical Support and Lifetime Next Business Day Shipping Hardware Replacement  -  for products purchased on of after June 1, 2014 \n"]
[null,null,null,null,null,null,null,null,null,null,null,null,null,null,null,{"$f":"COUNTIF($O$19:$O$26,\"*XCM8944*\")*2+COUNTIF($O$19:$O$26,\"XCM8924X*\")*16","v":0},"SFP+ ports"]
["Optics, DAC Cables",null,null,null,null,null,null,null,null,{"$f":"IF($P$54+$P$55>1,($P$54+$P$55)&\" SFP / SFP+ ports in above configuration:\",\"\")","v":""},null,null,null,null,null,{"$f":"COUNTIF($O$19:$O$26,\"*XCM8944F*\")*40","v":0},"SFP ports "]
[{"$f":"IF(SFP>1,\"For \"&SFP&\" SFP ports, how many 100BASE-FX SFP LC GBIC (multimode, 2km OM4/OM3/OM2/OM1 50/125µm and 62.5/125µm)?\",\"\")","v":""},null,null,null,null,null,null,null,null,null,null,0,null,"Þ",{"$f":"IF(L56=\"\",\"-\",IF(SFP>1,IF(L56>=1,IF(L56=1,L56&\" unit AFM735\",L56&\" units AFM735\"),\"-\"),\"\"))","v":""}]
[{"$f":"IF(SFPP>1,IF(SFP>1,\"For \"&SFP+SFPP&\" SFP/SFP+ ports, how many 1000BASE-SX SFP LC GBIC (multimode, 1000m OM4, 550m OM3 50/125µm, 275m OM2/OM1 62.5/125µm)?\",\"For \"&SFPP&\" SFP+ ports, how many 1000BASE-SX SFP LC GBIC (multimode, 1000m OM4, 550m OM3 50/125µm, 275m OM2/OM1 62.5/125µm)?\"),IF(SFP>1,\"For \"&SFP&\" SFP ports, how many 1000BASE-SX SFP LC GBIC (multimode, 1000m OM4, 550m OM3 50/125µm, 275m OM2/OM1 62.5/125µm)?\",\"\"))","v":""},null,null,null,null,null,null,null,null,null,null,0,null,"Þ",{"$f":"IF(L57=\"\",\"-\",IF(SFP+SFPP>1,IF(L57>=1,IF(L57=1,L57&\" unit AGM731F\",L57&\" units AGM731F\"),\"-\"),\"\"))","v":""}]
[{"$f":"IF(SFPP>1,IF(SFP>1,\"For \"&SFP+SFPP&\" SFP/SFP+ ports, how many 1000BASE-LX SFP LC GBIC (single mode, 10km 9/125µm)?\",\"For \"&SFPP&\" SFP+ ports, how many 1000BASE-LX SFP LC GBIC (single mode, 10km 9/125µm)?\"),IF(SFP>1,\"For \"&SFP&\" SFP ports, how many 1000BASE-LX SFP LC GBIC (single mode, 10km 9/125µm)?\",\"\"))","v":""},null,null,null,null,null,null,null,null,null,null,0,null,"Þ",{"$f":"IF(L58=\"\",\"-\",IF(SFP+SFPP>1,IF(L58>=1,IF(L58=1,L58&\" unit AGM732F\",L58&\" units AGM732F\"),\"-\"),\"\"))","v":""}]
[{"$f":"IF(SFP>1,\"For \"&SFP&\" SFP ports, how many 1000BASE-T SFP RJ45 GBIC?\",\"\")","v":""},null,null,null,null,null,null,null,null,null,null,0,null,"Þ",{"$f":"IF(L59=\"\",\"-\",IF(SFP>1,IF(L59>=1,IF(L59=1,L59&\" unit AGM734\",L59&\" units AGM734\"),\"-\"),\"\"))","v":""}]
[null,null,null,null,{"$f":"IF(SFP+SFPP>1,\"\",\"No optics required in above M6100 switch series configuration\")","v":"No optics required in above M6100 switch series configuration"}]
[{"$f":"IF(SFPP>1,\"For \"&SFPP&\" SFP+ ports, how many 10GBASE-SR SFP+ LC GBIC (multimode, 550m OM4, 300m OM3 50/125µm, 33m OM2/OM1 62.5/125µm)?\",\"\")","v":""},null,null,null,null,null,null,null,null,null,null,0,null,"Þ",{"$f":"IF(L61=\"\",\"-\",IF(SFPP>1,IF(L61>=1,IF(L61=1,L61&\" unit AXM761\",L61&\" units AXM761\"),\"-\"),\"\"))","v":""}]
[{"$f":"IF(SFPP>1,\"For \"&SFPP&\" SFP+ ports, how many 10GBASE-LR SFP+ LC GBIC (single mode, 10km 9/125µm)?\",\"\")","v":""},null,null,null,null,null,null,null,null,null,null,0,null,"Þ",{"$f":"IF(L62=\"\",\"-\",IF(SFPP>1,IF(L62>=1,IF(L62=1,L62&\" unit AXM762\",L62&\" units AXM762\"),\"-\"),\"\"))","v":""}]
[{"$f":"IF(SFPP>1,\"For \"&SFPP&\" SFP+ ports, how many 10GBASE-LRM SFP+ LC GBIC (multimode, 260m OM4/OM3 50/125µm, 220m OM2/OM1 62.5/125µm)?\",\"\")","v":""},null,null,null,null,null,null,null,null,null,null,0,null,"Þ",{"$f":"IF(L63=\"\",\"-\",IF(SFPP>1,IF(L63>=1,IF(L63=1,L63&\" unit AXM763\",L63&\" units AXM763\"),\"-\"),\"\"))","v":""}]
[{"$f":"IF(SFPP>1,\"For \"&SFPP&\" SFP+ ports, how many 10GBASE-LR LITE SFP+ LC GBIC (single mode, 2km 9/125µm)?\",\"\")","v":""},null,null,null,null,null,null,null,null,null,null,0,null,"Þ",{"$f":"IF(L64=\"\",\"-\",IF(SFPP>1,IF(L64>=1,IF(L64=1,L64&\" unit AXM764\",L64&\" units AXM764\"),\"-\"),\"\"))","v":""}]
[{"$f":"IF(SFPP>1,\"For \"&SFPP&\" SFP+ ports, how many passive Direct Attach SFP+ copper DAC cables (1m)?\",\"\")","v":""},null,null,null,null,null,null,null,null,null,null,0,null,"Þ",{"$f":"IF(L65=\"\",\"-\",IF(SFPP>1,IF(L65>=1,IF(L65=1,L65&\" unit AXC761\",L65&\" units AXC761\"),\"-\"),\"\"))","v":""}]
[{"$f":"IF(SFPP>1,\"For \"&SFPP&\" SFP+ ports, how many passive Direct Attach SFP+ copper DAC cables (3m)?\",\"\")","v":""},null,null,null,null,null,null,null,null,null,null,0,null,"Þ",{"$f":"IF(L66=\"\",\"-\",IF(SFPP>1,IF(L66>=1,IF(L66=1,L66&\" unit AXC763\",L66&\" units AXC763\"),\"-\"),\"\"))","v":""}]
[]
["M6100 switch series will only support genuine NETGEAR SFP and SFP+ mini-GBIC transceivers. Third-party DAC cables may be used.\n",null,null,null,null,null,null,null,null,null,null,null,null,null,null,null,"END"]

{"sheet":"SKU8","index":16,"n_rows":69,"n_cols":7,"rows_kept":69,"cut":false,"hidden":false,"merged":[]}
[]
[]
[]
[]
["Category","Quantity","Ordering Number","Description"]
["Chassis Starter Kit",{"$f":"IF(LEN(Conf8!$O$20&Conf8!$O$22&Conf8!$O$24)>3,1,\"\")","v":""},{"$f":"IF(LEN(Conf8!$O$20&Conf8!$O$22&Conf8!$O$24)>3,IF(COUNTIF(Conf8!$O$20:'Conf8'!$O$24,\"XCM8924X\")>=1,\"XCM8903SX-10000S\",IF(COUNTIF(Conf8!$O$20:'Conf8'!$O$24,\"XCM8944F\")>=1,\"XCM8903SF-10000S\",\"XCM8903SK-10000S\")),\"\")","v":""},{"$f":"IF($B6<>\"\",VLOOKUP($C6,List!$C$5:$H$55,2,FALSE)&\"                             Starter kit includes:\",\"\")","v":""}]
[]
[null,null,null,{"$f":"IF($B6<>\"\",\"              ->  1 empty chassis  M6100-3S (XCM8903)                    ->  2 blank panels for open blade slots\",\"\")","v":""}]
[null,null,null,{"$f":"IF($B6<>\"\",IF($C$6=\"XCM8903SK-10000S\",\"              ->  1 blade 40x1G 2x10GBT 2xSFP+  (XCM8944)            ->  3 power supply panels for empty PSU slots\",IF($C$6=\"XCM8903SF-10000S\",\"              ->  1 blade 40xSFP 2x10GBT 2xSFP+  (XCM8944F)         ->  3 power supply panels for empty PSU slots\",IF($C$6=\"XCM8903SX-10000S\",\"              ->  1 blade 24x10GBT or 16xSFP+   (XCM8924X)            ->  3 power supply panels for empty PSU slots\",\"else\"))),\"\")","v":""}]
[null,null,null,{"$f":"IF($B6<>\"\",IF($C$6=\"XCM8903SK-10000S\",\"              ->  1 PoE+ daughter card (XCM89P)                                 ->  Rack-mount kit for 2-post racks  and wiring cabinets\",\"                                                                                                               ->  Rack-mount kit for 2-post racks  and wiring cabinets\"),\"\")","v":""}]
[null,null,null,{"$f":"IF($B6<>\"\",\"              ->  1 power supply unit (APS1000W)                               ->  Complimentary handles for rack-mount kit\",\"\")","v":""}]
[null,null,null,{"$f":"IF($B6<>\"\",\"              ->  1 front-to-back fan tray (AFT603)                               ->  Complimentary sliding rails kit for 4-post racks and wiring cabinets\",\"\")","v":""}]
[]
["I/O Blades",{"$f":"IF(COUNTIF(Conf8!$O$19:$P$68,\"*XCM8948*\")>=1,COUNTIF(Conf8!$O$19:$P$68,\"*XCM8948*\"),\"\")","v":""},{"$f":"IF($B14<>\"\",List!$C8,\"\")","v":""},{"$f":"IF($B14<>\"\",VLOOKUP($C14,List!$C$5:$H$55,2,FALSE),\"\")","v":""}]
[null,{"$f":"IF(COUNTIF(Conf8!$O$19:$P$67,\"*XCM8944*\")-COUNTIF(Conf8!$O$19:$P$67,\"*XCM8944F*\")>=1,IF($C$6=\"XCM8903SK-10000S\",IF( (COUNTIF(Conf8!$O$19:$P$67,\"*XCM8944*\")-COUNTIF(Conf8!$O$19:$P$67,\"*XCM8944F*\"))>=2, COUNTIF(Conf8!$O$19:$P$67,\"*XCM8944*\")-COUNTIF(Conf8!$O$19:$P$67,\"*XCM8944F*\")-1,\"\"),COUNTIF(Conf8!$O$19:$P$67,\"*XCM8944*\")-COUNTIF(Conf8!$O$19:$P$67,\"*XCM8944F*\")), \"\")","v":""},{"$f":"IF($B15<>\"\",List!$C9,\"\")","v":""},{"$f":"IF($B15<>\"\",VLOOKUP($C15,List!$C$5:$H$55,2,FALSE),\"\")","v":""}]
[null,{"$f":"IF(\nCOUNTIF(Conf8!$O$19:$P$68,\"*XCM8944F*\")>=1,\nIF($C$6=\"XCM8903SF-10000S\",IF(COUNTIF(Conf8!$O$19:$P$68,\"*XCM8944F*\")>=2, COUNTIF(Conf8!$O$19:$P$68,\"*XCM8944F*\")-1,\"\"), COUNTIF(Conf8!$O$19:$P$68,\"*XCM8944F*\")),\"\")","v":""},{"$f":"IF($B16<>\"\",List!$C10,\"\")","v":""},{"$f":"IF($B16<>\"\",VLOOKUP($C16,List!$C$5:$H$55,2,FALSE),\"\")","v":""}]
[null,{"$f":"IF(\nCOUNTIF(Conf8!$O$19:$P$68,\"*XCM8924X*\")>=1,\nIF($C$6=\"XCM8903SX-10000S\",IF(COUNTIF(Conf8!$O$19:$P$68,\"*XCM8924X*\")>=2, COUNTIF(Conf8!$O$19:$P$68,\"*XCM8924X*\")-1,\"\"), COUNTIF(Conf8!$O$19:$P$68,\"*XCM8924X*\")),\"\")","v":""},{"$f":"IF($B17<>\"\",List!$C11,\"\")","v":""},{"$f":"IF($B17<>\"\",VLOOKUP($C17,List!$C$5:$H$55,2,FALSE),\"\")","v":""}]
["Accessories",{"$f":"IF(COUNTIF(Conf8!$O$19:$P$68,\"*XCM89P*\")>=1,IF($C$6=\"XCM8903SK-10000S\",IF(COUNTIF(Conf8!$O$19:$P$68,\"*XCM89P*\")>=2,COUNTIF(Conf8!$O$19:$P$68,\"*XCM89P*\")-1,\"\"), COUNTIF(Conf8!$O$19:$P$68,\"*XCM89P*\")), \"\")","v":""},{"$f":"IF($B18<>\"\",List!$C12,\"\")","v":""},{"$f":"IF($B18<>\"\",VLOOKUP($C18,List!$C$5:$H$55,2,FALSE),\"\")","v":""}]
[null,{"$f":"IF(COUNTIF(Conf8!$O$19:$P$68,\"*XCM89UP*\")>=1,COUNTIF(Conf8!$O$19:$P$68,\"*XCM89UP*\"),\"\")","v":""},{"$f":"IF($B19<>\"\",List!$C13,\"\")","v":""},{"$f":"IF($B19<>\"\",VLOOKUP($C19,List!$C$5:$H$55,2,FALSE),\"\")","v":""}]
[null,{"$f":"IFERROR(IF(VLOOKUP(Conf8!$O$28,List!T34:Y41,6,FALSE)>=2,VLOOKUP(Conf8!$O$28,List!T34:Y41,6,FALSE)-1,\"\"),\"\")","v":""},{"$f":"IF($B20<>\"\",IF($F$20=\"NA/EMEA\",\"APS1000W-100NES\",IF($F$20=\"APAC\",\"APS1000W-100AJS\",\"\")),\"\")","v":""},{"$f":"IF($B20<>\"\",VLOOKUP($C20,List!$C$5:$H$55,2,FALSE),\"\")","v":""},"Localization","NA/EMEA"," Þ"]
[null,{"$f":"IF(COUNTIF(Conf8!$O$19:$P$68,\"*AFT603*\")>=1,COUNTIF(Conf8!$O$19:$P$68,\"*AFT603*\"),\"\")","v":""},{"$f":"IF($B21<>\"\",List!$C16,\"\")","v":""},{"$f":"IF($B21<>\"\",VLOOKUP($C21,List!$C$5:$H$55,2,FALSE),\"\")","v":""}]
[null,{"$f":"IF(COUNTIF(Conf8!$O$19:$P$68,\"*RPS4000v2*\")>=1,COUNTIF(Conf8!$O$19:$P$68,\"*RPS4000v2*\"),\"\")","v":""},{"$f":"IF($B22<>\"\",IF($F$20=\"NA/EMEA\",\"RPS4000-200NES\",IF($F$20=\"APAC\",\"RPS4000-200AJS\",\"\")),\"\")","v":""},{"$f":"IF($B22<>\"\",VLOOKUP($C22,List!$C$5:$H$55,2,FALSE),\"\")","v":""}]
["Service",{"$f":"IF(COUNTIF(Conf8!$O$19:$P$68,\"*PSB0304*\")>=1,COUNTIF(Conf8!$O$19:$P$68,\"*PSB0304*\"),\"\")","v":""},{"$f":"IF($B23<>\"\",List!$C19,\"\")","v":""},{"$f":"IF($B23<>\"\",VLOOKUP($C23,List!$C$5:$H$55,2,FALSE),\"\")","v":""}]
[null,{"$f":"IF(COUNTIF(Conf8!$O$19:$P$68,\"*PSP1104*\")>=1,COUNTIF(Conf8!$O$19:$P$68,\"*PSP1104*\"),\"\")","v":""},{"$f":"IF($B24<>\"\",List!$C20,\"\")","v":""},{"$f":"IF($B24<>\"\",VLOOKUP($C24,List!$C$5:$H$55,2,FALSE),\"\")","v":""}]
["Optics_Cables",{"$f":"IF(COUNTIF(Conf8!$O$19:$P$68,\"*AFM735*\")>=1,Conf8!$L56,\"\")","v":""},{"$f":"IF($B25<>\"\",List!$C21,\"\")","v":""},{"$f":"IF($B25<>\"\",VLOOKUP($C25,List!$C$5:$H$55,2,FALSE),\"\")","v":""}]
[null,{"$f":"IF(COUNTIF(Conf8!$O$19:$P$68,\"*AGM731F*\")>=1,Conf8!$L57,\"\")","v":""},{"$f":"IF($B26<>\"\",List!$C22,\"\")","v":""},{"$f":"IF($B26<>\"\",VLOOKUP($C26,List!$C$5:$H$55,2,FALSE),\"\")","v":""}]
[null,{"$f":"IF(COUNTIF(Conf8!$O$19:$P$68,\"*AGM732F*\")>=1,Conf8!$L58,\"\")","v":""},{"$f":"IF($B27<>\"\",List!$C23,\"\")","v":""},{"$f":"IF($B27<>\"\",VLOOKUP($C27,List!$C$5:$H$55,2,FALSE),\"\")","v":""}]
[null,{"$f":"IF(COUNTIF(Conf8!$O$19:$P$68,\"*AGM734*\")>=1,Conf8!$L59,\"\")","v":""},{"$f":"IF($B28<>\"\",List!$C24,\"\")","v":""},{"$f":"IF($B28<>\"\",VLOOKUP($C28,List!$C$5:$H$55,2,FALSE),\"\")","v":""}]
[null,{"$f":"IF(COUNTIF(Conf8!$O$19:$P$68,\"*AXM761*\")>=1,IF(Conf8!$L61<10,Conf8!$L61,IF(MOD(Conf8!$L61/10,1)=0,\"\",Conf8!$L61-10*INT(Conf8!$L61/10))),\"\")","v":""},{"$f":"IF($B29<>\"\",List!$C25,\"\")","v":""},{"$f":"IF($B29<>\"\",VLOOKUP($C29,List!$C$5:$H$55,2,FALSE),\"\")","v":""}]
[null,{"$f":"IF(COUNTIF(Conf8!$O$19:$P$68,\"*AXM761*\")>=1,IF(Conf8!$L61>=10,INT(Conf8!$L61/10),\"\"),\"\")","v":""},{"$f":"IF($B30<>\"\",List!$C26,\"\")","v":""},{"$f":"IF($B30<>\"\",VLOOKUP($C30,List!$C$5:$H$55,2,FALSE),\"\")","v":""}]
[null,{"$f":"IF(COUNTIF(Conf8!$O$19:$P$68,\"*AXM762*\")>=1,IF(Conf8!$L62<10,Conf8!$L62,IF(MOD(Conf8!$L62/10,1)=0,\"\",Conf8!$L62-10*INT(Conf8!$L62/10))),\"\")","v":""},{"$f":"IF($B31<>\"\",List!$C27,\"\")","v":""},{"$f":"IF($B31<>\"\",VLOOKUP($C31,List!$C$5:$H$55,2,FALSE),\"\")","v":""}]
[null,{"$f":"IF(COUNTIF(Conf8!$O$19:$P$68,\"*AXM762*\")>=1,IF(Conf8!$L62>=10,INT(Conf8!$L62/10),\"\"),\"\")","v":""},{"$f":"IF($B32<>\"\",List!$C28,\"\")","v":""},{"$f":"IF($B32<>\"\",VLOOKUP($C32,List!$C$5:$H$55,2,FALSE),\"\")","v":""}]
[null,{"$f":"IF(COUNTIF(Conf8!$O$19:$P$68,\"*AXM763*\")>=1,Conf8!$L63,\"\")","v":""},{"$f":"IF($B33<>\"\",List!$C29,\"\")","v":""},{"$f":"IF($B33<>\"\",VLOOKUP($C33,List!$C$5:$H$55,2,FALSE),\"\")","v":""}]
[null,{"$f":"IF(COUNTIF(Conf8!$O$19:$P$68,\"*AXM764*\")>=1,Conf8!$L64,\"\")","v":""},{"$f":"IF($B34<>\"\",List!$C30,\"\")","v":""},{"$f":"IF($B34<>\"\",VLOOKUP($C34,List!$C$5:$H$55,2,FALSE),\"\")","v":""}]
[null,{"$f":"IF(COUNTIF(Conf8!$O$19:$P$68,\"*AXC761*\")>=1,Conf8!$L65,\"\")","v":""},{"$f":"IF($B35<>\"\",List!$C31,\"\")","v":""},{"$f":"IF($B35<>\"\",VLOOKUP($C35,List!$C$5:$H$55,2,FALSE),\"\")","v":""}]
[null,{"$f":"IF(COUNTIF(Conf8!$O$19:$P$68,\"*AXC763*\")>=1,Conf8!$L66,\"\")","v":""},{"$f":"IF($B36<>\"\",List!$C32,\"\")","v":""},{"$f":"IF($B36<>\"\",VLOOKUP($C36,List!$C$5:$H$55,2,FALSE),\"\")","v":""}]
[]
["Total",{"$f":"IF(SUM(B6:B36)>0,SUM(B6:B36),\"\")","v":""}]
[null,null,null,{"$f":"IFERROR(VLOOKUP($C39,List!$C$5:$H$153,2,FALSE),\"\")","v":""}]
[null,null,null,{"$f":"IFERROR(VLOOKUP($C40,List!$C$5:$H$153,2,FALSE),\"\")","v":""}]
[null,null,null,{"$f":"IFERROR(VLOOKUP($C41,List!$C$5:$H$153,2,FALSE),\"\")","v":""}]
[null,null,null,{"$f":"IFERROR(VLOOKUP($C42,List!$C$5:$H$153,2,FALSE),\"\")","v":""}]
[null,null,null,{"$f":"IFERROR(VLOOKUP($C43,List!$C$5:$H$153,2,FALSE),\"\")","v":""}]
[null,null,null,{"$f":"IFERROR(VLOOKUP($C44,List!$C$5:$H$153,2,FALSE),\"\")","v":""}]
[null,null,null,{"$f":"IFERROR(VLOOKUP($C45,List!$C$5:$H$153,2,FALSE),\"\")","v":""}]
[null,null,null,{"$f":"IFERROR(VLOOKUP($C46,List!$C$5:$H$153,2,FALSE),\"\")","v":""}]
[null,null,null,{"$f":"IFERROR(VLOOKUP($C47,List!$C$5:$H$153,2,FALSE),\"\")","v":""}]
[null,null,null,{"$f":"IFERROR(VLOOKUP($C48,List!$C$5:$H$153,2,FALSE),\"\")","v":""}]
[null,null,null,{"$f":"IFERROR(VLOOKUP($C49,List!$C$5:$H$153,2,FALSE),\"\")","v":""}]
[null,null,null,{"$f":"IFERROR(VLOOKUP($C50,List!$C$5:$H$153,2,FALSE),\"\")","v":""}]
[null,null,null,{"$f":"IFERROR(VLOOKUP($C51,List!$C$5:$H$153,2,FALSE),\"\")","v":""}]
[null,null,null,{"$f":"IFERROR(VLOOKUP($C52,List!$C$5:$H$153,2,FALSE),\"\")","v":""}]
[null,null,null,{"$f":"IFERROR(VLOOKUP($C53,List!$C$5:$H$153,2,FALSE),\"\")","v":""}]
[null,null,null,{"$f":"IFERROR(VLOOKUP($C54,List!$C$5:$H$153,2,FALSE),\"\")","v":""}]
[null,null,null,{"$f":"IFERROR(VLOOKUP($C55,List!$C$5:$H$153,2,FALSE),\"\")","v":""}]
[null,null,null,{"$f":"IFERROR(VLOOKUP($C56,List!$C$5:$H$153,2,FALSE),\"\")","v":""}]
[null,null,null,{"$f":"IFERROR(VLOOKUP($C57,List!$C$5:$H$153,2,FALSE),\"\")","v":""}]
[null,null,null,{"$f":"IFERROR(VLOOKUP($C58,List!$C$5:$H$153,2,FALSE),\"\")","v":""}]
[null,null,null,{"$f":"IFERROR(VLOOKUP($C59,List!$C$5:$H$153,2,FALSE),\"\")","v":""}]
[null,null,null,{"$f":"IFERROR(VLOOKUP($C60,List!$C$5:$H$153,2,FALSE),\"\")","v":""}]
[null,null,null,{"$f":"IFERROR(VLOOKUP($C61,List!$C$5:$H$153,2,FALSE),\"\")","v":""}]
[null,null,null,{"$f":"IFERROR(VLOOKUP($C62,List!$C$5:$H$153,2,FALSE),\"\")","v":""}]
[null,null,null,{"$f":"IFERROR(VLOOKUP($C63,List!$C$5:$H$153,2,FALSE),\"\")","v":""}]
[null,null,null,{"$f":"IFERROR(VLOOKUP($C64,List!$C$5:$H$153,2,FALSE),\"\")","v":""}]
[null,null,null,{"$f":"IFERROR(VLOOKUP($C65,List!$C$5:$H$153,2,FALSE),\"\")","v":""}]
[null,null,null,{"$f":"IFERROR(VLOOKUP($C66,List!$C$5:$H$153,2,FALSE),\"\")","v":""}]
[null,null,null,{"$f":"IFERROR(VLOOKUP($C67,List!$C$5:$H$153,2,FALSE),\"\")","v":""}]
[null,null,null,{"$f":"IFERROR(VLOOKUP($C68,List!$C$5:$H$153,2,FALSE),\"\")","v":""}]
[null,null,null,{"$f":"IFERROR(VLOOKUP($C69,List!$C$5:$H$153,2,FALSE),\"\")","v":""}]

{"sheet":"Conf9","index":17,"n_rows":68,"n_cols":17,"rows_kept":68,"cut":false,"hidden":false,"merged":[[21,5,21,12],[21,14,21,16],[1,8,1,10],[14,5,14,12],[17,0,17,2],[19,5,19,12],[19,14,19,16],[23,5,23,12],[23,14,23,16],[27,5,27,12],[27,14,29,16],[31,4,31,6],[31,9,31,11],[56,0,56,10],[56,11,56,12],[33,4,33,6],[34,9,34,11],[36,1,36,3],[36,5,36,8],[37,5,37,7],[38,6,38,7],[38,10,39,11],[39,1,39,4],[39,6,39,9],[41,5,41,9],[41,11,41,12],[44,8,44,12],[55,0,55,10],[55,11,55,12],[57,0,57,10],[57,11,57,12],[58,0,58,10],[58,11,58,12],[60,0,60,10],[60,11,60,12],[61,0,61,10],[61,11,61,12],[62,0,62,10],[62,11,62,12],[63,0,63,10],[63,11,63,12],[64,0,64,10],[64,11,64,12],[65,0,65,10],[65,11,65,12],[66,11,66,12]]}
[]
[null,null,null,null,null,null,null,null,"Green cells are editable"]
[]
[]
["The M6100 switch series consists of Gigabit access layer and 10 Gigabit distribution layer switches in NETGEAR modular chassis switch product line.  "]
["The M6100 switch series offers high-quality, high-density chassis alternative to stackable switches in campus LAN and midsize organizations demanding networks.  "]
["With more than 1.4 Tbps switching and routing capacity, passive backplane, management and fabric nonstop forwarding redundancy, the M6100 series delivers world-class resiliency and scalability. "]
["Ultimately, operating software and system management features take the complexity out of delivering L2/L3/L4 rich services for enterprise edge and SMB core deployments."]
[]
[" "]
[]
[]
[]
[]
["Select Model",null,null,null,null,"NETGEAR M6100 Series 3-slot Chassis Switch ",null,null,null,null,null,null,null,null,{"$f":"VLOOKUP(F15,List!$L$4:$V$5,9,FALSE)","v":"M6100-3S"}]
[]
["Advanced Layer 2, Layer 3 and Layer 4 feature set - no license required - including RIP, VRRP, OSPF, PIM, BGP, PBR, MLAG, PV(R)ST, RSPAN, DCBX, PFC, ETS and FCoE FIP \n"]
["Information and datasheet",null,null,"here"]
[]
["Blades",null,null,null,"I/O Supervisory - Slot 1","Empty slot with blank panel",null,null,null,null,null,null,null,null,{"$f":"VLOOKUP(F20,List!$L$16:$V$24,9,FALSE)","v":"-"}]
[]
[null,null,null,null,"I/O Back-up Supervisory - Slot 2","Empty slot with blank panel",null,null,null,null,null,null,null,null,{"$f":"VLOOKUP(F22,List!$L$16:$V$24,9,FALSE)","v":"-"}]
[]
[null,null,null,null,"I/O Line Card - Slot 3","Empty slot with blank panel",null,null,null,null,null,null,null,null,{"$f":"VLOOKUP(F24,List!$L$16:$V$24,9,FALSE)","v":"-"}]
[]
["Each Line Card provides line-rate switching and routing capacity.   Each Slot provides 8 x 10G channels (80G half-duplex / 160G full-duplex) access to passive backplane."]
[]
["Number of Power Supply Units",null,null,null,null,"1 power supply unit",null,null,null,null,null,null,null,null,{"$f":"VLOOKUP(F28,List!$L$34:$V$41,9,FALSE)","v":"One unit APS1000W"}]
[]
[]
[]
[null,null,null,null,"Indicate AC Voltage:",null,null,110,"V Þ","Number of PSUs sufficient:",null,null,{"$f":"IF(M33<=10,\"NO\",\"YES\")","v":"YES"},"ç Enough power for the chassis?"]
[null,null,null,null,null,null,null,null,null,null,null,"Power Budget Remaining (Watts):",{"$f":"IF(COUNTIF($O$19:$O$26,\"*XCM89P*\")+COUNTIF($O$19:$O$26,\"*XCM89UP*\")>0,\n\nIF($H$32<220,IF($H$34=\"No\",VLOOKUP($O$28,List!$T$34:$X$41,2,FALSE),VLOOKUP($O$28,List!$T$34:$X$41,3,FALSE)),IF($H$34=\"No\",VLOOKUP($O$28,List!$T$34:$X$41,4,FALSE),VLOOKUP($O$28,List!$T$34:$X$41,5,FALSE)))-VLOOKUP($O$20,List!$T$16:$U$24,2,FALSE)-VLOOKUP($O$22,List!$T$16:$U$24,2,FALSE)-VLOOKUP($O$24,List!$T$16:$U$24,2,FALSE)-IFERROR((COUNTIF($O$19:$O$26,\"XCM8948 + XCM89P\")*48+COUNTIF($O$19:$O$26,\"XCM8944 + XCM89P\")*40)*IF(Class=\"Other\",D39,VLOOKUP(E38,List!M27:O30,3,FALSE)),0)-IFERROR((COUNTIF($O$19:$O$26,\"XCM8948 + XCM89UP\")*48+COUNTIF($O$19:$O$26,\"XCM8944 + XCM89UP\")*40)*IF(J38=\"Other\",I39,VLOOKUP(J38,List!Q27:S29,3,FALSE)),0),\n\nIF($H$32<220,IF($H$34=\"No\",VLOOKUP($O$28,List!$T$34:$X$41,2,FALSE),VLOOKUP($O$28,List!$T$34:$X$41,3,FALSE)),IF($H$34=\"No\",VLOOKUP($O$28,List!$T$34:$X$41,4,FALSE),VLOOKUP($O$28,List!$T$34:$X$41,5,FALSE)))-VLOOKUP($O$20,List!$T$16:$U$24,2,FALSE)-VLOOKUP($O$22,List!$T$16:$U$24,2,FALSE)-VLOOKUP($O$24,List!$T$16:$U$24,2,FALSE)\n\n)","v":640},"Keep adding PSUs until \"YES\""]
[null,null,null,null,"N+1 Required for Redundancy:",null,null,"No"," Þ",null,null,"Power Drawn from Wall (Watts):",{"$f":"IF(COUNTIF($O$19:$O$26,\"*XCM89P*\")+COUNTIF($O$19:$O$26,\"*XCM89UP*\")>0,\n\nROUNDUP((VLOOKUP($O$20,List!$T$16:$U$24,2,FALSE)+VLOOKUP($O$22,List!$T$16:$U$24,2,FALSE)+VLOOKUP($O$24,List!$T$16:$U$24,2,FALSE)+IFERROR((COUNTIF($O$19:$O$26,\"XCM8948 + XCM89P\")*48+COUNTIF($O$19:$O$26,\"XCM8944 + XCM89P\")*40)*IF(Class=\"Other\",D39,VLOOKUP(E38,List!M27:O30,3,FALSE)),0)+IFERROR((COUNTIF($O$19:$O$26,\"XCM8948 + XCM89UP\")*48+COUNTIF($O$19:$O$26,\"XCM8944 + XCM89UP\")*40)*IF(J38=\"Other\",I39,VLOOKUP(J38,List!Q27:S29,3,FALSE)),0))/0.8,0),\n\n\nROUNDUP((VLOOKUP($O$20,List!$T$16:$U$24,2,FALSE)+VLOOKUP($O$22,List!$T$16:$U$24,2,FALSE)+VLOOKUP($O$24,List!$T$16:$U$24,2,FALSE))/0.8,0)\n\n)","v":0}]
[null,null,null,null,null,null,null,null,null,"Thermal Dissipation (BTU/hr):",null,null,{"$f":"ROUNDUP(M34*3.415,0)","v":0}]
[null,null,null,null,null,null,null,null,null,null,null,"Available PoE Budget (Watts):",{"$f":"IF($H$32<220,IF($H$34=\"No\",VLOOKUP($O$28,List!$T$34:$X$41,2,FALSE),VLOOKUP($O$28,List!$T$34:$X$41,3,FALSE)),IF($H$34=\"No\",VLOOKUP($O$28,List!$T$34:$X$41,4,FALSE),VLOOKUP($O$28,List!$T$34:$X$41,5,FALSE)))-VLOOKUP($O$20,List!$T$16:$U$24,2,FALSE)-VLOOKUP($O$22,List!$T$16:$U$24,2,FALSE)-VLOOKUP($O$24,List!$T$16:$U$24,2,FALSE)","v":640}]
[null,{"$f":"\"Blade configuration is  \"&(COUNTIF($O$19:$O$26,\"XCM8948 + XCM89P\")*48+COUNTIF($O$19:$O$26,\"XCM8944 + XCM89P\")*40)&\"  PoE+ ports\"","v":"Blade configuration is  0  PoE+ ports"},null,null,null,{"$f":"\"Blade configuration is  \"&(COUNTIF($O$19:$O$26,\"XCM8948 + XCM89UP\")*48+COUNTIF($O$19:$O$26,\"XCM8944 + XCM89UP\")*40)&\"  UPOE ports\"","v":"Blade configuration is  0  UPOE ports"},null,null,null,null,null,null,{"$f":"IF($M$33>0,\"YES\",\"NO\")","v":"YES"}]
[null,"Wattage W/port?  (Class)",null,"4.0W PSE",{"$f":"IF(D38=\"\",\"\",D38)","v":"4.0W PSE"},"Wattage W/port?  (Class)",null,null,"40W PSE",{"$f":"IF(I38=\"\",\"\",I38)","v":"40W PSE"},null,null,"é"]
[null,{"$f":"IF($E$38=\"other\",\"Override PSE W/port:\",\"\")","v":""},null,20,"W  Þ",null,{"$f":"IF($J$38=\"Other\",\"Override PSE W/port:\",\"\")","v":""},null,40,"W  Þ",{"$f":"\"Total:                                             \"&ROUNDUP(IFERROR((COUNTIF($O$19:$O$26,\"XCM8948 + XCM89P\")*48+COUNTIF($O$19:$O$26,\"XCM8944 + XCM89P\")*40)*IF(Class=\"Other\",D39,VLOOKUP(E38,List!M27:O30,3,FALSE)),0)+IFERROR((COUNTIF($O$19:$O$26,\"XCM8948 + XCM89UP\")*48+COUNTIF($O$19:$O$26,\"XCM8944 + XCM89UP\")*40)*IF(J38=\"Other\",I39,VLOOKUP(J38,List!Q27:S29,3,FALSE)),0),0)&\"W PSE required                                      <--  PoE+ / UPOE  -->\"","v":"Total:                                             0W PSE required                                      <--  PoE+ / UPOE  -->"},null,"Check if your PoE"]
[null,"<------  POE+ requirements ------>",null,null,null,null,"<------  UPOE requirements ------>",null,null,null,null,null,"budget is sufficient"]
[]
["Spare",null,null,null,null," How many Spare Fan Tray units required?",null,null,null,null,null,0,null,"Þ",{"$f":"IF(L42>0,IF(L42=1,L42&\" unit \"&VLOOKUP($O$15,List!$L$47:$V$48,9,FALSE),L42&\" units \"&VLOOKUP($O$15,List!$L$47:$V$48,9,FALSE)),\"-\")","v":"-"}]
[]
[]
["Service",null,null,null,null,"Installation Service required?",null,null,"No service required",null,null,null,null,"Þ",{"$f":"IF(VLOOKUP($I$45,List!$L$43:$T$45,9,FALSE)<>\"-\",VLOOKUP($I$45,List!$L$43:$T$45,9,FALSE)&\" contract\",VLOOKUP($I$45,List!$L$43:$T$45,9,FALSE))","v":"-"}]
[]
[null,null,null,"ProSupport Installation Setup & Configuration (Remote or Onsite):"]
[]
[]
[]
[null,null,null,"Information and datasheet",null,null,"here",null," * Available Only with Onsite Installation"]
[]
["NETGEAR Fully Managed Switches offer 24x7 Lifetime Technical Support and Lifetime Next Business Day Shipping Hardware Replacement  -  for products purchased on of after June 1, 2014 \n"]
[null,null,null,null,null,null,null,null,null,null,null,null,null,null,null,{"$f":"COUNTIF($O$19:$O$26,\"*XCM8944*\")*2+COUNTIF($O$19:$O$26,\"XCM8924X*\")*16","v":0},"SFP+ ports"]
["Optics, DAC Cables",null,null,null,null,null,null,null,null,{"$f":"IF($P$54+$P$55>1,($P$54+$P$55)&\" SFP / SFP+ ports in above configuration:\",\"\")","v":""},null,null,null,null,null,{"$f":"COUNTIF($O$19:$O$26,\"*XCM8944F*\")*40","v":0},"SFP ports "]
[{"$f":"IF(SFP>1,\"For \"&SFP&\" SFP ports, how many 100BASE-FX SFP LC GBIC (multimode, 2km OM4/OM3/OM2/OM1 50/125µm and 62.5/125µm)?\",\"\")","v":""},null,null,null,null,null,null,null,null,null,null,0,null,"Þ",{"$f":"IF(L56=\"\",\"-\",IF(SFP>1,IF(L56>=1,IF(L56=1,L56&\" unit AFM735\",L56&\" units AFM735\"),\"-\"),\"\"))","v":""}]
[{"$f":"IF(SFPP>1,IF(SFP>1,\"For \"&SFP+SFPP&\" SFP/SFP+ ports, how many 1000BASE-SX SFP LC GBIC (multimode, 1000m OM4, 550m OM3 50/125µm, 275m OM2/OM1 62.5/125µm)?\",\"For \"&SFPP&\" SFP+ ports, how many 1000BASE-SX SFP LC GBIC (multimode, 1000m OM4, 550m OM3 50/125µm, 275m OM2/OM1 62.5/125µm)?\"),IF(SFP>1,\"For \"&SFP&\" SFP ports, how many 1000BASE-SX SFP LC GBIC (multimode, 1000m OM4, 550m OM3 50/125µm, 275m OM2/OM1 62.5/125µm)?\",\"\"))","v":""},null,null,null,null,null,null,null,null,null,null,0,null,"Þ",{"$f":"IF(L57=\"\",\"-\",IF(SFP+SFPP>1,IF(L57>=1,IF(L57=1,L57&\" unit AGM731F\",L57&\" units AGM731F\"),\"-\"),\"\"))","v":""}]
[{"$f":"IF(SFPP>1,IF(SFP>1,\"For \"&SFP+SFPP&\" SFP/SFP+ ports, how many 1000BASE-LX SFP LC GBIC (single mode, 10km 9/125µm)?\",\"For \"&SFPP&\" SFP+ ports, how many 1000BASE-LX SFP LC GBIC (single mode, 10km 9/125µm)?\"),IF(SFP>1,\"For \"&SFP&\" SFP ports, how many 1000BASE-LX SFP LC GBIC (single mode, 10km 9/125µm)?\",\"\"))","v":""},null,null,null,null,null,null,null,null,null,null,0,null,"Þ",{"$f":"IF(L58=\"\",\"-\",IF(SFP+SFPP>1,IF(L58>=1,IF(L58=1,L58&\" unit AGM732F\",L58&\" units AGM732F\"),\"-\"),\"\"))","v":""}]
[{"$f":"IF(SFP>1,\"For \"&SFP&\" SFP ports, how many 1000BASE-T SFP RJ45 GBIC?\",\"\")","v":""},null,null,null,null,null,null,null,null,null,null,0,null,"Þ",{"$f":"IF(L59=\"\",\"-\",IF(SFP>1,IF(L59>=1,IF(L59=1,L59&\" unit AGM734\",L59&\" units AGM734\"),\"-\"),\"\"))","v":""}]
[null,null,null,null,{"$f":"IF(SFP+SFPP>1,\"\",\"No optics required in above M6100 switch series configuration\")","v":"No optics required in above M6100 switch series configuration"}]
[{"$f":"IF(SFPP>1,\"For \"&SFPP&\" SFP+ ports, how many 10GBASE-SR SFP+ LC GBIC (multimode, 550m OM4, 300m OM3 50/125µm, 33m OM2/OM1 62.5/125µm)?\",\"\")","v":""},null,null,null,null,null,null,null,null,null,null,0,null,"Þ",{"$f":"IF(L61=\"\",\"-\",IF(SFPP>1,IF(L61>=1,IF(L61=1,L61&\" unit AXM761\",L61&\" units AXM761\"),\"-\"),\"\"))","v":""}]
[{"$f":"IF(SFPP>1,\"For \"&SFPP&\" SFP+ ports, how many 10GBASE-LR SFP+ LC GBIC (single mode, 10km 9/125µm)?\",\"\")","v":""},null,null,null,null,null,null,null,null,null,null,0,null,"Þ",{"$f":"IF(L62=\"\",\"-\",IF(SFPP>1,IF(L62>=1,IF(L62=1,L62&\" unit AXM762\",L62&\" units AXM762\"),\"-\"),\"\"))","v":""}]
[{"$f":"IF(SFPP>1,\"For \"&SFPP&\" SFP+ ports, how many 10GBASE-LRM SFP+ LC GBIC (multimode, 260m OM4/OM3 50/125µm, 220m OM2/OM1 62.5/125µm)?\",\"\")","v":""},null,null,null,null,null,null,null,null,null,null,0,null,"Þ",{"$f":"IF(L63=\"\",\"-\",IF(SFPP>1,IF(L63>=1,IF(L63=1,L63&\" unit AXM763\",L63&\" units AXM763\"),\"-\"),\"\"))","v":""}]
[{"$f":"IF(SFPP>1,\"For \"&SFPP&\" SFP+ ports, how many 10GBASE-LR LITE SFP+ LC GBIC (single mode, 2km 9/125µm)?\",\"\")","v":""},null,null,null,null,null,null,null,null,null,null,0,null,"Þ",{"$f":"IF(L64=\"\",\"-\",IF(SFPP>1,IF(L64>=1,IF(L64=1,L64&\" unit AXM764\",L64&\" units AXM764\"),\"-\"),\"\"))","v":""}]
[{"$f":"IF(SFPP>1,\"For \"&SFPP&\" SFP+ ports, how many passive Direct Attach SFP+ copper DAC cables (1m)?\",\"\")","v":""},null,null,null,null,null,null,null,null,null,null,0,null,"Þ",{"$f":"IF(L65=\"\",\"-\",IF(SFPP>1,IF(L65>=1,IF(L65=1,L65&\" unit AXC761\",L65&\" units AXC761\"),\"-\"),\"\"))","v":""}]
[{"$f":"IF(SFPP>1,\"For \"&SFPP&\" SFP+ ports, how many passive Direct Attach SFP+ copper DAC cables (3m)?\",\"\")","v":""},null,null,null,null,null,null,null,null,null,null,0,null,"Þ",{"$f":"IF(L66=\"\",\"-\",IF(SFPP>1,IF(L66>=1,IF(L66=1,L66&\" unit AXC763\",L66&\" units AXC763\"),\"-\"),\"\"))","v":""}]
[]
["M6100 switch series will only support genuine NETGEAR SFP and SFP+ mini-GBIC transceivers. Third-party DAC cables may be used.\n",null,null,null,null,null,null,null,null,null,null,null,null,null,null,null,"END"]

{"sheet":"SKU9","index":18,"n_rows":69,"n_cols":7,"rows_kept":69,"cut":false,"hidden":false,"merged":[]}
[]
[]
[]
[]
["Category","Quantity","Ordering Number","Description"]
["Chassis Starter Kit",{"$f":"IF(LEN(Conf9!$O$20&Conf9!$O$22&Conf9!$O$24)>3,1,\"\")","v":""},{"$f":"IF(LEN(Conf9!$O$20&Conf9!$O$22&Conf9!$O$24)>3,IF(COUNTIF(Conf9!$O$20:'Conf9'!$O$24,\"XCM8924X\")>=1,\"XCM8903SX-10000S\",IF(COUNTIF(Conf9!$O$20:'Conf9'!$O$24,\"XCM8944F\")>=1,\"XCM8903SF-10000S\",\"XCM8903SK-10000S\")),\"\")","v":""},{"$f":"IF($B6<>\"\",VLOOKUP($C6,List!$C$5:$H$55,2,FALSE)&\"                             Starter kit includes:\",\"\")","v":""}]
[]
[null,null,null,{"$f":"IF($B6<>\"\",\"              ->  1 empty chassis  M6100-3S (XCM8903)                    ->  2 blank panels for open blade slots\",\"\")","v":""}]
[null,null,null,{"$f":"IF($B6<>\"\",IF($C$6=\"XCM8903SK-10000S\",\"              ->  1 blade 40x1G 2x10GBT 2xSFP+  (XCM8944)            ->  3 power supply panels for empty PSU slots\",IF($C$6=\"XCM8903SF-10000S\",\"              ->  1 blade 40xSFP 2x10GBT 2xSFP+  (XCM8944F)         ->  3 power supply panels for empty PSU slots\",IF($C$6=\"XCM8903SX-10000S\",\"              ->  1 blade 24x10GBT or 16xSFP+   (XCM8924X)            ->  3 power supply panels for empty PSU slots\",\"else\"))),\"\")","v":""}]
[null,null,null,{"$f":"IF($B6<>\"\",IF($C$6=\"XCM8903SK-10000S\",\"              ->  1 PoE+ daughter card (XCM89P)                                 ->  Rack-mount kit for 2-post racks  and wiring cabinets\",\"                                                                                                               ->  Rack-mount kit for 2-post racks  and wiring cabinets\"),\"\")","v":""}]
[null,null,null,{"$f":"IF($B6<>\"\",\"              ->  1 power supply unit (APS1000W)                               ->  Complimentary handles for rack-mount kit\",\"\")","v":""}]
[null,null,null,{"$f":"IF($B6<>\"\",\"              ->  1 front-to-back fan tray (AFT603)                               ->  Complimentary sliding rails kit for 4-post racks and wiring cabinets\",\"\")","v":""}]
[]
["I/O Blades",{"$f":"IF(COUNTIF(Conf9!$O$19:$P$68,\"*XCM8948*\")>=1,COUNTIF(Conf9!$O$19:$P$68,\"*XCM8948*\"),\"\")","v":""},{"$f":"IF($B14<>\"\",List!$C8,\"\")","v":""},{"$f":"IF($B14<>\"\",VLOOKUP($C14,List!$C$5:$H$55,2,FALSE),\"\")","v":""}]
[null,{"$f":"IF(COUNTIF(Conf9!$O$19:$P$67,\"*XCM8944*\")-COUNTIF(Conf9!$O$19:$P$67,\"*XCM8944F*\")>=1,IF($C$6=\"XCM8903SK-10000S\",IF( (COUNTIF(Conf9!$O$19:$P$67,\"*XCM8944*\")-COUNTIF(Conf9!$O$19:$P$67,\"*XCM8944F*\"))>=2, COUNTIF(Conf9!$O$19:$P$67,\"*XCM8944*\")-COUNTIF(Conf9!$O$19:$P$67,\"*XCM8944F*\")-1,\"\"),COUNTIF(Conf9!$O$19:$P$67,\"*XCM8944*\")-COUNTIF(Conf9!$O$19:$P$67,\"*XCM8944F*\")), \"\")","v":""},{"$f":"IF($B15<>\"\",List!$C9,\"\")","v":""},{"$f":"IF($B15<>\"\",VLOOKUP($C15,List!$C$5:$H$55,2,FALSE),\"\")","v":""}]
[null,{"$f":"IF(\nCOUNTIF(Conf9!$O$19:$P$68,\"*XCM8944F*\")>=1,\nIF($C$6=\"XCM8903SF-10000S\",IF(COUNTIF(Conf9!$O$19:$P$68,\"*XCM8944F*\")>=2, COUNTIF(Conf9!$O$19:$P$68,\"*XCM8944F*\")-1,\"\"), COUNTIF(Conf9!$O$19:$P$68,\"*XCM8944F*\")),\"\")","v":""},{"$f":"IF($B16<>\"\",List!$C10,\"\")","v":""},{"$f":"IF($B16<>\"\",VLOOKUP($C16,List!$C$5:$H$55,2,FALSE),\"\")","v":""}]
[null,{"$f":"IF(\nCOUNTIF(Conf9!$O$19:$P$68,\"*XCM8924X*\")>=1,\nIF($C$6=\"XCM8903SX-10000S\",IF(COUNTIF(Conf9!$O$19:$P$68,\"*XCM8924X*\")>=2, COUNTIF(Conf9!$O$19:$P$68,\"*XCM8924X*\")-1,\"\"), COUNTIF(Conf9!$O$19:$P$68,\"*XCM8924X*\")),\"\")","v":""},{"$f":"IF($B17<>\"\",List!$C11,\"\")","v":""},{"$f":"IF($B17<>\"\",VLOOKUP($C17,List!$C$5:$H$55,2,FALSE),\"\")","v":""}]
["Accessories",{"$f":"IF(COUNTIF(Conf9!$O$19:$P$68,\"*XCM89P*\")>=1,IF($C$6=\"XCM8903SK-10000S\",IF(COUNTIF(Conf9!$O$19:$P$68,\"*XCM89P*\")>=2,COUNTIF(Conf9!$O$19:$P$68,\"*XCM89P*\")-1,\"\"), COUNTIF(Conf9!$O$19:$P$68,\"*XCM89P*\")), \"\")","v":""},{"$f":"IF($B18<>\"\",List!$C12,\"\")","v":""},{"$f":"IF($B18<>\"\",VLOOKUP($C18,List!$C$5:$H$55,2,FALSE),\"\")","v":""}]
[null,{"$f":"IF(COUNTIF(Conf9!$O$19:$P$68,\"*XCM89UP*\")>=1,COUNTIF(Conf9!$O$19:$P$68,\"*XCM89UP*\"),\"\")","v":""},{"$f":"IF($B19<>\"\",List!$C13,\"\")","v":""},{"$f":"IF($B19<>\"\",VLOOKUP($C19,List!$C$5:$H$55,2,FALSE),\"\")","v":""}]
[null,{"$f":"IFERROR(IF(VLOOKUP(Conf9!$O$28,List!T34:Y41,6,FALSE)>=2,VLOOKUP(Conf9!$O$28,List!T34:Y41,6,FALSE)-1,\"\"),\"\")","v":""},{"$f":"IF($B20<>\"\",IF($F$20=\"NA/EMEA\",\"APS1000W-100NES\",IF($F$20=\"APAC\",\"APS1000W-100AJS\",\"\")),\"\")","v":""},{"$f":"IF($B20<>\"\",VLOOKUP($C20,List!$C$5:$H$55,2,FALSE),\"\")","v":""},"Localization","NA/EMEA"," Þ"]
[null,{"$f":"IF(COUNTIF(Conf9!$O$19:$P$68,\"*AFT603*\")>=1,COUNTIF(Conf9!$O$19:$P$68,\"*AFT603*\"),\"\")","v":""},{"$f":"IF($B21<>\"\",List!$C16,\"\")","v":""},{"$f":"IF($B21<>\"\",VLOOKUP($C21,List!$C$5:$H$55,2,FALSE),\"\")","v":""}]
[null,{"$f":"IF(COUNTIF(Conf9!$O$19:$P$68,\"*RPS4000v2*\")>=1,COUNTIF(Conf9!$O$19:$P$68,\"*RPS4000v2*\"),\"\")","v":""},{"$f":"IF($B22<>\"\",IF($F$20=\"NA/EMEA\",\"RPS4000-200NES\",IF($F$20=\"APAC\",\"RPS4000-200AJS\",\"\")),\"\")","v":""},{"$f":"IF($B22<>\"\",VLOOKUP($C22,List!$C$5:$H$55,2,FALSE),\"\")","v":""}]
["Service",{"$f":"IF(COUNTIF(Conf9!$O$19:$P$68,\"*PSB0304*\")>=1,COUNTIF(Conf9!$O$19:$P$68,\"*PSB0304*\"),\"\")","v":""},{"$f":"IF($B23<>\"\",List!$C19,\"\")","v":""},{"$f":"IF($B23<>\"\",VLOOKUP($C23,List!$C$5:$H$55,2,FALSE),\"\")","v":""}]
[null,{"$f":"IF(COUNTIF(Conf9!$O$19:$P$68,\"*PSP1104*\")>=1,COUNTIF(Conf9!$O$19:$P$68,\"*PSP1104*\"),\"\")","v":""},{"$f":"IF($B24<>\"\",List!$C20,\"\")","v":""},{"$f":"IF($B24<>\"\",VLOOKUP($C24,List!$C$5:$H$55,2,FALSE),\"\")","v":""}]
["Optics_Cables",{"$f":"IF(COUNTIF(Conf9!$O$19:$P$68,\"*AFM735*\")>=1,Conf9!$L56,\"\")","v":""},{"$f":"IF($B25<>\"\",List!$C21,\"\")","v":""},{"$f":"IF($B25<>\"\",VLOOKUP($C25,List!$C$5:$H$55,2,FALSE),\"\")","v":""}]
[null,{"$f":"IF(COUNTIF(Conf9!$O$19:$P$68,\"*AGM731F*\")>=1,Conf9!$L57,\"\")","v":""},{"$f":"IF($B26<>\"\",List!$C22,\"\")","v":""},{"$f":"IF($B26<>\"\",VLOOKUP($C26,List!$C$5:$H$55,2,FALSE),\"\")","v":""}]
[null,{"$f":"IF(COUNTIF(Conf9!$O$19:$P$68,\"*AGM732F*\")>=1,Conf9!$L58,\"\")","v":""},{"$f":"IF($B27<>\"\",List!$C23,\"\")","v":""},{"$f":"IF($B27<>\"\",VLOOKUP($C27,List!$C$5:$H$55,2,FALSE),\"\")","v":""}]
[null,{"$f":"IF(COUNTIF(Conf9!$O$19:$P$68,\"*AGM734*\")>=1,Conf9!$L59,\"\")","v":""},{"$f":"IF($B28<>\"\",List!$C24,\"\")","v":""},{"$f":"IF($B28<>\"\",VLOOKUP($C28,List!$C$5:$H$55,2,FALSE),\"\")","v":""}]
[null,{"$f":"IF(COUNTIF(Conf9!$O$19:$P$68,\"*AXM761*\")>=1,IF(Conf9!$L61<10,Conf9!$L61,IF(MOD(Conf9!$L61/10,1)=0,\"\",Conf9!$L61-10*INT(Conf9!$L61/10))),\"\")","v":""},{"$f":"IF($B29<>\"\",List!$C25,\"\")","v":""},{"$f":"IF($B29<>\"\",VLOOKUP($C29,List!$C$5:$H$55,2,FALSE),\"\")","v":""}]
[null,{"$f":"IF(COUNTIF(Conf9!$O$19:$P$68,\"*AXM761*\")>=1,IF(Conf9!$L61>=10,INT(Conf9!$L61/10),\"\"),\"\")","v":""},{"$f":"IF($B30<>\"\",List!$C26,\"\")","v":""},{"$f":"IF($B30<>\"\",VLOOKUP($C30,List!$C$5:$H$55,2,FALSE),\"\")","v":""}]
[null,{"$f":"IF(COUNTIF(Conf9!$O$19:$P$68,\"*AXM762*\")>=1,IF(Conf9!$L62<10,Conf9!$L62,IF(MOD(Conf9!$L62/10,1)=0,\"\",Conf9!$L62-10*INT(Conf9!$L62/10))),\"\")","v":""},{"$f":"IF($B31<>\"\",List!$C27,\"\")","v":""},{"$f":"IF($B31<>\"\",VLOOKUP($C31,List!$C$5:$H$55,2,FALSE),\"\")","v":""}]
[null,{"$f":"IF(COUNTIF(Conf9!$O$19:$P$68,\"*AXM762*\")>=1,IF(Conf9!$L62>=10,INT(Conf9!$L62/10),\"\"),\"\")","v":""},{"$f":"IF($B32<>\"\",List!$C28,\"\")","v":""},{"$f":"IF($B32<>\"\",VLOOKUP($C32,List!$C$5:$H$55,2,FALSE),\"\")","v":""}]
[null,{"$f":"IF(COUNTIF(Conf9!$O$19:$P$68,\"*AXM763*\")>=1,Conf9!$L63,\"\")","v":""},{"$f":"IF($B33<>\"\",List!$C29,\"\")","v":""},{"$f":"IF($B33<>\"\",VLOOKUP($C33,List!$C$5:$H$55,2,FALSE),\"\")","v":""}]
[null,{"$f":"IF(COUNTIF(Conf9!$O$19:$P$68,\"*AXM764*\")>=1,Conf9!$L64,\"\")","v":""},{"$f":"IF($B34<>\"\",List!$C30,\"\")","v":""},{"$f":"IF($B34<>\"\",VLOOKUP($C34,List!$C$5:$H$55,2,FALSE),\"\")","v":""}]
[null,{"$f":"IF(COUNTIF(Conf9!$O$19:$P$68,\"*AXC761*\")>=1,Conf9!$L65,\"\")","v":""},{"$f":"IF($B35<>\"\",List!$C31,\"\")","v":""},{"$f":"IF($B35<>\"\",VLOOKUP($C35,List!$C$5:$H$55,2,FALSE),\"\")","v":""}]
[null,{"$f":"IF(COUNTIF(Conf9!$O$19:$P$68,\"*AXC763*\")>=1,Conf9!$L66,\"\")","v":""},{"$f":"IF($B36<>\"\",List!$C32,\"\")","v":""},{"$f":"IF($B36<>\"\",VLOOKUP($C36,List!$C$5:$H$55,2,FALSE),\"\")","v":""}]
[]
["Total",{"$f":"IF(SUM(B6:B36)>0,SUM(B6:B36),\"\")","v":""}]
[null,null,null,{"$f":"IFERROR(VLOOKUP($C39,List!$C$5:$H$153,2,FALSE),\"\")","v":""}]
[null,null,null,{"$f":"IFERROR(VLOOKUP($C40,List!$C$5:$H$153,2,FALSE),\"\")","v":""}]
[null,null,null,{"$f":"IFERROR(VLOOKUP($C41,List!$C$5:$H$153,2,FALSE),\"\")","v":""}]
[null,null,null,{"$f":"IFERROR(VLOOKUP($C42,List!$C$5:$H$153,2,FALSE),\"\")","v":""}]
[null,null,null,{"$f":"IFERROR(VLOOKUP($C43,List!$C$5:$H$153,2,FALSE),\"\")","v":""}]
[null,null,null,{"$f":"IFERROR(VLOOKUP($C44,List!$C$5:$H$153,2,FALSE),\"\")","v":""}]
[null,null,null,{"$f":"IFERROR(VLOOKUP($C45,List!$C$5:$H$153,2,FALSE),\"\")","v":""}]
[null,null,null,{"$f":"IFERROR(VLOOKUP($C46,List!$C$5:$H$153,2,FALSE),\"\")","v":""}]
[null,null,null,{"$f":"IFERROR(VLOOKUP($C47,List!$C$5:$H$153,2,FALSE),\"\")","v":""}]
[null,null,null,{"$f":"IFERROR(VLOOKUP($C48,List!$C$5:$H$153,2,FALSE),\"\")","v":""}]
[null,null,null,{"$f":"IFERROR(VLOOKUP($C49,List!$C$5:$H$153,2,FALSE),\"\")","v":""}]
[null,null,null,{"$f":"IFERROR(VLOOKUP($C50,List!$C$5:$H$153,2,FALSE),\"\")","v":""}]
[null,null,null,{"$f":"IFERROR(VLOOKUP($C51,List!$C$5:$H$153,2,FALSE),\"\")","v":""}]
[null,null,null,{"$f":"IFERROR(VLOOKUP($C52,List!$C$5:$H$153,2,FALSE),\"\")","v":""}]
[null,null,null,{"$f":"IFERROR(VLOOKUP($C53,List!$C$5:$H$153,2,FALSE),\"\")","v":""}]
[null,null,null,{"$f":"IFERROR(VLOOKUP($C54,List!$C$5:$H$153,2,FALSE),\"\")","v":""}]
[null,null,null,{"$f":"IFERROR(VLOOKUP($C55,List!$C$5:$H$153,2,FALSE),\"\")","v":""}]
[null,null,null,{"$f":"IFERROR(VLOOKUP($C56,List!$C$5:$H$153,2,FALSE),\"\")","v":""}]
[null,null,null,{"$f":"IFERROR(VLOOKUP($C57,List!$C$5:$H$153,2,FALSE),\"\")","v":""}]
[null,null,null,{"$f":"IFERROR(VLOOKUP($C58,List!$C$5:$H$153,2,FALSE),\"\")","v":""}]
[null,null,null,{"$f":"IFERROR(VLOOKUP($C59,List!$C$5:$H$153,2,FALSE),\"\")","v":""}]
[null,null,null,{"$f":"IFERROR(VLOOKUP($C60,List!$C$5:$H$153,2,FALSE),\"\")","v":""}]
[null,null,null,{"$f":"IFERROR(VLOOKUP($C61,List!$C$5:$H$153,2,FALSE),\"\")","v":""}]
[null,null,null,{"$f":"IFERROR(VLOOKUP($C62,List!$C$5:$H$153,2,FALSE),\"\")","v":""}]
[null,null,null,{"$f":"IFERROR(VLOOKUP($C63,List!$C$5:$H$153,2,FALSE),\"\")","v":""}]
[null,null,null,{"$f":"IFERROR(VLOOKUP($C64,List!$C$5:$H$153,2,FALSE),\"\")","v":""}]
[null,null,null,{"$f":"IFERROR(VLOOKUP($C65,List!$C$5:$H$153,2,FALSE),\"\")","v":""}]
[null,null,null,{"$f":"IFERROR(VLOOKUP($C66,List!$C$5:$H$153,2,FALSE),\"\")","v":""}]
[null,null,null,{"$f":"IFERROR(VLOOKUP($C67,List!$C$5:$H$153,2,FALSE),\"\")","v":""}]
[null,null,null,{"$f":"IFERROR(VLOOKUP($C68,List!$C$5:$H$153,2,FALSE),\"\")","v":""}]
[null,null,null,{"$f":"IFERROR(VLOOKUP($C69,List!$C$5:$H$153,2,FALSE),\"\")","v":""}]

{"sheet":"Conf10","index":19,"n_rows":68,"n_cols":17,"rows_kept":68,"cut":false,"hidden":false,"merged":[[21,5,21,12],[21,14,21,16],[1,8,1,10],[14,5,14,12],[17,0,17,2],[19,5,19,12],[19,14,19,16],[23,5,23,12],[23,14,23,16],[27,5,27,12],[27,14,29,16],[31,4,31,6],[31,9,31,11],[56,0,56,10],[56,11,56,12],[33,4,33,6],[34,9,34,11],[36,1,36,3],[36,5,36,8],[37,5,37,7],[38,6,38,7],[38,10,39,11],[39,1,39,4],[39,6,39,9],[41,5,41,9],[41,11,41,12],[44,8,44,12],[55,0,55,10],[55,11,55,12],[57,0,57,10],[57,11,57,12],[58,0,58,10],[58,11,58,12],[60,0,60,10],[60,11,60,12],[61,0,61,10],[61,11,61,12],[62,0,62,10],[62,11,62,12],[63,0,63,10],[63,11,63,12],[64,0,64,10],[64,11,64,12],[65,0,65,10],[65,11,65,12],[66,11,66,12]]}
[]
[null,null,null,null,null,null,null,null,"Green cells are editable"]
[]
[]
["The M6100 switch series consists of Gigabit access layer and 10 Gigabit distribution layer switches in NETGEAR modular chassis switch product line.  "]
["The M6100 switch series offers high-quality, high-density chassis alternative to stackable switches in campus LAN and midsize organizations demanding networks.  "]
["With more than 1.4 Tbps switching and routing capacity, passive backplane, management and fabric nonstop forwarding redundancy, the M6100 series delivers world-class resiliency and scalability. "]
["Ultimately, operating software and system management features take the complexity out of delivering L2/L3/L4 rich services for enterprise edge and SMB core deployments."]
[]
[" "]
[]
[]
[]
[]
["Select Model",null,null,null,null,"NETGEAR M6100 Series 3-slot Chassis Switch ",null,null,null,null,null,null,null,null,{"$f":"VLOOKUP(F15,List!$L$4:$V$5,9,FALSE)","v":"M6100-3S"}]
[]
["Advanced Layer 2, Layer 3 and Layer 4 feature set - no license required - including RIP, VRRP, OSPF, PIM, BGP, PBR, MLAG, PV(R)ST, RSPAN, DCBX, PFC, ETS and FCoE FIP \n"]
["Information and datasheet",null,null,"here"]
[]
["Blades",null,null,null,"I/O Supervisory - Slot 1","Empty slot with blank panel",null,null,null,null,null,null,null,null,{"$f":"VLOOKUP(F20,List!$L$16:$V$24,9,FALSE)","v":"-"}]
[]
[null,null,null,null,"I/O Back-up Supervisory - Slot 2","Empty slot with blank panel",null,null,null,null,null,null,null,null,{"$f":"VLOOKUP(F22,List!$L$16:$V$24,9,FALSE)","v":"-"}]
[]
[null,null,null,null,"I/O Line Card - Slot 3","Empty slot with blank panel",null,null,null,null,null,null,null,null,{"$f":"VLOOKUP(F24,List!$L$16:$V$24,9,FALSE)","v":"-"}]
[]
["Each Line Card provides line-rate switching and routing capacity.   Each Slot provides 8 x 10G channels (80G half-duplex / 160G full-duplex) access to passive backplane."]
[]
["Number of Power Supply Units",null,null,null,null,"1 power supply unit",null,null,null,null,null,null,null,null,{"$f":"VLOOKUP(F28,List!$L$34:$V$41,9,FALSE)","v":"One unit APS1000W"}]
[]
[]
[]
[null,null,null,null,"Indicate AC Voltage:",null,null,110,"V Þ","Number of PSUs sufficient:",null,null,{"$f":"IF(M33<=10,\"NO\",\"YES\")","v":"YES"},"ç Enough power for the chassis?"]
[null,null,null,null,null,null,null,null,null,null,null,"Power Budget Remaining (Watts):",{"$f":"IF(COUNTIF($O$19:$O$26,\"*XCM89P*\")+COUNTIF($O$19:$O$26,\"*XCM89UP*\")>0,\n\nIF($H$32<220,IF($H$34=\"No\",VLOOKUP($O$28,List!$T$34:$X$41,2,FALSE),VLOOKUP($O$28,List!$T$34:$X$41,3,FALSE)),IF($H$34=\"No\",VLOOKUP($O$28,List!$T$34:$X$41,4,FALSE),VLOOKUP($O$28,List!$T$34:$X$41,5,FALSE)))-VLOOKUP($O$20,List!$T$16:$U$24,2,FALSE)-VLOOKUP($O$22,List!$T$16:$U$24,2,FALSE)-VLOOKUP($O$24,List!$T$16:$U$24,2,FALSE)-IFERROR((COUNTIF($O$19:$O$26,\"XCM8948 + XCM89P\")*48+COUNTIF($O$19:$O$26,\"XCM8944 + XCM89P\")*40)*IF(Class=\"Other\",D39,VLOOKUP(E38,List!M27:O30,3,FALSE)),0)-IFERROR((COUNTIF($O$19:$O$26,\"XCM8948 + XCM89UP\")*48+COUNTIF($O$19:$O$26,\"XCM8944 + XCM89UP\")*40)*IF(J38=\"Other\",I39,VLOOKUP(J38,List!Q27:S29,3,FALSE)),0),\n\nIF($H$32<220,IF($H$34=\"No\",VLOOKUP($O$28,List!$T$34:$X$41,2,FALSE),VLOOKUP($O$28,List!$T$34:$X$41,3,FALSE)),IF($H$34=\"No\",VLOOKUP($O$28,List!$T$34:$X$41,4,FALSE),VLOOKUP($O$28,List!$T$34:$X$41,5,FALSE)))-VLOOKUP($O$20,List!$T$16:$U$24,2,FALSE)-VLOOKUP($O$22,List!$T$16:$U$24,2,FALSE)-VLOOKUP($O$24,List!$T$16:$U$24,2,FALSE)\n\n)","v":640},"Keep adding PSUs until \"YES\""]
[null,null,null,null,"N+1 Required for Redundancy:",null,null,"No"," Þ",null,null,"Power Drawn from Wall (Watts):",{"$f":"IF(COUNTIF($O$19:$O$26,\"*XCM89P*\")+COUNTIF($O$19:$O$26,\"*XCM89UP*\")>0,\n\nROUNDUP((VLOOKUP($O$20,List!$T$16:$U$24,2,FALSE)+VLOOKUP($O$22,List!$T$16:$U$24,2,FALSE)+VLOOKUP($O$24,List!$T$16:$U$24,2,FALSE)+IFERROR((COUNTIF($O$19:$O$26,\"XCM8948 + XCM89P\")*48+COUNTIF($O$19:$O$26,\"XCM8944 + XCM89P\")*40)*IF(Class=\"Other\",D39,VLOOKUP(E38,List!M27:O30,3,FALSE)),0)+IFERROR((COUNTIF($O$19:$O$26,\"XCM8948 + XCM89UP\")*48+COUNTIF($O$19:$O$26,\"XCM8944 + XCM89UP\")*40)*IF(J38=\"Other\",I39,VLOOKUP(J38,List!Q27:S29,3,FALSE)),0))/0.8,0),\n\n\nROUNDUP((VLOOKUP($O$20,List!$T$16:$U$24,2,FALSE)+VLOOKUP($O$22,List!$T$16:$U$24,2,FALSE)+VLOOKUP($O$24,List!$T$16:$U$24,2,FALSE))/0.8,0)\n\n)","v":0}]
[null,null,null,null,null,null,null,null,null,"Thermal Dissipation (BTU/hr):",null,null,{"$f":"ROUNDUP(M34*3.415,0)","v":0}]
[null,null,null,null,null,null,null,null,null,null,null,"Available PoE Budget (Watts):",{"$f":"IF($H$32<220,IF($H$34=\"No\",VLOOKUP($O$28,List!$T$34:$X$41,2,FALSE),VLOOKUP($O$28,List!$T$34:$X$41,3,FALSE)),IF($H$34=\"No\",VLOOKUP($O$28,List!$T$34:$X$41,4,FALSE),VLOOKUP($O$28,List!$T$34:$X$41,5,FALSE)))-VLOOKUP($O$20,List!$T$16:$U$24,2,FALSE)-VLOOKUP($O$22,List!$T$16:$U$24,2,FALSE)-VLOOKUP($O$24,List!$T$16:$U$24,2,FALSE)","v":640}]
[null,{"$f":"\"Blade configuration is  \"&(COUNTIF($O$19:$O$26,\"XCM8948 + XCM89P\")*48+COUNTIF($O$19:$O$26,\"XCM8944 + XCM89P\")*40)&\"  PoE+ ports\"","v":"Blade configuration is  0  PoE+ ports"},null,null,null,{"$f":"\"Blade configuration is  \"&(COUNTIF($O$19:$O$26,\"XCM8948 + XCM89UP\")*48+COUNTIF($O$19:$O$26,\"XCM8944 + XCM89UP\")*40)&\"  UPOE ports\"","v":"Blade configuration is  0  UPOE ports"},null,null,null,null,null,null,{"$f":"IF($M$33>0,\"YES\",\"NO\")","v":"YES"}]
[null,"Wattage W/port?  (Class)",null,"4.0W PSE",{"$f":"IF(D38=\"\",\"\",D38)","v":"4.0W PSE"},"Wattage W/port?  (Class)",null,null,"40W PSE",{"$f":"IF(I38=\"\",\"\",I38)","v":"40W PSE"},null,null,"é"]
[null,{"$f":"IF($E$38=\"other\",\"Override PSE W/port:\",\"\")","v":""},null,20,"W  Þ",null,{"$f":"IF($J$38=\"Other\",\"Override PSE W/port:\",\"\")","v":""},null,40,"W  Þ",{"$f":"\"Total:                                             \"&ROUNDUP(IFERROR((COUNTIF($O$19:$O$26,\"XCM8948 + XCM89P\")*48+COUNTIF($O$19:$O$26,\"XCM8944 + XCM89P\")*40)*IF(Class=\"Other\",D39,VLOOKUP(E38,List!M27:O30,3,FALSE)),0)+IFERROR((COUNTIF($O$19:$O$26,\"XCM8948 + XCM89UP\")*48+COUNTIF($O$19:$O$26,\"XCM8944 + XCM89UP\")*40)*IF(J38=\"Other\",I39,VLOOKUP(J38,List!Q27:S29,3,FALSE)),0),0)&\"W PSE required                                      <--  PoE+ / UPOE  -->\"","v":"Total:                                             0W PSE required                                      <--  PoE+ / UPOE  -->"},null,"Check if your PoE"]
[null,"<------  POE+ requirements ------>",null,null,null,null,"<------  UPOE requirements ------>",null,null,null,null,null,"budget is sufficient"]
[]
["Spare",null,null,null,null," How many Spare Fan Tray units required?",null,null,null,null,null,0,null,"Þ",{"$f":"IF(L42>0,IF(L42=1,L42&\" unit \"&VLOOKUP($O$15,List!$L$47:$V$48,9,FALSE),L42&\" units \"&VLOOKUP($O$15,List!$L$47:$V$48,9,FALSE)),\"-\")","v":"-"}]
[]
[]
["Service",null,null,null,null,"Installation Service required?",null,null,"No service required",null,null,null,null,"Þ",{"$f":"IF(VLOOKUP($I$45,List!$L$43:$T$45,9,FALSE)<>\"-\",VLOOKUP($I$45,List!$L$43:$T$45,9,FALSE)&\" contract\",VLOOKUP($I$45,List!$L$43:$T$45,9,FALSE))","v":"-"}]
[]
[null,null,null,"ProSupport Installation Setup & Configuration (Remote or Onsite):"]
[]
[]
[]
[null,null,null,"Information and datasheet",null,null,"here",null," * Available Only with Onsite Installation"]
[]
["NETGEAR Fully Managed Switches offer 24x7 Lifetime Technical Support and Lifetime Next Business Day Shipping Hardware Replacement  -  for products purchased on of after June 1, 2014 \n"]
[null,null,null,null,null,null,null,null,null,null,null,null,null,null,null,{"$f":"COUNTIF($O$19:$O$26,\"*XCM8944*\")*2+COUNTIF($O$19:$O$26,\"XCM8924X*\")*16","v":0},"SFP+ ports"]
["Optics, DAC Cables",null,null,null,null,null,null,null,null,{"$f":"IF($P$54+$P$55>1,($P$54+$P$55)&\" SFP / SFP+ ports in above configuration:\",\"\")","v":""},null,null,null,null,null,{"$f":"COUNTIF($O$19:$O$26,\"*XCM8944F*\")*40","v":0},"SFP ports "]
[{"$f":"IF(SFP>1,\"For \"&SFP&\" SFP ports, how many 100BASE-FX SFP LC GBIC (multimode, 2km OM4/OM3/OM2/OM1 50/125µm and 62.5/125µm)?\",\"\")","v":""},null,null,null,null,null,null,null,null,null,null,0,null,"Þ",{"$f":"IF(L56=\"\",\"-\",IF(SFP>1,IF(L56>=1,IF(L56=1,L56&\" unit AFM735\",L56&\" units AFM735\"),\"-\"),\"\"))","v":""}]
[{"$f":"IF(SFPP>1,IF(SFP>1,\"For \"&SFP+SFPP&\" SFP/SFP+ ports, how many 1000BASE-SX SFP LC GBIC (multimode, 1000m OM4, 550m OM3 50/125µm, 275m OM2/OM1 62.5/125µm)?\",\"For \"&SFPP&\" SFP+ ports, how many 1000BASE-SX SFP LC GBIC (multimode, 1000m OM4, 550m OM3 50/125µm, 275m OM2/OM1 62.5/125µm)?\"),IF(SFP>1,\"For \"&SFP&\" SFP ports, how many 1000BASE-SX SFP LC GBIC (multimode, 1000m OM4, 550m OM3 50/125µm, 275m OM2/OM1 62.5/125µm)?\",\"\"))","v":""},null,null,null,null,null,null,null,null,null,null,0,null,"Þ",{"$f":"IF(L57=\"\",\"-\",IF(SFP+SFPP>1,IF(L57>=1,IF(L57=1,L57&\" unit AGM731F\",L57&\" units AGM731F\"),\"-\"),\"\"))","v":""}]
[{"$f":"IF(SFPP>1,IF(SFP>1,\"For \"&SFP+SFPP&\" SFP/SFP+ ports, how many 1000BASE-LX SFP LC GBIC (single mode, 10km 9/125µm)?\",\"For \"&SFPP&\" SFP+ ports, how many 1000BASE-LX SFP LC GBIC (single mode, 10km 9/125µm)?\"),IF(SFP>1,\"For \"&SFP&\" SFP ports, how many 1000BASE-LX SFP LC GBIC (single mode, 10km 9/125µm)?\",\"\"))","v":""},null,null,null,null,null,null,null,null,null,null,0,null,"Þ",{"$f":"IF(L58=\"\",\"-\",IF(SFP+SFPP>1,IF(L58>=1,IF(L58=1,L58&\" unit AGM732F\",L58&\" units AGM732F\"),\"-\"),\"\"))","v":""}]
[{"$f":"IF(SFP>1,\"For \"&SFP&\" SFP ports, how many 1000BASE-T SFP RJ45 GBIC?\",\"\")","v":""},null,null,null,null,null,null,null,null,null,null,0,null,"Þ",{"$f":"IF(L59=\"\",\"-\",IF(SFP>1,IF(L59>=1,IF(L59=1,L59&\" unit AGM734\",L59&\" units AGM734\"),\"-\"),\"\"))","v":""}]
[null,null,null,null,{"$f":"IF(SFP+SFPP>1,\"\",\"No optics required in above M6100 switch series configuration\")","v":"No optics required in above M6100 switch series configuration"}]
[{"$f":"IF(SFPP>1,\"For \"&SFPP&\" SFP+ ports, how many 10GBASE-SR SFP+ LC GBIC (multimode, 550m OM4, 300m OM3 50/125µm, 33m OM2/OM1 62.5/125µm)?\",\"\")","v":""},null,null,null,null,null,null,null,null,null,null,0,null,"Þ",{"$f":"IF(L61=\"\",\"-\",IF(SFPP>1,IF(L61>=1,IF(L61=1,L61&\" unit AXM761\",L61&\" units AXM761\"),\"-\"),\"\"))","v":""}]
[{"$f":"IF(SFPP>1,\"For \"&SFPP&\" SFP+ ports, how many 10GBASE-LR SFP+ LC GBIC (single mode, 10km 9/125µm)?\",\"\")","v":""},null,null,null,null,null,null,null,null,null,null,0,null,"Þ",{"$f":"IF(L62=\"\",\"-\",IF(SFPP>1,IF(L62>=1,IF(L62=1,L62&\" unit AXM762\",L62&\" units AXM762\"),\"-\"),\"\"))","v":""}]
[{"$f":"IF(SFPP>1,\"For \"&SFPP&\" SFP+ ports, how many 10GBASE-LRM SFP+ LC GBIC (multimode, 260m OM4/OM3 50/125µm, 220m OM2/OM1 62.5/125µm)?\",\"\")","v":""},null,null,null,null,null,null,null,null,null,null,0,null,"Þ",{"$f":"IF(L63=\"\",\"-\",IF(SFPP>1,IF(L63>=1,IF(L63=1,L63&\" unit AXM763\",L63&\" units AXM763\"),\"-\"),\"\"))","v":""}]
[{"$f":"IF(SFPP>1,\"For \"&SFPP&\" SFP+ ports, how many 10GBASE-LR LITE SFP+ LC GBIC (single mode, 2km 9/125µm)?\",\"\")","v":""},null,null,null,null,null,null,null,null,null,null,0,null,"Þ",{"$f":"IF(L64=\"\",\"-\",IF(SFPP>1,IF(L64>=1,IF(L64=1,L64&\" unit AXM764\",L64&\" units AXM764\"),\"-\"),\"\"))","v":""}]
[{"$f":"IF(SFPP>1,\"For \"&SFPP&\" SFP+ ports, how many passive Direct Attach SFP+ copper DAC cables (1m)?\",\"\")","v":""},null,null,null,null,null,null,null,null,null,null,0,null,"Þ",{"$f":"IF(L65=\"\",\"-\",IF(SFPP>1,IF(L65>=1,IF(L65=1,L65&\" unit AXC761\",L65&\" units AXC761\"),\"-\"),\"\"))","v":""}]
[{"$f":"IF(SFPP>1,\"For \"&SFPP&\" SFP+ ports, how many passive Direct Attach SFP+ copper DAC cables (3m)?\",\"\")","v":""},null,null,null,null,null,null,null,null,null,null,0,null,"Þ",{"$f":"IF(L66=\"\",\"-\",IF(SFPP>1,IF(L66>=1,IF(L66=1,L66&\" unit AXC763\",L66&\" units AXC763\"),\"-\"),\"\"))","v":""}]
[]
["M6100 switch series will only support genuine NETGEAR SFP and SFP+ mini-GBIC transceivers. Third-party DAC cables may be used.\n",null,null,null,null,null,null,null,null,null,null,null,null,null,null,null,"END"]

{"sheet":"SKU10","index":20,"n_rows":69,"n_cols":7,"rows_kept":69,"cut":false,"hidden":false,"merged":[]}
[]
[]
[]
[]
["Category","Quantity","Ordering Number","Description"]
["Chassis Starter Kit",{"$f":"IF(LEN(Conf10!$O$20&Conf10!$O$22&Conf10!$O$24)>3,1,\"\")","v":""},{"$f":"IF(LEN(Conf10!$O$20&Conf10!$O$22&Conf10!$O$24)>3,IF(COUNTIF(Conf10!$O$20:'Conf10'!$O$24,\"XCM8924X\")>=1,\"XCM8903SX-10000S\",IF(COUNTIF(Conf10!$O$20:'Conf10'!$O$24,\"XCM8944F\")>=1,\"XCM8903SF-10000S\",\"XCM8903SK-10000S\")),\"\")","v":""},{"$f":"IF($B6<>\"\",VLOOKUP($C6,List!$C$5:$H$55,2,FALSE)&\"                             Starter kit includes:\",\"\")","v":""}]
[]
[null,null,null,{"$f":"IF($B6<>\"\",\"              ->  1 empty chassis  M6100-3S (XCM8903)                    ->  2 blank panels for open blade slots\",\"\")","v":""}]
[null,null,null,{"$f":"IF($B6<>\"\",IF($C$6=\"XCM8903SK-10000S\",\"              ->  1 blade 40x1G 2x10GBT 2xSFP+  (XCM8944)            ->  3 power supply panels for empty PSU slots\",IF($C$6=\"XCM8903SF-10000S\",\"              ->  1 blade 40xSFP 2x10GBT 2xSFP+  (XCM8944F)         ->  3 power supply panels for empty PSU slots\",IF($C$6=\"XCM8903SX-10000S\",\"              ->  1 blade 24x10GBT or 16xSFP+   (XCM8924X)            ->  3 power supply panels for empty PSU slots\",\"else\"))),\"\")","v":""}]
[null,null,null,{"$f":"IF($B6<>\"\",IF($C$6=\"XCM8903SK-10000S\",\"              ->  1 PoE+ daughter card (XCM89P)                                 ->  Rack-mount kit for 2-post racks  and wiring cabinets\",\"                                                                                                               ->  Rack-mount kit for 2-post racks  and wiring cabinets\"),\"\")","v":""}]
[null,null,null,{"$f":"IF($B6<>\"\",\"              ->  1 power supply unit (APS1000W)                               ->  Complimentary handles for rack-mount kit\",\"\")","v":""}]
[null,null,null,{"$f":"IF($B6<>\"\",\"              ->  1 front-to-back fan tray (AFT603)                               ->  Complimentary sliding rails kit for 4-post racks and wiring cabinets\",\"\")","v":""}]
[]
["I/O Blades",{"$f":"IF(COUNTIF(Conf10!$O$19:$P$68,\"*XCM8948*\")>=1,COUNTIF(Conf10!$O$19:$P$68,\"*XCM8948*\"),\"\")","v":""},{"$f":"IF($B14<>\"\",List!$C8,\"\")","v":""},{"$f":"IF($B14<>\"\",VLOOKUP($C14,List!$C$5:$H$55,2,FALSE),\"\")","v":""}]
[null,{"$f":"IF(COUNTIF(Conf10!$O$19:$P$67,\"*XCM8944*\")-COUNTIF(Conf10!$O$19:$P$67,\"*XCM8944F*\")>=1,IF($C$6=\"XCM8903SK-10000S\",IF( (COUNTIF(Conf10!$O$19:$P$67,\"*XCM8944*\")-COUNTIF(Conf10!$O$19:$P$67,\"*XCM8944F*\"))>=2, COUNTIF(Conf10!$O$19:$P$67,\"*XCM8944*\")-COUNTIF(Conf10!$O$19:$P$67,\"*XCM8944F*\")-1,\"\"),COUNTIF(Conf10!$O$19:$P$67,\"*XCM8944*\")-COUNTIF(Conf10!$O$19:$P$67,\"*XCM8944F*\")), \"\")","v":""},{"$f":"IF($B15<>\"\",List!$C9,\"\")","v":""},{"$f":"IF($B15<>\"\",VLOOKUP($C15,List!$C$5:$H$55,2,FALSE),\"\")","v":""}]
[null,{"$f":"IF(\nCOUNTIF(Conf10!$O$19:$P$68,\"*XCM8944F*\")>=1,\nIF($C$6=\"XCM8903SF-10000S\",IF(COUNTIF(Conf10!$O$19:$P$68,\"*XCM8944F*\")>=2, COUNTIF(Conf10!$O$19:$P$68,\"*XCM8944F*\")-1,\"\"), COUNTIF(Conf10!$O$19:$P$68,\"*XCM8944F*\")),\"\")","v":""},{"$f":"IF($B16<>\"\",List!$C10,\"\")","v":""},{"$f":"IF($B16<>\"\",VLOOKUP($C16,List!$C$5:$H$55,2,FALSE),\"\")","v":""}]
[null,{"$f":"IF(\nCOUNTIF(Conf10!$O$19:$P$68,\"*XCM8924X*\")>=1,\nIF($C$6=\"XCM8903SX-10000S\",IF(COUNTIF(Conf10!$O$19:$P$68,\"*XCM8924X*\")>=2, COUNTIF(Conf10!$O$19:$P$68,\"*XCM8924X*\")-1,\"\"), COUNTIF(Conf10!$O$19:$P$68,\"*XCM8924X*\")),\"\")","v":""},{"$f":"IF($B17<>\"\",List!$C11,\"\")","v":""},{"$f":"IF($B17<>\"\",VLOOKUP($C17,List!$C$5:$H$55,2,FALSE),\"\")","v":""}]
["Accessories",{"$f":"IF(COUNTIF(Conf10!$O$19:$P$68,\"*XCM89P*\")>=1,IF($C$6=\"XCM8903SK-10000S\",IF(COUNTIF(Conf10!$O$19:$P$68,\"*XCM89P*\")>=2,COUNTIF(Conf10!$O$19:$P$68,\"*XCM89P*\")-1,\"\"), COUNTIF(Conf10!$O$19:$P$68,\"*XCM89P*\")), \"\")","v":""},{"$f":"IF($B18<>\"\",List!$C12,\"\")","v":""},{"$f":"IF($B18<>\"\",VLOOKUP($C18,List!$C$5:$H$55,2,FALSE),\"\")","v":""}]
[null,{"$f":"IF(COUNTIF(Conf10!$O$19:$P$68,\"*XCM89UP*\")>=1,COUNTIF(Conf10!$O$19:$P$68,\"*XCM89UP*\"),\"\")","v":""},{"$f":"IF($B19<>\"\",List!$C13,\"\")","v":""},{"$f":"IF($B19<>\"\",VLOOKUP($C19,List!$C$5:$H$55,2,FALSE),\"\")","v":""}]
[null,{"$f":"IFERROR(IF(VLOOKUP(Conf10!$O$28,List!T34:Y41,6,FALSE)>=2,VLOOKUP(Conf10!$O$28,List!T34:Y41,6,FALSE)-1,\"\"),\"\")","v":""},{"$f":"IF($B20<>\"\",IF($F$20=\"NA/EMEA\",\"APS1000W-100NES\",IF($F$20=\"APAC\",\"APS1000W-100AJS\",\"\")),\"\")","v":""},{"$f":"IF($B20<>\"\",VLOOKUP($C20,List!$C$5:$H$55,2,FALSE),\"\")","v":""},"Localization","NA/EMEA"," Þ"]
[null,{"$f":"IF(COUNTIF(Conf10!$O$19:$P$68,\"*AFT603*\")>=1,COUNTIF(Conf10!$O$19:$P$68,\"*AFT603*\"),\"\")","v":""},{"$f":"IF($B21<>\"\",List!$C16,\"\")","v":""},{"$f":"IF($B21<>\"\",VLOOKUP($C21,List!$C$5:$H$55,2,FALSE),\"\")","v":""}]
[null,{"$f":"IF(COUNTIF(Conf10!$O$19:$P$68,\"*RPS4000v2*\")>=1,COUNTIF(Conf10!$O$19:$P$68,\"*RPS4000v2*\"),\"\")","v":""},{"$f":"IF($B22<>\"\",IF($F$20=\"NA/EMEA\",\"RPS4000-200NES\",IF($F$20=\"APAC\",\"RPS4000-200AJS\",\"\")),\"\")","v":""},{"$f":"IF($B22<>\"\",VLOOKUP($C22,List!$C$5:$H$55,2,FALSE),\"\")","v":""}]
["Service",{"$f":"IF(COUNTIF(Conf10!$O$19:$P$68,\"*PSB0304*\")>=1,COUNTIF(Conf10!$O$19:$P$68,\"*PSB0304*\"),\"\")","v":""},{"$f":"IF($B23<>\"\",List!$C19,\"\")","v":""},{"$f":"IF($B23<>\"\",VLOOKUP($C23,List!$C$5:$H$55,2,FALSE),\"\")","v":""}]
[null,{"$f":"IF(COUNTIF(Conf10!$O$19:$P$68,\"*PSP1104*\")>=1,COUNTIF(Conf10!$O$19:$P$68,\"*PSP1104*\"),\"\")","v":""},{"$f":"IF($B24<>\"\",List!$C20,\"\")","v":""},{"$f":"IF($B24<>\"\",VLOOKUP($C24,List!$C$5:$H$55,2,FALSE),\"\")","v":""}]
["Optics_Cables",{"$f":"IF(COUNTIF(Conf10!$O$19:$P$68,\"*AFM735*\")>=1,Conf10!$L56,\"\")","v":""},{"$f":"IF($B25<>\"\",List!$C21,\"\")","v":""},{"$f":"IF($B25<>\"\",VLOOKUP($C25,List!$C$5:$H$55,2,FALSE),\"\")","v":""}]
[null,{"$f":"IF(COUNTIF(Conf10!$O$19:$P$68,\"*AGM731F*\")>=1,Conf10!$L57,\"\")","v":""},{"$f":"IF($B26<>\"\",List!$C22,\"\")","v":""},{"$f":"IF($B26<>\"\",VLOOKUP($C26,List!$C$5:$H$55,2,FALSE),\"\")","v":""}]
[null,{"$f":"IF(COUNTIF(Conf10!$O$19:$P$68,\"*AGM732F*\")>=1,Conf10!$L58,\"\")","v":""},{"$f":"IF($B27<>\"\",List!$C23,\"\")","v":""},{"$f":"IF($B27<>\"\",VLOOKUP($C27,List!$C$5:$H$55,2,FALSE),\"\")","v":""}]
[null,{"$f":"IF(COUNTIF(Conf10!$O$19:$P$68,\"*AGM734*\")>=1,Conf10!$L59,\"\")","v":""},{"$f":"IF($B28<>\"\",List!$C24,\"\")","v":""},{"$f":"IF($B28<>\"\",VLOOKUP($C28,List!$C$5:$H$55,2,FALSE),\"\")","v":""}]
[null,{"$f":"IF(COUNTIF(Conf10!$O$19:$P$68,\"*AXM761*\")>=1,IF(Conf10!$L61<10,Conf10!$L61,IF(MOD(Conf10!$L61/10,1)=0,\"\",Conf10!$L61-10*INT(Conf10!$L61/10))),\"\")","v":""},{"$f":"IF($B29<>\"\",List!$C25,\"\")","v":""},{"$f":"IF($B29<>\"\",VLOOKUP($C29,List!$C$5:$H$55,2,FALSE),\"\")","v":""}]
[null,{"$f":"IF(COUNTIF(Conf10!$O$19:$P$68,\"*AXM761*\")>=1,IF(Conf10!$L61>=10,INT(Conf10!$L61/10),\"\"),\"\")","v":""},{"$f":"IF($B30<>\"\",List!$C26,\"\")","v":""},{"$f":"IF($B30<>\"\",VLOOKUP($C30,List!$C$5:$H$55,2,FALSE),\"\")","v":""}]
[null,{"$f":"IF(COUNTIF(Conf10!$O$19:$P$68,\"*AXM762*\")>=1,IF(Conf10!$L62<10,Conf10!$L62,IF(MOD(Conf10!$L62/10,1)=0,\"\",Conf10!$L62-10*INT(Conf10!$L62/10))),\"\")","v":""},{"$f":"IF($B31<>\"\",List!$C27,\"\")","v":""},{"$f":"IF($B31<>\"\",VLOOKUP($C31,List!$C$5:$H$55,2,FALSE),\"\")","v":""}]
[null,{"$f":"IF(COUNTIF(Conf10!$O$19:$P$68,\"*AXM762*\")>=1,IF(Conf10!$L62>=10,INT(Conf10!$L62/10),\"\"),\"\")","v":""},{"$f":"IF($B32<>\"\",List!$C28,\"\")","v":""},{"$f":"IF($B32<>\"\",VLOOKUP($C32,List!$C$5:$H$55,2,FALSE),\"\")","v":""}]
[null,{"$f":"IF(COUNTIF(Conf10!$O$19:$P$68,\"*AXM763*\")>=1,Conf10!$L63,\"\")","v":""},{"$f":"IF($B33<>\"\",List!$C29,\"\")","v":""},{"$f":"IF($B33<>\"\",VLOOKUP($C33,List!$C$5:$H$55,2,FALSE),\"\")","v":""}]
[null,{"$f":"IF(COUNTIF(Conf10!$O$19:$P$68,\"*AXM764*\")>=1,Conf10!$L64,\"\")","v":""},{"$f":"IF($B34<>\"\",List!$C30,\"\")","v":""},{"$f":"IF($B34<>\"\",VLOOKUP($C34,List!$C$5:$H$55,2,FALSE),\"\")","v":""}]
[null,{"$f":"IF(COUNTIF(Conf10!$O$19:$P$68,\"*AXC761*\")>=1,Conf10!$L65,\"\")","v":""},{"$f":"IF($B35<>\"\",List!$C31,\"\")","v":""},{"$f":"IF($B35<>\"\",VLOOKUP($C35,List!$C$5:$H$55,2,FALSE),\"\")","v":""}]
[null,{"$f":"IF(COUNTIF(Conf10!$O$19:$P$68,\"*AXC763*\")>=1,Conf10!$L66,\"\")","v":""},{"$f":"IF($B36<>\"\",List!$C32,\"\")","v":""},{"$f":"IF($B36<>\"\",VLOOKUP($C36,List!$C$5:$H$55,2,FALSE),\"\")","v":""}]
[]
["Total",{"$f":"IF(SUM(B6:B36)>0,SUM(B6:B36),\"\")","v":""}]
[null,null,null,{"$f":"IFERROR(VLOOKUP($C39,List!$C$5:$H$153,2,FALSE),\"\")","v":""}]
[null,null,null,{"$f":"IFERROR(VLOOKUP($C40,List!$C$5:$H$153,2,FALSE),\"\")","v":""}]
[null,null,null,{"$f":"IFERROR(VLOOKUP($C41,List!$C$5:$H$153,2,FALSE),\"\")","v":""}]
[null,null,null,{"$f":"IFERROR(VLOOKUP($C42,List!$C$5:$H$153,2,FALSE),\"\")","v":""}]
[null,null,null,{"$f":"IFERROR(VLOOKUP($C43,List!$C$5:$H$153,2,FALSE),\"\")","v":""}]
[null,null,null,{"$f":"IFERROR(VLOOKUP($C44,List!$C$5:$H$153,2,FALSE),\"\")","v":""}]
[null,null,null,{"$f":"IFERROR(VLOOKUP($C45,List!$C$5:$H$153,2,FALSE),\"\")","v":""}]
[null,null,null,{"$f":"IFERROR(VLOOKUP($C46,List!$C$5:$H$153,2,FALSE),\"\")","v":""}]
[null,null,null,{"$f":"IFERROR(VLOOKUP($C47,List!$C$5:$H$153,2,FALSE),\"\")","v":""}]
[null,null,null,{"$f":"IFERROR(VLOOKUP($C48,List!$C$5:$H$153,2,FALSE),\"\")","v":""}]
[null,null,null,{"$f":"IFERROR(VLOOKUP($C49,List!$C$5:$H$153,2,FALSE),\"\")","v":""}]
[null,null,null,{"$f":"IFERROR(VLOOKUP($C50,List!$C$5:$H$153,2,FALSE),\"\")","v":""}]
[null,null,null,{"$f":"IFERROR(VLOOKUP($C51,List!$C$5:$H$153,2,FALSE),\"\")","v":""}]
[null,null,null,{"$f":"IFERROR(VLOOKUP($C52,List!$C$5:$H$153,2,FALSE),\"\")","v":""}]
[null,null,null,{"$f":"IFERROR(VLOOKUP($C53,List!$C$5:$H$153,2,FALSE),\"\")","v":""}]
[null,null,null,{"$f":"IFERROR(VLOOKUP($C54,List!$C$5:$H$153,2,FALSE),\"\")","v":""}]
[null,null,null,{"$f":"IFERROR(VLOOKUP($C55,List!$C$5:$H$153,2,FALSE),\"\")","v":""}]
[null,null,null,{"$f":"IFERROR(VLOOKUP($C56,List!$C$5:$H$153,2,FALSE),\"\")","v":""}]
[null,null,null,{"$f":"IFERROR(VLOOKUP($C57,List!$C$5:$H$153,2,FALSE),\"\")","v":""}]
[null,null,null,{"$f":"IFERROR(VLOOKUP($C58,List!$C$5:$H$153,2,FALSE),\"\")","v":""}]
[null,null,null,{"$f":"IFERROR(VLOOKUP($C59,List!$C$5:$H$153,2,FALSE),\"\")","v":""}]
[null,null,null,{"$f":"IFERROR(VLOOKUP($C60,List!$C$5:$H$153,2,FALSE),\"\")","v":""}]
[null,null,null,{"$f":"IFERROR(VLOOKUP($C61,List!$C$5:$H$153,2,FALSE),\"\")","v":""}]
[null,null,null,{"$f":"IFERROR(VLOOKUP($C62,List!$C$5:$H$153,2,FALSE),\"\")","v":""}]
[null,null,null,{"$f":"IFERROR(VLOOKUP($C63,List!$C$5:$H$153,2,FALSE),\"\")","v":""}]
[null,null,null,{"$f":"IFERROR(VLOOKUP($C64,List!$C$5:$H$153,2,FALSE),\"\")","v":""}]
[null,null,null,{"$f":"IFERROR(VLOOKUP($C65,List!$C$5:$H$153,2,FALSE),\"\")","v":""}]
[null,null,null,{"$f":"IFERROR(VLOOKUP($C66,List!$C$5:$H$153,2,FALSE),\"\")","v":""}]
[null,null,null,{"$f":"IFERROR(VLOOKUP($C67,List!$C$5:$H$153,2,FALSE),\"\")","v":""}]
[null,null,null,{"$f":"IFERROR(VLOOKUP($C68,List!$C$5:$H$153,2,FALSE),\"\")","v":""}]
[null,null,null,{"$f":"IFERROR(VLOOKUP($C69,List!$C$5:$H$153,2,FALSE),\"\")","v":""}]

{"sheet":"Aggregated SKU List","index":21,"n_rows":71,"n_cols":7,"rows_kept":71,"cut":false,"hidden":false,"merged":[]}
[]
[]
[]
[]
["Category","Quantity","Ordering Number","Description"]
["Chassis Starter Kits",{"$f":"IF(COUNTIF('SKU list'!$C$6,\"XCM8903SK-10000S\")+COUNTIF('SKU2'!$C$6,\"XCM8903SK-10000S\")+COUNTIF('SKU3'!$C$6,\"XCM8903SK-10000S\")+COUNTIF('SKU4'!$C$6,\"XCM8903SK-10000S\")+COUNTIF('SKU5'!$C$6,\"XCM8903SK-10000S\")+COUNTIF('SKU6'!$C$6,\"XCM8903SK-10000S\")+COUNTIF('SKU7'!$C$6,\"XCM8903SK-10000S\")+COUNTIF('SKU8'!$C$6,\"XCM8903SK-10000S\")+COUNTIF('SKU9'!$C$6,\"XCM8903SK-10000S\")+COUNTIF('SKU10'!$C$6,\"XCM8903SK-10000S\")>=1,COUNTIF('SKU list'!$C$6,\"XCM8903SK-10000S\")+COUNTIF('SKU2'!$C$6,\"XCM8903SK-10000S\")+COUNTIF('SKU3'!$C$6,\"XCM8903SK-10000S\")+COUNTIF('SKU4'!$C$6,\"XCM8903SK-10000S\")+COUNTIF('SKU5'!$C$6,\"XCM8903SK-10000S\")+COUNTIF('SKU6'!$C$6,\"XCM8903SK-10000S\")+COUNTIF('SKU7'!$C$6,\"XCM8903SK-10000S\")+COUNTIF('SKU8'!$C$6,\"XCM8903SK-10000S\")+COUNTIF('SKU9'!$C$6,\"XCM8903SK-10000S\")+COUNTIF('SKU10'!$C$6,\"XCM8903SK-10000S\"),\"\")","v":""},{"$f":"IF($B6<>\"\",List!$C$5,\"\")","v":""},{"$f":"IF($B6<>\"\",VLOOKUP($C6,List!$C$5:$H$55,2,FALSE),\"\")","v":""}]
[null,{"$f":"IF(COUNTIF('SKU list'!$C$6,\"XCM8903SF-10000S\")+COUNTIF('SKU2'!$C$6,\"XCM8903SF-10000S\")+COUNTIF('SKU3'!$C$6,\"XCM8903SF-10000S\")+COUNTIF('SKU4'!$C$6,\"XCM8903SF-10000S\")+COUNTIF('SKU5'!$C$6,\"XCM8903SF-10000S\")+COUNTIF('SKU6'!$C$6,\"XCM8903SF-10000S\")+COUNTIF('SKU7'!$C$6,\"XCM8903SF-10000S\")+COUNTIF('SKU8'!$C$6,\"XCM8903SF-10000S\")+COUNTIF('SKU9'!$C$6,\"XCM8903SF-10000S\")+COUNTIF('SKU10'!$C$6,\"XCM8903SF-10000S\")>=1,COUNTIF('SKU list'!$C$6,\"XCM8903SF-10000S\")+COUNTIF('SKU2'!$C$6,\"XCM8903SF-10000S\")+COUNTIF('SKU3'!$C$6,\"XCM8903SF-10000S\")+COUNTIF('SKU4'!$C$6,\"XCM8903SF-10000S\")+COUNTIF('SKU5'!$C$6,\"XCM8903SF-10000S\")+COUNTIF('SKU6'!$C$6,\"XCM8903SF-10000S\")+COUNTIF('SKU7'!$C$6,\"XCM8903SF-10000S\")+COUNTIF('SKU8'!$C$6,\"XCM8903SF-10000S\")+COUNTIF('SKU9'!$C$6,\"XCM8903SF-10000S\")+COUNTIF('SKU10'!$C$6,\"XCM8903SF-10000S\"),\"\")","v":""},{"$f":"IF($B7<>\"\",List!$C$6,\"\")","v":""},{"$f":"IF($B7<>\"\",VLOOKUP($C7,List!$C$5:$H$55,2,FALSE),\"\")","v":""}]
[null,{"$f":"IF(COUNTIF('SKU list'!$C$6,\"XCM8903SX-10000S\")+COUNTIF('SKU2'!$C$6,\"XCM8903SX-10000S\")+COUNTIF('SKU3'!$C$6,\"XCM8903SX-10000S\")+COUNTIF('SKU4'!$C$6,\"XCM8903SX-10000S\")+COUNTIF('SKU5'!$C$6,\"XCM8903SX-10000S\")+COUNTIF('SKU6'!$C$6,\"XCM8903SX-10000S\")+COUNTIF('SKU7'!$C$6,\"XCM8903SX-10000S\")+COUNTIF('SKU8'!$C$6,\"XCM8903SX-10000S\")+COUNTIF('SKU9'!$C$6,\"XCM8903SX-10000S\")+COUNTIF('SKU10'!$C$6,\"XCM8903SX-10000S\")>=1,COUNTIF('SKU list'!$C$6,\"XCM8903SX-10000S\")+COUNTIF('SKU2'!$C$6,\"XCM8903SX-10000S\")+COUNTIF('SKU3'!$C$6,\"XCM8903SX-10000S\")+COUNTIF('SKU4'!$C$6,\"XCM8903SX-10000S\")+COUNTIF('SKU5'!$C$6,\"XCM8903SX-10000S\")+COUNTIF('SKU6'!$C$6,\"XCM8903SX-10000S\")+COUNTIF('SKU7'!$C$6,\"XCM8903SX-10000S\")+COUNTIF('SKU8'!$C$6,\"XCM8903SX-10000S\")+COUNTIF('SKU9'!$C$6,\"XCM8903SX-10000S\")+COUNTIF('SKU10'!$C$6,\"XCM8903SX-10000S\"),\"\")","v":""},{"$f":"IF($B8<>\"\",List!$C$7,\"\")","v":""},{"$f":"IF($B8<>\"\",VLOOKUP($C8,List!$C$5:$H$55,2,FALSE),\"\")","v":""}]
[]
[null,null,null,{"$f":"IF(SUM($B$6:$B$8)>=1,\"              ->  \"&SUM($B$6:$B$8)&\" empty chassis  M6100-3S (XCM8903)                  \",\"\")&IF(COUNTIF($C$6:$C$8,\"XCM8903SX-10000S\")>=1,\"->  \"&$B$8&IF($B$8=1,\" blade\",\" blades\")&\" 24x10GBT or 16xSFP+   (XCM8924X)\",\"\")","v":""}]
[null,null,null,{"$f":"IF(COUNTIF($C$6:$C$8,\"XCM8903SK-10000S\")>=1,\"              ->  \"&$B$6&IF($B$6=1,\" blade  \",\" blades\")&\" 40x1G 2x10GBT 2xSFP+  (XCM8944)        \",\"                                                                                                             \")&IF(COUNTIF($C$6:$C$8,\"XCM8903SF-10000S\")>=1,\"->  \"&$B$7&IF($B$7=1,\" blade\",\" blades\")&\" 40xSFP 2x10GBT 2xSFP+  (XCM8944F)\",\"\")","v":"                                                                                                             "}]
[null,null,null,{"$f":"IF(SUM($B$6:$B$8)>=1,IF($B$6<>\"\",\"              ->  \"&$B$6&\" PoE+ daughter \"&IF($B$6=1,\"card  \",\"cards\")&\" (XCM89P)                              \",\"                                                                                                             \")&\"->  Rack-mount \"&IF(SUM($B$6:$B$8)=1,\"kit\",\"kits\")&\" for 2-post racks  and wiring cabinets\",\"\")","v":""}]
[null,null,null,{"$f":"IF(SUM($B$6:$B$8)>=1,\"              ->  \"&SUM($B$6:$B$8)&\" power supply \"&IF(SUM($B$6:$B$8)=1,\"unit  \",\"units\")&\" (APS1000W)                            ->  Complimentary handles for rack-mount \"&IF(SUM($B$6:$B$8)=1,\"kit\",\"kits\"),\"\")","v":""}]
[null,null,null,{"$f":"IF(SUM($B$6:$B$8)>=1,\"              ->  \"&SUM($B$6:$B$8)&\" front-to-back fan \"&IF(SUM($B$6:$B$8)=1,\"tray  \",\"trays\")&\" (AFT603)                            ->  Complimentary sliding rails \"&IF(SUM($B$6:$B$8)=1,\"kit\",\"kits\")&\" for 4-post racks and wiring cabinets\",\"\")","v":""}]
[]
["I/O Blades",{"$f":"IF(SUM('SKU list'!$B$14,'SKU2'!$B$14,'SKU3'!$B$14,'SKU4'!$B$14,'SKU5'!$B$14,'SKU6'!$B$14,'SKU7'!$B$14,'SKU8'!$B$14,'SKU9'!$B$14,'SKU10'!$B$14)>=1,SUM('SKU list'!$B$14,'SKU2'!$B$14,'SKU3'!$B$14,'SKU4'!$B$14,'SKU5'!$B$14,'SKU6'!$B$14,'SKU7'!$B$14,'SKU8'!$B$14,'SKU9'!$B$14,'SKU10'!$B$14),\"\")","v":""},{"$f":"IF($B16<>\"\",List!$C8,\"\")","v":""},{"$f":"IF($B16<>\"\",VLOOKUP($C16,List!$C$5:$H$55,2,FALSE),\"\")","v":""}]
[null,{"$f":"IF(SUM('SKU list'!$B$15,'SKU2'!$B$15,'SKU3'!$B$15,'SKU4'!$B$15,'SKU5'!$B$15,'SKU6'!$B$15,'SKU7'!$B$15,'SKU8'!$B$15,'SKU9'!$B$15,'SKU10'!$B$15)>=1,SUM('SKU list'!$B$15,'SKU2'!$B$15,'SKU3'!$B$15,'SKU4'!$B$15,'SKU5'!$B$15,'SKU6'!$B$15,'SKU7'!$B$15,'SKU8'!$B$15,'SKU9'!$B$15,'SKU10'!$B$15),\"\")","v":""},{"$f":"IF($B17<>\"\",List!$C9,\"\")","v":""},{"$f":"IF($B17<>\"\",VLOOKUP($C17,List!$C$5:$H$55,2,FALSE),\"\")","v":""}]
[null,{"$f":"IF(SUM('SKU list'!$B$16,'SKU2'!$B$16,'SKU3'!$B$16,'SKU4'!$B$16,'SKU5'!$B$16,'SKU6'!$B$16,'SKU7'!$B$16,'SKU8'!$B$16,'SKU9'!$B$16,'SKU10'!$B$16)>=1,SUM('SKU list'!$B$16,'SKU2'!$B$16,'SKU3'!$B$16,'SKU4'!$B$16,'SKU5'!$B$16,'SKU6'!$B$16,'SKU7'!$B$16,'SKU8'!$B$16,'SKU9'!$B$16,'SKU10'!$B$16),\"\")","v":""},{"$f":"IF($B18<>\"\",List!$C10,\"\")","v":""},{"$f":"IF($B18<>\"\",VLOOKUP($C18,List!$C$5:$H$55,2,FALSE),\"\")","v":""}]
[null,{"$f":"IF(SUM('SKU list'!$B$17,'SKU2'!$B$17,'SKU3'!$B$17,'SKU4'!$B$17,'SKU5'!$B$17,'SKU6'!$B$17,'SKU7'!$B$17,'SKU8'!$B$17,'SKU9'!$B$17,'SKU10'!$B$17)>=1,SUM('SKU list'!$B$17,'SKU2'!$B$17,'SKU3'!$B$17,'SKU4'!$B$17,'SKU5'!$B$17,'SKU6'!$B$17,'SKU7'!$B$17,'SKU8'!$B$17,'SKU9'!$B$17,'SKU10'!$B$17),\"\")","v":""},{"$f":"IF($B19<>\"\",List!$C11,\"\")","v":""},{"$f":"IF($B19<>\"\",VLOOKUP($C19,List!$C$5:$H$55,2,FALSE),\"\")","v":""}]
["Accessories",{"$f":"IF(SUM('SKU list'!$B$18,'SKU2'!$B$18,'SKU3'!$B$18,'SKU4'!$B$18,'SKU5'!$B$18,'SKU6'!$B$18,'SKU7'!$B$18,'SKU8'!$B$18,'SKU9'!$B$18,'SKU10'!$B$18)>=1,SUM('SKU list'!$B$18,'SKU2'!$B$18,'SKU3'!$B$18,'SKU4'!$B$18,'SKU5'!$B$18,'SKU6'!$B$18,'SKU7'!$B$18,'SKU8'!$B$18,'SKU9'!$B$18,'SKU10'!$B$18),\"\")","v":""},{"$f":"IF($B20<>\"\",List!$C12,\"\")","v":""},{"$f":"IF($B20<>\"\",VLOOKUP($C20,List!$C$5:$H$55,2,FALSE),\"\")","v":""}]
[null,{"$f":"IF(SUM('SKU list'!$B$19,'SKU2'!$B$19,'SKU3'!$B$19,'SKU4'!$B$19,'SKU5'!$B$19,'SKU6'!$B$19,'SKU7'!$B$19,'SKU8'!$B$19,'SKU9'!$B$19,'SKU10'!$B$19)>=1,SUM('SKU list'!$B$19,'SKU2'!$B$19,'SKU3'!$B$19,'SKU4'!$B$19,'SKU5'!$B$19,'SKU6'!$B$19,'SKU7'!$B$19,'SKU8'!$B$19,'SKU9'!$B$19,'SKU10'!$B$19),\"\")","v":""},{"$f":"IF($B21<>\"\",List!$C13,\"\")","v":""},{"$f":"IF($B21<>\"\",VLOOKUP($C21,List!$C$5:$H$55,2,FALSE),\"\")","v":""}]
[null,{"$f":"IF(SUM('SKU list'!$B$20,'SKU2'!$B$20,'SKU3'!$B$20,'SKU4'!$B$20,'SKU5'!$B$20,'SKU6'!$B$20,'SKU7'!$B$20,'SKU8'!$B$20,'SKU9'!$B$20,'SKU10'!$B$20)>=1,SUM('SKU list'!$B$20,'SKU2'!$B$20,'SKU3'!$B$20,'SKU4'!$B$20,'SKU5'!$B$20,'SKU6'!$B$20,'SKU7'!$B$20,'SKU8'!$B$20,'SKU9'!$B$20,'SKU10'!$B$20),\"\")","v":""},{"$f":"IF($B22<>\"\",IF($F$22=\"NA/EMEA\",\"APS1000W-100NES\",IF($F$22=\"APAC\",\"APS1000W-100AJS\",\"\")),\"\")","v":""},{"$f":"IF($B22<>\"\",VLOOKUP($C22,List!$C$5:$H$55,2,FALSE),\"\")","v":""},"Localization","NA/EMEA"," Þ"]
[null,{"$f":"IF(SUM('SKU list'!$B$21,'SKU2'!$B$21,'SKU3'!$B$21,'SKU4'!$B$21,'SKU5'!$B$21,'SKU6'!$B$21,'SKU7'!$B$21,'SKU8'!$B$21,'SKU9'!$B$21,'SKU10'!$B$21)>=1,SUM('SKU list'!$B$21,'SKU2'!$B$21,'SKU3'!$B$21,'SKU4'!$B$21,'SKU5'!$B$21,'SKU6'!$B$21,'SKU7'!$B$21,'SKU8'!$B$21,'SKU9'!$B$21,'SKU10'!$B$21),\"\")","v":""},{"$f":"IF($B23<>\"\",List!$C16,\"\")","v":""},{"$f":"IF($B23<>\"\",VLOOKUP($C23,List!$C$5:$H$55,2,FALSE),\"\")","v":""}]
[null,{"$f":"IF(SUM('SKU list'!$B$22,'SKU2'!$B$22,'SKU3'!$B$22,'SKU4'!$B$22,'SKU5'!$B$22,'SKU6'!$B$22,'SKU7'!$B$22,'SKU8'!$B$22,'SKU9'!$B$22,'SKU10'!$B$22)>=1,SUM('SKU list'!$B$22,'SKU2'!$B$22,'SKU3'!$B$22,'SKU4'!$B$22,'SKU5'!$B$22,'SKU6'!$B$22,'SKU7'!$B$22,'SKU8'!$B$22,'SKU9'!$B$22,'SKU10'!$B$22),\"\")","v":""},{"$f":"IF($B24<>\"\",IF($F$22=\"NA/EMEA\",\"RPS4000-200NES\",IF($F$22=\"APAC\",\"RPS4000-200AJS\",\"\")),\"\")","v":""},{"$f":"IF($B24<>\"\",VLOOKUP($C24,List!$C$5:$H$55,2,FALSE),\"\")","v":""}]
["Service",{"$f":"IF(SUM('SKU list'!$B$23,'SKU2'!$B$23,'SKU3'!$B$23,'SKU4'!$B$23,'SKU5'!$B$23,'SKU6'!$B$23,'SKU7'!$B$23,'SKU8'!$B$23,'SKU9'!$B$23,'SKU10'!$B$23)>=1,SUM('SKU list'!$B$23,'SKU2'!$B$23,'SKU3'!$B$23,'SKU4'!$B$23,'SKU5'!$B$23,'SKU6'!$B$23,'SKU7'!$B$23,'SKU8'!$B$23,'SKU9'!$B$23,'SKU10'!$B$23),\"\")","v":""},{"$f":"IF($B25<>\"\",List!$C19,\"\")","v":""},{"$f":"IF($B25<>\"\",VLOOKUP($C25,List!$C$5:$H$55,2,FALSE),\"\")","v":""}]
[null,{"$f":"IF(SUM('SKU list'!$B$24,'SKU2'!$B$24,'SKU3'!$B$24,'SKU4'!$B$24,'SKU5'!$B$24,'SKU6'!$B$24,'SKU7'!$B$24,'SKU8'!$B$24,'SKU9'!$B$24,'SKU10'!$B$24)>=1,SUM('SKU list'!$B$24,'SKU2'!$B$24,'SKU3'!$B$24,'SKU4'!$B$24,'SKU5'!$B$24,'SKU6'!$B$24,'SKU7'!$B$24,'SKU8'!$B$24,'SKU9'!$B$24,'SKU10'!$B$24),\"\")","v":""},{"$f":"IF($B26<>\"\",List!$C20,\"\")","v":""},{"$f":"IF($B26<>\"\",VLOOKUP($C26,List!$C$5:$H$55,2,FALSE),\"\")","v":""}]
["Optics_Cables",{"$f":"IF(SUM('SKU list'!$B$25,'SKU2'!$B$25,'SKU3'!$B$25,'SKU4'!$B$25,'SKU5'!$B$25,'SKU6'!$B$25,'SKU7'!$B$25,'SKU8'!$B$25,'SKU9'!$B$25,'SKU10'!$B$25)>=1,SUM('SKU list'!$B$25,'SKU2'!$B$25,'SKU3'!$B$25,'SKU4'!$B$25,'SKU5'!$B$25,'SKU6'!$B$25,'SKU7'!$B$25,'SKU8'!$B$25,'SKU9'!$B$25,'SKU10'!$B$25),\"\")","v":""},{"$f":"IF($B27<>\"\",List!$C21,\"\")","v":""},{"$f":"IF($B27<>\"\",VLOOKUP($C27,List!$C$5:$H$55,2,FALSE),\"\")","v":""}]
[null,{"$f":"IF(SUM('SKU list'!$B$26,'SKU2'!$B$26,'SKU3'!$B$26,'SKU4'!$B$26,'SKU5'!$B$26,'SKU6'!$B$26,'SKU7'!$B$26,'SKU8'!$B$26,'SKU9'!$B$26,'SKU10'!$B$26)>=1,SUM('SKU list'!$B$26,'SKU2'!$B$26,'SKU3'!$B$26,'SKU4'!$B$26,'SKU5'!$B$26,'SKU6'!$B$26,'SKU7'!$B$26,'SKU8'!$B$26,'SKU9'!$B$26,'SKU10'!$B$26),\"\")","v":""},{"$f":"IF($B28<>\"\",List!$C22,\"\")","v":""},{"$f":"IF($B28<>\"\",VLOOKUP($C28,List!$C$5:$H$55,2,FALSE),\"\")","v":""}]
[null,{"$f":"IF(SUM('SKU list'!$B$27,'SKU2'!$B$27,'SKU3'!$B$27,'SKU4'!$B$27,'SKU5'!$B$27,'SKU6'!$B$27,'SKU7'!$B$27,'SKU8'!$B$27,'SKU9'!$B$27,'SKU10'!$B$27)>=1,SUM('SKU list'!$B$27,'SKU2'!$B$27,'SKU3'!$B$27,'SKU4'!$B$27,'SKU5'!$B$27,'SKU6'!$B$27,'SKU7'!$B$27,'SKU8'!$B$27,'SKU9'!$B$27,'SKU10'!$B$27),\"\")","v":""},{"$f":"IF($B29<>\"\",List!$C23,\"\")","v":""},{"$f":"IF($B29<>\"\",VLOOKUP($C29,List!$C$5:$H$55,2,FALSE),\"\")","v":""}]
[null,{"$f":"IF(SUM('SKU list'!$B$28,'SKU2'!$B$28,'SKU3'!$B$28,'SKU4'!$B$28,'SKU5'!$B$28,'SKU6'!$B$28,'SKU7'!$B$28,'SKU8'!$B$28,'SKU9'!$B$28,'SKU10'!$B$28)>=1,SUM('SKU list'!$B$28,'SKU2'!$B$28,'SKU3'!$B$28,'SKU4'!$B$28,'SKU5'!$B$28,'SKU6'!$B$28,'SKU7'!$B$28,'SKU8'!$B$28,'SKU9'!$B$28,'SKU10'!$B$28),\"\")","v":""},{"$f":"IF($B30<>\"\",List!$C24,\"\")","v":""},{"$f":"IF($B30<>\"\",VLOOKUP($C30,List!$C$5:$H$55,2,FALSE),\"\")","v":""}]
[null,{"$f":"IF(SUM('SKU list'!$B$29,'SKU2'!$B$29,'SKU3'!$B$29,'SKU4'!$B$29,'SKU5'!$B$29,'SKU6'!$B$29,'SKU7'!$B$29,'SKU8'!$B$29,'SKU9'!$B$29,'SKU10'!$B$29)>=1,IF(SUM('SKU list'!$B$29,'SKU2'!$B$29,'SKU3'!$B$29,'SKU4'!$B$29,'SKU5'!$B$29,'SKU6'!$B$29,'SKU7'!$B$29,'SKU8'!$B$29,'SKU9'!$B$29,'SKU10'!$B$29)<10,SUM('SKU list'!$B$29,'SKU2'!$B$29,'SKU3'!$B$29,'SKU4'!$B$29,'SKU5'!$B$29,'SKU6'!$B$29,'SKU7'!$B$29,'SKU8'!$B$29,'SKU9'!$B$29,'SKU10'!$B$29),IF(MOD(SUM('SKU list'!$B$29,'SKU2'!$B$29,'SKU3'!$B$29,'SKU4'!$B$29,'SKU5'!$B$29,'SKU6'!$B$29,'SKU7'!$B$29,'SKU8'!$B$29,'SKU9'!$B$29,'SKU10'!$B$29)/10,1)=0,\"\",SUM('SKU list'!$B$29,'SKU2'!$B$29,'SKU3'!$B$29,'SKU4'!$B$29,'SKU5'!$B$29,'SKU6'!$B$29,'SKU7'!$B$29,'SKU8'!$B$29,'SKU9'!$B$29,'SKU10'!$B$29)-10*INT(SUM('SKU list'!$B$29,'SKU2'!$B$29,'SKU3'!$B$29,'SKU4'!$B$29,'SKU5'!$B$29,'SKU6'!$B$29,'SKU7'!$B$29,'SKU8'!$B$29,'SKU9'!$B$29,'SKU10'!$B$29)/10))),\"\")","v":""},{"$f":"IF($B31<>\"\",List!$C25,\"\")","v":""},{"$f":"IF($B31<>\"\",VLOOKUP($C31,List!$C$5:$H$55,2,FALSE),\"\")","v":""}]
[null,{"$f":"IF(SUM('SKU list'!$B$30,'SKU2'!$B$30,'SKU3'!$B$30,'SKU4'!$B$30,'SKU5'!$B$30,'SKU6'!$B$30,'SKU7'!$B$30,'SKU8'!$B$30,'SKU9'!$B$30,'SKU10'!$B$30)+IFERROR(INT(SUM('SKU list'!$B$29,'SKU2'!$B$29,'SKU3'!$B$29,'SKU4'!$B$29,'SKU5'!$B$29,'SKU6'!$B$29,'SKU7'!$B$29,'SKU8'!$B$29,'SKU9'!$B$29,'SKU10'!$B$29)/10),0)>=1,IF(SUM('SKU list'!$B$29,'SKU2'!$B$29,'SKU3'!$B$29,'SKU4'!$B$29,'SKU5'!$B$29,'SKU6'!$B$29,'SKU7'!$B$29,'SKU8'!$B$29,'SKU9'!$B$29,'SKU10'!$B$29)>=10,INT(SUM('SKU list'!$B$29,'SKU2'!$B$29,'SKU3'!$B$29,'SKU4'!$B$29,'SKU5'!$B$29,'SKU6'!$B$29,'SKU7'!$B$29,'SKU8'!$B$29,'SKU9'!$B$29,'SKU10'!$B$29)/10)+SUM('SKU list'!$B$30,'SKU2'!$B$30,'SKU3'!$B$30,'SKU4'!$B$30,'SKU5'!$B$30,'SKU6'!$B$30,'SKU7'!$B$30,'SKU8'!$B$30,'SKU9'!$B$30,'SKU10'!$B$30),SUM('SKU list'!$B$30,'SKU2'!$B$30,'SKU3'!$B$30,'SKU4'!$B$30,'SKU5'!$B$30,'SKU6'!$B$30,'SKU7'!$B$30,'SKU8'!$B$30,'SKU9'!$B$30,'SKU10'!$B$30)),\"\")","v":""},{"$f":"IF($B32<>\"\",List!$C26,\"\")","v":""},{"$f":"IF($B32<>\"\",VLOOKUP($C32,List!$C$5:$H$55,2,FALSE),\"\")","v":""}]
[null,{"$f":"IF(SUM('SKU list'!$B$31,'SKU2'!$B$31,'SKU3'!$B$31,'SKU4'!$B$31,'SKU5'!$B$31,'SKU6'!$B$31,'SKU7'!$B$31,'SKU8'!$B$31,'SKU9'!$B$31,'SKU10'!$B$31)>=1,IF(SUM('SKU list'!$B$31,'SKU2'!$B$31,'SKU3'!$B$31,'SKU4'!$B$31,'SKU5'!$B$31,'SKU6'!$B$31,'SKU7'!$B$31,'SKU8'!$B$31,'SKU9'!$B$31,'SKU10'!$B$31)<10,SUM('SKU list'!$B$31,'SKU2'!$B$31,'SKU3'!$B$31,'SKU4'!$B$31,'SKU5'!$B$31,'SKU6'!$B$31,'SKU7'!$B$31,'SKU8'!$B$31,'SKU9'!$B$31,'SKU10'!$B$31),IF(MOD(SUM('SKU list'!$B$31,'SKU2'!$B$31,'SKU3'!$B$31,'SKU4'!$B$31,'SKU5'!$B$31,'SKU6'!$B$31,'SKU7'!$B$31,'SKU8'!$B$31,'SKU9'!$B$31,'SKU10'!$B$31)/10,1)=0,\"\",SUM('SKU list'!$B$31,'SKU2'!$B$31,'SKU3'!$B$31,'SKU4'!$B$31,'SKU5'!$B$31,'SKU6'!$B$31,'SKU7'!$B$31,'SKU8'!$B$31,'SKU9'!$B$31,'SKU10'!$B$31)-10*INT(SUM('SKU list'!$B$31,'SKU2'!$B$31,'SKU3'!$B$31,'SKU4'!$B$31,'SKU5'!$B$31,'SKU6'!$B$31,'SKU7'!$B$31,'SKU8'!$B$31,'SKU9'!$B$31,'SKU10'!$B$31)/10))),\"\")","v":""},{"$f":"IF($B33<>\"\",List!$C27,\"\")","v":""},{"$f":"IF($B33<>\"\",VLOOKUP($C33,List!$C$5:$H$55,2,FALSE),\"\")","v":""}]
[null,{"$f":"IF(SUM('SKU list'!$B$32,'SKU2'!$B$32,'SKU3'!$B$32,'SKU4'!$B$32,'SKU5'!$B$32,'SKU6'!$B$32,'SKU7'!$B$32,'SKU8'!$B$32,'SKU9'!$B$32,'SKU10'!$B$32)+IFERROR(INT(SUM('SKU list'!$B$31,'SKU2'!$B$31,'SKU3'!$B$31,'SKU4'!$B$31,'SKU5'!$B$31,'SKU6'!$B$31,'SKU7'!$B$31,'SKU8'!$B$31,'SKU9'!$B$31,'SKU10'!$B$31)/10),0)>=1,IF(SUM('SKU list'!$B$31,'SKU2'!$B$31,'SKU3'!$B$31,'SKU4'!$B$31,'SKU5'!$B$31,'SKU6'!$B$31,'SKU7'!$B$31,'SKU8'!$B$31,'SKU9'!$B$31,'SKU10'!$B$31)>=10,INT(SUM('SKU list'!$B$31,'SKU2'!$B$31,'SKU3'!$B$31,'SKU4'!$B$31,'SKU5'!$B$31,'SKU6'!$B$31,'SKU7'!$B$31,'SKU8'!$B$31,'SKU9'!$B$31,'SKU10'!$B$31)/10)+SUM('SKU list'!$B$32,'SKU2'!$B$32,'SKU3'!$B$32,'SKU4'!$B$32,'SKU5'!$B$32,'SKU6'!$B$32,'SKU7'!$B$32,'SKU8'!$B$32,'SKU9'!$B$32,'SKU10'!$B$32),SUM('SKU list'!$B$32,'SKU2'!$B$32,'SKU3'!$B$32,'SKU4'!$B$32,'SKU5'!$B$32,'SKU6'!$B$32,'SKU7'!$B$32,'SKU8'!$B$32,'SKU9'!$B$32,'SKU10'!$B$32)),\"\")","v":""},{"$f":"IF($B34<>\"\",List!$C28,\"\")","v":""},{"$f":"IF($B34<>\"\",VLOOKUP($C34,List!$C$5:$H$55,2,FALSE),\"\")","v":""}]
[null,{"$f":"IF(SUM('SKU list'!$B$33,'SKU2'!$B$33,'SKU3'!$B$33,'SKU4'!$B$33,'SKU5'!$B$33,'SKU6'!$B$33,'SKU7'!$B$33,'SKU8'!$B$33,'SKU9'!$B$33,'SKU10'!$B$33)>=1,SUM('SKU list'!$B$33,'SKU2'!$B$33,'SKU3'!$B$33,'SKU4'!$B$33,'SKU5'!$B$33,'SKU6'!$B$33,'SKU7'!$B$33,'SKU8'!$B$33,'SKU9'!$B$33,'SKU10'!$B$33),\"\")","v":""},{"$f":"IF($B35<>\"\",List!$C29,\"\")","v":""},{"$f":"IF($B35<>\"\",VLOOKUP($C35,List!$C$5:$H$55,2,FALSE),\"\")","v":""}]
[null,{"$f":"IF(SUM('SKU list'!$B$34,'SKU2'!$B$34,'SKU3'!$B$34,'SKU4'!$B$34,'SKU5'!$B$34,'SKU6'!$B$34,'SKU7'!$B$34,'SKU8'!$B$34,'SKU9'!$B$34,'SKU10'!$B$34)>=1,SUM('SKU list'!$B$34,'SKU2'!$B$34,'SKU3'!$B$34,'SKU4'!$B$34,'SKU5'!$B$34,'SKU6'!$B$34,'SKU7'!$B$34,'SKU8'!$B$34,'SKU9'!$B$34,'SKU10'!$B$34),\"\")","v":""},{"$f":"IF($B36<>\"\",List!$C30,\"\")","v":""},{"$f":"IF($B36<>\"\",VLOOKUP($C36,List!$C$5:$H$55,2,FALSE),\"\")","v":""}]
[null,{"$f":"IF(SUM('SKU list'!$B$35,'SKU2'!$B$35,'SKU3'!$B$35,'SKU4'!$B$35,'SKU5'!$B$35,'SKU6'!$B$35,'SKU7'!$B$35,'SKU8'!$B$35,'SKU9'!$B$35,'SKU10'!$B$35)>=1,SUM('SKU list'!$B$35,'SKU2'!$B$35,'SKU3'!$B$35,'SKU4'!$B$35,'SKU5'!$B$35,'SKU6'!$B$35,'SKU7'!$B$35,'SKU8'!$B$35,'SKU9'!$B$35,'SKU10'!$B$35),\"\")","v":""},{"$f":"IF($B37<>\"\",List!$C31,\"\")","v":""},{"$f":"IF($B37<>\"\",VLOOKUP($C37,List!$C$5:$H$55,2,FALSE),\"\")","v":""}]
[null,{"$f":"IF(SUM('SKU list'!$B$36,'SKU2'!$B$36,'SKU3'!$B$36,'SKU4'!$B$36,'SKU5'!$B$36,'SKU6'!$B$36,'SKU7'!$B$36,'SKU8'!$B$36,'SKU9'!$B$36,'SKU10'!$B$36)>=1,SUM('SKU list'!$B$36,'SKU2'!$B$36,'SKU3'!$B$36,'SKU4'!$B$36,'SKU5'!$B$36,'SKU6'!$B$36,'SKU7'!$B$36,'SKU8'!$B$36,'SKU9'!$B$36,'SKU10'!$B$36),\"\")","v":""},{"$f":"IF($B38<>\"\",List!$C32,\"\")","v":""},{"$f":"IF($B38<>\"\",VLOOKUP($C38,List!$C$5:$H$55,2,FALSE),\"\")","v":""}]
[]
["Total",{"$f":"IF(SUM(B6:B38)>0,SUM(B6:B38),\"\")","v":""}]
[null,null,null,{"$f":"IFERROR(VLOOKUP($C41,List!$C$5:$H$153,2,FALSE),\"\")","v":""}]
[null,null,null,{"$f":"IFERROR(VLOOKUP($C42,List!$C$5:$H$153,2,FALSE),\"\")","v":""}]
[null,null,null,{"$f":"IFERROR(VLOOKUP($C43,List!$C$5:$H$153,2,FALSE),\"\")","v":""}]
[null,null,null,{"$f":"IFERROR(VLOOKUP($C44,List!$C$5:$H$153,2,FALSE),\"\")","v":""}]
[null,null,null,{"$f":"IFERROR(VLOOKUP($C45,List!$C$5:$H$153,2,FALSE),\"\")","v":""}]
[null,null,null,{"$f":"IFERROR(VLOOKUP($C46,List!$C$5:$H$153,2,FALSE),\"\")","v":""}]
[null,null,null,{"$f":"IFERROR(VLOOKUP($C47,List!$C$5:$H$153,2,FALSE),\"\")","v":""}]
[null,null,null,{"$f":"IFERROR(VLOOKUP($C48,List!$C$5:$H$153,2,FALSE),\"\")","v":""}]
[null,null,null,{"$f":"IFERROR(VLOOKUP($C49,List!$C$5:$H$153,2,FALSE),\"\")","v":""}]
[null,null,null,{"$f":"IFERROR(VLOOKUP($C50,List!$C$5:$H$153,2,FALSE),\"\")","v":""}]
[null,null,null,{"$f":"IFERROR(VLOOKUP($C51,List!$C$5:$H$153,2,FALSE),\"\")","v":""}]
[null,null,null,{"$f":"IFERROR(VLOOKUP($C52,List!$C$5:$H$153,2,FALSE),\"\")","v":""}]
[null,null,null,{"$f":"IFERROR(VLOOKUP($C53,List!$C$5:$H$153,2,FALSE),\"\")","v":""}]
[null,null,null,{"$f":"IFERROR(VLOOKUP($C54,List!$C$5:$H$153,2,FALSE),\"\")","v":""}]
[null,null,null,{"$f":"IFERROR(VLOOKUP($C55,List!$C$5:$H$153,2,FALSE),\"\")","v":""}]
[null,null,null,{"$f":"IFERROR(VLOOKUP($C56,List!$C$5:$H$153,2,FALSE),\"\")","v":""}]
[null,null,null,{"$f":"IFERROR(VLOOKUP($C57,List!$C$5:$H$153,2,FALSE),\"\")","v":""}]
[null,null,null,{"$f":"IFERROR(VLOOKUP($C58,List!$C$5:$H$153,2,FALSE),\"\")","v":""}]
[null,null,null,{"$f":"IFERROR(VLOOKUP($C59,List!$C$5:$H$153,2,FALSE),\"\")","v":""}]
[null,null,null,{"$f":"IFERROR(VLOOKUP($C60,List!$C$5:$H$153,2,FALSE),\"\")","v":""}]
[null,null,null,{"$f":"IFERROR(VLOOKUP($C61,List!$C$5:$H$153,2,FALSE),\"\")","v":""}]
[null,null,null,{"$f":"IFERROR(VLOOKUP($C62,List!$C$5:$H$153,2,FALSE),\"\")","v":""}]
[null,null,null,{"$f":"IFERROR(VLOOKUP($C63,List!$C$5:$H$153,2,FALSE),\"\")","v":""}]
[null,null,null,{"$f":"IFERROR(VLOOKUP($C64,List!$C$5:$H$153,2,FALSE),\"\")","v":""}]
[null,null,null,{"$f":"IFERROR(VLOOKUP($C65,List!$C$5:$H$153,2,FALSE),\"\")","v":""}]
[null,null,null,{"$f":"IFERROR(VLOOKUP($C66,List!$C$5:$H$153,2,FALSE),\"\")","v":""}]
[null,null,null,{"$f":"IFERROR(VLOOKUP($C67,List!$C$5:$H$153,2,FALSE),\"\")","v":""}]
[null,null,null,{"$f":"IFERROR(VLOOKUP($C68,List!$C$5:$H$153,2,FALSE),\"\")","v":""}]
[null,null,null,{"$f":"IFERROR(VLOOKUP($C69,List!$C$5:$H$153,2,FALSE),\"\")","v":""}]
[null,null,null,{"$f":"IFERROR(VLOOKUP($C70,List!$C$5:$H$153,2,FALSE),\"\")","v":""}]
[null,null,null,{"$f":"IFERROR(VLOOKUP($C71,List!$C$5:$H$153,2,FALSE),\"\")","v":""}]

{"sheet":"List","index":22,"n_rows":275,"n_cols":47,"rows_kept":275,"cut":false,"hidden":true,"merged":[]}
[]
[]
[null,null,null,null,null,null,null,null,null,null,null,"Summary","Model Name","Model Number",null,null,null,null,null,null,null,null,null,null,null,"PoE+","UPOE"]
["Category","Product Name","Ordering SKU","Description","List Price","Currency","Discount/Your Price","Code Region",null,{"$f":"B4","v":"Product Name"},null,"NETGEAR M6100 Series 3-slot Chassis Switch ","M6100-3S","XCM8903",null,null,null,null,null,"M6100-3S",null,null,null,null,null,5,5]
["Chassis Starter Kit","M6100-44G3-POE+","XCM8903SK-10000S","NETGEAR M6100 Switch Series M6100-44G3-POE+  Starter Kit  ",null,null,null,null,null,"M6100-44G3-POE+",null,null,null,null,null,null,null,null,null,null,null,null,null,null,null,5.5,5.5]
["Chassis Starter Kit","M6100-44GF3","XCM8903SF-10000S","NETGEAR M6100 Switch Series M6100-44GF3 Starter Kit  ",null,null,null,null,null,{"$f":"B8","v":"XCM8948"},null,null,null,null,null,null,null,null,null,null,null,null,null,null,null,6,6]
["Chassis Starter Kit","M6100-24X3","XCM8903SX-10000S","NETGEAR M6100 Switch Series M6100-24X3 Starter Kit  ",null,null,null,null,null,{"$f":"B9","v":"XCM8944"},null,1,null,null,null,null,null,null,null,null,null,null,null,null,null,6.5,6.5]
["I/O Blade","XCM8948",{"$f":"B8&\"-10000S\"","v":"XCM8948-10000S"},"NETGEAR M6100 Switch Series XCM8948    *** 48-port RJ45 10/100/1000 Blade",null,null,null,null,null,{"$f":"B10","v":"XCM8944F"},null,2,null,null,null,null,null,null,null,null,null,null,null,null,null,7,7]
["I/O Blade","XCM8944",{"$f":"B9&\"-10000S\"","v":"XCM8944-10000S"},"NETGEAR M6100 Switch Series XCM8944    *** 40-port RJ45 10/100/1000   *** 2-port RJ45 10GBASE-T  *** 2-port SFP+ 1G/10G Blade",null,null,null,null,null,"XCM8924X",null,3,null,null,null,null,null,null,null,null,null,null,null,null,null,7.5,7.5]
["I/O Blade","XCM8944F","XCM8944F-10000S","NETGEAR M6100 Switch Series XCM8944F  *** 40-port SFP 100/1000          *** 2-port RJ45 10GBASE-T  *** 2-port SFP+ 1G/10G Blade",null,null,null,null,null,"XCM89P",null,4,null,null,null,null,null,null,null,null,null,null,null,null,null,8,8]
["I/O Blade","XCM8924X","XCM8924X-10000S","NETGEAR M6100 Switch Series XCM8924X  *** 24-port RJ45 10GBASE-T      *** 16-port shared SFP+ 1G/10G Blade",null,null,null,null,null,"XCM89UP",null,null,null,null,null,null,null,null,null,null,null,null,null,null,null,8.5,8.5]
["Accessories","XCM89P","XCM89P-10000S","NETGEAR M6100 Switch Series XCM89P       ***  Daughter Card PoE+ 802.3at for XCM8948 and XCM8944 blades",null,null,null,null,null,"APS1000W",null,null,null,null,null,null,null,null,null,null,null,null,null,null,null,9,9]
["Accessories","XCM89UP","XCM89UP-10000S","NETGEAR M6100 Switch Series XCM89UP    ***  Daughter Card UPOE for XCM8948 and XCM8944 blades",null,null,null,null,null,"APS1000W",null,null,null,null,null,null,null,null,null,null,null,null,null,null,null,9.5,9.5]
["Accessories","APS1000W",{"$f":"B14&\"-100NES\"","v":"APS1000W-100NES"},"NETGEAR ProSafe Modular PSU APS1000W *** Power Supply Unit 1,000W AC",null,null,null,null,null,"AFT603",null,null,null,null,null,null,null,null,null,null,null,null,null,null,null,10,10]
["Accessories","APS1000W",{"$f":"B15&\"-100AJS\"","v":"APS1000W-100AJS"},"NETGEAR ProSafe Modular PSU APS1000W *** Power Supply Unit 1,000W AC",null,null,null,null,null,{"$f":"B17","v":"RPS4000v2"},null,"Summary","Model Name","RJ45 (1G)","SFP (100M/1G)","RJ45 (10GBASE-T)","SFP+ (1G/10G)",null,null,null,null,null,null,null,null,10.5,10.5]
["Accessories","AFT603","AFT603-10000S","NETGEAR M6100 Switch Series AFT603        *** Front-to-Back Fan Tray for M6100-3S chassis",null,null,null,null,null,"RPS4000v2",null,"48-port RJ45 1G","XCM8948",48,"-","-","-",null,null,"XCM8948",60,null,null,null,null,11,11]
["Accessories","RPS4000v2","RPS4000-200NES","NETGEAR ProSafe RPS/EPS unit RPS4000v2  *** Additional 1U power shelf  with four open power supply slots",null,null,null,null,"Þ","PSB0304",null,"48-port RJ45 1G PoE+","XCM8948 + XCM89P","48_PoE+","-","-","-",null,null,"XCM8948 + XCM89P",60,null,null,null,null,11.5,11.5]
["Accessories","RPS4000v2","RPS4000-200AJS","NETGEAR ProSafe RPS/EPS unit RPS4000v2  *** Additional 1U power shelf  with four open power supply slots",null,null,null,null,"Þ","PSP1104",null,"48-port RJ45 1G UPOE","XCM8948 + XCM89UP","48_UPOE","-","-","-",null,null,"XCM8948 + XCM89UP",60,null,null,null,null,12,12]
["Service","PSB0304","PSB0304-10000S","Remote Installation Setup and Configuration Service Contract",null,null,null,null,null,"AFM735",null,"40-port RJ45 1G with 2-port 10GBASE-T and 2-port SFP+ 1G/10G","XCM8944",40,"-",2,2,null,null,"XCM8944",70,null,null,null,null,12.5,12.5]
["Service","PSP1104","PSP1104-10000S","Onsite Installation Setup and Configuration Service Contract",null,null,null,null,null,"AGM731F",null,"40-port RJ45 1G PoE+ with 2-port 10GBASE-T and 2-port SFP+ 1G/10G","XCM8944 + XCM89P","40_PoE+","-",2,2,null,null,"XCM8944 + XCM89P",70,null,null,null,null,13,13]
["Optics_Cables","AFM735","AFM735-10000S","NETGEAR ProSafe 100BASE-FX SFP LC GBIC (multimode, 2km OM4/OM3/OM2/OM1 50/125µm and 62.5/125µm)",null,null,null,null,null,"AGM732F",null,"40-port RJ45 1G UPOE with 2-port 10GBASE-T and 2-port SFP+ 1G/10G","XCM8944 + XCM89UP","40_UPOE","-",2,2,null,null,"XCM8944 + XCM89UP",70,null,null,null,null,13.5,13.5]
["Optics_Cables","AGM731F","AGM731F","NETGEAR ProSafe 1000BASE-SX SFP LC GBIC (multimode, 1000m OM4, 550m OM3 50/125µm, 275m OM2/OM1 62.5/125µm)",null,null,null,null,null,"AGM734",null,"40-port SFP 100M/1G with 2-port 10GBASE-T and 2-port SFP+ 1G/10G","XCM8944F","-",40,2,2,null,null,"XCM8944F",150,null,null,null,null,14,14]
["Optics_Cables","AGM732F","AGM732F","NETGEAR ProSafe 1000BASE-LX SFP LC GBIC (single mode, 10km 9/125µm) ",null,null,null,null,null,{"$f":"B27","v":"AXM762"},null,"24-port 10GBASE-T  including 16-port SFP+ 1G/10G (fiber ports are shared) ","XCM8924X","-","-",24,"16 (shared)",null,null,"XCM8924X",200,null,null,null,null,14.5,14.5]
["Optics_Cables","AGM734","AGM734-10000S","NETGEAR ProSafe 1000BASE-T SFP RJ45 GBIC",null,null,null,null,null,{"$f":"B28","v":"AXM762"},null,"Empty slot with blank panel","-","-","-","-","-",null,null,"-",0,null,null,null,null,15,15]
["Optics_Cables","AXM761",{"$f":"B25&\"-10000S\"","v":"AXM761-10000S"},"NETGEAR ProSafe 10GBASE-SR SFP+ LC GBIC (multimode, 550m OM4, 300m OM3 50/125µm, 33m OM2/OM1 62.5/125µm)",null,null,null,null,null,{"$f":"B29","v":"AXM763"},null,null,null,null,null,null,null,null,null,null,null,null,null,null,null,15.5,15.5]
["Optics_Cables","AXM761",{"$f":"B26&\"P10-10000S\"","v":"AXM761P10-10000S"},"Pack of 10 NETGEAR ProSafe 10GBASE-SR SFP+ LC GBIC (multimode, 550m OM4, 300m OM3 50/125µm, 33m OM2/OM1 62.5/125µm)",null,null,null,null,null,{"$f":"B31","v":"AXC761"},null,"Class","PSE Power Source","Power Level at Powered Device ","PSE","Class","PSE Power Source","Power Level at Powered Device ","PSE","-",0,null,null,null,null,15,15]
["Optics_Cables","AXM762","AXM762-10000S","NETGEAR ProSafe 10GBASE-LR SFP+ LC GBIC (single mode, 10km 9/125µm)",null,null,null,null,null,{"$f":"B32","v":"AXC763"},null,1,"4.0W PSE","0.44 to 3.84W PD (powered device)",4,5,"40W PSE","25.5 to 34W PD (powered device)",40,null,null,null,null,null,null,15.5,15.5]
["Optics_Cables","AXM762",{"$f":"B28&\"P10-10000S\"","v":"AXM762P10-10000S"},"Pack of 10 NETGEAR ProSafe 10GBASE-LR SFP+ LC GBIC (single mode, 10km 9/125µm)",null,null,null,null,null,null,null,2,"7.0W PSE","3.84 to 6.49W PD (powered device)",7,6,"50W PSE","34 to 42.5W PD (powered device)",50,null,null,null,null,null,null,17,17]
["Optics_Cables","AXM763","AXM763-10000S","NETGEAR ProSafe 10GBASE-LRM SFP+ LC GBIC (multimode, 260m OM4/OM3 50/125µm, 220m OM2/OM1 62.5/125µm)",null,null,null,null,null,null,null,3,"15.4W PSE","6.49 to 12.95W PD (powered device)",15.4,7,"60W PSE","42.5 to 51W PD (powered device)",60,null,null,null,null,null,null,17.5,17.5]
["Optics_Cables","AXM764",{"$f":"B30&\"-10000S\"","v":"AXM764-10000S"},"NETGEAR ProSafe 10GBASE-LR LITE SFP+ LC GBIC (single mode, 2km 9/125µm)",null,null,null,null,null,null,null,4,"30W PSE","12.95 to 25.5W PD (powered device)",30,"Other","Other","Other",null,null,null,null,null,null,null,18,18]
["Optics_Cables","AXC761","AXC761-10000S","NETGEAR ProSafe Direct Attach SFP+ copper DAC cable (1m)",null,null,null,null,null,null,null,"Other","Other","Other",null,null,null,null,null,null,null,null,null,null,null,18.5,18.5]
["Optics_Cables","AXC763","AXC763-10000S","NETGEAR ProSafe Direct Attach SFP+ copper DAC cable (3m)",null,null,null,null,null,null,null,null,null,null,null,null,null,null,null,null,null,null,null,null,null,19,19]
["M5300 series","M5300-28G","GSM7228S-100NES","M5300-28G Managed Switch Layer 2+ With Static L3 Routing (GSM7228S v1h1)",null,null,null,null,null,null,null,"Number of PSUs","1U Extra Power Shelf Required",null,null,null,null,null,null,null,"110V","110V N+1","220V","220V N+1",null,19.5,19.5]
["M5300 series","M5300-52G","GSM7252S-100NES","M5300-52G Managed Switch Layer 2+ With Static L3 Routing (GSM7252S v1h1)",null,null,null,null,null,null,null,"1 power supply unit","-",null,null,null,null,null,1,"One unit APS1000W",{"$f":"640*$S34","v":640},null,{"$f":"910*$S34","v":910},null,1,20,20]
["M5300 series","M5300-28G-POE+","GSM7228PS-100NAS","M5300-28G-POE+ Managed Switch Layer 2+ With Static L3 Routing (GSM7228PS v1h2)",null,null,null,null,null,null,null,"2 power supply units","-",null,null,null,null,null,2,"Two units APS1000W",{"$f":"560*$S35","v":1120},{"$f":"U34","v":640},{"$f":"770*$S35","v":1540},{"$f":"W34","v":910},2,20.5,20.5]
["M5300 series","M5300-52G-POE+","GSM7252PS-100NAS","M5300-52G-POE+ Managed Switch Layer 2+ With Static L3 Routing (GSM7252PS v1h2)",null,null,null,null,null,null,null,"3 power supply units","-",null,null,null,null,null,3,"Three units APS1000W",{"$f":"560*$S36","v":1680},{"$f":"U35","v":1120},{"$f":"770*$S36","v":2310},{"$f":"W35","v":1540},3,21,21]
["M5300 series","M5300-28GF3","GSM7328FS-200NES","M5300-28GF3 Managed Switch Layer 3 With Dynamic Routing (GSM7328FS v2h1)",null,null,null,null,null,null,null,"4 power supply units","-",null,null,null,null,null,4,"Four units APS1000W",2240,{"$f":"U36","v":1680},3080,2310,4,21.5,21.5]
["M5300 series","M5300-28G3","GSM7328S-200NAS","M5300-28G3 Managed Switch Layer 3 With Dynamic Routing (GSM7328S v2h2)",null,null,null,null,null,null,null,"5 power supply units","Yes",null,null,null,null,null,5,"Five units APS1000W                              (5th PSU is in one RPS4000v2)",2800,2240,3850,3080,5,22,22]
["M5300 series","M5300-52G3","GSM7352S-200NAS","M5300-52G3 Managed Switch Layer 3 With Dynamic Routing (GSM7352S v2h2)",null,null,null,null,null,null,null,"6 power supply units","Yes",null,null,null,null,null,6,"Six units APS1000W                              (5th and 6th PSUs are in one RPS4000v2)",3360,2800,4620,3850,6,22.5,22.5]
["M5300 series","GSM7228L","GSM7228L-10000S","Layer 3 License Upgrade for M5300-28G (GSM7228S)",null,null,null,null,null,null,null,"7 power supply units","Yes",null,null,null,null,null,7,"Seven units APS1000W                              (5th, 6th and 7th PSUs are in one RPS4000v2)",3920,3360,5390,4620,7,23,23]
["M5300 series","GSM7252L","GSM7228L-10000S","Layer 3 License Upgrade for M5300-52G (GSM7252S)",null,null,null,null,null,null,null,"8 power supply units","Yes",null,null,null,null,null,8,"Eight units APS1000W                              (5th, 6th, 7th and 8th PSUs are in one RPS4000v2)",4480,3920,6160,5390,8,23.5,23.5]
["M5300 series","GSM7228PL","GSM7228PL-10000S","Layer 3 License Upgrade for M5300-28G-POE+ (GSM7228PS)",null,null,null,null,null,null,null,null,null,null,null,null,null,null,null,null,null,null,null,null,null,24,24]
["M5300 series","GSM7252PL","GSM7252PL-10000S","Layer 3 License Upgrade for M5300-52G-POE+ (GSM7252PS)",null,null,null,null,null,null,null,"No service required",null,null,null,null,null,null,null,"-",null,null,null,null,null,24.5,24.5]
["M5300 series","AX742","AX742","24G/48G Stacking Kit with two I/O Modules and one CX4 1m Cable for M5300 series",null,null,null,null,null,null,null,"Remote - Installation Setup and Configuration",null,null,null,null,null,null,null,"PSB0304",null,null,null,null,null,25,25]
["M5300 series","AX743","AX743-10000S","I/O Module SFP+ Host Adapter for M5300 series",null,null,null,null,null,null,null,"Onsite    - Installation Setup and Configuration",null,null,null,null,null,null,null,"PSP1104",null,null,null,null,null,25.5,25.5]
["M5300 series","AX744","AX744-10000S","I/O Module 1 port CX4 for M5300 series",null,null,null,null,null,null,null,null,null,null,null,null,null,null,null,null,null,null,null,null,null,26,26]
["M5300 series","AX745","AX745-10000S","I/O Module 1 port 10GBASE-T RJ45 for M5300 series",null,null,null,null,null,null,null,"M6100-3S",null,null,null,null,null,null,null,"AFT603",null,null,null,null,null,26.5,26.5]
["M4100 series","M4100-D10-POE","FSM5210P-100NES","M4100-D10-POE Managed Switch Layer 2+ With Static L3 Routing (FSM5210P v1h1)",null,null,null,null,null,null,null,null,null,null,null,null,null,null,null,null,null,null,null,null,null,27,27]
["M4100 series","M4100-26-POE","FSM7226P-100NES","M4100-26-POE Managed Switch Layer 2+ With Static L3 Routing (FSM7226P v1h1)",null,null,null,null,null,null,null,"Configurator","Configurator","Configurator","Conf2","Conf2","Conf2","Conf3","Conf3","Conf3","Conf4","Conf4","Conf4",null,null,27.5,27.5,null,null,"Conf5","Conf5","Conf5","Conf6","Conf6","Conf6","Conf7","Conf7","Conf7","Conf8","Conf8","Conf8","Conf9","Conf9","Conf9","Conf10","Conf10","Conf10"]
["M4100 series","M4100-50-POE","FSM7250P-100NES","M4100-50-POE Managed Switch Layer 2+ With Static L3 Routing (FSM7250P v1h1)",null,null,null,null,null,null,null,"Gigabit_only","Gigabit_10Gigabit","10Gigabit_only","Gigabit_only","Gigabit_10Gigabit","10Gigabit_only","Gigabit_only","Gigabit_10Gigabit","10Gigabit_only","Gigabit_only","Gigabit_10Gigabit","10Gigabit_only",null,null,28,28,null,null,"Gigabit_only","Gigabit_10Gigabit","10Gigabit_only","Gigabit_only","Gigabit_10Gigabit","10Gigabit_only","Gigabit_only","Gigabit_10Gigabit","10Gigabit_only","Gigabit_only","Gigabit_10Gigabit","10Gigabit_only","Gigabit_only","Gigabit_10Gigabit","10Gigabit_only","Gigabit_only","Gigabit_10Gigabit","10Gigabit_only"]
["M4100 series","M4100-D12G","GSM5212-100NES","M4100-D12G Managed Switch Layer 2+ With Static L3 Routing (GSM5212 v1h1)",null,null,null,null,null,null,null,0,0,0,0,0,0,0,0,0,0,0,0,null,null,28.5,28.5,null,null,0,0,0,0,0,0,0,0,0,0,0,0,0,0,0,0,0,0]
["M4100 series","M4100-D12G-POE+","GSM5212P-100NES","M4100-D12G-POE+ Managed Switch Layer 2+ With Static L3 Routing (GSM5212P v1h2)",null,null,null,null,null,null,null,{"$f":"IF(Configurator!$P$55>List!L51,List!L51+1,\"\")","v":""},{"$f":"IF(Configurator!$P$54+Configurator!$P$55>List!M51,List!M51+1,\"\")","v":""},{"$f":"IF(Configurator!$P$54>List!N51,List!N51+1,\"\")","v":""},{"$f":"IF(Conf2!$P$55>List!O51,List!O51+1,\"\")","v":""},{"$f":"IF(Conf2!$P$54+Conf2!$P$55>List!P51,List!P51+1,\"\")","v":""},{"$f":"IF(Conf2!$P$54>List!Q51,List!Q51+1,\"\")","v":""},{"$f":"IF(Conf3!$P$55>List!R51,List!R51+1,\"\")","v":""},{"$f":"IF(Conf3!$P$54+Conf3!$P$55>List!S51,List!S51+1,\"\")","v":""},{"$f":"IF(Conf3!$P$54>List!T51,List!T51+1,\"\")","v":""},{"$f":"IF(Conf4!$P$55>List!U51,List!U51+1,\"\")","v":""},{"$f":"IF(Conf4!$P$54+Conf4!$P$55>List!V51,List!V51+1,\"\")","v":""},{"$f":"IF(Conf4!$P$54>List!W51,List!W51+1,\"\")","v":""},null,null,29,29,null,null,{"$f":"IF(Conf5!$P$55>List!AD51,List!AD51+1,\"\")","v":""},{"$f":"IF(Conf5!$P$54+Conf5!$P$55>List!AE51,List!AE51+1,\"\")","v":""},{"$f":"IF(Conf5!$P$54>List!AF51,List!AF51+1,\"\")","v":""},{"$f":"IF(Conf6!$P$55>List!AG51,List!AG51+1,\"\")","v":""},{"$f":"IF(Conf6!$P$54+Conf6!$P$55>List!AH51,List!AH51+1,\"\")","v":""},{"$f":"IF(Conf6!$P$54>List!AI51,List!AI51+1,\"\")","v":""},{"$f":"IF(Conf7!$P$55>List!AJ51,List!AJ51+1,\"\")","v":""},{"$f":"IF(Conf7!$P$54+Conf7!$P$55>List!AK51,List!AK51+1,\"\")","v":""},{"$f":"IF(Conf7!$P$54>List!AL51,List!AL51+1,\"\")","v":""},{"$f":"IF(Conf8!$P$55>List!AM51,List!AM51+1,\"\")","v":""},{"$f":"IF(Conf8!$P$54+Conf8!$P$55>List!AN51,List!AN51+1,\"\")","v":""},{"$f":"IF(Conf8!$P$54>List!AO51,List!AO51+1,\"\")","v":""},{"$f":"IF(Conf9!$P$55>List!AP51,List!AP51+1,\"\")","v":""},{"$f":"IF(Conf9!$P$54+Conf9!$P$55>List!AQ51,List!AQ51+1,\"\")","v":""},{"$f":"IF(Conf9!$P$54>List!AR51,List!AR51+1,\"\")","v":""},{"$f":"IF(Conf10!$P$55>List!AS51,List!AS51+1,\"\")","v":""},{"$f":"IF(Conf10!$P$54+Conf10!$P$55>List!AT51,List!AT51+1,\"\")","v":""},{"$f":"IF(Conf10!$P$54>List!AU51,List!AU51+1,\"\")","v":""}]
["M4100 series","M4100-12GF","GSM7212F-100NES","M4100-12GF Managed Switch Layer 2+ With Static L3 Routing (GSM7212F v1h2)",null,null,null,null,null,null,null,{"$f":"IF(Configurator!$P$55>List!L52,List!L52+1,\"\")","v":""},{"$f":"IF(Configurator!$P$54+Configurator!$P$55>List!M52,List!M52+1,\"\")","v":""},{"$f":"IF(Configurator!$P$54>List!N52,List!N52+1,\"\")","v":""},{"$f":"IF(Conf2!$P$55>List!O52,List!O52+1,\"\")","v":""},{"$f":"IF(Conf2!$P$54+Conf2!$P$55>List!P52,List!P52+1,\"\")","v":""},{"$f":"IF(Conf2!$P$54>List!Q52,List!Q52+1,\"\")","v":""},{"$f":"IF(Conf3!$P$55>List!R52,List!R52+1,\"\")","v":""},{"$f":"IF(Conf3!$P$54+Conf3!$P$55>List!S52,List!S52+1,\"\")","v":""},{"$f":"IF(Conf3!$P$54>List!T52,List!T52+1,\"\")","v":""},{"$f":"IF(Conf4!$P$55>List!U52,List!U52+1,\"\")","v":""},{"$f":"IF(Conf4!$P$54+Conf4!$P$55>List!V52,List!V52+1,\"\")","v":""},{"$f":"IF(Conf4!$P$54>List!W52,List!W52+1,\"\")","v":""},null,null,29.5,29.5,null,null,{"$f":"IF(Conf5!$P$55>List!AD52,List!AD52+1,\"\")","v":""},{"$f":"IF(Conf5!$P$54+Conf5!$P$55>List!AE52,List!AE52+1,\"\")","v":""},{"$f":"IF(Conf5!$P$54>List!AF52,List!AF52+1,\"\")","v":""},{"$f":"IF(Conf6!$P$55>List!AG52,List!AG52+1,\"\")","v":""},{"$f":"IF(Conf6!$P$54+Conf6!$P$55>List!AH52,List!AH52+1,\"\")","v":""},{"$f":"IF(Conf6!$P$54>List!AI52,List!AI52+1,\"\")","v":""},{"$f":"IF(Conf7!$P$55>List!AJ52,List!AJ52+1,\"\")","v":""},{"$f":"IF(Conf7!$P$54+Conf7!$P$55>List!AK52,List!AK52+1,\"\")","v":""},{"$f":"IF(Conf7!$P$54>List!AL52,List!AL52+1,\"\")","v":""},{"$f":"IF(Conf8!$P$55>List!AM52,List!AM52+1,\"\")","v":""},{"$f":"IF(Conf8!$P$54+Conf8!$P$55>List!AN52,List!AN52+1,\"\")","v":""},{"$f":"IF(Conf8!$P$54>List!AO52,List!AO52+1,\"\")","v":""},{"$f":"IF(Conf9!$P$55>List!AP52,List!AP52+1,\"\")","v":""},{"$f":"IF(Conf9!$P$54+Conf9!$P$55>List!AQ52,List!AQ52+1,\"\")","v":""},{"$f":"IF(Conf9!$P$54>List!AR52,List!AR52+1,\"\")","v":""},{"$f":"IF(Conf10!$P$55>List!AS52,List!AS52+1,\"\")","v":""},{"$f":"IF(Conf10!$P$54+Conf10!$P$55>List!AT52,List!AT52+1,\"\")","v":""},{"$f":"IF(Conf10!$P$54>List!AU52,List!AU52+1,\"\")","v":""}]
["M4100 series","M4100-12G-POE+","GSM7212P-100NES","M4100-12G-POE+ Managed Switch Layer 2+ With Static L3 Routing (GSM7212P v1h2)",null,null,null,null,null,null,null,{"$f":"IF(Configurator!$P$55>List!L53,List!L53+1,\"\")","v":""},{"$f":"IF(Configurator!$P$54+Configurator!$P$55>List!M53,List!M53+1,\"\")","v":""},{"$f":"IF(Configurator!$P$54>List!N53,List!N53+1,\"\")","v":""},{"$f":"IF(Conf2!$P$55>List!O53,List!O53+1,\"\")","v":""},{"$f":"IF(Conf2!$P$54+Conf2!$P$55>List!P53,List!P53+1,\"\")","v":""},{"$f":"IF(Conf2!$P$54>List!Q53,List!Q53+1,\"\")","v":""},{"$f":"IF(Conf3!$P$55>List!R53,List!R53+1,\"\")","v":""},{"$f":"IF(Conf3!$P$54+Conf3!$P$55>List!S53,List!S53+1,\"\")","v":""},{"$f":"IF(Conf3!$P$54>List!T53,List!T53+1,\"\")","v":""},{"$f":"IF(Conf4!$P$55>List!U53,List!U53+1,\"\")","v":""},{"$f":"IF(Conf4!$P$54+Conf4!$P$55>List!V53,List!V53+1,\"\")","v":""},{"$f":"IF(Conf4!$P$54>List!W53,List!W53+1,\"\")","v":""},null,null,30,30,null,null,{"$f":"IF(Conf5!$P$55>List!AD53,List!AD53+1,\"\")","v":""},{"$f":"IF(Conf5!$P$54+Conf5!$P$55>List!AE53,List!AE53+1,\"\")","v":""},{"$f":"IF(Conf5!$P$54>List!AF53,List!AF53+1,\"\")","v":""},{"$f":"IF(Conf6!$P$55>List!AG53,List!AG53+1,\"\")","v":""},{"$f":"IF(Conf6!$P$54+Conf6!$P$55>List!AH53,List!AH53+1,\"\")","v":""},{"$f":"IF(Conf6!$P$54>List!AI53,List!AI53+1,\"\")","v":""},{"$f":"IF(Conf7!$P$55>List!AJ53,List!AJ53+1,\"\")","v":""},{"$f":"IF(Conf7!$P$54+Conf7!$P$55>List!AK53,List!AK53+1,\"\")","v":""},{"$f":"IF(Conf7!$P$54>List!AL53,List!AL53+1,\"\")","v":""},{"$f":"IF(Conf8!$P$55>List!AM53,List!AM53+1,\"\")","v":""},{"$f":"IF(Conf8!$P$54+Conf8!$P$55>List!AN53,List!AN53+1,\"\")","v":""},{"$f":"IF(Conf8!$P$54>List!AO53,List!AO53+1,\"\")","v":""},{"$f":"IF(Conf9!$P$55>List!AP53,List!AP53+1,\"\")","v":""},{"$f":"IF(Conf9!$P$54+Conf9!$P$55>List!AQ53,List!AQ53+1,\"\")","v":""},{"$f":"IF(Conf9!$P$54>List!AR53,List!AR53+1,\"\")","v":""},{"$f":"IF(Conf10!$P$55>List!AS53,List!AS53+1,\"\")","v":""},{"$f":"IF(Conf10!$P$54+Conf10!$P$55>List!AT53,List!AT53+1,\"\")","v":""},{"$f":"IF(Conf10!$P$54>List!AU53,List!AU53+1,\"\")","v":""}]
["M4100 series","M4100-26G","GSM7224-200NAS","M4100-26G Managed Switch Layer 2+ With Static L3 Routing (GSM7224 v2h2)",null,null,null,null,null,null,null,{"$f":"IF(Configurator!$P$55>List!L54,List!L54+1,\"\")","v":""},{"$f":"IF(Configurator!$P$54+Configurator!$P$55>List!M54,List!M54+1,\"\")","v":""},{"$f":"IF(Configurator!$P$54>List!N54,List!N54+1,\"\")","v":""},{"$f":"IF(Conf2!$P$55>List!O54,List!O54+1,\"\")","v":""},{"$f":"IF(Conf2!$P$54+Conf2!$P$55>List!P54,List!P54+1,\"\")","v":""},{"$f":"IF(Conf2!$P$54>List!Q54,List!Q54+1,\"\")","v":""},{"$f":"IF(Conf3!$P$55>List!R54,List!R54+1,\"\")","v":""},{"$f":"IF(Conf3!$P$54+Conf3!$P$55>List!S54,List!S54+1,\"\")","v":""},{"$f":"IF(Conf3!$P$54>List!T54,List!T54+1,\"\")","v":""},{"$f":"IF(Conf4!$P$55>List!U54,List!U54+1,\"\")","v":""},{"$f":"IF(Conf4!$P$54+Conf4!$P$55>List!V54,List!V54+1,\"\")","v":""},{"$f":"IF(Conf4!$P$54>List!W54,List!W54+1,\"\")","v":""},null,null,null,30.5,null,null,{"$f":"IF(Conf5!$P$55>List!AD54,List!AD54+1,\"\")","v":""},{"$f":"IF(Conf5!$P$54+Conf5!$P$55>List!AE54,List!AE54+1,\"\")","v":""},{"$f":"IF(Conf5!$P$54>List!AF54,List!AF54+1,\"\")","v":""},{"$f":"IF(Conf6!$P$55>List!AG54,List!AG54+1,\"\")","v":""},{"$f":"IF(Conf6!$P$54+Conf6!$P$55>List!AH54,List!AH54+1,\"\")","v":""},{"$f":"IF(Conf6!$P$54>List!AI54,List!AI54+1,\"\")","v":""},{"$f":"IF(Conf7!$P$55>List!AJ54,List!AJ54+1,\"\")","v":""},{"$f":"IF(Conf7!$P$54+Conf7!$P$55>List!AK54,List!AK54+1,\"\")","v":""},{"$f":"IF(Conf7!$P$54>List!AL54,List!AL54+1,\"\")","v":""},{"$f":"IF(Conf8!$P$55>List!AM54,List!AM54+1,\"\")","v":""},{"$f":"IF(Conf8!$P$54+Conf8!$P$55>List!AN54,List!AN54+1,\"\")","v":""},{"$f":"IF(Conf8!$P$54>List!AO54,List!AO54+1,\"\")","v":""},{"$f":"IF(Conf9!$P$55>List!AP54,List!AP54+1,\"\")","v":""},{"$f":"IF(Conf9!$P$54+Conf9!$P$55>List!AQ54,List!AQ54+1,\"\")","v":""},{"$f":"IF(Conf9!$P$54>List!AR54,List!AR54+1,\"\")","v":""},{"$f":"IF(Conf10!$P$55>List!AS54,List!AS54+1,\"\")","v":""},{"$f":"IF(Conf10!$P$54+Conf10!$P$55>List!AT54,List!AT54+1,\"\")","v":""},{"$f":"IF(Conf10!$P$54>List!AU54,List!AU54+1,\"\")","v":""}]
["M4100 series","M4100-50G","GSM7248-200NAS","M4100-50G Managed Switch Layer 2+ With Static L3 Routing (GSM7248 v2h2)",null,null,null,null,null,null,null,{"$f":"IF(Configurator!$P$55>List!L55,List!L55+1,\"\")","v":""},{"$f":"IF(Configurator!$P$54+Configurator!$P$55>List!M55,List!M55+1,\"\")","v":""},{"$f":"IF(Configurator!$P$54>List!N55,List!N55+1,\"\")","v":""},{"$f":"IF(Conf2!$P$55>List!O55,List!O55+1,\"\")","v":""},{"$f":"IF(Conf2!$P$54+Conf2!$P$55>List!P55,List!P55+1,\"\")","v":""},{"$f":"IF(Conf2!$P$54>List!Q55,List!Q55+1,\"\")","v":""},{"$f":"IF(Conf3!$P$55>List!R55,List!R55+1,\"\")","v":""},{"$f":"IF(Conf3!$P$54+Conf3!$P$55>List!S55,List!S55+1,\"\")","v":""},{"$f":"IF(Conf3!$P$54>List!T55,List!T55+1,\"\")","v":""},{"$f":"IF(Conf4!$P$55>List!U55,List!U55+1,\"\")","v":""},{"$f":"IF(Conf4!$P$54+Conf4!$P$55>List!V55,List!V55+1,\"\")","v":""},{"$f":"IF(Conf4!$P$54>List!W55,List!W55+1,\"\")","v":""},null,null,null,31,null,null,{"$f":"IF(Conf5!$P$55>List!AD55,List!AD55+1,\"\")","v":""},{"$f":"IF(Conf5!$P$54+Conf5!$P$55>List!AE55,List!AE55+1,\"\")","v":""},{"$f":"IF(Conf5!$P$54>List!AF55,List!AF55+1,\"\")","v":""},{"$f":"IF(Conf6!$P$55>List!AG55,List!AG55+1,\"\")","v":""},{"$f":"IF(Conf6!$P$54+Conf6!$P$55>List!AH55,List!AH55+1,\"\")","v":""},{"$f":"IF(Conf6!$P$54>List!AI55,List!AI55+1,\"\")","v":""},{"$f":"IF(Conf7!$P$55>List!AJ55,List!AJ55+1,\"\")","v":""},{"$f":"IF(Conf7!$P$54+Conf7!$P$55>List!AK55,List!AK55+1,\"\")","v":""},{"$f":"IF(Conf7!$P$54>List!AL55,List!AL55+1,\"\")","v":""},{"$f":"IF(Conf8!$P$55>List!AM55,List!AM55+1,\"\")","v":""},{"$f":"IF(Conf8!$P$54+Conf8!$P$55>List!AN55,List!AN55+1,\"\")","v":""},{"$f":"IF(Conf8!$P$54>List!AO55,List!AO55+1,\"\")","v":""},{"$f":"IF(Conf9!$P$55>List!AP55,List!AP55+1,\"\")","v":""},{"$f":"IF(Conf9!$P$54+Conf9!$P$55>List!AQ55,List!AQ55+1,\"\")","v":""},{"$f":"IF(Conf9!$P$54>List!AR55,List!AR55+1,\"\")","v":""},{"$f":"IF(Conf10!$P$55>List!AS55,List!AS55+1,\"\")","v":""},{"$f":"IF(Conf10!$P$54+Conf10!$P$55>List!AT55,List!AT55+1,\"\")","v":""},{"$f":"IF(Conf10!$P$54>List!AU55,List!AU55+1,\"\")","v":""}]
["M4100 series","M4100-26G-POE","GSM7226LP-100NES","M4100-26G-POE Managed Switch Layer 2+ With Static L3 Routing (GSM7226LP v1h1)",null,null,null,null,null,null,null,{"$f":"IF(Configurator!$P$55>List!L56,List!L56+1,\"\")","v":""},{"$f":"IF(Configurator!$P$54+Configurator!$P$55>List!M56,List!M56+1,\"\")","v":""},{"$f":"IF(Configurator!$P$54>List!N56,List!N56+1,\"\")","v":""},{"$f":"IF(Conf2!$P$55>List!O56,List!O56+1,\"\")","v":""},{"$f":"IF(Conf2!$P$54+Conf2!$P$55>List!P56,List!P56+1,\"\")","v":""},{"$f":"IF(Conf2!$P$54>List!Q56,List!Q56+1,\"\")","v":""},{"$f":"IF(Conf3!$P$55>List!R56,List!R56+1,\"\")","v":""},{"$f":"IF(Conf3!$P$54+Conf3!$P$55>List!S56,List!S56+1,\"\")","v":""},{"$f":"IF(Conf3!$P$54>List!T56,List!T56+1,\"\")","v":""},{"$f":"IF(Conf4!$P$55>List!U56,List!U56+1,\"\")","v":""},{"$f":"IF(Conf4!$P$54+Conf4!$P$55>List!V56,List!V56+1,\"\")","v":""},{"$f":"IF(Conf4!$P$54>List!W56,List!W56+1,\"\")","v":""},null,null,null,31.5,null,null,{"$f":"IF(Conf5!$P$55>List!AD56,List!AD56+1,\"\")","v":""},{"$f":"IF(Conf5!$P$54+Conf5!$P$55>List!AE56,List!AE56+1,\"\")","v":""},{"$f":"IF(Conf5!$P$54>List!AF56,List!AF56+1,\"\")","v":""},{"$f":"IF(Conf6!$P$55>List!AG56,List!AG56+1,\"\")","v":""},{"$f":"IF(Conf6!$P$54+Conf6!$P$55>List!AH56,List!AH56+1,\"\")","v":""},{"$f":"IF(Conf6!$P$54>List!AI56,List!AI56+1,\"\")","v":""},{"$f":"IF(Conf7!$P$55>List!AJ56,List!AJ56+1,\"\")","v":""},{"$f":"IF(Conf7!$P$54+Conf7!$P$55>List!AK56,List!AK56+1,\"\")","v":""},{"$f":"IF(Conf7!$P$54>List!AL56,List!AL56+1,\"\")","v":""},{"$f":"IF(Conf8!$P$55>List!AM56,List!AM56+1,\"\")","v":""},{"$f":"IF(Conf8!$P$54+Conf8!$P$55>List!AN56,List!AN56+1,\"\")","v":""},{"$f":"IF(Conf8!$P$54>List!AO56,List!AO56+1,\"\")","v":""},{"$f":"IF(Conf9!$P$55>List!AP56,List!AP56+1,\"\")","v":""},{"$f":"IF(Conf9!$P$54+Conf9!$P$55>List!AQ56,List!AQ56+1,\"\")","v":""},{"$f":"IF(Conf9!$P$54>List!AR56,List!AR56+1,\"\")","v":""},{"$f":"IF(Conf10!$P$55>List!AS56,List!AS56+1,\"\")","v":""},{"$f":"IF(Conf10!$P$54+Conf10!$P$55>List!AT56,List!AT56+1,\"\")","v":""},{"$f":"IF(Conf10!$P$54>List!AU56,List!AU56+1,\"\")","v":""}]
["M4100 series","M4100-24G-POE+","GSM7224P-100NES","M4100-24G-POE+ Managed Switch Layer 2+ With Static L3 Routing (GSM7224P v1h2)",null,null,null,null,null,null,null,{"$f":"IF(Configurator!$P$55>List!L57,List!L57+1,\"\")","v":""},{"$f":"IF(Configurator!$P$54+Configurator!$P$55>List!M57,List!M57+1,\"\")","v":""},{"$f":"IF(Configurator!$P$54>List!N57,List!N57+1,\"\")","v":""},{"$f":"IF(Conf2!$P$55>List!O57,List!O57+1,\"\")","v":""},{"$f":"IF(Conf2!$P$54+Conf2!$P$55>List!P57,List!P57+1,\"\")","v":""},{"$f":"IF(Conf2!$P$54>List!Q57,List!Q57+1,\"\")","v":""},{"$f":"IF(Conf3!$P$55>List!R57,List!R57+1,\"\")","v":""},{"$f":"IF(Conf3!$P$54+Conf3!$P$55>List!S57,List!S57+1,\"\")","v":""},{"$f":"IF(Conf3!$P$54>List!T57,List!T57+1,\"\")","v":""},{"$f":"IF(Conf4!$P$55>List!U57,List!U57+1,\"\")","v":""},{"$f":"IF(Conf4!$P$54+Conf4!$P$55>List!V57,List!V57+1,\"\")","v":""},{"$f":"IF(Conf4!$P$54>List!W57,List!W57+1,\"\")","v":""},null,null,null,32,null,null,{"$f":"IF(Conf5!$P$55>List!AD57,List!AD57+1,\"\")","v":""},{"$f":"IF(Conf5!$P$54+Conf5!$P$55>List!AE57,List!AE57+1,\"\")","v":""},{"$f":"IF(Conf5!$P$54>List!AF57,List!AF57+1,\"\")","v":""},{"$f":"IF(Conf6!$P$55>List!AG57,List!AG57+1,\"\")","v":""},{"$f":"IF(Conf6!$P$54+Conf6!$P$55>List!AH57,List!AH57+1,\"\")","v":""},{"$f":"IF(Conf6!$P$54>List!AI57,List!AI57+1,\"\")","v":""},{"$f":"IF(Conf7!$P$55>List!AJ57,List!AJ57+1,\"\")","v":""},{"$f":"IF(Conf7!$P$54+Conf7!$P$55>List!AK57,List!AK57+1,\"\")","v":""},{"$f":"IF(Conf7!$P$54>List!AL57,List!AL57+1,\"\")","v":""},{"$f":"IF(Conf8!$P$55>List!AM57,List!AM57+1,\"\")","v":""},{"$f":"IF(Conf8!$P$54+Conf8!$P$55>List!AN57,List!AN57+1,\"\")","v":""},{"$f":"IF(Conf8!$P$54>List!AO57,List!AO57+1,\"\")","v":""},{"$f":"IF(Conf9!$P$55>List!AP57,List!AP57+1,\"\")","v":""},{"$f":"IF(Conf9!$P$54+Conf9!$P$55>List!AQ57,List!AQ57+1,\"\")","v":""},{"$f":"IF(Conf9!$P$54>List!AR57,List!AR57+1,\"\")","v":""},{"$f":"IF(Conf10!$P$55>List!AS57,List!AS57+1,\"\")","v":""},{"$f":"IF(Conf10!$P$54+Conf10!$P$55>List!AT57,List!AT57+1,\"\")","v":""},{"$f":"IF(Conf10!$P$54>List!AU57,List!AU57+1,\"\")","v":""}]
["M4100 series","M4100-50G-POE+","GSM7248P-100NES","M4100-50G-POE+ Managed Switch Layer 2+ With Static L3 Routing (GSM7248P v1h1)",null,null,null,null,null,null,null,{"$f":"IF(Configurator!$P$55>List!L58,List!L58+1,\"\")","v":""},{"$f":"IF(Configurator!$P$54+Configurator!$P$55>List!M58,List!M58+1,\"\")","v":""},{"$f":"IF(Configurator!$P$54>List!N58,List!N58+1,\"\")","v":""},{"$f":"IF(Conf2!$P$55>List!O58,List!O58+1,\"\")","v":""},{"$f":"IF(Conf2!$P$54+Conf2!$P$55>List!P58,List!P58+1,\"\")","v":""},{"$f":"IF(Conf2!$P$54>List!Q58,List!Q58+1,\"\")","v":""},{"$f":"IF(Conf3!$P$55>List!R58,List!R58+1,\"\")","v":""},{"$f":"IF(Conf3!$P$54+Conf3!$P$55>List!S58,List!S58+1,\"\")","v":""},{"$f":"IF(Conf3!$P$54>List!T58,List!T58+1,\"\")","v":""},{"$f":"IF(Conf4!$P$55>List!U58,List!U58+1,\"\")","v":""},{"$f":"IF(Conf4!$P$54+Conf4!$P$55>List!V58,List!V58+1,\"\")","v":""},{"$f":"IF(Conf4!$P$54>List!W58,List!W58+1,\"\")","v":""},null,null,null,32.5,null,null,{"$f":"IF(Conf5!$P$55>List!AD58,List!AD58+1,\"\")","v":""},{"$f":"IF(Conf5!$P$54+Conf5!$P$55>List!AE58,List!AE58+1,\"\")","v":""},{"$f":"IF(Conf5!$P$54>List!AF58,List!AF58+1,\"\")","v":""},{"$f":"IF(Conf6!$P$55>List!AG58,List!AG58+1,\"\")","v":""},{"$f":"IF(Conf6!$P$54+Conf6!$P$55>List!AH58,List!AH58+1,\"\")","v":""},{"$f":"IF(Conf6!$P$54>List!AI58,List!AI58+1,\"\")","v":""},{"$f":"IF(Conf7!$P$55>List!AJ58,List!AJ58+1,\"\")","v":""},{"$f":"IF(Conf7!$P$54+Conf7!$P$55>List!AK58,List!AK58+1,\"\")","v":""},{"$f":"IF(Conf7!$P$54>List!AL58,List!AL58+1,\"\")","v":""},{"$f":"IF(Conf8!$P$55>List!AM58,List!AM58+1,\"\")","v":""},{"$f":"IF(Conf8!$P$54+Conf8!$P$55>List!AN58,List!AN58+1,\"\")","v":""},{"$f":"IF(Conf8!$P$54>List!AO58,List!AO58+1,\"\")","v":""},{"$f":"IF(Conf9!$P$55>List!AP58,List!AP58+1,\"\")","v":""},{"$f":"IF(Conf9!$P$54+Conf9!$P$55>List!AQ58,List!AQ58+1,\"\")","v":""},{"$f":"IF(Conf9!$P$54>List!AR58,List!AR58+1,\"\")","v":""},{"$f":"IF(Conf10!$P$55>List!AS58,List!AS58+1,\"\")","v":""},{"$f":"IF(Conf10!$P$54+Conf10!$P$55>List!AT58,List!AT58+1,\"\")","v":""},{"$f":"IF(Conf10!$P$54>List!AU58,List!AU58+1,\"\")","v":""}]
["M7100 series","M7100-24X","XSM7224-100NES","M7100-24X Managed Switch Layer 2+ With Static L3 Routing (XSM7224 v1h1)",null,null,null,null,null,null,null,{"$f":"IF(Configurator!$P$55>List!L59,List!L59+1,\"\")","v":""},{"$f":"IF(Configurator!$P$54+Configurator!$P$55>List!M59,List!M59+1,\"\")","v":""},{"$f":"IF(Configurator!$P$54>List!N59,List!N59+1,\"\")","v":""},{"$f":"IF(Conf2!$P$55>List!O59,List!O59+1,\"\")","v":""},{"$f":"IF(Conf2!$P$54+Conf2!$P$55>List!P59,List!P59+1,\"\")","v":""},{"$f":"IF(Conf2!$P$54>List!Q59,List!Q59+1,\"\")","v":""},{"$f":"IF(Conf3!$P$55>List!R59,List!R59+1,\"\")","v":""},{"$f":"IF(Conf3!$P$54+Conf3!$P$55>List!S59,List!S59+1,\"\")","v":""},{"$f":"IF(Conf3!$P$54>List!T59,List!T59+1,\"\")","v":""},{"$f":"IF(Conf4!$P$55>List!U59,List!U59+1,\"\")","v":""},{"$f":"IF(Conf4!$P$54+Conf4!$P$55>List!V59,List!V59+1,\"\")","v":""},{"$f":"IF(Conf4!$P$54>List!W59,List!W59+1,\"\")","v":""},null,null,null,33,null,null,{"$f":"IF(Conf5!$P$55>List!AD59,List!AD59+1,\"\")","v":""},{"$f":"IF(Conf5!$P$54+Conf5!$P$55>List!AE59,List!AE59+1,\"\")","v":""},{"$f":"IF(Conf5!$P$54>List!AF59,List!AF59+1,\"\")","v":""},{"$f":"IF(Conf6!$P$55>List!AG59,List!AG59+1,\"\")","v":""},{"$f":"IF(Conf6!$P$54+Conf6!$P$55>List!AH59,List!AH59+1,\"\")","v":""},{"$f":"IF(Conf6!$P$54>List!AI59,List!AI59+1,\"\")","v":""},{"$f":"IF(Conf7!$P$55>List!AJ59,List!AJ59+1,\"\")","v":""},{"$f":"IF(Conf7!$P$54+Conf7!$P$55>List!AK59,List!AK59+1,\"\")","v":""},{"$f":"IF(Conf7!$P$54>List!AL59,List!AL59+1,\"\")","v":""},{"$f":"IF(Conf8!$P$55>List!AM59,List!AM59+1,\"\")","v":""},{"$f":"IF(Conf8!$P$54+Conf8!$P$55>List!AN59,List!AN59+1,\"\")","v":""},{"$f":"IF(Conf8!$P$54>List!AO59,List!AO59+1,\"\")","v":""},{"$f":"IF(Conf9!$P$55>List!AP59,List!AP59+1,\"\")","v":""},{"$f":"IF(Conf9!$P$54+Conf9!$P$55>List!AQ59,List!AQ59+1,\"\")","v":""},{"$f":"IF(Conf9!$P$54>List!AR59,List!AR59+1,\"\")","v":""},{"$f":"IF(Conf10!$P$55>List!AS59,List!AS59+1,\"\")","v":""},{"$f":"IF(Conf10!$P$54+Conf10!$P$55>List!AT59,List!AT59+1,\"\")","v":""},{"$f":"IF(Conf10!$P$54>List!AU59,List!AU59+1,\"\")","v":""}]
["M7300 series","M7300-24XF","XSM7224S-100NAS","M7300-24XF Managed Switch Layer 2+ With Static L3 Routing (XSM7224S v1h1)",null,null,null,null,null,null,null,{"$f":"IF(Configurator!$P$55>List!L60,List!L60+1,\"\")","v":""},{"$f":"IF(Configurator!$P$54+Configurator!$P$55>List!M60,List!M60+1,\"\")","v":""},{"$f":"IF(Configurator!$P$54>List!N60,List!N60+1,\"\")","v":""},{"$f":"IF(Conf2!$P$55>List!O60,List!O60+1,\"\")","v":""},{"$f":"IF(Conf2!$P$54+Conf2!$P$55>List!P60,List!P60+1,\"\")","v":""},{"$f":"IF(Conf2!$P$54>List!Q60,List!Q60+1,\"\")","v":""},{"$f":"IF(Conf3!$P$55>List!R60,List!R60+1,\"\")","v":""},{"$f":"IF(Conf3!$P$54+Conf3!$P$55>List!S60,List!S60+1,\"\")","v":""},{"$f":"IF(Conf3!$P$54>List!T60,List!T60+1,\"\")","v":""},{"$f":"IF(Conf4!$P$55>List!U60,List!U60+1,\"\")","v":""},{"$f":"IF(Conf4!$P$54+Conf4!$P$55>List!V60,List!V60+1,\"\")","v":""},{"$f":"IF(Conf4!$P$54>List!W60,List!W60+1,\"\")","v":""},null,null,null,33.5,null,null,{"$f":"IF(Conf5!$P$55>List!AD60,List!AD60+1,\"\")","v":""},{"$f":"IF(Conf5!$P$54+Conf5!$P$55>List!AE60,List!AE60+1,\"\")","v":""},{"$f":"IF(Conf5!$P$54>List!AF60,List!AF60+1,\"\")","v":""},{"$f":"IF(Conf6!$P$55>List!AG60,List!AG60+1,\"\")","v":""},{"$f":"IF(Conf6!$P$54+Conf6!$P$55>List!AH60,List!AH60+1,\"\")","v":""},{"$f":"IF(Conf6!$P$54>List!AI60,List!AI60+1,\"\")","v":""},{"$f":"IF(Conf7!$P$55>List!AJ60,List!AJ60+1,\"\")","v":""},{"$f":"IF(Conf7!$P$54+Conf7!$P$55>List!AK60,List!AK60+1,\"\")","v":""},{"$f":"IF(Conf7!$P$54>List!AL60,List!AL60+1,\"\")","v":""},{"$f":"IF(Conf8!$P$55>List!AM60,List!AM60+1,\"\")","v":""},{"$f":"IF(Conf8!$P$54+Conf8!$P$55>List!AN60,List!AN60+1,\"\")","v":""},{"$f":"IF(Conf8!$P$54>List!AO60,List!AO60+1,\"\")","v":""},{"$f":"IF(Conf9!$P$55>List!AP60,List!AP60+1,\"\")","v":""},{"$f":"IF(Conf9!$P$54+Conf9!$P$55>List!AQ60,List!AQ60+1,\"\")","v":""},{"$f":"IF(Conf9!$P$54>List!AR60,List!AR60+1,\"\")","v":""},{"$f":"IF(Conf10!$P$55>List!AS60,List!AS60+1,\"\")","v":""},{"$f":"IF(Conf10!$P$54+Conf10!$P$55>List!AT60,List!AT60+1,\"\")","v":""},{"$f":"IF(Conf10!$P$54>List!AU60,List!AU60+1,\"\")","v":""}]
[null,null,null,null,null,null,null,null,null,null,null,{"$f":"IF(Configurator!$P$55>List!L61,List!L61+1,\"\")","v":""},{"$f":"IF(Configurator!$P$54+Configurator!$P$55>List!M61,List!M61+1,\"\")","v":""},{"$f":"IF(Configurator!$P$54>List!N61,List!N61+1,\"\")","v":""},{"$f":"IF(Conf2!$P$55>List!O61,List!O61+1,\"\")","v":""},{"$f":"IF(Conf2!$P$54+Conf2!$P$55>List!P61,List!P61+1,\"\")","v":""},{"$f":"IF(Conf2!$P$54>List!Q61,List!Q61+1,\"\")","v":""},{"$f":"IF(Conf3!$P$55>List!R61,List!R61+1,\"\")","v":""},{"$f":"IF(Conf3!$P$54+Conf3!$P$55>List!S61,List!S61+1,\"\")","v":""},{"$f":"IF(Conf3!$P$54>List!T61,List!T61+1,\"\")","v":""},{"$f":"IF(Conf4!$P$55>List!U61,List!U61+1,\"\")","v":""},{"$f":"IF(Conf4!$P$54+Conf4!$P$55>List!V61,List!V61+1,\"\")","v":""},{"$f":"IF(Conf4!$P$54>List!W61,List!W61+1,\"\")","v":""},null,null,null,34,null,null,{"$f":"IF(Conf5!$P$55>List!AD61,List!AD61+1,\"\")","v":""},{"$f":"IF(Conf5!$P$54+Conf5!$P$55>List!AE61,List!AE61+1,\"\")","v":""},{"$f":"IF(Conf5!$P$54>List!AF61,List!AF61+1,\"\")","v":""},{"$f":"IF(Conf6!$P$55>List!AG61,List!AG61+1,\"\")","v":""},{"$f":"IF(Conf6!$P$54+Conf6!$P$55>List!AH61,List!AH61+1,\"\")","v":""},{"$f":"IF(Conf6!$P$54>List!AI61,List!AI61+1,\"\")","v":""},{"$f":"IF(Conf7!$P$55>List!AJ61,List!AJ61+1,\"\")","v":""},{"$f":"IF(Conf7!$P$54+Conf7!$P$55>List!AK61,List!AK61+1,\"\")","v":""},{"$f":"IF(Conf7!$P$54>List!AL61,List!AL61+1,\"\")","v":""},{"$f":"IF(Conf8!$P$55>List!AM61,List!AM61+1,\"\")","v":""},{"$f":"IF(Conf8!$P$54+Conf8!$P$55>List!AN61,List!AN61+1,\"\")","v":""},{"$f":"IF(Conf8!$P$54>List!AO61,List!AO61+1,\"\")","v":""},{"$f":"IF(Conf9!$P$55>List!AP61,List!AP61+1,\"\")","v":""},{"$f":"IF(Conf9!$P$54+Conf9!$P$55>List!AQ61,List!AQ61+1,\"\")","v":""},{"$f":"IF(Conf9!$P$54>List!AR61,List!AR61+1,\"\")","v":""},{"$f":"IF(Conf10!$P$55>List!AS61,List!AS61+1,\"\")","v":""},{"$f":"IF(Conf10!$P$54+Conf10!$P$55>List!AT61,List!AT61+1,\"\")","v":""},{"$f":"IF(Conf10!$P$54>List!AU61,List!AU61+1,\"\")","v":""}]
[null,null,null,null,null,null,null,null,null,null,null,{"$f":"IF(Configurator!$P$55>List!L62,List!L62+1,\"\")","v":""},{"$f":"IF(Configurator!$P$54+Configurator!$P$55>List!M62,List!M62+1,\"\")","v":""},{"$f":"IF(Configurator!$P$54>List!N62,List!N62+1,\"\")","v":""},{"$f":"IF(Conf2!$P$55>List!O62,List!O62+1,\"\")","v":""},{"$f":"IF(Conf2!$P$54+Conf2!$P$55>List!P62,List!P62+1,\"\")","v":""},{"$f":"IF(Conf2!$P$54>List!Q62,List!Q62+1,\"\")","v":""},{"$f":"IF(Conf3!$P$55>List!R62,List!R62+1,\"\")","v":""},{"$f":"IF(Conf3!$P$54+Conf3!$P$55>List!S62,List!S62+1,\"\")","v":""},{"$f":"IF(Conf3!$P$54>List!T62,List!T62+1,\"\")","v":""},{"$f":"IF(Conf4!$P$55>List!U62,List!U62+1,\"\")","v":""},{"$f":"IF(Conf4!$P$54+Conf4!$P$55>List!V62,List!V62+1,\"\")","v":""},{"$f":"IF(Conf4!$P$54>List!W62,List!W62+1,\"\")","v":""},null,null,null,34.5,null,null,{"$f":"IF(Conf5!$P$55>List!AD62,List!AD62+1,\"\")","v":""},{"$f":"IF(Conf5!$P$54+Conf5!$P$55>List!AE62,List!AE62+1,\"\")","v":""},{"$f":"IF(Conf5!$P$54>List!AF62,List!AF62+1,\"\")","v":""},{"$f":"IF(Conf6!$P$55>List!AG62,List!AG62+1,\"\")","v":""},{"$f":"IF(Conf6!$P$54+Conf6!$P$55>List!AH62,List!AH62+1,\"\")","v":""},{"$f":"IF(Conf6!$P$54>List!AI62,List!AI62+1,\"\")","v":""},{"$f":"IF(Conf7!$P$55>List!AJ62,List!AJ62+1,\"\")","v":""},{"$f":"IF(Conf7!$P$54+Conf7!$P$55>List!AK62,List!AK62+1,\"\")","v":""},{"$f":"IF(Conf7!$P$54>List!AL62,List!AL62+1,\"\")","v":""},{"$f":"IF(Conf8!$P$55>List!AM62,List!AM62+1,\"\")","v":""},{"$f":"IF(Conf8!$P$54+Conf8!$P$55>List!AN62,List!AN62+1,\"\")","v":""},{"$f":"IF(Conf8!$P$54>List!AO62,List!AO62+1,\"\")","v":""},{"$f":"IF(Conf9!$P$55>List!AP62,List!AP62+1,\"\")","v":""},{"$f":"IF(Conf9!$P$54+Conf9!$P$55>List!AQ62,List!AQ62+1,\"\")","v":""},{"$f":"IF(Conf9!$P$54>List!AR62,List!AR62+1,\"\")","v":""},{"$f":"IF(Conf10!$P$55>List!AS62,List!AS62+1,\"\")","v":""},{"$f":"IF(Conf10!$P$54+Conf10!$P$55>List!AT62,List!AT62+1,\"\")","v":""},{"$f":"IF(Conf10!$P$54>List!AU62,List!AU62+1,\"\")","v":""}]
[null,null,null,null,null,null,null,null,null,null,null,{"$f":"IF(Configurator!$P$55>List!L63,List!L63+1,\"\")","v":""},{"$f":"IF(Configurator!$P$54+Configurator!$P$55>List!M63,List!M63+1,\"\")","v":""},{"$f":"IF(Configurator!$P$54>List!N63,List!N63+1,\"\")","v":""},{"$f":"IF(Conf2!$P$55>List!O63,List!O63+1,\"\")","v":""},{"$f":"IF(Conf2!$P$54+Conf2!$P$55>List!P63,List!P63+1,\"\")","v":""},{"$f":"IF(Conf2!$P$54>List!Q63,List!Q63+1,\"\")","v":""},{"$f":"IF(Conf3!$P$55>List!R63,List!R63+1,\"\")","v":""},{"$f":"IF(Conf3!$P$54+Conf3!$P$55>List!S63,List!S63+1,\"\")","v":""},{"$f":"IF(Conf3!$P$54>List!T63,List!T63+1,\"\")","v":""},{"$f":"IF(Conf4!$P$55>List!U63,List!U63+1,\"\")","v":""},{"$f":"IF(Conf4!$P$54+Conf4!$P$55>List!V63,List!V63+1,\"\")","v":""},{"$f":"IF(Conf4!$P$54>List!W63,List!W63+1,\"\")","v":""},null,null,null,35,null,null,{"$f":"IF(Conf5!$P$55>List!AD63,List!AD63+1,\"\")","v":""},{"$f":"IF(Conf5!$P$54+Conf5!$P$55>List!AE63,List!AE63+1,\"\")","v":""},{"$f":"IF(Conf5!$P$54>List!AF63,List!AF63+1,\"\")","v":""},{"$f":"IF(Conf6!$P$55>List!AG63,List!AG63+1,\"\")","v":""},{"$f":"IF(Conf6!$P$54+Conf6!$P$55>List!AH63,List!AH63+1,\"\")","v":""},{"$f":"IF(Conf6!$P$54>List!AI63,List!AI63+1,\"\")","v":""},{"$f":"IF(Conf7!$P$55>List!AJ63,List!AJ63+1,\"\")","v":""},{"$f":"IF(Conf7!$P$54+Conf7!$P$55>List!AK63,List!AK63+1,\"\")","v":""},{"$f":"IF(Conf7!$P$54>List!AL63,List!AL63+1,\"\")","v":""},{"$f":"IF(Conf8!$P$55>List!AM63,List!AM63+1,\"\")","v":""},{"$f":"IF(Conf8!$P$54+Conf8!$P$55>List!AN63,List!AN63+1,\"\")","v":""},{"$f":"IF(Conf8!$P$54>List!AO63,List!AO63+1,\"\")","v":""},{"$f":"IF(Conf9!$P$55>List!AP63,List!AP63+1,\"\")","v":""},{"$f":"IF(Conf9!$P$54+Conf9!$P$55>List!AQ63,List!AQ63+1,\"\")","v":""},{"$f":"IF(Conf9!$P$54>List!AR63,List!AR63+1,\"\")","v":""},{"$f":"IF(Conf10!$P$55>List!AS63,List!AS63+1,\"\")","v":""},{"$f":"IF(Conf10!$P$54+Conf10!$P$55>List!AT63,List!AT63+1,\"\")","v":""},{"$f":"IF(Conf10!$P$54>List!AU63,List!AU63+1,\"\")","v":""}]
[null,null,null,null,null,null,null,null,null,null,null,{"$f":"IF(Configurator!$P$55>List!L64,List!L64+1,\"\")","v":""},{"$f":"IF(Configurator!$P$54+Configurator!$P$55>List!M64,List!M64+1,\"\")","v":""},{"$f":"IF(Configurator!$P$54>List!N64,List!N64+1,\"\")","v":""},{"$f":"IF(Conf2!$P$55>List!O64,List!O64+1,\"\")","v":""},{"$f":"IF(Conf2!$P$54+Conf2!$P$55>List!P64,List!P64+1,\"\")","v":""},{"$f":"IF(Conf2!$P$54>List!Q64,List!Q64+1,\"\")","v":""},{"$f":"IF(Conf3!$P$55>List!R64,List!R64+1,\"\")","v":""},{"$f":"IF(Conf3!$P$54+Conf3!$P$55>List!S64,List!S64+1,\"\")","v":""},{"$f":"IF(Conf3!$P$54>List!T64,List!T64+1,\"\")","v":""},{"$f":"IF(Conf4!$P$55>List!U64,List!U64+1,\"\")","v":""},{"$f":"IF(Conf4!$P$54+Conf4!$P$55>List!V64,List!V64+1,\"\")","v":""},{"$f":"IF(Conf4!$P$54>List!W64,List!W64+1,\"\")","v":""},null,null,null,35.5,null,null,{"$f":"IF(Conf5!$P$55>List!AD64,List!AD64+1,\"\")","v":""},{"$f":"IF(Conf5!$P$54+Conf5!$P$55>List!AE64,List!AE64+1,\"\")","v":""},{"$f":"IF(Conf5!$P$54>List!AF64,List!AF64+1,\"\")","v":""},{"$f":"IF(Conf6!$P$55>List!AG64,List!AG64+1,\"\")","v":""},{"$f":"IF(Conf6!$P$54+Conf6!$P$55>List!AH64,List!AH64+1,\"\")","v":""},{"$f":"IF(Conf6!$P$54>List!AI64,List!AI64+1,\"\")","v":""},{"$f":"IF(Conf7!$P$55>List!AJ64,List!AJ64+1,\"\")","v":""},{"$f":"IF(Conf7!$P$54+Conf7!$P$55>List!AK64,List!AK64+1,\"\")","v":""},{"$f":"IF(Conf7!$P$54>List!AL64,List!AL64+1,\"\")","v":""},{"$f":"IF(Conf8!$P$55>List!AM64,List!AM64+1,\"\")","v":""},{"$f":"IF(Conf8!$P$54+Conf8!$P$55>List!AN64,List!AN64+1,\"\")","v":""},{"$f":"IF(Conf8!$P$54>List!AO64,List!AO64+1,\"\")","v":""},{"$f":"IF(Conf9!$P$55>List!AP64,List!AP64+1,\"\")","v":""},{"$f":"IF(Conf9!$P$54+Conf9!$P$55>List!AQ64,List!AQ64+1,\"\")","v":""},{"$f":"IF(Conf9!$P$54>List!AR64,List!AR64+1,\"\")","v":""},{"$f":"IF(Conf10!$P$55>List!AS64,List!AS64+1,\"\")","v":""},{"$f":"IF(Conf10!$P$54+Conf10!$P$55>List!AT64,List!AT64+1,\"\")","v":""},{"$f":"IF(Conf10!$P$54>List!AU64,List!AU64+1,\"\")","v":""}]
[null,null,null,null,null,null,null,null,null,null,null,{"$f":"IF(Configurator!$P$55>List!L65,List!L65+1,\"\")","v":""},{"$f":"IF(Configurator!$P$54+Configurator!$P$55>List!M65,List!M65+1,\"\")","v":""},{"$f":"IF(Configurator!$P$54>List!N65,List!N65+1,\"\")","v":""},{"$f":"IF(Conf2!$P$55>List!O65,List!O65+1,\"\")","v":""},{"$f":"IF(Conf2!$P$54+Conf2!$P$55>List!P65,List!P65+1,\"\")","v":""},{"$f":"IF(Conf2!$P$54>List!Q65,List!Q65+1,\"\")","v":""},{"$f":"IF(Conf3!$P$55>List!R65,List!R65+1,\"\")","v":""},{"$f":"IF(Conf3!$P$54+Conf3!$P$55>List!S65,List!S65+1,\"\")","v":""},{"$f":"IF(Conf3!$P$54>List!T65,List!T65+1,\"\")","v":""},{"$f":"IF(Conf4!$P$55>List!U65,List!U65+1,\"\")","v":""},{"$f":"IF(Conf4!$P$54+Conf4!$P$55>List!V65,List!V65+1,\"\")","v":""},{"$f":"IF(Conf4!$P$54>List!W65,List!W65+1,\"\")","v":""},null,null,null,36,null,null,{"$f":"IF(Conf5!$P$55>List!AD65,List!AD65+1,\"\")","v":""},{"$f":"IF(Conf5!$P$54+Conf5!$P$55>List!AE65,List!AE65+1,\"\")","v":""},{"$f":"IF(Conf5!$P$54>List!AF65,List!AF65+1,\"\")","v":""},{"$f":"IF(Conf6!$P$55>List!AG65,List!AG65+1,\"\")","v":""},{"$f":"IF(Conf6!$P$54+Conf6!$P$55>List!AH65,List!AH65+1,\"\")","v":""},{"$f":"IF(Conf6!$P$54>List!AI65,List!AI65+1,\"\")","v":""},{"$f":"IF(Conf7!$P$55>List!AJ65,List!AJ65+1,\"\")","v":""},{"$f":"IF(Conf7!$P$54+Conf7!$P$55>List!AK65,List!AK65+1,\"\")","v":""},{"$f":"IF(Conf7!$P$54>List!AL65,List!AL65+1,\"\")","v":""},{"$f":"IF(Conf8!$P$55>List!AM65,List!AM65+1,\"\")","v":""},{"$f":"IF(Conf8!$P$54+Conf8!$P$55>List!AN65,List!AN65+1,\"\")","v":""},{"$f":"IF(Conf8!$P$54>List!AO65,List!AO65+1,\"\")","v":""},{"$f":"IF(Conf9!$P$55>List!AP65,List!AP65+1,\"\")","v":""},{"$f":"IF(Conf9!$P$54+Conf9!$P$55>List!AQ65,List!AQ65+1,\"\")","v":""},{"$f":"IF(Conf9!$P$54>List!AR65,List!AR65+1,\"\")","v":""},{"$f":"IF(Conf10!$P$55>List!AS65,List!AS65+1,\"\")","v":""},{"$f":"IF(Conf10!$P$54+Conf10!$P$55>List!AT65,List!AT65+1,\"\")","v":""},{"$f":"IF(Conf10!$P$54>List!AU65,List!AU65+1,\"\")","v":""}]
[null,null,null,null,null,null,null,null,null,null,null,{"$f":"IF(Configurator!$P$55>List!L66,List!L66+1,\"\")","v":""},{"$f":"IF(Configurator!$P$54+Configurator!$P$55>List!M66,List!M66+1,\"\")","v":""},{"$f":"IF(Configurator!$P$54>List!N66,List!N66+1,\"\")","v":""},{"$f":"IF(Conf2!$P$55>List!O66,List!O66+1,\"\")","v":""},{"$f":"IF(Conf2!$P$54+Conf2!$P$55>List!P66,List!P66+1,\"\")","v":""},{"$f":"IF(Conf2!$P$54>List!Q66,List!Q66+1,\"\")","v":""},{"$f":"IF(Conf3!$P$55>List!R66,List!R66+1,\"\")","v":""},{"$f":"IF(Conf3!$P$54+Conf3!$P$55>List!S66,List!S66+1,\"\")","v":""},{"$f":"IF(Conf3!$P$54>List!T66,List!T66+1,\"\")","v":""},{"$f":"IF(Conf4!$P$55>List!U66,List!U66+1,\"\")","v":""},{"$f":"IF(Conf4!$P$54+Conf4!$P$55>List!V66,List!V66+1,\"\")","v":""},{"$f":"IF(Conf4!$P$54>List!W66,List!W66+1,\"\")","v":""},null,null,null,36.5,null,null,{"$f":"IF(Conf5!$P$55>List!AD66,List!AD66+1,\"\")","v":""},{"$f":"IF(Conf5!$P$54+Conf5!$P$55>List!AE66,List!AE66+1,\"\")","v":""},{"$f":"IF(Conf5!$P$54>List!AF66,List!AF66+1,\"\")","v":""},{"$f":"IF(Conf6!$P$55>List!AG66,List!AG66+1,\"\")","v":""},{"$f":"IF(Conf6!$P$54+Conf6!$P$55>List!AH66,List!AH66+1,\"\")","v":""},{"$f":"IF(Conf6!$P$54>List!AI66,List!AI66+1,\"\")","v":""},{"$f":"IF(Conf7!$P$55>List!AJ66,List!AJ66+1,\"\")","v":""},{"$f":"IF(Conf7!$P$54+Conf7!$P$55>List!AK66,List!AK66+1,\"\")","v":""},{"$f":"IF(Conf7!$P$54>List!AL66,List!AL66+1,\"\")","v":""},{"$f":"IF(Conf8!$P$55>List!AM66,List!AM66+1,\"\")","v":""},{"$f":"IF(Conf8!$P$54+Conf8!$P$55>List!AN66,List!AN66+1,\"\")","v":""},{"$f":"IF(Conf8!$P$54>List!AO66,List!AO66+1,\"\")","v":""},{"$f":"IF(Conf9!$P$55>List!AP66,List!AP66+1,\"\")","v":""},{"$f":"IF(Conf9!$P$54+Conf9!$P$55>List!AQ66,List!AQ66+1,\"\")","v":""},{"$f":"IF(Conf9!$P$54>List!AR66,List!AR66+1,\"\")","v":""},{"$f":"IF(Conf10!$P$55>List!AS66,List!AS66+1,\"\")","v":""},{"$f":"IF(Conf10!$P$54+Conf10!$P$55>List!AT66,List!AT66+1,\"\")","v":""},{"$f":"IF(Conf10!$P$54>List!AU66,List!AU66+1,\"\")","v":""}]
[null,null,null,null,null,null,null,null,null,null,null,{"$f":"IF(Configurator!$P$55>List!L67,List!L67+1,\"\")","v":""},{"$f":"IF(Configurator!$P$54+Configurator!$P$55>List!M67,List!M67+1,\"\")","v":""},{"$f":"IF(Configurator!$P$54>List!N67,List!N67+1,\"\")","v":""},{"$f":"IF(Conf2!$P$55>List!O67,List!O67+1,\"\")","v":""},{"$f":"IF(Conf2!$P$54+Conf2!$P$55>List!P67,List!P67+1,\"\")","v":""},{"$f":"IF(Conf2!$P$54>List!Q67,List!Q67+1,\"\")","v":""},{"$f":"IF(Conf3!$P$55>List!R67,List!R67+1,\"\")","v":""},{"$f":"IF(Conf3!$P$54+Conf3!$P$55>List!S67,List!S67+1,\"\")","v":""},{"$f":"IF(Conf3!$P$54>List!T67,List!T67+1,\"\")","v":""},{"$f":"IF(Conf4!$P$55>List!U67,List!U67+1,\"\")","v":""},{"$f":"IF(Conf4!$P$54+Conf4!$P$55>List!V67,List!V67+1,\"\")","v":""},{"$f":"IF(Conf4!$P$54>List!W67,List!W67+1,\"\")","v":""},null,null,null,37,null,null,{"$f":"IF(Conf5!$P$55>List!AD67,List!AD67+1,\"\")","v":""},{"$f":"IF(Conf5!$P$54+Conf5!$P$55>List!AE67,List!AE67+1,\"\")","v":""},{"$f":"IF(Conf5!$P$54>List!AF67,List!AF67+1,\"\")","v":""},{"$f":"IF(Conf6!$P$55>List!AG67,List!AG67+1,\"\")","v":""},{"$f":"IF(Conf6!$P$54+Conf6!$P$55>List!AH67,List!AH67+1,\"\")","v":""},{"$f":"IF(Conf6!$P$54>List!AI67,List!AI67+1,\"\")","v":""},{"$f":"IF(Conf7!$P$55>List!AJ67,List!AJ67+1,\"\")","v":""},{"$f":"IF(Conf7!$P$54+Conf7!$P$55>List!AK67,List!AK67+1,\"\")","v":""},{"$f":"IF(Conf7!$P$54>List!AL67,List!AL67+1,\"\")","v":""},{"$f":"IF(Conf8!$P$55>List!AM67,List!AM67+1,\"\")","v":""},{"$f":"IF(Conf8!$P$54+Conf8!$P$55>List!AN67,List!AN67+1,\"\")","v":""},{"$f":"IF(Conf8!$P$54>List!AO67,List!AO67+1,\"\")","v":""},{"$f":"IF(Conf9!$P$55>List!AP67,List!AP67+1,\"\")","v":""},{"$f":"IF(Conf9!$P$54+Conf9!$P$55>List!AQ67,List!AQ67+1,\"\")","v":""},{"$f":"IF(Conf9!$P$54>List!AR67,List!AR67+1,\"\")","v":""},{"$f":"IF(Conf10!$P$55>List!AS67,List!AS67+1,\"\")","v":""},{"$f":"IF(Conf10!$P$54+Conf10!$P$55>List!AT67,List!AT67+1,\"\")","v":""},{"$f":"IF(Conf10!$P$54>List!AU67,List!AU67+1,\"\")","v":""}]
[null,null,null,null,null,null,null,null,null,null,null,{"$f":"IF(Configurator!$P$55>List!L68,List!L68+1,\"\")","v":""},{"$f":"IF(Configurator!$P$54+Configurator!$P$55>List!M68,List!M68+1,\"\")","v":""},{"$f":"IF(Configurator!$P$54>List!N68,List!N68+1,\"\")","v":""},{"$f":"IF(Conf2!$P$55>List!O68,List!O68+1,\"\")","v":""},{"$f":"IF(Conf2!$P$54+Conf2!$P$55>List!P68,List!P68+1,\"\")","v":""},{"$f":"IF(Conf2!$P$54>List!Q68,List!Q68+1,\"\")","v":""},{"$f":"IF(Conf3!$P$55>List!R68,List!R68+1,\"\")","v":""},{"$f":"IF(Conf3!$P$54+Conf3!$P$55>List!S68,List!S68+1,\"\")","v":""},{"$f":"IF(Conf3!$P$54>List!T68,List!T68+1,\"\")","v":""},{"$f":"IF(Conf4!$P$55>List!U68,List!U68+1,\"\")","v":""},{"$f":"IF(Conf4!$P$54+Conf4!$P$55>List!V68,List!V68+1,\"\")","v":""},{"$f":"IF(Conf4!$P$54>List!W68,List!W68+1,\"\")","v":""},null,null,null,37.5,null,null,{"$f":"IF(Conf5!$P$55>List!AD68,List!AD68+1,\"\")","v":""},{"$f":"IF(Conf5!$P$54+Conf5!$P$55>List!AE68,List!AE68+1,\"\")","v":""},{"$f":"IF(Conf5!$P$54>List!AF68,List!AF68+1,\"\")","v":""},{"$f":"IF(Conf6!$P$55>List!AG68,List!AG68+1,\"\")","v":""},{"$f":"IF(Conf6!$P$54+Conf6!$P$55>List!AH68,List!AH68+1,\"\")","v":""},{"$f":"IF(Conf6!$P$54>List!AI68,List!AI68+1,\"\")","v":""},{"$f":"IF(Conf7!$P$55>List!AJ68,List!AJ68+1,\"\")","v":""},{"$f":"IF(Conf7!$P$54+Conf7!$P$55>List!AK68,List!AK68+1,\"\")","v":""},{"$f":"IF(Conf7!$P$54>List!AL68,List!AL68+1,\"\")","v":""},{"$f":"IF(Conf8!$P$55>List!AM68,List!AM68+1,\"\")","v":""},{"$f":"IF(Conf8!$P$54+Conf8!$P$55>List!AN68,List!AN68+1,\"\")","v":""},{"$f":"IF(Conf8!$P$54>List!AO68,List!AO68+1,\"\")","v":""},{"$f":"IF(Conf9!$P$55>List!AP68,List!AP68+1,\"\")","v":""},{"$f":"IF(Conf9!$P$54+Conf9!$P$55>List!AQ68,List!AQ68+1,\"\")","v":""},{"$f":"IF(Conf9!$P$54>List!AR68,List!AR68+1,\"\")","v":""},{"$f":"IF(Conf10!$P$55>List!AS68,List!AS68+1,\"\")","v":""},{"$f":"IF(Conf10!$P$54+Conf10!$P$55>List!AT68,List!AT68+1,\"\")","v":""},{"$f":"IF(Conf10!$P$54>List!AU68,List!AU68+1,\"\")","v":""}]
[null,null,null,null,null,null,null,null,null,null,null,{"$f":"IF(Configurator!$P$55>List!L69,List!L69+1,\"\")","v":""},{"$f":"IF(Configurator!$P$54+Configurator!$P$55>List!M69,List!M69+1,\"\")","v":""},{"$f":"IF(Configurator!$P$54>List!N69,List!N69+1,\"\")","v":""},{"$f":"IF(Conf2!$P$55>List!O69,List!O69+1,\"\")","v":""},{"$f":"IF(Conf2!$P$54+Conf2!$P$55>List!P69,List!P69+1,\"\")","v":""},{"$f":"IF(Conf2!$P$54>List!Q69,List!Q69+1,\"\")","v":""},{"$f":"IF(Conf3!$P$55>List!R69,List!R69+1,\"\")","v":""},{"$f":"IF(Conf3!$P$54+Conf3!$P$55>List!S69,List!S69+1,\"\")","v":""},{"$f":"IF(Conf3!$P$54>List!T69,List!T69+1,\"\")","v":""},{"$f":"IF(Conf4!$P$55>List!U69,List!U69+1,\"\")","v":""},{"$f":"IF(Conf4!$P$54+Conf4!$P$55>List!V69,List!V69+1,\"\")","v":""},{"$f":"IF(Conf4!$P$54>List!W69,List!W69+1,\"\")","v":""},null,null,null,38,null,null,{"$f":"IF(Conf5!$P$55>List!AD69,List!AD69+1,\"\")","v":""},{"$f":"IF(Conf5!$P$54+Conf5!$P$55>List!AE69,List!AE69+1,\"\")","v":""},{"$f":"IF(Conf5!$P$54>List!AF69,List!AF69+1,\"\")","v":""},{"$f":"IF(Conf6!$P$55>List!AG69,List!AG69+1,\"\")","v":""},{"$f":"IF(Conf6!$P$54+Conf6!$P$55>List!AH69,List!AH69+1,\"\")","v":""},{"$f":"IF(Conf6!$P$54>List!AI69,List!AI69+1,\"\")","v":""},{"$f":"IF(Conf7!$P$55>List!AJ69,List!AJ69+1,\"\")","v":""},{"$f":"IF(Conf7!$P$54+Conf7!$P$55>List!AK69,List!AK69+1,\"\")","v":""},{"$f":"IF(Conf7!$P$54>List!AL69,List!AL69+1,\"\")","v":""},{"$f":"IF(Conf8!$P$55>List!AM69,List!AM69+1,\"\")","v":""},{"$f":"IF(Conf8!$P$54+Conf8!$P$55>List!AN69,List!AN69+1,\"\")","v":""},{"$f":"IF(Conf8!$P$54>List!AO69,List!AO69+1,\"\")","v":""},{"$f":"IF(Conf9!$P$55>List!AP69,List!AP69+1,\"\")","v":""},{"$f":"IF(Conf9!$P$54+Conf9!$P$55>List!AQ69,List!AQ69+1,\"\")","v":""},{"$f":"IF(Conf9!$P$54>List!AR69,List!AR69+1,\"\")","v":""},{"$f":"IF(Conf10!$P$55>List!AS69,List!AS69+1,\"\")","v":""},{"$f":"IF(Conf10!$P$54+Conf10!$P$55>List!AT69,List!AT69+1,\"\")","v":""},{"$f":"IF(Conf10!$P$54>List!AU69,List!AU69+1,\"\")","v":""}]
[null,null,null,null,null,null,null,null,null,null,null,{"$f":"IF(Configurator!$P$55>List!L70,List!L70+1,\"\")","v":""},{"$f":"IF(Configurator!$P$54+Configurator!$P$55>List!M70,List!M70+1,\"\")","v":""},{"$f":"IF(Configurator!$P$54>List!N70,List!N70+1,\"\")","v":""},{"$f":"IF(Conf2!$P$55>List!O70,List!O70+1,\"\")","v":""},{"$f":"IF(Conf2!$P$54+Conf2!$P$55>List!P70,List!P70+1,\"\")","v":""},{"$f":"IF(Conf2!$P$54>List!Q70,List!Q70+1,\"\")","v":""},{"$f":"IF(Conf3!$P$55>List!R70,List!R70+1,\"\")","v":""},{"$f":"IF(Conf3!$P$54+Conf3!$P$55>List!S70,List!S70+1,\"\")","v":""},{"$f":"IF(Conf3!$P$54>List!T70,List!T70+1,\"\")","v":""},{"$f":"IF(Conf4!$P$55>List!U70,List!U70+1,\"\")","v":""},{"$f":"IF(Conf4!$P$54+Conf4!$P$55>List!V70,List!V70+1,\"\")","v":""},{"$f":"IF(Conf4!$P$54>List!W70,List!W70+1,\"\")","v":""},null,null,null,38.5,null,null,{"$f":"IF(Conf5!$P$55>List!AD70,List!AD70+1,\"\")","v":""},{"$f":"IF(Conf5!$P$54+Conf5!$P$55>List!AE70,List!AE70+1,\"\")","v":""},{"$f":"IF(Conf5!$P$54>List!AF70,List!AF70+1,\"\")","v":""},{"$f":"IF(Conf6!$P$55>List!AG70,List!AG70+1,\"\")","v":""},{"$f":"IF(Conf6!$P$54+Conf6!$P$55>List!AH70,List!AH70+1,\"\")","v":""},{"$f":"IF(Conf6!$P$54>List!AI70,List!AI70+1,\"\")","v":""},{"$f":"IF(Conf7!$P$55>List!AJ70,List!AJ70+1,\"\")","v":""},{"$f":"IF(Conf7!$P$54+Conf7!$P$55>List!AK70,List!AK70+1,\"\")","v":""},{"$f":"IF(Conf7!$P$54>List!AL70,List!AL70+1,\"\")","v":""},{"$f":"IF(Conf8!$P$55>List!AM70,List!AM70+1,\"\")","v":""},{"$f":"IF(Conf8!$P$54+Conf8!$P$55>List!AN70,List!AN70+1,\"\")","v":""},{"$f":"IF(Conf8!$P$54>List!AO70,List!AO70+1,\"\")","v":""},{"$f":"IF(Conf9!$P$55>List!AP70,List!AP70+1,\"\")","v":""},{"$f":"IF(Conf9!$P$54+Conf9!$P$55>List!AQ70,List!AQ70+1,\"\")","v":""},{"$f":"IF(Conf9!$P$54>List!AR70,List!AR70+1,\"\")","v":""},{"$f":"IF(Conf10!$P$55>List!AS70,List!AS70+1,\"\")","v":""},{"$f":"IF(Conf10!$P$54+Conf10!$P$55>List!AT70,List!AT70+1,\"\")","v":""},{"$f":"IF(Conf10!$P$54>List!AU70,List!AU70+1,\"\")","v":""}]
[null,null,null,null,null,null,null,null,null,null,null,{"$f":"IF(Configurator!$P$55>List!L71,List!L71+1,\"\")","v":""},{"$f":"IF(Configurator!$P$54+Configurator!$P$55>List!M71,List!M71+1,\"\")","v":""},{"$f":"IF(Configurator!$P$54>List!N71,List!N71+1,\"\")","v":""},{"$f":"IF(Conf2!$P$55>List!O71,List!O71+1,\"\")","v":""},{"$f":"IF(Conf2!$P$54+Conf2!$P$55>List!P71,List!P71+1,\"\")","v":""},{"$f":"IF(Conf2!$P$54>List!Q71,List!Q71+1,\"\")","v":""},{"$f":"IF(Conf3!$P$55>List!R71,List!R71+1,\"\")","v":""},{"$f":"IF(Conf3!$P$54+Conf3!$P$55>List!S71,List!S71+1,\"\")","v":""},{"$f":"IF(Conf3!$P$54>List!T71,List!T71+1,\"\")","v":""},{"$f":"IF(Conf4!$P$55>List!U71,List!U71+1,\"\")","v":""},{"$f":"IF(Conf4!$P$54+Conf4!$P$55>List!V71,List!V71+1,\"\")","v":""},{"$f":"IF(Conf4!$P$54>List!W71,List!W71+1,\"\")","v":""},null,null,null,39,null,null,{"$f":"IF(Conf5!$P$55>List!AD71,List!AD71+1,\"\")","v":""},{"$f":"IF(Conf5!$P$54+Conf5!$P$55>List!AE71,List!AE71+1,\"\")","v":""},{"$f":"IF(Conf5!$P$54>List!AF71,List!AF71+1,\"\")","v":""},{"$f":"IF(Conf6!$P$55>List!AG71,List!AG71+1,\"\")","v":""},{"$f":"IF(Conf6!$P$54+Conf6!$P$55>List!AH71,List!AH71+1,\"\")","v":""},{"$f":"IF(Conf6!$P$54>List!AI71,List!AI71+1,\"\")","v":""},{"$f":"IF(Conf7!$P$55>List!AJ71,List!AJ71+1,\"\")","v":""},{"$f":"IF(Conf7!$P$54+Conf7!$P$55>List!AK71,List!AK71+1,\"\")","v":""},{"$f":"IF(Conf7!$P$54>List!AL71,List!AL71+1,\"\")","v":""},{"$f":"IF(Conf8!$P$55>List!AM71,List!AM71+1,\"\")","v":""},{"$f":"IF(Conf8!$P$54+Conf8!$P$55>List!AN71,List!AN71+1,\"\")","v":""},{"$f":"IF(Conf8!$P$54>List!AO71,List!AO71+1,\"\")","v":""},{"$f":"IF(Conf9!$P$55>List!AP71,List!AP71+1,\"\")","v":""},{"$f":"IF(Conf9!$P$54+Conf9!$P$55>List!AQ71,List!AQ71+1,\"\")","v":""},{"$f":"IF(Conf9!$P$54>List!AR71,List!AR71+1,\"\")","v":""},{"$f":"IF(Conf10!$P$55>List!AS71,List!AS71+1,\"\")","v":""},{"$f":"IF(Conf10!$P$54+Conf10!$P$55>List!AT71,List!AT71+1,\"\")","v":""},{"$f":"IF(Conf10!$P$54>List!AU71,List!AU71+1,\"\")","v":""}]
[null,null,null,null,null,null,null,null,null,null,null,{"$f":"IF(Configurator!$P$55>List!L72,List!L72+1,\"\")","v":""},{"$f":"IF(Configurator!$P$54+Configurator!$P$55>List!M72,List!M72+1,\"\")","v":""},{"$f":"IF(Configurator!$P$54>List!N72,List!N72+1,\"\")","v":""},{"$f":"IF(Conf2!$P$55>List!O72,List!O72+1,\"\")","v":""},{"$f":"IF(Conf2!$P$54+Conf2!$P$55>List!P72,List!P72+1,\"\")","v":""},{"$f":"IF(Conf2!$P$54>List!Q72,List!Q72+1,\"\")","v":""},{"$f":"IF(Conf3!$P$55>List!R72,List!R72+1,\"\")","v":""},{"$f":"IF(Conf3!$P$54+Conf3!$P$55>List!S72,List!S72+1,\"\")","v":""},{"$f":"IF(Conf3!$P$54>List!T72,List!T72+1,\"\")","v":""},{"$f":"IF(Conf4!$P$55>List!U72,List!U72+1,\"\")","v":""},{"$f":"IF(Conf4!$P$54+Conf4!$P$55>List!V72,List!V72+1,\"\")","v":""},{"$f":"IF(Conf4!$P$54>List!W72,List!W72+1,\"\")","v":""},null,null,null,39.5,null,null,{"$f":"IF(Conf5!$P$55>List!AD72,List!AD72+1,\"\")","v":""},{"$f":"IF(Conf5!$P$54+Conf5!$P$55>List!AE72,List!AE72+1,\"\")","v":""},{"$f":"IF(Conf5!$P$54>List!AF72,List!AF72+1,\"\")","v":""},{"$f":"IF(Conf6!$P$55>List!AG72,List!AG72+1,\"\")","v":""},{"$f":"IF(Conf6!$P$54+Conf6!$P$55>List!AH72,List!AH72+1,\"\")","v":""},{"$f":"IF(Conf6!$P$54>List!AI72,List!AI72+1,\"\")","v":""},{"$f":"IF(Conf7!$P$55>List!AJ72,List!AJ72+1,\"\")","v":""},{"$f":"IF(Conf7!$P$54+Conf7!$P$55>List!AK72,List!AK72+1,\"\")","v":""},{"$f":"IF(Conf7!$P$54>List!AL72,List!AL72+1,\"\")","v":""},{"$f":"IF(Conf8!$P$55>List!AM72,List!AM72+1,\"\")","v":""},{"$f":"IF(Conf8!$P$54+Conf8!$P$55>List!AN72,List!AN72+1,\"\")","v":""},{"$f":"IF(Conf8!$P$54>List!AO72,List!AO72+1,\"\")","v":""},{"$f":"IF(Conf9!$P$55>List!AP72,List!AP72+1,\"\")","v":""},{"$f":"IF(Conf9!$P$54+Conf9!$P$55>List!AQ72,List!AQ72+1,\"\")","v":""},{"$f":"IF(Conf9!$P$54>List!AR72,List!AR72+1,\"\")","v":""},{"$f":"IF(Conf10!$P$55>List!AS72,List!AS72+1,\"\")","v":""},{"$f":"IF(Conf10!$P$54+Conf10!$P$55>List!AT72,List!AT72+1,\"\")","v":""},{"$f":"IF(Conf10!$P$54>List!AU72,List!AU72+1,\"\")","v":""}]
[null,null,null,null,null,null,null,null,null,null,null,{"$f":"IF(Configurator!$P$55>List!L73,List!L73+1,\"\")","v":""},{"$f":"IF(Configurator!$P$54+Configurator!$P$55>List!M73,List!M73+1,\"\")","v":""},{"$f":"IF(Configurator!$P$54>List!N73,List!N73+1,\"\")","v":""},{"$f":"IF(Conf2!$P$55>List!O73,List!O73+1,\"\")","v":""},{"$f":"IF(Conf2!$P$54+Conf2!$P$55>List!P73,List!P73+1,\"\")","v":""},{"$f":"IF(Conf2!$P$54>List!Q73,List!Q73+1,\"\")","v":""},{"$f":"IF(Conf3!$P$55>List!R73,List!R73+1,\"\")","v":""},{"$f":"IF(Conf3!$P$54+Conf3!$P$55>List!S73,List!S73+1,\"\")","v":""},{"$f":"IF(Conf3!$P$54>List!T73,List!T73+1,\"\")","v":""},{"$f":"IF(Conf4!$P$55>List!U73,List!U73+1,\"\")","v":""},{"$f":"IF(Conf4!$P$54+Conf4!$P$55>List!V73,List!V73+1,\"\")","v":""},{"$f":"IF(Conf4!$P$54>List!W73,List!W73+1,\"\")","v":""},null,null,null,40,null,null,{"$f":"IF(Conf5!$P$55>List!AD73,List!AD73+1,\"\")","v":""},{"$f":"IF(Conf5!$P$54+Conf5!$P$55>List!AE73,List!AE73+1,\"\")","v":""},{"$f":"IF(Conf5!$P$54>List!AF73,List!AF73+1,\"\")","v":""},{"$f":"IF(Conf6!$P$55>List!AG73,List!AG73+1,\"\")","v":""},{"$f":"IF(Conf6!$P$54+Conf6!$P$55>List!AH73,List!AH73+1,\"\")","v":""},{"$f":"IF(Conf6!$P$54>List!AI73,List!AI73+1,\"\")","v":""},{"$f":"IF(Conf7!$P$55>List!AJ73,List!AJ73+1,\"\")","v":""},{"$f":"IF(Conf7!$P$54+Conf7!$P$55>List!AK73,List!AK73+1,\"\")","v":""},{"$f":"IF(Conf7!$P$54>List!AL73,List!AL73+1,\"\")","v":""},{"$f":"IF(Conf8!$P$55>List!AM73,List!AM73+1,\"\")","v":""},{"$f":"IF(Conf8!$P$54+Conf8!$P$55>List!AN73,List!AN73+1,\"\")","v":""},{"$f":"IF(Conf8!$P$54>List!AO73,List!AO73+1,\"\")","v":""},{"$f":"IF(Conf9!$P$55>List!AP73,List!AP73+1,\"\")","v":""},{"$f":"IF(Conf9!$P$54+Conf9!$P$55>List!AQ73,List!AQ73+1,\"\")","v":""},{"$f":"IF(Conf9!$P$54>List!AR73,List!AR73+1,\"\")","v":""},{"$f":"IF(Conf10!$P$55>List!AS73,List!AS73+1,\"\")","v":""},{"$f":"IF(Conf10!$P$54+Conf10!$P$55>List!AT73,List!AT73+1,\"\")","v":""},{"$f":"IF(Conf10!$P$54>List!AU73,List!AU73+1,\"\")","v":""}]
[null,null,null,null,null,null,null,null,null,null,null,{"$f":"IF(Configurator!$P$55>List!L74,List!L74+1,\"\")","v":""},{"$f":"IF(Configurator!$P$54+Configurator!$P$55>List!M74,List!M74+1,\"\")","v":""},{"$f":"IF(Configurator!$P$54>List!N74,List!N74+1,\"\")","v":""},{"$f":"IF(Conf2!$P$55>List!O74,List!O74+1,\"\")","v":""},{"$f":"IF(Conf2!$P$54+Conf2!$P$55>List!P74,List!P74+1,\"\")","v":""},{"$f":"IF(Conf2!$P$54>List!Q74,List!Q74+1,\"\")","v":""},{"$f":"IF(Conf3!$P$55>List!R74,List!R74+1,\"\")","v":""},{"$f":"IF(Conf3!$P$54+Conf3!$P$55>List!S74,List!S74+1,\"\")","v":""},{"$f":"IF(Conf3!$P$54>List!T74,List!T74+1,\"\")","v":""},{"$f":"IF(Conf4!$P$55>List!U74,List!U74+1,\"\")","v":""},{"$f":"IF(Conf4!$P$54+Conf4!$P$55>List!V74,List!V74+1,\"\")","v":""},{"$f":"IF(Conf4!$P$54>List!W74,List!W74+1,\"\")","v":""},null,null,null,40.5,null,null,{"$f":"IF(Conf5!$P$55>List!AD74,List!AD74+1,\"\")","v":""},{"$f":"IF(Conf5!$P$54+Conf5!$P$55>List!AE74,List!AE74+1,\"\")","v":""},{"$f":"IF(Conf5!$P$54>List!AF74,List!AF74+1,\"\")","v":""},{"$f":"IF(Conf6!$P$55>List!AG74,List!AG74+1,\"\")","v":""},{"$f":"IF(Conf6!$P$54+Conf6!$P$55>List!AH74,List!AH74+1,\"\")","v":""},{"$f":"IF(Conf6!$P$54>List!AI74,List!AI74+1,\"\")","v":""},{"$f":"IF(Conf7!$P$55>List!AJ74,List!AJ74+1,\"\")","v":""},{"$f":"IF(Conf7!$P$54+Conf7!$P$55>List!AK74,List!AK74+1,\"\")","v":""},{"$f":"IF(Conf7!$P$54>List!AL74,List!AL74+1,\"\")","v":""},{"$f":"IF(Conf8!$P$55>List!AM74,List!AM74+1,\"\")","v":""},{"$f":"IF(Conf8!$P$54+Conf8!$P$55>List!AN74,List!AN74+1,\"\")","v":""},{"$f":"IF(Conf8!$P$54>List!AO74,List!AO74+1,\"\")","v":""},{"$f":"IF(Conf9!$P$55>List!AP74,List!AP74+1,\"\")","v":""},{"$f":"IF(Conf9!$P$54+Conf9!$P$55>List!AQ74,List!AQ74+1,\"\")","v":""},{"$f":"IF(Conf9!$P$54>List!AR74,List!AR74+1,\"\")","v":""},{"$f":"IF(Conf10!$P$55>List!AS74,List!AS74+1,\"\")","v":""},{"$f":"IF(Conf10!$P$54+Conf10!$P$55>List!AT74,List!AT74+1,\"\")","v":""},{"$f":"IF(Conf10!$P$54>List!AU74,List!AU74+1,\"\")","v":""}]
[null,null,null,null,null,null,null,null,null,null,null,{"$f":"IF(Configurator!$P$55>List!L75,List!L75+1,\"\")","v":""},{"$f":"IF(Configurator!$P$54+Configurator!$P$55>List!M75,List!M75+1,\"\")","v":""},{"$f":"IF(Configurator!$P$54>List!N75,List!N75+1,\"\")","v":""},{"$f":"IF(Conf2!$P$55>List!O75,List!O75+1,\"\")","v":""},{"$f":"IF(Conf2!$P$54+Conf2!$P$55>List!P75,List!P75+1,\"\")","v":""},{"$f":"IF(Conf2!$P$54>List!Q75,List!Q75+1,\"\")","v":""},{"$f":"IF(Conf3!$P$55>List!R75,List!R75+1,\"\")","v":""},{"$f":"IF(Conf3!$P$54+Conf3!$P$55>List!S75,List!S75+1,\"\")","v":""},{"$f":"IF(Conf3!$P$54>List!T75,List!T75+1,\"\")","v":""},{"$f":"IF(Conf4!$P$55>List!U75,List!U75+1,\"\")","v":""},{"$f":"IF(Conf4!$P$54+Conf4!$P$55>List!V75,List!V75+1,\"\")","v":""},{"$f":"IF(Conf4!$P$54>List!W75,List!W75+1,\"\")","v":""},null,null,null,41,null,null,{"$f":"IF(Conf5!$P$55>List!AD75,List!AD75+1,\"\")","v":""},{"$f":"IF(Conf5!$P$54+Conf5!$P$55>List!AE75,List!AE75+1,\"\")","v":""},{"$f":"IF(Conf5!$P$54>List!AF75,List!AF75+1,\"\")","v":""},{"$f":"IF(Conf6!$P$55>List!AG75,List!AG75+1,\"\")","v":""},{"$f":"IF(Conf6!$P$54+Conf6!$P$55>List!AH75,List!AH75+1,\"\")","v":""},{"$f":"IF(Conf6!$P$54>List!AI75,List!AI75+1,\"\")","v":""},{"$f":"IF(Conf7!$P$55>List!AJ75,List!AJ75+1,\"\")","v":""},{"$f":"IF(Conf7!$P$54+Conf7!$P$55>List!AK75,List!AK75+1,\"\")","v":""},{"$f":"IF(Conf7!$P$54>List!AL75,List!AL75+1,\"\")","v":""},{"$f":"IF(Conf8!$P$55>List!AM75,List!AM75+1,\"\")","v":""},{"$f":"IF(Conf8!$P$54+Conf8!$P$55>List!AN75,List!AN75+1,\"\")","v":""},{"$f":"IF(Conf8!$P$54>List!AO75,List!AO75+1,\"\")","v":""},{"$f":"IF(Conf9!$P$55>List!AP75,List!AP75+1,\"\")","v":""},{"$f":"IF(Conf9!$P$54+Conf9!$P$55>List!AQ75,List!AQ75+1,\"\")","v":""},{"$f":"IF(Conf9!$P$54>List!AR75,List!AR75+1,\"\")","v":""},{"$f":"IF(Conf10!$P$55>List!AS75,List!AS75+1,\"\")","v":""},{"$f":"IF(Conf10!$P$54+Conf10!$P$55>List!AT75,List!AT75+1,\"\")","v":""},{"$f":"IF(Conf10!$P$54>List!AU75,List!AU75+1,\"\")","v":""}]
[null,null,null,null,null,null,null,null,null,null,null,{"$f":"IF(Configurator!$P$55>List!L76,List!L76+1,\"\")","v":""},{"$f":"IF(Configurator!$P$54+Configurator!$P$55>List!M76,List!M76+1,\"\")","v":""},{"$f":"IF(Configurator!$P$54>List!N76,List!N76+1,\"\")","v":""},{"$f":"IF(Conf2!$P$55>List!O76,List!O76+1,\"\")","v":""},{"$f":"IF(Conf2!$P$54+Conf2!$P$55>List!P76,List!P76+1,\"\")","v":""},{"$f":"IF(Conf2!$P$54>List!Q76,List!Q76+1,\"\")","v":""},{"$f":"IF(Conf3!$P$55>List!R76,List!R76+1,\"\")","v":""},{"$f":"IF(Conf3!$P$54+Conf3!$P$55>List!S76,List!S76+1,\"\")","v":""},{"$f":"IF(Conf3!$P$54>List!T76,List!T76+1,\"\")","v":""},{"$f":"IF(Conf4!$P$55>List!U76,List!U76+1,\"\")","v":""},{"$f":"IF(Conf4!$P$54+Conf4!$P$55>List!V76,List!V76+1,\"\")","v":""},{"$f":"IF(Conf4!$P$54>List!W76,List!W76+1,\"\")","v":""},null,null,null,41.5,null,null,{"$f":"IF(Conf5!$P$55>List!AD76,List!AD76+1,\"\")","v":""},{"$f":"IF(Conf5!$P$54+Conf5!$P$55>List!AE76,List!AE76+1,\"\")","v":""},{"$f":"IF(Conf5!$P$54>List!AF76,List!AF76+1,\"\")","v":""},{"$f":"IF(Conf6!$P$55>List!AG76,List!AG76+1,\"\")","v":""},{"$f":"IF(Conf6!$P$54+Conf6!$P$55>List!AH76,List!AH76+1,\"\")","v":""},{"$f":"IF(Conf6!$P$54>List!AI76,List!AI76+1,\"\")","v":""},{"$f":"IF(Conf7!$P$55>List!AJ76,List!AJ76+1,\"\")","v":""},{"$f":"IF(Conf7!$P$54+Conf7!$P$55>List!AK76,List!AK76+1,\"\")","v":""},{"$f":"IF(Conf7!$P$54>List!AL76,List!AL76+1,\"\")","v":""},{"$f":"IF(Conf8!$P$55>List!AM76,List!AM76+1,\"\")","v":""},{"$f":"IF(Conf8!$P$54+Conf8!$P$55>List!AN76,List!AN76+1,\"\")","v":""},{"$f":"IF(Conf8!$P$54>List!AO76,List!AO76+1,\"\")","v":""},{"$f":"IF(Conf9!$P$55>List!AP76,List!AP76+1,\"\")","v":""},{"$f":"IF(Conf9!$P$54+Conf9!$P$55>List!AQ76,List!AQ76+1,\"\")","v":""},{"$f":"IF(Conf9!$P$54>List!AR76,List!AR76+1,\"\")","v":""},{"$f":"IF(Conf10!$P$55>List!AS76,List!AS76+1,\"\")","v":""},{"$f":"IF(Conf10!$P$54+Conf10!$P$55>List!AT76,List!AT76+1,\"\")","v":""},{"$f":"IF(Conf10!$P$54>List!AU76,List!AU76+1,\"\")","v":""}]
[null,null,null,null,null,null,null,null,null,null,null,{"$f":"IF(Configurator!$P$55>List!L77,List!L77+1,\"\")","v":""},{"$f":"IF(Configurator!$P$54+Configurator!$P$55>List!M77,List!M77+1,\"\")","v":""},{"$f":"IF(Configurator!$P$54>List!N77,List!N77+1,\"\")","v":""},{"$f":"IF(Conf2!$P$55>List!O77,List!O77+1,\"\")","v":""},{"$f":"IF(Conf2!$P$54+Conf2!$P$55>List!P77,List!P77+1,\"\")","v":""},{"$f":"IF(Conf2!$P$54>List!Q77,List!Q77+1,\"\")","v":""},{"$f":"IF(Conf3!$P$55>List!R77,List!R77+1,\"\")","v":""},{"$f":"IF(Conf3!$P$54+Conf3!$P$55>List!S77,List!S77+1,\"\")","v":""},{"$f":"IF(Conf3!$P$54>List!T77,List!T77+1,\"\")","v":""},{"$f":"IF(Conf4!$P$55>List!U77,List!U77+1,\"\")","v":""},{"$f":"IF(Conf4!$P$54+Conf4!$P$55>List!V77,List!V77+1,\"\")","v":""},{"$f":"IF(Conf4!$P$54>List!W77,List!W77+1,\"\")","v":""},null,null,null,42,null,null,{"$f":"IF(Conf5!$P$55>List!AD77,List!AD77+1,\"\")","v":""},{"$f":"IF(Conf5!$P$54+Conf5!$P$55>List!AE77,List!AE77+1,\"\")","v":""},{"$f":"IF(Conf5!$P$54>List!AF77,List!AF77+1,\"\")","v":""},{"$f":"IF(Conf6!$P$55>List!AG77,List!AG77+1,\"\")","v":""},{"$f":"IF(Conf6!$P$54+Conf6!$P$55>List!AH77,List!AH77+1,\"\")","v":""},{"$f":"IF(Conf6!$P$54>List!AI77,List!AI77+1,\"\")","v":""},{"$f":"IF(Conf7!$P$55>List!AJ77,List!AJ77+1,\"\")","v":""},{"$f":"IF(Conf7!$P$54+Conf7!$P$55>List!AK77,List!AK77+1,\"\")","v":""},{"$f":"IF(Conf7!$P$54>List!AL77,List!AL77+1,\"\")","v":""},{"$f":"IF(Conf8!$P$55>List!AM77,List!AM77+1,\"\")","v":""},{"$f":"IF(Conf8!$P$54+Conf8!$P$55>List!AN77,List!AN77+1,\"\")","v":""},{"$f":"IF(Conf8!$P$54>List!AO77,List!AO77+1,\"\")","v":""},{"$f":"IF(Conf9!$P$55>List!AP77,List!AP77+1,\"\")","v":""},{"$f":"IF(Conf9!$P$54+Conf9!$P$55>List!AQ77,List!AQ77+1,\"\")","v":""},{"$f":"IF(Conf9!$P$54>List!AR77,List!AR77+1,\"\")","v":""},{"$f":"IF(Conf10!$P$55>List!AS77,List!AS77+1,\"\")","v":""},{"$f":"IF(Conf10!$P$54+Conf10!$P$55>List!AT77,List!AT77+1,\"\")","v":""},{"$f":"IF(Conf10!$P$54>List!AU77,List!AU77+1,\"\")","v":""}]
[null,null,null,null,null,null,null,null,null,null,null,{"$f":"IF(Configurator!$P$55>List!L78,List!L78+1,\"\")","v":""},{"$f":"IF(Configurator!$P$54+Configurator!$P$55>List!M78,List!M78+1,\"\")","v":""},{"$f":"IF(Configurator!$P$54>List!N78,List!N78+1,\"\")","v":""},{"$f":"IF(Conf2!$P$55>List!O78,List!O78+1,\"\")","v":""},{"$f":"IF(Conf2!$P$54+Conf2!$P$55>List!P78,List!P78+1,\"\")","v":""},{"$f":"IF(Conf2!$P$54>List!Q78,List!Q78+1,\"\")","v":""},{"$f":"IF(Conf3!$P$55>List!R78,List!R78+1,\"\")","v":""},{"$f":"IF(Conf3!$P$54+Conf3!$P$55>List!S78,List!S78+1,\"\")","v":""},{"$f":"IF(Conf3!$P$54>List!T78,List!T78+1,\"\")","v":""},{"$f":"IF(Conf4!$P$55>List!U78,List!U78+1,\"\")","v":""},{"$f":"IF(Conf4!$P$54+Conf4!$P$55>List!V78,List!V78+1,\"\")","v":""},{"$f":"IF(Conf4!$P$54>List!W78,List!W78+1,\"\")","v":""},null,null,null,42.5,null,null,{"$f":"IF(Conf5!$P$55>List!AD78,List!AD78+1,\"\")","v":""},{"$f":"IF(Conf5!$P$54+Conf5!$P$55>List!AE78,List!AE78+1,\"\")","v":""},{"$f":"IF(Conf5!$P$54>List!AF78,List!AF78+1,\"\")","v":""},{"$f":"IF(Conf6!$P$55>List!AG78,List!AG78+1,\"\")","v":""},{"$f":"IF(Conf6!$P$54+Conf6!$P$55>List!AH78,List!AH78+1,\"\")","v":""},{"$f":"IF(Conf6!$P$54>List!AI78,List!AI78+1,\"\")","v":""},{"$f":"IF(Conf7!$P$55>List!AJ78,List!AJ78+1,\"\")","v":""},{"$f":"IF(Conf7!$P$54+Conf7!$P$55>List!AK78,List!AK78+1,\"\")","v":""},{"$f":"IF(Conf7!$P$54>List!AL78,List!AL78+1,\"\")","v":""},{"$f":"IF(Conf8!$P$55>List!AM78,List!AM78+1,\"\")","v":""},{"$f":"IF(Conf8!$P$54+Conf8!$P$55>List!AN78,List!AN78+1,\"\")","v":""},{"$f":"IF(Conf8!$P$54>List!AO78,List!AO78+1,\"\")","v":""},{"$f":"IF(Conf9!$P$55>List!AP78,List!AP78+1,\"\")","v":""},{"$f":"IF(Conf9!$P$54+Conf9!$P$55>List!AQ78,List!AQ78+1,\"\")","v":""},{"$f":"IF(Conf9!$P$54>List!AR78,List!AR78+1,\"\")","v":""},{"$f":"IF(Conf10!$P$55>List!AS78,List!AS78+1,\"\")","v":""},{"$f":"IF(Conf10!$P$54+Conf10!$P$55>List!AT78,List!AT78+1,\"\")","v":""},{"$f":"IF(Conf10!$P$54>List!AU78,List!AU78+1,\"\")","v":""}]
[null,null,null,null,null,null,null,null,null,null,null,{"$f":"IF(Configurator!$P$55>List!L79,List!L79+1,\"\")","v":""},{"$f":"IF(Configurator!$P$54+Configurator!$P$55>List!M79,List!M79+1,\"\")","v":""},{"$f":"IF(Configurator!$P$54>List!N79,List!N79+1,\"\")","v":""},{"$f":"IF(Conf2!$P$55>List!O79,List!O79+1,\"\")","v":""},{"$f":"IF(Conf2!$P$54+Conf2!$P$55>List!P79,List!P79+1,\"\")","v":""},{"$f":"IF(Conf2!$P$54>List!Q79,List!Q79+1,\"\")","v":""},{"$f":"IF(Conf3!$P$55>List!R79,List!R79+1,\"\")","v":""},{"$f":"IF(Conf3!$P$54+Conf3!$P$55>List!S79,List!S79+1,\"\")","v":""},{"$f":"IF(Conf3!$P$54>List!T79,List!T79+1,\"\")","v":""},{"$f":"IF(Conf4!$P$55>List!U79,List!U79+1,\"\")","v":""},{"$f":"IF(Conf4!$P$54+Conf4!$P$55>List!V79,List!V79+1,\"\")","v":""},{"$f":"IF(Conf4!$P$54>List!W79,List!W79+1,\"\")","v":""},null,null,null,43,null,null,{"$f":"IF(Conf5!$P$55>List!AD79,List!AD79+1,\"\")","v":""},{"$f":"IF(Conf5!$P$54+Conf5!$P$55>List!AE79,List!AE79+1,\"\")","v":""},{"$f":"IF(Conf5!$P$54>List!AF79,List!AF79+1,\"\")","v":""},{"$f":"IF(Conf6!$P$55>List!AG79,List!AG79+1,\"\")","v":""},{"$f":"IF(Conf6!$P$54+Conf6!$P$55>List!AH79,List!AH79+1,\"\")","v":""},{"$f":"IF(Conf6!$P$54>List!AI79,List!AI79+1,\"\")","v":""},{"$f":"IF(Conf7!$P$55>List!AJ79,List!AJ79+1,\"\")","v":""},{"$f":"IF(Conf7!$P$54+Conf7!$P$55>List!AK79,List!AK79+1,\"\")","v":""},{"$f":"IF(Conf7!$P$54>List!AL79,List!AL79+1,\"\")","v":""},{"$f":"IF(Conf8!$P$55>List!AM79,List!AM79+1,\"\")","v":""},{"$f":"IF(Conf8!$P$54+Conf8!$P$55>List!AN79,List!AN79+1,\"\")","v":""},{"$f":"IF(Conf8!$P$54>List!AO79,List!AO79+1,\"\")","v":""},{"$f":"IF(Conf9!$P$55>List!AP79,List!AP79+1,\"\")","v":""},{"$f":"IF(Conf9!$P$54+Conf9!$P$55>List!AQ79,List!AQ79+1,\"\")","v":""},{"$f":"IF(Conf9!$P$54>List!AR79,List!AR79+1,\"\")","v":""},{"$f":"IF(Conf10!$P$55>List!AS79,List!AS79+1,\"\")","v":""},{"$f":"IF(Conf10!$P$54+Conf10!$P$55>List!AT79,List!AT79+1,\"\")","v":""},{"$f":"IF(Conf10!$P$54>List!AU79,List!AU79+1,\"\")","v":""}]
[null,null,null,null,null,null,null,null,null,null,null,{"$f":"IF(Configurator!$P$55>List!L80,List!L80+1,\"\")","v":""},{"$f":"IF(Configurator!$P$54+Configurator!$P$55>List!M80,List!M80+1,\"\")","v":""},{"$f":"IF(Configurator!$P$54>List!N80,List!N80+1,\"\")","v":""},{"$f":"IF(Conf2!$P$55>List!O80,List!O80+1,\"\")","v":""},{"$f":"IF(Conf2!$P$54+Conf2!$P$55>List!P80,List!P80+1,\"\")","v":""},{"$f":"IF(Conf2!$P$54>List!Q80,List!Q80+1,\"\")","v":""},{"$f":"IF(Conf3!$P$55>List!R80,List!R80+1,\"\")","v":""},{"$f":"IF(Conf3!$P$54+Conf3!$P$55>List!S80,List!S80+1,\"\")","v":""},{"$f":"IF(Conf3!$P$54>List!T80,List!T80+1,\"\")","v":""},{"$f":"IF(Conf4!$P$55>List!U80,List!U80+1,\"\")","v":""},{"$f":"IF(Conf4!$P$54+Conf4!$P$55>List!V80,List!V80+1,\"\")","v":""},{"$f":"IF(Conf4!$P$54>List!W80,List!W80+1,\"\")","v":""},null,null,null,43.5,null,null,{"$f":"IF(Conf5!$P$55>List!AD80,List!AD80+1,\"\")","v":""},{"$f":"IF(Conf5!$P$54+Conf5!$P$55>List!AE80,List!AE80+1,\"\")","v":""},{"$f":"IF(Conf5!$P$54>List!AF80,List!AF80+1,\"\")","v":""},{"$f":"IF(Conf6!$P$55>List!AG80,List!AG80+1,\"\")","v":""},{"$f":"IF(Conf6!$P$54+Conf6!$P$55>List!AH80,List!AH80+1,\"\")","v":""},{"$f":"IF(Conf6!$P$54>List!AI80,List!AI80+1,\"\")","v":""},{"$f":"IF(Conf7!$P$55>List!AJ80,List!AJ80+1,\"\")","v":""},{"$f":"IF(Conf7!$P$54+Conf7!$P$55>List!AK80,List!AK80+1,\"\")","v":""},{"$f":"IF(Conf7!$P$54>List!AL80,List!AL80+1,\"\")","v":""},{"$f":"IF(Conf8!$P$55>List!AM80,List!AM80+1,\"\")","v":""},{"$f":"IF(Conf8!$P$54+Conf8!$P$55>List!AN80,List!AN80+1,\"\")","v":""},{"$f":"IF(Conf8!$P$54>List!AO80,List!AO80+1,\"\")","v":""},{"$f":"IF(Conf9!$P$55>List!AP80,List!AP80+1,\"\")","v":""},{"$f":"IF(Conf9!$P$54+Conf9!$P$55>List!AQ80,List!AQ80+1,\"\")","v":""},{"$f":"IF(Conf9!$P$54>List!AR80,List!AR80+1,\"\")","v":""},{"$f":"IF(Conf10!$P$55>List!AS80,List!AS80+1,\"\")","v":""},{"$f":"IF(Conf10!$P$54+Conf10!$P$55>List!AT80,List!AT80+1,\"\")","v":""},{"$f":"IF(Conf10!$P$54>List!AU80,List!AU80+1,\"\")","v":""}]
[null,null,null,null,null,null,null,null,null,null,null,{"$f":"IF(Configurator!$P$55>List!L81,List!L81+1,\"\")","v":""},{"$f":"IF(Configurator!$P$54+Configurator!$P$55>List!M81,List!M81+1,\"\")","v":""},{"$f":"IF(Configurator!$P$54>List!N81,List!N81+1,\"\")","v":""},{"$f":"IF(Conf2!$P$55>List!O81,List!O81+1,\"\")","v":""},{"$f":"IF(Conf2!$P$54+Conf2!$P$55>List!P81,List!P81+1,\"\")","v":""},{"$f":"IF(Conf2!$P$54>List!Q81,List!Q81+1,\"\")","v":""},{"$f":"IF(Conf3!$P$55>List!R81,List!R81+1,\"\")","v":""},{"$f":"IF(Conf3!$P$54+Conf3!$P$55>List!S81,List!S81+1,\"\")","v":""},{"$f":"IF(Conf3!$P$54>List!T81,List!T81+1,\"\")","v":""},{"$f":"IF(Conf4!$P$55>List!U81,List!U81+1,\"\")","v":""},{"$f":"IF(Conf4!$P$54+Conf4!$P$55>List!V81,List!V81+1,\"\")","v":""},{"$f":"IF(Conf4!$P$54>List!W81,List!W81+1,\"\")","v":""},null,null,null,44,null,null,{"$f":"IF(Conf5!$P$55>List!AD81,List!AD81+1,\"\")","v":""},{"$f":"IF(Conf5!$P$54+Conf5!$P$55>List!AE81,List!AE81+1,\"\")","v":""},{"$f":"IF(Conf5!$P$54>List!AF81,List!AF81+1,\"\")","v":""},{"$f":"IF(Conf6!$P$55>List!AG81,List!AG81+1,\"\")","v":""},{"$f":"IF(Conf6!$P$54+Conf6!$P$55>List!AH81,List!AH81+1,\"\")","v":""},{"$f":"IF(Conf6!$P$54>List!AI81,List!AI81+1,\"\")","v":""},{"$f":"IF(Conf7!$P$55>List!AJ81,List!AJ81+1,\"\")","v":""},{"$f":"IF(Conf7!$P$54+Conf7!$P$55>List!AK81,List!AK81+1,\"\")","v":""},{"$f":"IF(Conf7!$P$54>List!AL81,List!AL81+1,\"\")","v":""},{"$f":"IF(Conf8!$P$55>List!AM81,List!AM81+1,\"\")","v":""},{"$f":"IF(Conf8!$P$54+Conf8!$P$55>List!AN81,List!AN81+1,\"\")","v":""},{"$f":"IF(Conf8!$P$54>List!AO81,List!AO81+1,\"\")","v":""},{"$f":"IF(Conf9!$P$55>List!AP81,List!AP81+1,\"\")","v":""},{"$f":"IF(Conf9!$P$54+Conf9!$P$55>List!AQ81,List!AQ81+1,\"\")","v":""},{"$f":"IF(Conf9!$P$54>List!AR81,List!AR81+1,\"\")","v":""},{"$f":"IF(Conf10!$P$55>List!AS81,List!AS81+1,\"\")","v":""},{"$f":"IF(Conf10!$P$54+Conf10!$P$55>List!AT81,List!AT81+1,\"\")","v":""},{"$f":"IF(Conf10!$P$54>List!AU81,List!AU81+1,\"\")","v":""}]
[null,null,null,null,null,null,null,null,null,null,null,{"$f":"IF(Configurator!$P$55>List!L82,List!L82+1,\"\")","v":""},{"$f":"IF(Configurator!$P$54+Configurator!$P$55>List!M82,List!M82+1,\"\")","v":""},{"$f":"IF(Configurator!$P$54>List!N82,List!N82+1,\"\")","v":""},{"$f":"IF(Conf2!$P$55>List!O82,List!O82+1,\"\")","v":""},{"$f":"IF(Conf2!$P$54+Conf2!$P$55>List!P82,List!P82+1,\"\")","v":""},{"$f":"IF(Conf2!$P$54>List!Q82,List!Q82+1,\"\")","v":""},{"$f":"IF(Conf3!$P$55>List!R82,List!R82+1,\"\")","v":""},{"$f":"IF(Conf3!$P$54+Conf3!$P$55>List!S82,List!S82+1,\"\")","v":""},{"$f":"IF(Conf3!$P$54>List!T82,List!T82+1,\"\")","v":""},{"$f":"IF(Conf4!$P$55>List!U82,List!U82+1,\"\")","v":""},{"$f":"IF(Conf4!$P$54+Conf4!$P$55>List!V82,List!V82+1,\"\")","v":""},{"$f":"IF(Conf4!$P$54>List!W82,List!W82+1,\"\")","v":""},null,null,null,44.5,null,null,{"$f":"IF(Conf5!$P$55>List!AD82,List!AD82+1,\"\")","v":""},{"$f":"IF(Conf5!$P$54+Conf5!$P$55>List!AE82,List!AE82+1,\"\")","v":""},{"$f":"IF(Conf5!$P$54>List!AF82,List!AF82+1,\"\")","v":""},{"$f":"IF(Conf6!$P$55>List!AG82,List!AG82+1,\"\")","v":""},{"$f":"IF(Conf6!$P$54+Conf6!$P$55>List!AH82,List!AH82+1,\"\")","v":""},{"$f":"IF(Conf6!$P$54>List!AI82,List!AI82+1,\"\")","v":""},{"$f":"IF(Conf7!$P$55>List!AJ82,List!AJ82+1,\"\")","v":""},{"$f":"IF(Conf7!$P$54+Conf7!$P$55>List!AK82,List!AK82+1,\"\")","v":""},{"$f":"IF(Conf7!$P$54>List!AL82,List!AL82+1,\"\")","v":""},{"$f":"IF(Conf8!$P$55>List!AM82,List!AM82+1,\"\")","v":""},{"$f":"IF(Conf8!$P$54+Conf8!$P$55>List!AN82,List!AN82+1,\"\")","v":""},{"$f":"IF(Conf8!$P$54>List!AO82,List!AO82+1,\"\")","v":""},{"$f":"IF(Conf9!$P$55>List!AP82,List!AP82+1,\"\")","v":""},{"$f":"IF(Conf9!$P$54+Conf9!$P$55>List!AQ82,List!AQ82+1,\"\")","v":""},{"$f":"IF(Conf9!$P$54>List!AR82,List!AR82+1,\"\")","v":""},{"$f":"IF(Conf10!$P$55>List!AS82,List!AS82+1,\"\")","v":""},{"$f":"IF(Conf10!$P$54+Conf10!$P$55>List!AT82,List!AT82+1,\"\")","v":""},{"$f":"IF(Conf10!$P$54>List!AU82,List!AU82+1,\"\")","v":""}]
[null,null,null,null,null,null,null,null,null,null,null,{"$f":"IF(Configurator!$P$55>List!L83,List!L83+1,\"\")","v":""},{"$f":"IF(Configurator!$P$54+Configurator!$P$55>List!M83,List!M83+1,\"\")","v":""},{"$f":"IF(Configurator!$P$54>List!N83,List!N83+1,\"\")","v":""},{"$f":"IF(Conf2!$P$55>List!O83,List!O83+1,\"\")","v":""},{"$f":"IF(Conf2!$P$54+Conf2!$P$55>List!P83,List!P83+1,\"\")","v":""},{"$f":"IF(Conf2!$P$54>List!Q83,List!Q83+1,\"\")","v":""},{"$f":"IF(Conf3!$P$55>List!R83,List!R83+1,\"\")","v":""},{"$f":"IF(Conf3!$P$54+Conf3!$P$55>List!S83,List!S83+1,\"\")","v":""},{"$f":"IF(Conf3!$P$54>List!T83,List!T83+1,\"\")","v":""},{"$f":"IF(Conf4!$P$55>List!U83,List!U83+1,\"\")","v":""},{"$f":"IF(Conf4!$P$54+Conf4!$P$55>List!V83,List!V83+1,\"\")","v":""},{"$f":"IF(Conf4!$P$54>List!W83,List!W83+1,\"\")","v":""},null,null,null,45,null,null,{"$f":"IF(Conf5!$P$55>List!AD83,List!AD83+1,\"\")","v":""},{"$f":"IF(Conf5!$P$54+Conf5!$P$55>List!AE83,List!AE83+1,\"\")","v":""},{"$f":"IF(Conf5!$P$54>List!AF83,List!AF83+1,\"\")","v":""},{"$f":"IF(Conf6!$P$55>List!AG83,List!AG83+1,\"\")","v":""},{"$f":"IF(Conf6!$P$54+Conf6!$P$55>List!AH83,List!AH83+1,\"\")","v":""},{"$f":"IF(Conf6!$P$54>List!AI83,List!AI83+1,\"\")","v":""},{"$f":"IF(Conf7!$P$55>List!AJ83,List!AJ83+1,\"\")","v":""},{"$f":"IF(Conf7!$P$54+Conf7!$P$55>List!AK83,List!AK83+1,\"\")","v":""},{"$f":"IF(Conf7!$P$54>List!AL83,List!AL83+1,\"\")","v":""},{"$f":"IF(Conf8!$P$55>List!AM83,List!AM83+1,\"\")","v":""},{"$f":"IF(Conf8!$P$54+Conf8!$P$55>List!AN83,List!AN83+1,\"\")","v":""},{"$f":"IF(Conf8!$P$54>List!AO83,List!AO83+1,\"\")","v":""},{"$f":"IF(Conf9!$P$55>List!AP83,List!AP83+1,\"\")","v":""},{"$f":"IF(Conf9!$P$54+Conf9!$P$55>List!AQ83,List!AQ83+1,\"\")","v":""},{"$f":"IF(Conf9!$P$54>List!AR83,List!AR83+1,\"\")","v":""},{"$f":"IF(Conf10!$P$55>List!AS83,List!AS83+1,\"\")","v":""},{"$f":"IF(Conf10!$P$54+Conf10!$P$55>List!AT83,List!AT83+1,\"\")","v":""},{"$f":"IF(Conf10!$P$54>List!AU83,List!AU83+1,\"\")","v":""}]
[null,null,null,null,null,null,null,null,null,null,null,{"$f":"IF(Configurator!$P$55>List!L84,List!L84+1,\"\")","v":""},{"$f":"IF(Configurator!$P$54+Configurator!$P$55>List!M84,List!M84+1,\"\")","v":""},{"$f":"IF(Configurator!$P$54>List!N84,List!N84+1,\"\")","v":""},{"$f":"IF(Conf2!$P$55>List!O84,List!O84+1,\"\")","v":""},{"$f":"IF(Conf2!$P$54+Conf2!$P$55>List!P84,List!P84+1,\"\")","v":""},{"$f":"IF(Conf2!$P$54>List!Q84,List!Q84+1,\"\")","v":""},{"$f":"IF(Conf3!$P$55>List!R84,List!R84+1,\"\")","v":""},{"$f":"IF(Conf3!$P$54+Conf3!$P$55>List!S84,List!S84+1,\"\")","v":""},{"$f":"IF(Conf3!$P$54>List!T84,List!T84+1,\"\")","v":""},{"$f":"IF(Conf4!$P$55>List!U84,List!U84+1,\"\")","v":""},{"$f":"IF(Conf4!$P$54+Conf4!$P$55>List!V84,List!V84+1,\"\")","v":""},{"$f":"IF(Conf4!$P$54>List!W84,List!W84+1,\"\")","v":""},null,null,null,45.5,null,null,{"$f":"IF(Conf5!$P$55>List!AD84,List!AD84+1,\"\")","v":""},{"$f":"IF(Conf5!$P$54+Conf5!$P$55>List!AE84,List!AE84+1,\"\")","v":""},{"$f":"IF(Conf5!$P$54>List!AF84,List!AF84+1,\"\")","v":""},{"$f":"IF(Conf6!$P$55>List!AG84,List!AG84+1,\"\")","v":""},{"$f":"IF(Conf6!$P$54+Conf6!$P$55>List!AH84,List!AH84+1,\"\")","v":""},{"$f":"IF(Conf6!$P$54>List!AI84,List!AI84+1,\"\")","v":""},{"$f":"IF(Conf7!$P$55>List!AJ84,List!AJ84+1,\"\")","v":""},{"$f":"IF(Conf7!$P$54+Conf7!$P$55>List!AK84,List!AK84+1,\"\")","v":""},{"$f":"IF(Conf7!$P$54>List!AL84,List!AL84+1,\"\")","v":""},{"$f":"IF(Conf8!$P$55>List!AM84,List!AM84+1,\"\")","v":""},{"$f":"IF(Conf8!$P$54+Conf8!$P$55>List!AN84,List!AN84+1,\"\")","v":""},{"$f":"IF(Conf8!$P$54>List!AO84,List!AO84+1,\"\")","v":""},{"$f":"IF(Conf9!$P$55>List!AP84,List!AP84+1,\"\")","v":""},{"$f":"IF(Conf9!$P$54+Conf9!$P$55>List!AQ84,List!AQ84+1,\"\")","v":""},{"$f":"IF(Conf9!$P$54>List!AR84,List!AR84+1,\"\")","v":""},{"$f":"IF(Conf10!$P$55>List!AS84,List!AS84+1,\"\")","v":""},{"$f":"IF(Conf10!$P$54+Conf10!$P$55>List!AT84,List!AT84+1,\"\")","v":""},{"$f":"IF(Conf10!$P$54>List!AU84,List!AU84+1,\"\")","v":""}]
[null,null,null,null,null,null,null,null,null,null,null,{"$f":"IF(Configurator!$P$55>List!L85,List!L85+1,\"\")","v":""},{"$f":"IF(Configurator!$P$54+Configurator!$P$55>List!M85,List!M85+1,\"\")","v":""},{"$f":"IF(Configurator!$P$54>List!N85,List!N85+1,\"\")","v":""},{"$f":"IF(Conf2!$P$55>List!O85,List!O85+1,\"\")","v":""},{"$f":"IF(Conf2!$P$54+Conf2!$P$55>List!P85,List!P85+1,\"\")","v":""},{"$f":"IF(Conf2!$P$54>List!Q85,List!Q85+1,\"\")","v":""},{"$f":"IF(Conf3!$P$55>List!R85,List!R85+1,\"\")","v":""},{"$f":"IF(Conf3!$P$54+Conf3!$P$55>List!S85,List!S85+1,\"\")","v":""},{"$f":"IF(Conf3!$P$54>List!T85,List!T85+1,\"\")","v":""},{"$f":"IF(Conf4!$P$55>List!U85,List!U85+1,\"\")","v":""},{"$f":"IF(Conf4!$P$54+Conf4!$P$55>List!V85,List!V85+1,\"\")","v":""},{"$f":"IF(Conf4!$P$54>List!W85,List!W85+1,\"\")","v":""},null,null,null,46,null,null,{"$f":"IF(Conf5!$P$55>List!AD85,List!AD85+1,\"\")","v":""},{"$f":"IF(Conf5!$P$54+Conf5!$P$55>List!AE85,List!AE85+1,\"\")","v":""},{"$f":"IF(Conf5!$P$54>List!AF85,List!AF85+1,\"\")","v":""},{"$f":"IF(Conf6!$P$55>List!AG85,List!AG85+1,\"\")","v":""},{"$f":"IF(Conf6!$P$54+Conf6!$P$55>List!AH85,List!AH85+1,\"\")","v":""},{"$f":"IF(Conf6!$P$54>List!AI85,List!AI85+1,\"\")","v":""},{"$f":"IF(Conf7!$P$55>List!AJ85,List!AJ85+1,\"\")","v":""},{"$f":"IF(Conf7!$P$54+Conf7!$P$55>List!AK85,List!AK85+1,\"\")","v":""},{"$f":"IF(Conf7!$P$54>List!AL85,List!AL85+1,\"\")","v":""},{"$f":"IF(Conf8!$P$55>List!AM85,List!AM85+1,\"\")","v":""},{"$f":"IF(Conf8!$P$54+Conf8!$P$55>List!AN85,List!AN85+1,\"\")","v":""},{"$f":"IF(Conf8!$P$54>List!AO85,List!AO85+1,\"\")","v":""},{"$f":"IF(Conf9!$P$55>List!AP85,List!AP85+1,\"\")","v":""},{"$f":"IF(Conf9!$P$54+Conf9!$P$55>List!AQ85,List!AQ85+1,\"\")","v":""},{"$f":"IF(Conf9!$P$54>List!AR85,List!AR85+1,\"\")","v":""},{"$f":"IF(Conf10!$P$55>List!AS85,List!AS85+1,\"\")","v":""},{"$f":"IF(Conf10!$P$54+Conf10!$P$55>List!AT85,List!AT85+1,\"\")","v":""},{"$f":"IF(Conf10!$P$54>List!AU85,List!AU85+1,\"\")","v":""}]
[null,null,null,null,null,null,null,null,null,null,null,{"$f":"IF(Configurator!$P$55>List!L86,List!L86+1,\"\")","v":""},{"$f":"IF(Configurator!$P$54+Configurator!$P$55>List!M86,List!M86+1,\"\")","v":""},{"$f":"IF(Configurator!$P$54>List!N86,List!N86+1,\"\")","v":""},{"$f":"IF(Conf2!$P$55>List!O86,List!O86+1,\"\")","v":""},{"$f":"IF(Conf2!$P$54+Conf2!$P$55>List!P86,List!P86+1,\"\")","v":""},{"$f":"IF(Conf2!$P$54>List!Q86,List!Q86+1,\"\")","v":""},{"$f":"IF(Conf3!$P$55>List!R86,List!R86+1,\"\")","v":""},{"$f":"IF(Conf3!$P$54+Conf3!$P$55>List!S86,List!S86+1,\"\")","v":""},{"$f":"IF(Conf3!$P$54>List!T86,List!T86+1,\"\")","v":""},{"$f":"IF(Conf4!$P$55>List!U86,List!U86+1,\"\")","v":""},{"$f":"IF(Conf4!$P$54+Conf4!$P$55>List!V86,List!V86+1,\"\")","v":""},{"$f":"IF(Conf4!$P$54>List!W86,List!W86+1,\"\")","v":""},null,null,null,46.5,null,null,{"$f":"IF(Conf5!$P$55>List!AD86,List!AD86+1,\"\")","v":""},{"$f":"IF(Conf5!$P$54+Conf5!$P$55>List!AE86,List!AE86+1,\"\")","v":""},{"$f":"IF(Conf5!$P$54>List!AF86,List!AF86+1,\"\")","v":""},{"$f":"IF(Conf6!$P$55>List!AG86,List!AG86+1,\"\")","v":""},{"$f":"IF(Conf6!$P$54+Conf6!$P$55>List!AH86,List!AH86+1,\"\")","v":""},{"$f":"IF(Conf6!$P$54>List!AI86,List!AI86+1,\"\")","v":""},{"$f":"IF(Conf7!$P$55>List!AJ86,List!AJ86+1,\"\")","v":""},{"$f":"IF(Conf7!$P$54+Conf7!$P$55>List!AK86,List!AK86+1,\"\")","v":""},{"$f":"IF(Conf7!$P$54>List!AL86,List!AL86+1,\"\")","v":""},{"$f":"IF(Conf8!$P$55>List!AM86,List!AM86+1,\"\")","v":""},{"$f":"IF(Conf8!$P$54+Conf8!$P$55>List!AN86,List!AN86+1,\"\")","v":""},{"$f":"IF(Conf8!$P$54>List!AO86,List!AO86+1,\"\")","v":""},{"$f":"IF(Conf9!$P$55>List!AP86,List!AP86+1,\"\")","v":""},{"$f":"IF(Conf9!$P$54+Conf9!$P$55>List!AQ86,List!AQ86+1,\"\")","v":""},{"$f":"IF(Conf9!$P$54>List!AR86,List!AR86+1,\"\")","v":""},{"$f":"IF(Conf10!$P$55>List!AS86,List!AS86+1,\"\")","v":""},{"$f":"IF(Conf10!$P$54+Conf10!$P$55>List!AT86,List!AT86+1,\"\")","v":""},{"$f":"IF(Conf10!$P$54>List!AU86,List!AU86+1,\"\")","v":""}]
[null,null,null,null,null,null,null,null,null,null,null,{"$f":"IF(Configurator!$P$55>List!L87,List!L87+1,\"\")","v":""},{"$f":"IF(Configurator!$P$54+Configurator!$P$55>List!M87,List!M87+1,\"\")","v":""},{"$f":"IF(Configurator!$P$54>List!N87,List!N87+1,\"\")","v":""},{"$f":"IF(Conf2!$P$55>List!O87,List!O87+1,\"\")","v":""},{"$f":"IF(Conf2!$P$54+Conf2!$P$55>List!P87,List!P87+1,\"\")","v":""},{"$f":"IF(Conf2!$P$54>List!Q87,List!Q87+1,\"\")","v":""},{"$f":"IF(Conf3!$P$55>List!R87,List!R87+1,\"\")","v":""},{"$f":"IF(Conf3!$P$54+Conf3!$P$55>List!S87,List!S87+1,\"\")","v":""},{"$f":"IF(Conf3!$P$54>List!T87,List!T87+1,\"\")","v":""},{"$f":"IF(Conf4!$P$55>List!U87,List!U87+1,\"\")","v":""},{"$f":"IF(Conf4!$P$54+Conf4!$P$55>List!V87,List!V87+1,\"\")","v":""},{"$f":"IF(Conf4!$P$54>List!W87,List!W87+1,\"\")","v":""},null,null,null,47,null,null,{"$f":"IF(Conf5!$P$55>List!AD87,List!AD87+1,\"\")","v":""},{"$f":"IF(Conf5!$P$54+Conf5!$P$55>List!AE87,List!AE87+1,\"\")","v":""},{"$f":"IF(Conf5!$P$54>List!AF87,List!AF87+1,\"\")","v":""},{"$f":"IF(Conf6!$P$55>List!AG87,List!AG87+1,\"\")","v":""},{"$f":"IF(Conf6!$P$54+Conf6!$P$55>List!AH87,List!AH87+1,\"\")","v":""},{"$f":"IF(Conf6!$P$54>List!AI87,List!AI87+1,\"\")","v":""},{"$f":"IF(Conf7!$P$55>List!AJ87,List!AJ87+1,\"\")","v":""},{"$f":"IF(Conf7!$P$54+Conf7!$P$55>List!AK87,List!AK87+1,\"\")","v":""},{"$f":"IF(Conf7!$P$54>List!AL87,List!AL87+1,\"\")","v":""},{"$f":"IF(Conf8!$P$55>List!AM87,List!AM87+1,\"\")","v":""},{"$f":"IF(Conf8!$P$54+Conf8!$P$55>List!AN87,List!AN87+1,\"\")","v":""},{"$f":"IF(Conf8!$P$54>List!AO87,List!AO87+1,\"\")","v":""},{"$f":"IF(Conf9!$P$55>List!AP87,List!AP87+1,\"\")","v":""},{"$f":"IF(Conf9!$P$54+Conf9!$P$55>List!AQ87,List!AQ87+1,\"\")","v":""},{"$f":"IF(Conf9!$P$54>List!AR87,List!AR87+1,\"\")","v":""},{"$f":"IF(Conf10!$P$55>List!AS87,List!AS87+1,\"\")","v":""},{"$f":"IF(Conf10!$P$54+Conf10!$P$55>List!AT87,List!AT87+1,\"\")","v":""},{"$f":"IF(Conf10!$P$54>List!AU87,List!AU87+1,\"\")","v":""}]
[null,null,null,null,null,null,null,null,null,null,null,{"$f":"IF(Configurator!$P$55>List!L88,List!L88+1,\"\")","v":""},{"$f":"IF(Configurator!$P$54+Configurator!$P$55>List!M88,List!M88+1,\"\")","v":""},{"$f":"IF(Configurator!$P$54>List!N88,List!N88+1,\"\")","v":""},{"$f":"IF(Conf2!$P$55>List!O88,List!O88+1,\"\")","v":""},{"$f":"IF(Conf2!$P$54+Conf2!$P$55>List!P88,List!P88+1,\"\")","v":""},{"$f":"IF(Conf2!$P$54>List!Q88,List!Q88+1,\"\")","v":""},{"$f":"IF(Conf3!$P$55>List!R88,List!R88+1,\"\")","v":""},{"$f":"IF(Conf3!$P$54+Conf3!$P$55>List!S88,List!S88+1,\"\")","v":""},{"$f":"IF(Conf3!$P$54>List!T88,List!T88+1,\"\")","v":""},{"$f":"IF(Conf4!$P$55>List!U88,List!U88+1,\"\")","v":""},{"$f":"IF(Conf4!$P$54+Conf4!$P$55>List!V88,List!V88+1,\"\")","v":""},{"$f":"IF(Conf4!$P$54>List!W88,List!W88+1,\"\")","v":""},null,null,null,47.5,null,null,{"$f":"IF(Conf5!$P$55>List!AD88,List!AD88+1,\"\")","v":""},{"$f":"IF(Conf5!$P$54+Conf5!$P$55>List!AE88,List!AE88+1,\"\")","v":""},{"$f":"IF(Conf5!$P$54>List!AF88,List!AF88+1,\"\")","v":""},{"$f":"IF(Conf6!$P$55>List!AG88,List!AG88+1,\"\")","v":""},{"$f":"IF(Conf6!$P$54+Conf6!$P$55>List!AH88,List!AH88+1,\"\")","v":""},{"$f":"IF(Conf6!$P$54>List!AI88,List!AI88+1,\"\")","v":""},{"$f":"IF(Conf7!$P$55>List!AJ88,List!AJ88+1,\"\")","v":""},{"$f":"IF(Conf7!$P$54+Conf7!$P$55>List!AK88,List!AK88+1,\"\")","v":""},{"$f":"IF(Conf7!$P$54>List!AL88,List!AL88+1,\"\")","v":""},{"$f":"IF(Conf8!$P$55>List!AM88,List!AM88+1,\"\")","v":""},{"$f":"IF(Conf8!$P$54+Conf8!$P$55>List!AN88,List!AN88+1,\"\")","v":""},{"$f":"IF(Conf8!$P$54>List!AO88,List!AO88+1,\"\")","v":""},{"$f":"IF(Conf9!$P$55>List!AP88,List!AP88+1,\"\")","v":""},{"$f":"IF(Conf9!$P$54+Conf9!$P$55>List!AQ88,List!AQ88+1,\"\")","v":""},{"$f":"IF(Conf9!$P$54>List!AR88,List!AR88+1,\"\")","v":""},{"$f":"IF(Conf10!$P$55>List!AS88,List!AS88+1,\"\")","v":""},{"$f":"IF(Conf10!$P$54+Conf10!$P$55>List!AT88,List!AT88+1,\"\")","v":""},{"$f":"IF(Conf10!$P$54>List!AU88,List!AU88+1,\"\")","v":""}]
[null,null,null,null,null,null,null,null,null,null,null,{"$f":"IF(Configurator!$P$55>List!L89,List!L89+1,\"\")","v":""},{"$f":"IF(Configurator!$P$54+Configurator!$P$55>List!M89,List!M89+1,\"\")","v":""},{"$f":"IF(Configurator!$P$54>List!N89,List!N89+1,\"\")","v":""},{"$f":"IF(Conf2!$P$55>List!O89,List!O89+1,\"\")","v":""},{"$f":"IF(Conf2!$P$54+Conf2!$P$55>List!P89,List!P89+1,\"\")","v":""},{"$f":"IF(Conf2!$P$54>List!Q89,List!Q89+1,\"\")","v":""},{"$f":"IF(Conf3!$P$55>List!R89,List!R89+1,\"\")","v":""},{"$f":"IF(Conf3!$P$54+Conf3!$P$55>List!S89,List!S89+1,\"\")","v":""},{"$f":"IF(Conf3!$P$54>List!T89,List!T89+1,\"\")","v":""},{"$f":"IF(Conf4!$P$55>List!U89,List!U89+1,\"\")","v":""},{"$f":"IF(Conf4!$P$54+Conf4!$P$55>List!V89,List!V89+1,\"\")","v":""},{"$f":"IF(Conf4!$P$54>List!W89,List!W89+1,\"\")","v":""},null,null,null,48,null,null,{"$f":"IF(Conf5!$P$55>List!AD89,List!AD89+1,\"\")","v":""},{"$f":"IF(Conf5!$P$54+Conf5!$P$55>List!AE89,List!AE89+1,\"\")","v":""},{"$f":"IF(Conf5!$P$54>List!AF89,List!AF89+1,\"\")","v":""},{"$f":"IF(Conf6!$P$55>List!AG89,List!AG89+1,\"\")","v":""},{"$f":"IF(Conf6!$P$54+Conf6!$P$55>List!AH89,List!AH89+1,\"\")","v":""},{"$f":"IF(Conf6!$P$54>List!AI89,List!AI89+1,\"\")","v":""},{"$f":"IF(Conf7!$P$55>List!AJ89,List!AJ89+1,\"\")","v":""},{"$f":"IF(Conf7!$P$54+Conf7!$P$55>List!AK89,List!AK89+1,\"\")","v":""},{"$f":"IF(Conf7!$P$54>List!AL89,List!AL89+1,\"\")","v":""},{"$f":"IF(Conf8!$P$55>List!AM89,List!AM89+1,\"\")","v":""},{"$f":"IF(Conf8!$P$54+Conf8!$P$55>List!AN89,List!AN89+1,\"\")","v":""},{"$f":"IF(Conf8!$P$54>List!AO89,List!AO89+1,\"\")","v":""},{"$f":"IF(Conf9!$P$55>List!AP89,List!AP89+1,\"\")","v":""},{"$f":"IF(Conf9!$P$54+Conf9!$P$55>List!AQ89,List!AQ89+1,\"\")","v":""},{"$f":"IF(Conf9!$P$54>List!AR89,List!AR89+1,\"\")","v":""},{"$f":"IF(Conf10!$P$55>List!AS89,List!AS89+1,\"\")","v":""},{"$f":"IF(Conf10!$P$54+Conf10!$P$55>List!AT89,List!AT89+1,\"\")","v":""},{"$f":"IF(Conf10!$P$54>List!AU89,List!AU89+1,\"\")","v":""}]
[null,null,null,null,null,null,null,null,null,null,null,{"$f":"IF(Configurator!$P$55>List!L90,List!L90+1,\"\")","v":""},{"$f":"IF(Configurator!$P$54+Configurator!$P$55>List!M90,List!M90+1,\"\")","v":""},{"$f":"IF(Configurator!$P$54>List!N90,List!N90+1,\"\")","v":""},{"$f":"IF(Conf2!$P$55>List!O90,List!O90+1,\"\")","v":""},{"$f":"IF(Conf2!$P$54+Conf2!$P$55>List!P90,List!P90+1,\"\")","v":""},{"$f":"IF(Conf2!$P$54>List!Q90,List!Q90+1,\"\")","v":""},{"$f":"IF(Conf3!$P$55>List!R90,List!R90+1,\"\")","v":""},{"$f":"IF(Conf3!$P$54+Conf3!$P$55>List!S90,List!S90+1,\"\")","v":""},{"$f":"IF(Conf3!$P$54>List!T90,List!T90+1,\"\")","v":""},{"$f":"IF(Conf4!$P$55>List!U90,List!U90+1,\"\")","v":""},{"$f":"IF(Conf4!$P$54+Conf4!$P$55>List!V90,List!V90+1,\"\")","v":""},{"$f":"IF(Conf4!$P$54>List!W90,List!W90+1,\"\")","v":""},null,null,null,48.5,null,null,{"$f":"IF(Conf5!$P$55>List!AD90,List!AD90+1,\"\")","v":""},{"$f":"IF(Conf5!$P$54+Conf5!$P$55>List!AE90,List!AE90+1,\"\")","v":""},{"$f":"IF(Conf5!$P$54>List!AF90,List!AF90+1,\"\")","v":""},{"$f":"IF(Conf6!$P$55>List!AG90,List!AG90+1,\"\")","v":""},{"$f":"IF(Conf6!$P$54+Conf6!$P$55>List!AH90,List!AH90+1,\"\")","v":""},{"$f":"IF(Conf6!$P$54>List!AI90,List!AI90+1,\"\")","v":""},{"$f":"IF(Conf7!$P$55>List!AJ90,List!AJ90+1,\"\")","v":""},{"$f":"IF(Conf7!$P$54+Conf7!$P$55>List!AK90,List!AK90+1,\"\")","v":""},{"$f":"IF(Conf7!$P$54>List!AL90,List!AL90+1,\"\")","v":""},{"$f":"IF(Conf8!$P$55>List!AM90,List!AM90+1,\"\")","v":""},{"$f":"IF(Conf8!$P$54+Conf8!$P$55>List!AN90,List!AN90+1,\"\")","v":""},{"$f":"IF(Conf8!$P$54>List!AO90,List!AO90+1,\"\")","v":""},{"$f":"IF(Conf9!$P$55>List!AP90,List!AP90+1,\"\")","v":""},{"$f":"IF(Conf9!$P$54+Conf9!$P$55>List!AQ90,List!AQ90+1,\"\")","v":""},{"$f":"IF(Conf9!$P$54>List!AR90,List!AR90+1,\"\")","v":""},{"$f":"IF(Conf10!$P$55>List!AS90,List!AS90+1,\"\")","v":""},{"$f":"IF(Conf10!$P$54+Conf10!$P$55>List!AT90,List!AT90+1,\"\")","v":""},{"$f":"IF(Conf10!$P$54>List!AU90,List!AU90+1,\"\")","v":""}]
[null,null,null,null,null,null,null,null,null,null,null,{"$f":"IF(Configurator!$P$55>List!L91,List!L91+1,\"\")","v":""},{"$f":"IF(Configurator!$P$54+Configurator!$P$55>List!M91,List!M91+1,\"\")","v":""},{"$f":"IF(Configurator!$P$54>List!N91,List!N91+1,\"\")","v":""},{"$f":"IF(Conf2!$P$55>List!O91,List!O91+1,\"\")","v":""},{"$f":"IF(Conf2!$P$54+Conf2!$P$55>List!P91,List!P91+1,\"\")","v":""},{"$f":"IF(Conf2!$P$54>List!Q91,List!Q91+1,\"\")","v":""},{"$f":"IF(Conf3!$P$55>List!R91,List!R91+1,\"\")","v":""},{"$f":"IF(Conf3!$P$54+Conf3!$P$55>List!S91,List!S91+1,\"\")","v":""},{"$f":"IF(Conf3!$P$54>List!T91,List!T91+1,\"\")","v":""},{"$f":"IF(Conf4!$P$55>List!U91,List!U91+1,\"\")","v":""},{"$f":"IF(Conf4!$P$54+Conf4!$P$55>List!V91,List!V91+1,\"\")","v":""},{"$f":"IF(Conf4!$P$54>List!W91,List!W91+1,\"\")","v":""},null,null,null,49,null,null,{"$f":"IF(Conf5!$P$55>List!AD91,List!AD91+1,\"\")","v":""},{"$f":"IF(Conf5!$P$54+Conf5!$P$55>List!AE91,List!AE91+1,\"\")","v":""},{"$f":"IF(Conf5!$P$54>List!AF91,List!AF91+1,\"\")","v":""},{"$f":"IF(Conf6!$P$55>List!AG91,List!AG91+1,\"\")","v":""},{"$f":"IF(Conf6!$P$54+Conf6!$P$55>List!AH91,List!AH91+1,\"\")","v":""},{"$f":"IF(Conf6!$P$54>List!AI91,List!AI91+1,\"\")","v":""},{"$f":"IF(Conf7!$P$55>List!AJ91,List!AJ91+1,\"\")","v":""},{"$f":"IF(Conf7!$P$54+Conf7!$P$55>List!AK91,List!AK91+1,\"\")","v":""},{"$f":"IF(Conf7!$P$54>List!AL91,List!AL91+1,\"\")","v":""},{"$f":"IF(Conf8!$P$55>List!AM91,List!AM91+1,\"\")","v":""},{"$f":"IF(Conf8!$P$54+Conf8!$P$55>List!AN91,List!AN91+1,\"\")","v":""},{"$f":"IF(Conf8!$P$54>List!AO91,List!AO91+1,\"\")","v":""},{"$f":"IF(Conf9!$P$55>List!AP91,List!AP91+1,\"\")","v":""},{"$f":"IF(Conf9!$P$54+Conf9!$P$55>List!AQ91,List!AQ91+1,\"\")","v":""},{"$f":"IF(Conf9!$P$54>List!AR91,List!AR91+1,\"\")","v":""},{"$f":"IF(Conf10!$P$55>List!AS91,List!AS91+1,\"\")","v":""},{"$f":"IF(Conf10!$P$54+Conf10!$P$55>List!AT91,List!AT91+1,\"\")","v":""},{"$f":"IF(Conf10!$P$54>List!AU91,List!AU91+1,\"\")","v":""}]
[null,null,null,null,null,null,null,null,null,null,null,{"$f":"IF(Configurator!$P$55>List!L92,List!L92+1,\"\")","v":""},{"$f":"IF(Configurator!$P$54+Configurator!$P$55>List!M92,List!M92+1,\"\")","v":""},{"$f":"IF(Configurator!$P$54>List!N92,List!N92+1,\"\")","v":""},{"$f":"IF(Conf2!$P$55>List!O92,List!O92+1,\"\")","v":""},{"$f":"IF(Conf2!$P$54+Conf2!$P$55>List!P92,List!P92+1,\"\")","v":""},{"$f":"IF(Conf2!$P$54>List!Q92,List!Q92+1,\"\")","v":""},{"$f":"IF(Conf3!$P$55>List!R92,List!R92+1,\"\")","v":""},{"$f":"IF(Conf3!$P$54+Conf3!$P$55>List!S92,List!S92+1,\"\")","v":""},{"$f":"IF(Conf3!$P$54>List!T92,List!T92+1,\"\")","v":""},{"$f":"IF(Conf4!$P$55>List!U92,List!U92+1,\"\")","v":""},{"$f":"IF(Conf4!$P$54+Conf4!$P$55>List!V92,List!V92+1,\"\")","v":""},{"$f":"IF(Conf4!$P$54>List!W92,List!W92+1,\"\")","v":""},null,null,null,49.5,null,null,{"$f":"IF(Conf5!$P$55>List!AD92,List!AD92+1,\"\")","v":""},{"$f":"IF(Conf5!$P$54+Conf5!$P$55>List!AE92,List!AE92+1,\"\")","v":""},{"$f":"IF(Conf5!$P$54>List!AF92,List!AF92+1,\"\")","v":""},{"$f":"IF(Conf6!$P$55>List!AG92,List!AG92+1,\"\")","v":""},{"$f":"IF(Conf6!$P$54+Conf6!$P$55>List!AH92,List!AH92+1,\"\")","v":""},{"$f":"IF(Conf6!$P$54>List!AI92,List!AI92+1,\"\")","v":""},{"$f":"IF(Conf7!$P$55>List!AJ92,List!AJ92+1,\"\")","v":""},{"$f":"IF(Conf7!$P$54+Conf7!$P$55>List!AK92,List!AK92+1,\"\")","v":""},{"$f":"IF(Conf7!$P$54>List!AL92,List!AL92+1,\"\")","v":""},{"$f":"IF(Conf8!$P$55>List!AM92,List!AM92+1,\"\")","v":""},{"$f":"IF(Conf8!$P$54+Conf8!$P$55>List!AN92,List!AN92+1,\"\")","v":""},{"$f":"IF(Conf8!$P$54>List!AO92,List!AO92+1,\"\")","v":""},{"$f":"IF(Conf9!$P$55>List!AP92,List!AP92+1,\"\")","v":""},{"$f":"IF(Conf9!$P$54+Conf9!$P$55>List!AQ92,List!AQ92+1,\"\")","v":""},{"$f":"IF(Conf9!$P$54>List!AR92,List!AR92+1,\"\")","v":""},{"$f":"IF(Conf10!$P$55>List!AS92,List!AS92+1,\"\")","v":""},{"$f":"IF(Conf10!$P$54+Conf10!$P$55>List!AT92,List!AT92+1,\"\")","v":""},{"$f":"IF(Conf10!$P$54>List!AU92,List!AU92+1,\"\")","v":""}]
[null,null,null,null,null,null,null,null,null,null,null,{"$f":"IF(Configurator!$P$55>List!L93,List!L93+1,\"\")","v":""},{"$f":"IF(Configurator!$P$54+Configurator!$P$55>List!M93,List!M93+1,\"\")","v":""},{"$f":"IF(Configurator!$P$54>List!N93,List!N93+1,\"\")","v":""},{"$f":"IF(Conf2!$P$55>List!O93,List!O93+1,\"\")","v":""},{"$f":"IF(Conf2!$P$54+Conf2!$P$55>List!P93,List!P93+1,\"\")","v":""},{"$f":"IF(Conf2!$P$54>List!Q93,List!Q93+1,\"\")","v":""},{"$f":"IF(Conf3!$P$55>List!R93,List!R93+1,\"\")","v":""},{"$f":"IF(Conf3!$P$54+Conf3!$P$55>List!S93,List!S93+1,\"\")","v":""},{"$f":"IF(Conf3!$P$54>List!T93,List!T93+1,\"\")","v":""},{"$f":"IF(Conf4!$P$55>List!U93,List!U93+1,\"\")","v":""},{"$f":"IF(Conf4!$P$54+Conf4!$P$55>List!V93,List!V93+1,\"\")","v":""},{"$f":"IF(Conf4!$P$54>List!W93,List!W93+1,\"\")","v":""},null,null,null,50,null,null,{"$f":"IF(Conf5!$P$55>List!AD93,List!AD93+1,\"\")","v":""},{"$f":"IF(Conf5!$P$54+Conf5!$P$55>List!AE93,List!AE93+1,\"\")","v":""},{"$f":"IF(Conf5!$P$54>List!AF93,List!AF93+1,\"\")","v":""},{"$f":"IF(Conf6!$P$55>List!AG93,List!AG93+1,\"\")","v":""},{"$f":"IF(Conf6!$P$54+Conf6!$P$55>List!AH93,List!AH93+1,\"\")","v":""},{"$f":"IF(Conf6!$P$54>List!AI93,List!AI93+1,\"\")","v":""},{"$f":"IF(Conf7!$P$55>List!AJ93,List!AJ93+1,\"\")","v":""},{"$f":"IF(Conf7!$P$54+Conf7!$P$55>List!AK93,List!AK93+1,\"\")","v":""},{"$f":"IF(Conf7!$P$54>List!AL93,List!AL93+1,\"\")","v":""},{"$f":"IF(Conf8!$P$55>List!AM93,List!AM93+1,\"\")","v":""},{"$f":"IF(Conf8!$P$54+Conf8!$P$55>List!AN93,List!AN93+1,\"\")","v":""},{"$f":"IF(Conf8!$P$54>List!AO93,List!AO93+1,\"\")","v":""},{"$f":"IF(Conf9!$P$55>List!AP93,List!AP93+1,\"\")","v":""},{"$f":"IF(Conf9!$P$54+Conf9!$P$55>List!AQ93,List!AQ93+1,\"\")","v":""},{"$f":"IF(Conf9!$P$54>List!AR93,List!AR93+1,\"\")","v":""},{"$f":"IF(Conf10!$P$55>List!AS93,List!AS93+1,\"\")","v":""},{"$f":"IF(Conf10!$P$54+Conf10!$P$55>List!AT93,List!AT93+1,\"\")","v":""},{"$f":"IF(Conf10!$P$54>List!AU93,List!AU93+1,\"\")","v":""}]
[null,null,null,null,null,null,null,null,null,null,null,{"$f":"IF(Configurator!$P$55>List!L94,List!L94+1,\"\")","v":""},{"$f":"IF(Configurator!$P$54+Configurator!$P$55>List!M94,List!M94+1,\"\")","v":""},{"$f":"IF(Configurator!$P$54>List!N94,List!N94+1,\"\")","v":""},{"$f":"IF(Conf2!$P$55>List!O94,List!O94+1,\"\")","v":""},{"$f":"IF(Conf2!$P$54+Conf2!$P$55>List!P94,List!P94+1,\"\")","v":""},{"$f":"IF(Conf2!$P$54>List!Q94,List!Q94+1,\"\")","v":""},{"$f":"IF(Conf3!$P$55>List!R94,List!R94+1,\"\")","v":""},{"$f":"IF(Conf3!$P$54+Conf3!$P$55>List!S94,List!S94+1,\"\")","v":""},{"$f":"IF(Conf3!$P$54>List!T94,List!T94+1,\"\")","v":""},{"$f":"IF(Conf4!$P$55>List!U94,List!U94+1,\"\")","v":""},{"$f":"IF(Conf4!$P$54+Conf4!$P$55>List!V94,List!V94+1,\"\")","v":""},{"$f":"IF(Conf4!$P$54>List!W94,List!W94+1,\"\")","v":""},null,null,null,50.5,null,null,{"$f":"IF(Conf5!$P$55>List!AD94,List!AD94+1,\"\")","v":""},{"$f":"IF(Conf5!$P$54+Conf5!$P$55>List!AE94,List!AE94+1,\"\")","v":""},{"$f":"IF(Conf5!$P$54>List!AF94,List!AF94+1,\"\")","v":""},{"$f":"IF(Conf6!$P$55>List!AG94,List!AG94+1,\"\")","v":""},{"$f":"IF(Conf6!$P$54+Conf6!$P$55>List!AH94,List!AH94+1,\"\")","v":""},{"$f":"IF(Conf6!$P$54>List!AI94,List!AI94+1,\"\")","v":""},{"$f":"IF(Conf7!$P$55>List!AJ94,List!AJ94+1,\"\")","v":""},{"$f":"IF(Conf7!$P$54+Conf7!$P$55>List!AK94,List!AK94+1,\"\")","v":""},{"$f":"IF(Conf7!$P$54>List!AL94,List!AL94+1,\"\")","v":""},{"$f":"IF(Conf8!$P$55>List!AM94,List!AM94+1,\"\")","v":""},{"$f":"IF(Conf8!$P$54+Conf8!$P$55>List!AN94,List!AN94+1,\"\")","v":""},{"$f":"IF(Conf8!$P$54>List!AO94,List!AO94+1,\"\")","v":""},{"$f":"IF(Conf9!$P$55>List!AP94,List!AP94+1,\"\")","v":""},{"$f":"IF(Conf9!$P$54+Conf9!$P$55>List!AQ94,List!AQ94+1,\"\")","v":""},{"$f":"IF(Conf9!$P$54>List!AR94,List!AR94+1,\"\")","v":""},{"$f":"IF(Conf10!$P$55>List!AS94,List!AS94+1,\"\")","v":""},{"$f":"IF(Conf10!$P$54+Conf10!$P$55>List!AT94,List!AT94+1,\"\")","v":""},{"$f":"IF(Conf10!$P$54>List!AU94,List!AU94+1,\"\")","v":""}]
[null,null,null,null,null,null,null,null,null,null,null,{"$f":"IF(Configurator!$P$55>List!L95,List!L95+1,\"\")","v":""},{"$f":"IF(Configurator!$P$54+Configurator!$P$55>List!M95,List!M95+1,\"\")","v":""},{"$f":"IF(Configurator!$P$54>List!N95,List!N95+1,\"\")","v":""},{"$f":"IF(Conf2!$P$55>List!O95,List!O95+1,\"\")","v":""},{"$f":"IF(Conf2!$P$54+Conf2!$P$55>List!P95,List!P95+1,\"\")","v":""},{"$f":"IF(Conf2!$P$54>List!Q95,List!Q95+1,\"\")","v":""},{"$f":"IF(Conf3!$P$55>List!R95,List!R95+1,\"\")","v":""},{"$f":"IF(Conf3!$P$54+Conf3!$P$55>List!S95,List!S95+1,\"\")","v":""},{"$f":"IF(Conf3!$P$54>List!T95,List!T95+1,\"\")","v":""},{"$f":"IF(Conf4!$P$55>List!U95,List!U95+1,\"\")","v":""},{"$f":"IF(Conf4!$P$54+Conf4!$P$55>List!V95,List!V95+1,\"\")","v":""},{"$f":"IF(Conf4!$P$54>List!W95,List!W95+1,\"\")","v":""},null,null,null,51,null,null,{"$f":"IF(Conf5!$P$55>List!AD95,List!AD95+1,\"\")","v":""},{"$f":"IF(Conf5!$P$54+Conf5!$P$55>List!AE95,List!AE95+1,\"\")","v":""},{"$f":"IF(Conf5!$P$54>List!AF95,List!AF95+1,\"\")","v":""},{"$f":"IF(Conf6!$P$55>List!AG95,List!AG95+1,\"\")","v":""},{"$f":"IF(Conf6!$P$54+Conf6!$P$55>List!AH95,List!AH95+1,\"\")","v":""},{"$f":"IF(Conf6!$P$54>List!AI95,List!AI95+1,\"\")","v":""},{"$f":"IF(Conf7!$P$55>List!AJ95,List!AJ95+1,\"\")","v":""},{"$f":"IF(Conf7!$P$54+Conf7!$P$55>List!AK95,List!AK95+1,\"\")","v":""},{"$f":"IF(Conf7!$P$54>List!AL95,List!AL95+1,\"\")","v":""},{"$f":"IF(Conf8!$P$55>List!AM95,List!AM95+1,\"\")","v":""},{"$f":"IF(Conf8!$P$54+Conf8!$P$55>List!AN95,List!AN95+1,\"\")","v":""},{"$f":"IF(Conf8!$P$54>List!AO95,List!AO95+1,\"\")","v":""},{"$f":"IF(Conf9!$P$55>List!AP95,List!AP95+1,\"\")","v":""},{"$f":"IF(Conf9!$P$54+Conf9!$P$55>List!AQ95,List!AQ95+1,\"\")","v":""},{"$f":"IF(Conf9!$P$54>List!AR95,List!AR95+1,\"\")","v":""},{"$f":"IF(Conf10!$P$55>List!AS95,List!AS95+1,\"\")","v":""},{"$f":"IF(Conf10!$P$54+Conf10!$P$55>List!AT95,List!AT95+1,\"\")","v":""},{"$f":"IF(Conf10!$P$54>List!AU95,List!AU95+1,\"\")","v":""}]
[null,null,null,null,null,null,null,null,null,null,null,{"$f":"IF(Configurator!$P$55>List!L96,List!L96+1,\"\")","v":""},{"$f":"IF(Configurator!$P$54+Configurator!$P$55>List!M96,List!M96+1,\"\")","v":""},{"$f":"IF(Configurator!$P$54>List!N96,List!N96+1,\"\")","v":""},{"$f":"IF(Conf2!$P$55>List!O96,List!O96+1,\"\")","v":""},{"$f":"IF(Conf2!$P$54+Conf2!$P$55>List!P96,List!P96+1,\"\")","v":""},{"$f":"IF(Conf2!$P$54>List!Q96,List!Q96+1,\"\")","v":""},{"$f":"IF(Conf3!$P$55>List!R96,List!R96+1,\"\")","v":""},{"$f":"IF(Conf3!$P$54+Conf3!$P$55>List!S96,List!S96+1,\"\")","v":""},{"$f":"IF(Conf3!$P$54>List!T96,List!T96+1,\"\")","v":""},{"$f":"IF(Conf4!$P$55>List!U96,List!U96+1,\"\")","v":""},{"$f":"IF(Conf4!$P$54+Conf4!$P$55>List!V96,List!V96+1,\"\")","v":""},{"$f":"IF(Conf4!$P$54>List!W96,List!W96+1,\"\")","v":""},null,null,null,51.5,null,null,{"$f":"IF(Conf5!$P$55>List!AD96,List!AD96+1,\"\")","v":""},{"$f":"IF(Conf5!$P$54+Conf5!$P$55>List!AE96,List!AE96+1,\"\")","v":""},{"$f":"IF(Conf5!$P$54>List!AF96,List!AF96+1,\"\")","v":""},{"$f":"IF(Conf6!$P$55>List!AG96,List!AG96+1,\"\")","v":""},{"$f":"IF(Conf6!$P$54+Conf6!$P$55>List!AH96,List!AH96+1,\"\")","v":""},{"$f":"IF(Conf6!$P$54>List!AI96,List!AI96+1,\"\")","v":""},{"$f":"IF(Conf7!$P$55>List!AJ96,List!AJ96+1,\"\")","v":""},{"$f":"IF(Conf7!$P$54+Conf7!$P$55>List!AK96,List!AK96+1,\"\")","v":""},{"$f":"IF(Conf7!$P$54>List!AL96,List!AL96+1,\"\")","v":""},{"$f":"IF(Conf8!$P$55>List!AM96,List!AM96+1,\"\")","v":""},{"$f":"IF(Conf8!$P$54+Conf8!$P$55>List!AN96,List!AN96+1,\"\")","v":""},{"$f":"IF(Conf8!$P$54>List!AO96,List!AO96+1,\"\")","v":""},{"$f":"IF(Conf9!$P$55>List!AP96,List!AP96+1,\"\")","v":""},{"$f":"IF(Conf9!$P$54+Conf9!$P$55>List!AQ96,List!AQ96+1,\"\")","v":""},{"$f":"IF(Conf9!$P$54>List!AR96,List!AR96+1,\"\")","v":""},{"$f":"IF(Conf10!$P$55>List!AS96,List!AS96+1,\"\")","v":""},{"$f":"IF(Conf10!$P$54+Conf10!$P$55>List!AT96,List!AT96+1,\"\")","v":""},{"$f":"IF(Conf10!$P$54>List!AU96,List!AU96+1,\"\")","v":""}]
[null,null,null,null,null,null,null,null,null,null,null,{"$f":"IF(Configurator!$P$55>List!L97,List!L97+1,\"\")","v":""},{"$f":"IF(Configurator!$P$54+Configurator!$P$55>List!M97,List!M97+1,\"\")","v":""},{"$f":"IF(Configurator!$P$54>List!N97,List!N97+1,\"\")","v":""},{"$f":"IF(Conf2!$P$55>List!O97,List!O97+1,\"\")","v":""},{"$f":"IF(Conf2!$P$54+Conf2!$P$55>List!P97,List!P97+1,\"\")","v":""},{"$f":"IF(Conf2!$P$54>List!Q97,List!Q97+1,\"\")","v":""},{"$f":"IF(Conf3!$P$55>List!R97,List!R97+1,\"\")","v":""},{"$f":"IF(Conf3!$P$54+Conf3!$P$55>List!S97,List!S97+1,\"\")","v":""},{"$f":"IF(Conf3!$P$54>List!T97,List!T97+1,\"\")","v":""},{"$f":"IF(Conf4!$P$55>List!U97,List!U97+1,\"\")","v":""},{"$f":"IF(Conf4!$P$54+Conf4!$P$55>List!V97,List!V97+1,\"\")","v":""},{"$f":"IF(Conf4!$P$54>List!W97,List!W97+1,\"\")","v":""},null,null,null,52,null,null,{"$f":"IF(Conf5!$P$55>List!AD97,List!AD97+1,\"\")","v":""},{"$f":"IF(Conf5!$P$54+Conf5!$P$55>List!AE97,List!AE97+1,\"\")","v":""},{"$f":"IF(Conf5!$P$54>List!AF97,List!AF97+1,\"\")","v":""},{"$f":"IF(Conf6!$P$55>List!AG97,List!AG97+1,\"\")","v":""},{"$f":"IF(Conf6!$P$54+Conf6!$P$55>List!AH97,List!AH97+1,\"\")","v":""},{"$f":"IF(Conf6!$P$54>List!AI97,List!AI97+1,\"\")","v":""},{"$f":"IF(Conf7!$P$55>List!AJ97,List!AJ97+1,\"\")","v":""},{"$f":"IF(Conf7!$P$54+Conf7!$P$55>List!AK97,List!AK97+1,\"\")","v":""},{"$f":"IF(Conf7!$P$54>List!AL97,List!AL97+1,\"\")","v":""},{"$f":"IF(Conf8!$P$55>List!AM97,List!AM97+1,\"\")","v":""},{"$f":"IF(Conf8!$P$54+Conf8!$P$55>List!AN97,List!AN97+1,\"\")","v":""},{"$f":"IF(Conf8!$P$54>List!AO97,List!AO97+1,\"\")","v":""},{"$f":"IF(Conf9!$P$55>List!AP97,List!AP97+1,\"\")","v":""},{"$f":"IF(Conf9!$P$54+Conf9!$P$55>List!AQ97,List!AQ97+1,\"\")","v":""},{"$f":"IF(Conf9!$P$54>List!AR97,List!AR97+1,\"\")","v":""},{"$f":"IF(Conf10!$P$55>List!AS97,List!AS97+1,\"\")","v":""},{"$f":"IF(Conf10!$P$54+Conf10!$P$55>List!AT97,List!AT97+1,\"\")","v":""},{"$f":"IF(Conf10!$P$54>List!AU97,List!AU97+1,\"\")","v":""}]
[null,null,null,null,null,null,null,null,null,null,null,{"$f":"IF(Configurator!$P$55>List!L98,List!L98+1,\"\")","v":""},{"$f":"IF(Configurator!$P$54+Configurator!$P$55>List!M98,List!M98+1,\"\")","v":""},{"$f":"IF(Configurator!$P$54>List!N98,List!N98+1,\"\")","v":""},{"$f":"IF(Conf2!$P$55>List!O98,List!O98+1,\"\")","v":""},{"$f":"IF(Conf2!$P$54+Conf2!$P$55>List!P98,List!P98+1,\"\")","v":""},{"$f":"IF(Conf2!$P$54>List!Q98,List!Q98+1,\"\")","v":""},{"$f":"IF(Conf3!$P$55>List!R98,List!R98+1,\"\")","v":""},{"$f":"IF(Conf3!$P$54+Conf3!$P$55>List!S98,List!S98+1,\"\")","v":""},{"$f":"IF(Conf3!$P$54>List!T98,List!T98+1,\"\")","v":""},{"$f":"IF(Conf4!$P$55>List!U98,List!U98+1,\"\")","v":""},{"$f":"IF(Conf4!$P$54+Conf4!$P$55>List!V98,List!V98+1,\"\")","v":""},{"$f":"IF(Conf4!$P$54>List!W98,List!W98+1,\"\")","v":""},null,null,null,52.5,null,null,{"$f":"IF(Conf5!$P$55>List!AD98,List!AD98+1,\"\")","v":""},{"$f":"IF(Conf5!$P$54+Conf5!$P$55>List!AE98,List!AE98+1,\"\")","v":""},{"$f":"IF(Conf5!$P$54>List!AF98,List!AF98+1,\"\")","v":""},{"$f":"IF(Conf6!$P$55>List!AG98,List!AG98+1,\"\")","v":""},{"$f":"IF(Conf6!$P$54+Conf6!$P$55>List!AH98,List!AH98+1,\"\")","v":""},{"$f":"IF(Conf6!$P$54>List!AI98,List!AI98+1,\"\")","v":""},{"$f":"IF(Conf7!$P$55>List!AJ98,List!AJ98+1,\"\")","v":""},{"$f":"IF(Conf7!$P$54+Conf7!$P$55>List!AK98,List!AK98+1,\"\")","v":""},{"$f":"IF(Conf7!$P$54>List!AL98,List!AL98+1,\"\")","v":""},{"$f":"IF(Conf8!$P$55>List!AM98,List!AM98+1,\"\")","v":""},{"$f":"IF(Conf8!$P$54+Conf8!$P$55>List!AN98,List!AN98+1,\"\")","v":""},{"$f":"IF(Conf8!$P$54>List!AO98,List!AO98+1,\"\")","v":""},{"$f":"IF(Conf9!$P$55>List!AP98,List!AP98+1,\"\")","v":""},{"$f":"IF(Conf9!$P$54+Conf9!$P$55>List!AQ98,List!AQ98+1,\"\")","v":""},{"$f":"IF(Conf9!$P$54>List!AR98,List!AR98+1,\"\")","v":""},{"$f":"IF(Conf10!$P$55>List!AS98,List!AS98+1,\"\")","v":""},{"$f":"IF(Conf10!$P$54+Conf10!$P$55>List!AT98,List!AT98+1,\"\")","v":""},{"$f":"IF(Conf10!$P$54>List!AU98,List!AU98+1,\"\")","v":""}]
[null,null,null,null,null,null,null,null,null,null,null,{"$f":"IF(Configurator!$P$55>List!L99,List!L99+1,\"\")","v":""},{"$f":"IF(Configurator!$P$54+Configurator!$P$55>List!M99,List!M99+1,\"\")","v":""},{"$f":"IF(Configurator!$P$54>List!N99,List!N99+1,\"\")","v":""},{"$f":"IF(Conf2!$P$55>List!O99,List!O99+1,\"\")","v":""},{"$f":"IF(Conf2!$P$54+Conf2!$P$55>List!P99,List!P99+1,\"\")","v":""},{"$f":"IF(Conf2!$P$54>List!Q99,List!Q99+1,\"\")","v":""},{"$f":"IF(Conf3!$P$55>List!R99,List!R99+1,\"\")","v":""},{"$f":"IF(Conf3!$P$54+Conf3!$P$55>List!S99,List!S99+1,\"\")","v":""},{"$f":"IF(Conf3!$P$54>List!T99,List!T99+1,\"\")","v":""},{"$f":"IF(Conf4!$P$55>List!U99,List!U99+1,\"\")","v":""},{"$f":"IF(Conf4!$P$54+Conf4!$P$55>List!V99,List!V99+1,\"\")","v":""},{"$f":"IF(Conf4!$P$54>List!W99,List!W99+1,\"\")","v":""},null,null,null,53,null,null,{"$f":"IF(Conf5!$P$55>List!AD99,List!AD99+1,\"\")","v":""},{"$f":"IF(Conf5!$P$54+Conf5!$P$55>List!AE99,List!AE99+1,\"\")","v":""},{"$f":"IF(Conf5!$P$54>List!AF99,List!AF99+1,\"\")","v":""},{"$f":"IF(Conf6!$P$55>List!AG99,List!AG99+1,\"\")","v":""},{"$f":"IF(Conf6!$P$54+Conf6!$P$55>List!AH99,List!AH99+1,\"\")","v":""},{"$f":"IF(Conf6!$P$54>List!AI99,List!AI99+1,\"\")","v":""},{"$f":"IF(Conf7!$P$55>List!AJ99,List!AJ99+1,\"\")","v":""},{"$f":"IF(Conf7!$P$54+Conf7!$P$55>List!AK99,List!AK99+1,\"\")","v":""},{"$f":"IF(Conf7!$P$54>List!AL99,List!AL99+1,\"\")","v":""},{"$f":"IF(Conf8!$P$55>List!AM99,List!AM99+1,\"\")","v":""},{"$f":"IF(Conf8!$P$54+Conf8!$P$55>List!AN99,List!AN99+1,\"\")","v":""},{"$f":"IF(Conf8!$P$54>List!AO99,List!AO99+1,\"\")","v":""},{"$f":"IF(Conf9!$P$55>List!AP99,List!AP99+1,\"\")","v":""},{"$f":"IF(Conf9!$P$54+Conf9!$P$55>List!AQ99,List!AQ99+1,\"\")","v":""},{"$f":"IF(Conf9!$P$54>List!AR99,List!AR99+1,\"\")","v":""},{"$f":"IF(Conf10!$P$55>List!AS99,List!AS99+1,\"\")","v":""},{"$f":"IF(Conf10!$P$54+Conf10!$P$55>List!AT99,List!AT99+1,\"\")","v":""},{"$f":"IF(Conf10!$P$54>List!AU99,List!AU99+1,\"\")","v":""}]
[null,null,null,null,null,null,null,null,null,null,null,{"$f":"IF(Configurator!$P$55>List!L100,List!L100+1,\"\")","v":""},{"$f":"IF(Configurator!$P$54+Configurator!$P$55>List!M100,List!M100+1,\"\")","v":""},{"$f":"IF(Configurator!$P$54>List!N100,List!N100+1,\"\")","v":""},{"$f":"IF(Conf2!$P$55>List!O100,List!O100+1,\"\")","v":""},{"$f":"IF(Conf2!$P$54+Conf2!$P$55>List!P100,List!P100+1,\"\")","v":""},{"$f":"IF(Conf2!$P$54>List!Q100,List!Q100+1,\"\")","v":""},{"$f":"IF(Conf3!$P$55>List!R100,List!R100+1,\"\")","v":""},{"$f":"IF(Conf3!$P$54+Conf3!$P$55>List!S100,List!S100+1,\"\")","v":""},{"$f":"IF(Conf3!$P$54>List!T100,List!T100+1,\"\")","v":""},{"$f":"IF(Conf4!$P$55>List!U100,List!U100+1,\"\")","v":""},{"$f":"IF(Conf4!$P$54+Conf4!$P$55>List!V100,List!V100+1,\"\")","v":""},{"$f":"IF(Conf4!$P$54>List!W100,List!W100+1,\"\")","v":""},null,null,null,53.5,null,null,{"$f":"IF(Conf5!$P$55>List!AD100,List!AD100+1,\"\")","v":""},{"$f":"IF(Conf5!$P$54+Conf5!$P$55>List!AE100,List!AE100+1,\"\")","v":""},{"$f":"IF(Conf5!$P$54>List!AF100,List!AF100+1,\"\")","v":""},{"$f":"IF(Conf6!$P$55>List!AG100,List!AG100+1,\"\")","v":""},{"$f":"IF(Conf6!$P$54+Conf6!$P$55>List!AH100,List!AH100+1,\"\")","v":""},{"$f":"IF(Conf6!$P$54>List!AI100,List!AI100+1,\"\")","v":""},{"$f":"IF(Conf7!$P$55>List!AJ100,List!AJ100+1,\"\")","v":""},{"$f":"IF(Conf7!$P$54+Conf7!$P$55>List!AK100,List!AK100+1,\"\")","v":""},{"$f":"IF(Conf7!$P$54>List!AL100,List!AL100+1,\"\")","v":""},{"$f":"IF(Conf8!$P$55>List!AM100,List!AM100+1,\"\")","v":""},{"$f":"IF(Conf8!$P$54+Conf8!$P$55>List!AN100,List!AN100+1,\"\")","v":""},{"$f":"IF(Conf8!$P$54>List!AO100,List!AO100+1,\"\")","v":""},{"$f":"IF(Conf9!$P$55>List!AP100,List!AP100+1,\"\")","v":""},{"$f":"IF(Conf9!$P$54+Conf9!$P$55>List!AQ100,List!AQ100+1,\"\")","v":""},{"$f":"IF(Conf9!$P$54>List!AR100,List!AR100+1,\"\")","v":""},{"$f":"IF(Conf10!$P$55>List!AS100,List!AS100+1,\"\")","v":""},{"$f":"IF(Conf10!$P$54+Conf10!$P$55>List!AT100,List!AT100+1,\"\")","v":""},{"$f":"IF(Conf10!$P$54>List!AU100,List!AU100+1,\"\")","v":""}]
[null,null,null,null,null,null,null,null,null,null,null,{"$f":"IF(Configurator!$P$55>List!L101,List!L101+1,\"\")","v":""},{"$f":"IF(Configurator!$P$54+Configurator!$P$55>List!M101,List!M101+1,\"\")","v":""},{"$f":"IF(Configurator!$P$54>List!N101,List!N101+1,\"\")","v":""},{"$f":"IF(Conf2!$P$55>List!O101,List!O101+1,\"\")","v":""},{"$f":"IF(Conf2!$P$54+Conf2!$P$55>List!P101,List!P101+1,\"\")","v":""},{"$f":"IF(Conf2!$P$54>List!Q101,List!Q101+1,\"\")","v":""},{"$f":"IF(Conf3!$P$55>List!R101,List!R101+1,\"\")","v":""},{"$f":"IF(Conf3!$P$54+Conf3!$P$55>List!S101,List!S101+1,\"\")","v":""},{"$f":"IF(Conf3!$P$54>List!T101,List!T101+1,\"\")","v":""},{"$f":"IF(Conf4!$P$55>List!U101,List!U101+1,\"\")","v":""},{"$f":"IF(Conf4!$P$54+Conf4!$P$55>List!V101,List!V101+1,\"\")","v":""},{"$f":"IF(Conf4!$P$54>List!W101,List!W101+1,\"\")","v":""},null,null,null,54,null,null,{"$f":"IF(Conf5!$P$55>List!AD101,List!AD101+1,\"\")","v":""},{"$f":"IF(Conf5!$P$54+Conf5!$P$55>List!AE101,List!AE101+1,\"\")","v":""},{"$f":"IF(Conf5!$P$54>List!AF101,List!AF101+1,\"\")","v":""},{"$f":"IF(Conf6!$P$55>List!AG101,List!AG101+1,\"\")","v":""},{"$f":"IF(Conf6!$P$54+Conf6!$P$55>List!AH101,List!AH101+1,\"\")","v":""},{"$f":"IF(Conf6!$P$54>List!AI101,List!AI101+1,\"\")","v":""},{"$f":"IF(Conf7!$P$55>List!AJ101,List!AJ101+1,\"\")","v":""},{"$f":"IF(Conf7!$P$54+Conf7!$P$55>List!AK101,List!AK101+1,\"\")","v":""},{"$f":"IF(Conf7!$P$54>List!AL101,List!AL101+1,\"\")","v":""},{"$f":"IF(Conf8!$P$55>List!AM101,List!AM101+1,\"\")","v":""},{"$f":"IF(Conf8!$P$54+Conf8!$P$55>List!AN101,List!AN101+1,\"\")","v":""},{"$f":"IF(Conf8!$P$54>List!AO101,List!AO101+1,\"\")","v":""},{"$f":"IF(Conf9!$P$55>List!AP101,List!AP101+1,\"\")","v":""},{"$f":"IF(Conf9!$P$54+Conf9!$P$55>List!AQ101,List!AQ101+1,\"\")","v":""},{"$f":"IF(Conf9!$P$54>List!AR101,List!AR101+1,\"\")","v":""},{"$f":"IF(Conf10!$P$55>List!AS101,List!AS101+1,\"\")","v":""},{"$f":"IF(Conf10!$P$54+Conf10!$P$55>List!AT101,List!AT101+1,\"\")","v":""},{"$f":"IF(Conf10!$P$54>List!AU101,List!AU101+1,\"\")","v":""}]
[null,null,null,null,null,null,null,null,null,null,null,{"$f":"IF(Configurator!$P$55>List!L102,List!L102+1,\"\")","v":""},{"$f":"IF(Configurator!$P$54+Configurator!$P$55>List!M102,List!M102+1,\"\")","v":""},{"$f":"IF(Configurator!$P$54>List!N102,List!N102+1,\"\")","v":""},{"$f":"IF(Conf2!$P$55>List!O102,List!O102+1,\"\")","v":""},{"$f":"IF(Conf2!$P$54+Conf2!$P$55>List!P102,List!P102+1,\"\")","v":""},{"$f":"IF(Conf2!$P$54>List!Q102,List!Q102+1,\"\")","v":""},{"$f":"IF(Conf3!$P$55>List!R102,List!R102+1,\"\")","v":""},{"$f":"IF(Conf3!$P$54+Conf3!$P$55>List!S102,List!S102+1,\"\")","v":""},{"$f":"IF(Conf3!$P$54>List!T102,List!T102+1,\"\")","v":""},{"$f":"IF(Conf4!$P$55>List!U102,List!U102+1,\"\")","v":""},{"$f":"IF(Conf4!$P$54+Conf4!$P$55>List!V102,List!V102+1,\"\")","v":""},{"$f":"IF(Conf4!$P$54>List!W102,List!W102+1,\"\")","v":""},null,null,null,54.5,null,null,{"$f":"IF(Conf5!$P$55>List!AD102,List!AD102+1,\"\")","v":""},{"$f":"IF(Conf5!$P$54+Conf5!$P$55>List!AE102,List!AE102+1,\"\")","v":""},{"$f":"IF(Conf5!$P$54>List!AF102,List!AF102+1,\"\")","v":""},{"$f":"IF(Conf6!$P$55>List!AG102,List!AG102+1,\"\")","v":""},{"$f":"IF(Conf6!$P$54+Conf6!$P$55>List!AH102,List!AH102+1,\"\")","v":""},{"$f":"IF(Conf6!$P$54>List!AI102,List!AI102+1,\"\")","v":""},{"$f":"IF(Conf7!$P$55>List!AJ102,List!AJ102+1,\"\")","v":""},{"$f":"IF(Conf7!$P$54+Conf7!$P$55>List!AK102,List!AK102+1,\"\")","v":""},{"$f":"IF(Conf7!$P$54>List!AL102,List!AL102+1,\"\")","v":""},{"$f":"IF(Conf8!$P$55>List!AM102,List!AM102+1,\"\")","v":""},{"$f":"IF(Conf8!$P$54+Conf8!$P$55>List!AN102,List!AN102+1,\"\")","v":""},{"$f":"IF(Conf8!$P$54>List!AO102,List!AO102+1,\"\")","v":""},{"$f":"IF(Conf9!$P$55>List!AP102,List!AP102+1,\"\")","v":""},{"$f":"IF(Conf9!$P$54+Conf9!$P$55>List!AQ102,List!AQ102+1,\"\")","v":""},{"$f":"IF(Conf9!$P$54>List!AR102,List!AR102+1,\"\")","v":""},{"$f":"IF(Conf10!$P$55>List!AS102,List!AS102+1,\"\")","v":""},{"$f":"IF(Conf10!$P$54+Conf10!$P$55>List!AT102,List!AT102+1,\"\")","v":""},{"$f":"IF(Conf10!$P$54>List!AU102,List!AU102+1,\"\")","v":""}]
[null,null,null,null,null,null,null,null,null,null,null,{"$f":"IF(Configurator!$P$55>List!L103,List!L103+1,\"\")","v":""},{"$f":"IF(Configurator!$P$54+Configurator!$P$55>List!M103,List!M103+1,\"\")","v":""},{"$f":"IF(Configurator!$P$54>List!N103,List!N103+1,\"\")","v":""},{"$f":"IF(Conf2!$P$55>List!O103,List!O103+1,\"\")","v":""},{"$f":"IF(Conf2!$P$54+Conf2!$P$55>List!P103,List!P103+1,\"\")","v":""},{"$f":"IF(Conf2!$P$54>List!Q103,List!Q103+1,\"\")","v":""},{"$f":"IF(Conf3!$P$55>List!R103,List!R103+1,\"\")","v":""},{"$f":"IF(Conf3!$P$54+Conf3!$P$55>List!S103,List!S103+1,\"\")","v":""},{"$f":"IF(Conf3!$P$54>List!T103,List!T103+1,\"\")","v":""},{"$f":"IF(Conf4!$P$55>List!U103,List!U103+1,\"\")","v":""},{"$f":"IF(Conf4!$P$54+Conf4!$P$55>List!V103,List!V103+1,\"\")","v":""},{"$f":"IF(Conf4!$P$54>List!W103,List!W103+1,\"\")","v":""},null,null,null,55,null,null,{"$f":"IF(Conf5!$P$55>List!AD103,List!AD103+1,\"\")","v":""},{"$f":"IF(Conf5!$P$54+Conf5!$P$55>List!AE103,List!AE103+1,\"\")","v":""},{"$f":"IF(Conf5!$P$54>List!AF103,List!AF103+1,\"\")","v":""},{"$f":"IF(Conf6!$P$55>List!AG103,List!AG103+1,\"\")","v":""},{"$f":"IF(Conf6!$P$54+Conf6!$P$55>List!AH103,List!AH103+1,\"\")","v":""},{"$f":"IF(Conf6!$P$54>List!AI103,List!AI103+1,\"\")","v":""},{"$f":"IF(Conf7!$P$55>List!AJ103,List!AJ103+1,\"\")","v":""},{"$f":"IF(Conf7!$P$54+Conf7!$P$55>List!AK103,List!AK103+1,\"\")","v":""},{"$f":"IF(Conf7!$P$54>List!AL103,List!AL103+1,\"\")","v":""},{"$f":"IF(Conf8!$P$55>List!AM103,List!AM103+1,\"\")","v":""},{"$f":"IF(Conf8!$P$54+Conf8!$P$55>List!AN103,List!AN103+1,\"\")","v":""},{"$f":"IF(Conf8!$P$54>List!AO103,List!AO103+1,\"\")","v":""},{"$f":"IF(Conf9!$P$55>List!AP103,List!AP103+1,\"\")","v":""},{"$f":"IF(Conf9!$P$54+Conf9!$P$55>List!AQ103,List!AQ103+1,\"\")","v":""},{"$f":"IF(Conf9!$P$54>List!AR103,List!AR103+1,\"\")","v":""},{"$f":"IF(Conf10!$P$55>List!AS103,List!AS103+1,\"\")","v":""},{"$f":"IF(Conf10!$P$54+Conf10!$P$55>List!AT103,List!AT103+1,\"\")","v":""},{"$f":"IF(Conf10!$P$54>List!AU103,List!AU103+1,\"\")","v":""}]
[null,null,null,null,null,null,null,null,null,null,null,{"$f":"IF(Configurator!$P$55>List!L104,List!L104+1,\"\")","v":""},{"$f":"IF(Configurator!$P$54+Configurator!$P$55>List!M104,List!M104+1,\"\")","v":""},{"$f":"IF(Configurator!$P$54>List!N104,List!N104+1,\"\")","v":""},{"$f":"IF(Conf2!$P$55>List!O104,List!O104+1,\"\")","v":""},{"$f":"IF(Conf2!$P$54+Conf2!$P$55>List!P104,List!P104+1,\"\")","v":""},{"$f":"IF(Conf2!$P$54>List!Q104,List!Q104+1,\"\")","v":""},{"$f":"IF(Conf3!$P$55>List!R104,List!R104+1,\"\")","v":""},{"$f":"IF(Conf3!$P$54+Conf3!$P$55>List!S104,List!S104+1,\"\")","v":""},{"$f":"IF(Conf3!$P$54>List!T104,List!T104+1,\"\")","v":""},{"$f":"IF(Conf4!$P$55>List!U104,List!U104+1,\"\")","v":""},{"$f":"IF(Conf4!$P$54+Conf4!$P$55>List!V104,List!V104+1,\"\")","v":""},{"$f":"IF(Conf4!$P$54>List!W104,List!W104+1,\"\")","v":""},null,null,null,55.5,null,null,{"$f":"IF(Conf5!$P$55>List!AD104,List!AD104+1,\"\")","v":""},{"$f":"IF(Conf5!$P$54+Conf5!$P$55>List!AE104,List!AE104+1,\"\")","v":""},{"$f":"IF(Conf5!$P$54>List!AF104,List!AF104+1,\"\")","v":""},{"$f":"IF(Conf6!$P$55>List!AG104,List!AG104+1,\"\")","v":""},{"$f":"IF(Conf6!$P$54+Conf6!$P$55>List!AH104,List!AH104+1,\"\")","v":""},{"$f":"IF(Conf6!$P$54>List!AI104,List!AI104+1,\"\")","v":""},{"$f":"IF(Conf7!$P$55>List!AJ104,List!AJ104+1,\"\")","v":""},{"$f":"IF(Conf7!$P$54+Conf7!$P$55>List!AK104,List!AK104+1,\"\")","v":""},{"$f":"IF(Conf7!$P$54>List!AL104,List!AL104+1,\"\")","v":""},{"$f":"IF(Conf8!$P$55>List!AM104,List!AM104+1,\"\")","v":""},{"$f":"IF(Conf8!$P$54+Conf8!$P$55>List!AN104,List!AN104+1,\"\")","v":""},{"$f":"IF(Conf8!$P$54>List!AO104,List!AO104+1,\"\")","v":""},{"$f":"IF(Conf9!$P$55>List!AP104,List!AP104+1,\"\")","v":""},{"$f":"IF(Conf9!$P$54+Conf9!$P$55>List!AQ104,List!AQ104+1,\"\")","v":""},{"$f":"IF(Conf9!$P$54>List!AR104,List!AR104+1,\"\")","v":""},{"$f":"IF(Conf10!$P$55>List!AS104,List!AS104+1,\"\")","v":""},{"$f":"IF(Conf10!$P$54+Conf10!$P$55>List!AT104,List!AT104+1,\"\")","v":""},{"$f":"IF(Conf10!$P$54>List!AU104,List!AU104+1,\"\")","v":""}]
[null,null,null,null,null,null,null,null,null,null,null,{"$f":"IF(Configurator!$P$55>List!L105,List!L105+1,\"\")","v":""},{"$f":"IF(Configurator!$P$54+Configurator!$P$55>List!M105,List!M105+1,\"\")","v":""},{"$f":"IF(Configurator!$P$54>List!N105,List!N105+1,\"\")","v":""},{"$f":"IF(Conf2!$P$55>List!O105,List!O105+1,\"\")","v":""},{"$f":"IF(Conf2!$P$54+Conf2!$P$55>List!P105,List!P105+1,\"\")","v":""},{"$f":"IF(Conf2!$P$54>List!Q105,List!Q105+1,\"\")","v":""},{"$f":"IF(Conf3!$P$55>List!R105,List!R105+1,\"\")","v":""},{"$f":"IF(Conf3!$P$54+Conf3!$P$55>List!S105,List!S105+1,\"\")","v":""},{"$f":"IF(Conf3!$P$54>List!T105,List!T105+1,\"\")","v":""},{"$f":"IF(Conf4!$P$55>List!U105,List!U105+1,\"\")","v":""},{"$f":"IF(Conf4!$P$54+Conf4!$P$55>List!V105,List!V105+1,\"\")","v":""},{"$f":"IF(Conf4!$P$54>List!W105,List!W105+1,\"\")","v":""},null,null,null,56,null,null,{"$f":"IF(Conf5!$P$55>List!AD105,List!AD105+1,\"\")","v":""},{"$f":"IF(Conf5!$P$54+Conf5!$P$55>List!AE105,List!AE105+1,\"\")","v":""},{"$f":"IF(Conf5!$P$54>List!AF105,List!AF105+1,\"\")","v":""},{"$f":"IF(Conf6!$P$55>List!AG105,List!AG105+1,\"\")","v":""},{"$f":"IF(Conf6!$P$54+Conf6!$P$55>List!AH105,List!AH105+1,\"\")","v":""},{"$f":"IF(Conf6!$P$54>List!AI105,List!AI105+1,\"\")","v":""},{"$f":"IF(Conf7!$P$55>List!AJ105,List!AJ105+1,\"\")","v":""},{"$f":"IF(Conf7!$P$54+Conf7!$P$55>List!AK105,List!AK105+1,\"\")","v":""},{"$f":"IF(Conf7!$P$54>List!AL105,List!AL105+1,\"\")","v":""},{"$f":"IF(Conf8!$P$55>List!AM105,List!AM105+1,\"\")","v":""},{"$f":"IF(Conf8!$P$54+Conf8!$P$55>List!AN105,List!AN105+1,\"\")","v":""},{"$f":"IF(Conf8!$P$54>List!AO105,List!AO105+1,\"\")","v":""},{"$f":"IF(Conf9!$P$55>List!AP105,List!AP105+1,\"\")","v":""},{"$f":"IF(Conf9!$P$54+Conf9!$P$55>List!AQ105,List!AQ105+1,\"\")","v":""},{"$f":"IF(Conf9!$P$54>List!AR105,List!AR105+1,\"\")","v":""},{"$f":"IF(Conf10!$P$55>List!AS105,List!AS105+1,\"\")","v":""},{"$f":"IF(Conf10!$P$54+Conf10!$P$55>List!AT105,List!AT105+1,\"\")","v":""},{"$f":"IF(Conf10!$P$54>List!AU105,List!AU105+1,\"\")","v":""}]
[null,null,null,null,null,null,null,null,null,null,null,{"$f":"IF(Configurator!$P$55>List!L106,List!L106+1,\"\")","v":""},{"$f":"IF(Configurator!$P$54+Configurator!$P$55>List!M106,List!M106+1,\"\")","v":""},{"$f":"IF(Configurator!$P$54>List!N106,List!N106+1,\"\")","v":""},{"$f":"IF(Conf2!$P$55>List!O106,List!O106+1,\"\")","v":""},{"$f":"IF(Conf2!$P$54+Conf2!$P$55>List!P106,List!P106+1,\"\")","v":""},{"$f":"IF(Conf2!$P$54>List!Q106,List!Q106+1,\"\")","v":""},{"$f":"IF(Conf3!$P$55>List!R106,List!R106+1,\"\")","v":""},{"$f":"IF(Conf3!$P$54+Conf3!$P$55>List!S106,List!S106+1,\"\")","v":""},{"$f":"IF(Conf3!$P$54>List!T106,List!T106+1,\"\")","v":""},{"$f":"IF(Conf4!$P$55>List!U106,List!U106+1,\"\")","v":""},{"$f":"IF(Conf4!$P$54+Conf4!$P$55>List!V106,List!V106+1,\"\")","v":""},{"$f":"IF(Conf4!$P$54>List!W106,List!W106+1,\"\")","v":""},null,null,null,56.5,null,null,{"$f":"IF(Conf5!$P$55>List!AD106,List!AD106+1,\"\")","v":""},{"$f":"IF(Conf5!$P$54+Conf5!$P$55>List!AE106,List!AE106+1,\"\")","v":""},{"$f":"IF(Conf5!$P$54>List!AF106,List!AF106+1,\"\")","v":""},{"$f":"IF(Conf6!$P$55>List!AG106,List!AG106+1,\"\")","v":""},{"$f":"IF(Conf6!$P$54+Conf6!$P$55>List!AH106,List!AH106+1,\"\")","v":""},{"$f":"IF(Conf6!$P$54>List!AI106,List!AI106+1,\"\")","v":""},{"$f":"IF(Conf7!$P$55>List!AJ106,List!AJ106+1,\"\")","v":""},{"$f":"IF(Conf7!$P$54+Conf7!$P$55>List!AK106,List!AK106+1,\"\")","v":""},{"$f":"IF(Conf7!$P$54>List!AL106,List!AL106+1,\"\")","v":""},{"$f":"IF(Conf8!$P$55>List!AM106,List!AM106+1,\"\")","v":""},{"$f":"IF(Conf8!$P$54+Conf8!$P$55>List!AN106,List!AN106+1,\"\")","v":""},{"$f":"IF(Conf8!$P$54>List!AO106,List!AO106+1,\"\")","v":""},{"$f":"IF(Conf9!$P$55>List!AP106,List!AP106+1,\"\")","v":""},{"$f":"IF(Conf9!$P$54+Conf9!$P$55>List!AQ106,List!AQ106+1,\"\")","v":""},{"$f":"IF(Conf9!$P$54>List!AR106,List!AR106+1,\"\")","v":""},{"$f":"IF(Conf10!$P$55>List!AS106,List!AS106+1,\"\")","v":""},{"$f":"IF(Conf10!$P$54+Conf10!$P$55>List!AT106,List!AT106+1,\"\")","v":""},{"$f":"IF(Conf10!$P$54>List!AU106,List!AU106+1,\"\")","v":""}]
[null,null,null,null,null,null,null,null,null,null,null,{"$f":"IF(Configurator!$P$55>List!L107,List!L107+1,\"\")","v":""},{"$f":"IF(Configurator!$P$54+Configurator!$P$55>List!M107,List!M107+1,\"\")","v":""},{"$f":"IF(Configurator!$P$54>List!N107,List!N107+1,\"\")","v":""},{"$f":"IF(Conf2!$P$55>List!O107,List!O107+1,\"\")","v":""},{"$f":"IF(Conf2!$P$54+Conf2!$P$55>List!P107,List!P107+1,\"\")","v":""},{"$f":"IF(Conf2!$P$54>List!Q107,List!Q107+1,\"\")","v":""},{"$f":"IF(Conf3!$P$55>List!R107,List!R107+1,\"\")","v":""},{"$f":"IF(Conf3!$P$54+Conf3!$P$55>List!S107,List!S107+1,\"\")","v":""},{"$f":"IF(Conf3!$P$54>List!T107,List!T107+1,\"\")","v":""},{"$f":"IF(Conf4!$P$55>List!U107,List!U107+1,\"\")","v":""},{"$f":"IF(Conf4!$P$54+Conf4!$P$55>List!V107,List!V107+1,\"\")","v":""},{"$f":"IF(Conf4!$P$54>List!W107,List!W107+1,\"\")","v":""},null,null,null,57,null,null,{"$f":"IF(Conf5!$P$55>List!AD107,List!AD107+1,\"\")","v":""},{"$f":"IF(Conf5!$P$54+Conf5!$P$55>List!AE107,List!AE107+1,\"\")","v":""},{"$f":"IF(Conf5!$P$54>List!AF107,List!AF107+1,\"\")","v":""},{"$f":"IF(Conf6!$P$55>List!AG107,List!AG107+1,\"\")","v":""},{"$f":"IF(Conf6!$P$54+Conf6!$P$55>List!AH107,List!AH107+1,\"\")","v":""},{"$f":"IF(Conf6!$P$54>List!AI107,List!AI107+1,\"\")","v":""},{"$f":"IF(Conf7!$P$55>List!AJ107,List!AJ107+1,\"\")","v":""},{"$f":"IF(Conf7!$P$54+Conf7!$P$55>List!AK107,List!AK107+1,\"\")","v":""},{"$f":"IF(Conf7!$P$54>List!AL107,List!AL107+1,\"\")","v":""},{"$f":"IF(Conf8!$P$55>List!AM107,List!AM107+1,\"\")","v":""},{"$f":"IF(Conf8!$P$54+Conf8!$P$55>List!AN107,List!AN107+1,\"\")","v":""},{"$f":"IF(Conf8!$P$54>List!AO107,List!AO107+1,\"\")","v":""},{"$f":"IF(Conf9!$P$55>List!AP107,List!AP107+1,\"\")","v":""},{"$f":"IF(Conf9!$P$54+Conf9!$P$55>List!AQ107,List!AQ107+1,\"\")","v":""},{"$f":"IF(Conf9!$P$54>List!AR107,List!AR107+1,\"\")","v":""},{"$f":"IF(Conf10!$P$55>List!AS107,List!AS107+1,\"\")","v":""},{"$f":"IF(Conf10!$P$54+Conf10!$P$55>List!AT107,List!AT107+1,\"\")","v":""},{"$f":"IF(Conf10!$P$54>List!AU107,List!AU107+1,\"\")","v":""}]
[null,null,null,null,null,null,null,null,null,null,null,{"$f":"IF(Configurator!$P$55>List!L108,List!L108+1,\"\")","v":""},{"$f":"IF(Configurator!$P$54+Configurator!$P$55>List!M108,List!M108+1,\"\")","v":""},{"$f":"IF(Configurator!$P$54>List!N108,List!N108+1,\"\")","v":""},{"$f":"IF(Conf2!$P$55>List!O108,List!O108+1,\"\")","v":""},{"$f":"IF(Conf2!$P$54+Conf2!$P$55>List!P108,List!P108+1,\"\")","v":""},{"$f":"IF(Conf2!$P$54>List!Q108,List!Q108+1,\"\")","v":""},{"$f":"IF(Conf3!$P$55>List!R108,List!R108+1,\"\")","v":""},{"$f":"IF(Conf3!$P$54+Conf3!$P$55>List!S108,List!S108+1,\"\")","v":""},{"$f":"IF(Conf3!$P$54>List!T108,List!T108+1,\"\")","v":""},{"$f":"IF(Conf4!$P$55>List!U108,List!U108+1,\"\")","v":""},{"$f":"IF(Conf4!$P$54+Conf4!$P$55>List!V108,List!V108+1,\"\")","v":""},{"$f":"IF(Conf4!$P$54>List!W108,List!W108+1,\"\")","v":""},null,null,null,57.5,null,null,{"$f":"IF(Conf5!$P$55>List!AD108,List!AD108+1,\"\")","v":""},{"$f":"IF(Conf5!$P$54+Conf5!$P$55>List!AE108,List!AE108+1,\"\")","v":""},{"$f":"IF(Conf5!$P$54>List!AF108,List!AF108+1,\"\")","v":""},{"$f":"IF(Conf6!$P$55>List!AG108,List!AG108+1,\"\")","v":""},{"$f":"IF(Conf6!$P$54+Conf6!$P$55>List!AH108,List!AH108+1,\"\")","v":""},{"$f":"IF(Conf6!$P$54>List!AI108,List!AI108+1,\"\")","v":""},{"$f":"IF(Conf7!$P$55>List!AJ108,List!AJ108+1,\"\")","v":""},{"$f":"IF(Conf7!$P$54+Conf7!$P$55>List!AK108,List!AK108+1,\"\")","v":""},{"$f":"IF(Conf7!$P$54>List!AL108,List!AL108+1,\"\")","v":""},{"$f":"IF(Conf8!$P$55>List!AM108,List!AM108+1,\"\")","v":""},{"$f":"IF(Conf8!$P$54+Conf8!$P$55>List!AN108,List!AN108+1,\"\")","v":""},{"$f":"IF(Conf8!$P$54>List!AO108,List!AO108+1,\"\")","v":""},{"$f":"IF(Conf9!$P$55>List!AP108,List!AP108+1,\"\")","v":""},{"$f":"IF(Conf9!$P$54+Conf9!$P$55>List!AQ108,List!AQ108+1,\"\")","v":""},{"$f":"IF(Conf9!$P$54>List!AR108,List!AR108+1,\"\")","v":""},{"$f":"IF(Conf10!$P$55>List!AS108,List!AS108+1,\"\")","v":""},{"$f":"IF(Conf10!$P$54+Conf10!$P$55>List!AT108,List!AT108+1,\"\")","v":""},{"$f":"IF(Conf10!$P$54>List!AU108,List!AU108+1,\"\")","v":""}]
[null,null,null,null,null,null,null,null,null,null,null,{"$f":"IF(Configurator!$P$55>List!L109,List!L109+1,\"\")","v":""},{"$f":"IF(Configurator!$P$54+Configurator!$P$55>List!M109,List!M109+1,\"\")","v":""},{"$f":"IF(Configurator!$P$54>List!N109,List!N109+1,\"\")","v":""},{"$f":"IF(Conf2!$P$55>List!O109,List!O109+1,\"\")","v":""},{"$f":"IF(Conf2!$P$54+Conf2!$P$55>List!P109,List!P109+1,\"\")","v":""},{"$f":"IF(Conf2!$P$54>List!Q109,List!Q109+1,\"\")","v":""},{"$f":"IF(Conf3!$P$55>List!R109,List!R109+1,\"\")","v":""},{"$f":"IF(Conf3!$P$54+Conf3!$P$55>List!S109,List!S109+1,\"\")","v":""},{"$f":"IF(Conf3!$P$54>List!T109,List!T109+1,\"\")","v":""},{"$f":"IF(Conf4!$P$55>List!U109,List!U109+1,\"\")","v":""},{"$f":"IF(Conf4!$P$54+Conf4!$P$55>List!V109,List!V109+1,\"\")","v":""},{"$f":"IF(Conf4!$P$54>List!W109,List!W109+1,\"\")","v":""},null,null,null,58,null,null,{"$f":"IF(Conf5!$P$55>List!AD109,List!AD109+1,\"\")","v":""},{"$f":"IF(Conf5!$P$54+Conf5!$P$55>List!AE109,List!AE109+1,\"\")","v":""},{"$f":"IF(Conf5!$P$54>List!AF109,List!AF109+1,\"\")","v":""},{"$f":"IF(Conf6!$P$55>List!AG109,List!AG109+1,\"\")","v":""},{"$f":"IF(Conf6!$P$54+Conf6!$P$55>List!AH109,List!AH109+1,\"\")","v":""},{"$f":"IF(Conf6!$P$54>List!AI109,List!AI109+1,\"\")","v":""},{"$f":"IF(Conf7!$P$55>List!AJ109,List!AJ109+1,\"\")","v":""},{"$f":"IF(Conf7!$P$54+Conf7!$P$55>List!AK109,List!AK109+1,\"\")","v":""},{"$f":"IF(Conf7!$P$54>List!AL109,List!AL109+1,\"\")","v":""},{"$f":"IF(Conf8!$P$55>List!AM109,List!AM109+1,\"\")","v":""},{"$f":"IF(Conf8!$P$54+Conf8!$P$55>List!AN109,List!AN109+1,\"\")","v":""},{"$f":"IF(Conf8!$P$54>List!AO109,List!AO109+1,\"\")","v":""},{"$f":"IF(Conf9!$P$55>List!AP109,List!AP109+1,\"\")","v":""},{"$f":"IF(Conf9!$P$54+Conf9!$P$55>List!AQ109,List!AQ109+1,\"\")","v":""},{"$f":"IF(Conf9!$P$54>List!AR109,List!AR109+1,\"\")","v":""},{"$f":"IF(Conf10!$P$55>List!AS109,List!AS109+1,\"\")","v":""},{"$f":"IF(Conf10!$P$54+Conf10!$P$55>List!AT109,List!AT109+1,\"\")","v":""},{"$f":"IF(Conf10!$P$54>List!AU109,List!AU109+1,\"\")","v":""}]
[null,null,null,null,null,null,null,null,null,null,null,{"$f":"IF(Configurator!$P$55>List!L110,List!L110+1,\"\")","v":""},{"$f":"IF(Configurator!$P$54+Configurator!$P$55>List!M110,List!M110+1,\"\")","v":""},{"$f":"IF(Configurator!$P$54>List!N110,List!N110+1,\"\")","v":""},{"$f":"IF(Conf2!$P$55>List!O110,List!O110+1,\"\")","v":""},{"$f":"IF(Conf2!$P$54+Conf2!$P$55>List!P110,List!P110+1,\"\")","v":""},{"$f":"IF(Conf2!$P$54>List!Q110,List!Q110+1,\"\")","v":""},{"$f":"IF(Conf3!$P$55>List!R110,List!R110+1,\"\")","v":""},{"$f":"IF(Conf3!$P$54+Conf3!$P$55>List!S110,List!S110+1,\"\")","v":""},{"$f":"IF(Conf3!$P$54>List!T110,List!T110+1,\"\")","v":""},{"$f":"IF(Conf4!$P$55>List!U110,List!U110+1,\"\")","v":""},{"$f":"IF(Conf4!$P$54+Conf4!$P$55>List!V110,List!V110+1,\"\")","v":""},{"$f":"IF(Conf4!$P$54>List!W110,List!W110+1,\"\")","v":""},null,null,null,58.5,null,null,{"$f":"IF(Conf5!$P$55>List!AD110,List!AD110+1,\"\")","v":""},{"$f":"IF(Conf5!$P$54+Conf5!$P$55>List!AE110,List!AE110+1,\"\")","v":""},{"$f":"IF(Conf5!$P$54>List!AF110,List!AF110+1,\"\")","v":""},{"$f":"IF(Conf6!$P$55>List!AG110,List!AG110+1,\"\")","v":""},{"$f":"IF(Conf6!$P$54+Conf6!$P$55>List!AH110,List!AH110+1,\"\")","v":""},{"$f":"IF(Conf6!$P$54>List!AI110,List!AI110+1,\"\")","v":""},{"$f":"IF(Conf7!$P$55>List!AJ110,List!AJ110+1,\"\")","v":""},{"$f":"IF(Conf7!$P$54+Conf7!$P$55>List!AK110,List!AK110+1,\"\")","v":""},{"$f":"IF(Conf7!$P$54>List!AL110,List!AL110+1,\"\")","v":""},{"$f":"IF(Conf8!$P$55>List!AM110,List!AM110+1,\"\")","v":""},{"$f":"IF(Conf8!$P$54+Conf8!$P$55>List!AN110,List!AN110+1,\"\")","v":""},{"$f":"IF(Conf8!$P$54>List!AO110,List!AO110+1,\"\")","v":""},{"$f":"IF(Conf9!$P$55>List!AP110,List!AP110+1,\"\")","v":""},{"$f":"IF(Conf9!$P$54+Conf9!$P$55>List!AQ110,List!AQ110+1,\"\")","v":""},{"$f":"IF(Conf9!$P$54>List!AR110,List!AR110+1,\"\")","v":""},{"$f":"IF(Conf10!$P$55>List!AS110,List!AS110+1,\"\")","v":""},{"$f":"IF(Conf10!$P$54+Conf10!$P$55>List!AT110,List!AT110+1,\"\")","v":""},{"$f":"IF(Conf10!$P$54>List!AU110,List!AU110+1,\"\")","v":""}]
[null,null,null,null,null,null,null,null,null,null,null,{"$f":"IF(Configurator!$P$55>List!L111,List!L111+1,\"\")","v":""},{"$f":"IF(Configurator!$P$54+Configurator!$P$55>List!M111,List!M111+1,\"\")","v":""},{"$f":"IF(Configurator!$P$54>List!N111,List!N111+1,\"\")","v":""},{"$f":"IF(Conf2!$P$55>List!O111,List!O111+1,\"\")","v":""},{"$f":"IF(Conf2!$P$54+Conf2!$P$55>List!P111,List!P111+1,\"\")","v":""},{"$f":"IF(Conf2!$P$54>List!Q111,List!Q111+1,\"\")","v":""},{"$f":"IF(Conf3!$P$55>List!R111,List!R111+1,\"\")","v":""},{"$f":"IF(Conf3!$P$54+Conf3!$P$55>List!S111,List!S111+1,\"\")","v":""},{"$f":"IF(Conf3!$P$54>List!T111,List!T111+1,\"\")","v":""},{"$f":"IF(Conf4!$P$55>List!U111,List!U111+1,\"\")","v":""},{"$f":"IF(Conf4!$P$54+Conf4!$P$55>List!V111,List!V111+1,\"\")","v":""},{"$f":"IF(Conf4!$P$54>List!W111,List!W111+1,\"\")","v":""},null,null,null,59,null,null,{"$f":"IF(Conf5!$P$55>List!AD111,List!AD111+1,\"\")","v":""},{"$f":"IF(Conf5!$P$54+Conf5!$P$55>List!AE111,List!AE111+1,\"\")","v":""},{"$f":"IF(Conf5!$P$54>List!AF111,List!AF111+1,\"\")","v":""},{"$f":"IF(Conf6!$P$55>List!AG111,List!AG111+1,\"\")","v":""},{"$f":"IF(Conf6!$P$54+Conf6!$P$55>List!AH111,List!AH111+1,\"\")","v":""},{"$f":"IF(Conf6!$P$54>List!AI111,List!AI111+1,\"\")","v":""},{"$f":"IF(Conf7!$P$55>List!AJ111,List!AJ111+1,\"\")","v":""},{"$f":"IF(Conf7!$P$54+Conf7!$P$55>List!AK111,List!AK111+1,\"\")","v":""},{"$f":"IF(Conf7!$P$54>List!AL111,List!AL111+1,\"\")","v":""},{"$f":"IF(Conf8!$P$55>List!AM111,List!AM111+1,\"\")","v":""},{"$f":"IF(Conf8!$P$54+Conf8!$P$55>List!AN111,List!AN111+1,\"\")","v":""},{"$f":"IF(Conf8!$P$54>List!AO111,List!AO111+1,\"\")","v":""},{"$f":"IF(Conf9!$P$55>List!AP111,List!AP111+1,\"\")","v":""},{"$f":"IF(Conf9!$P$54+Conf9!$P$55>List!AQ111,List!AQ111+1,\"\")","v":""},{"$f":"IF(Conf9!$P$54>List!AR111,List!AR111+1,\"\")","v":""},{"$f":"IF(Conf10!$P$55>List!AS111,List!AS111+1,\"\")","v":""},{"$f":"IF(Conf10!$P$54+Conf10!$P$55>List!AT111,List!AT111+1,\"\")","v":""},{"$f":"IF(Conf10!$P$54>List!AU111,List!AU111+1,\"\")","v":""}]
[null,null,null,null,null,null,null,null,null,null,null,{"$f":"IF(Configurator!$P$55>List!L112,List!L112+1,\"\")","v":""},{"$f":"IF(Configurator!$P$54+Configurator!$P$55>List!M112,List!M112+1,\"\")","v":""},{"$f":"IF(Configurator!$P$54>List!N112,List!N112+1,\"\")","v":""},{"$f":"IF(Conf2!$P$55>List!O112,List!O112+1,\"\")","v":""},{"$f":"IF(Conf2!$P$54+Conf2!$P$55>List!P112,List!P112+1,\"\")","v":""},{"$f":"IF(Conf2!$P$54>List!Q112,List!Q112+1,\"\")","v":""},{"$f":"IF(Conf3!$P$55>List!R112,List!R112+1,\"\")","v":""},{"$f":"IF(Conf3!$P$54+Conf3!$P$55>List!S112,List!S112+1,\"\")","v":""},{"$f":"IF(Conf3!$P$54>List!T112,List!T112+1,\"\")","v":""},{"$f":"IF(Conf4!$P$55>List!U112,List!U112+1,\"\")","v":""},{"$f":"IF(Conf4!$P$54+Conf4!$P$55>List!V112,List!V112+1,\"\")","v":""},{"$f":"IF(Conf4!$P$54>List!W112,List!W112+1,\"\")","v":""},null,null,null,59.5,null,null,{"$f":"IF(Conf5!$P$55>List!AD112,List!AD112+1,\"\")","v":""},{"$f":"IF(Conf5!$P$54+Conf5!$P$55>List!AE112,List!AE112+1,\"\")","v":""},{"$f":"IF(Conf5!$P$54>List!AF112,List!AF112+1,\"\")","v":""},{"$f":"IF(Conf6!$P$55>List!AG112,List!AG112+1,\"\")","v":""},{"$f":"IF(Conf6!$P$54+Conf6!$P$55>List!AH112,List!AH112+1,\"\")","v":""},{"$f":"IF(Conf6!$P$54>List!AI112,List!AI112+1,\"\")","v":""},{"$f":"IF(Conf7!$P$55>List!AJ112,List!AJ112+1,\"\")","v":""},{"$f":"IF(Conf7!$P$54+Conf7!$P$55>List!AK112,List!AK112+1,\"\")","v":""},{"$f":"IF(Conf7!$P$54>List!AL112,List!AL112+1,\"\")","v":""},{"$f":"IF(Conf8!$P$55>List!AM112,List!AM112+1,\"\")","v":""},{"$f":"IF(Conf8!$P$54+Conf8!$P$55>List!AN112,List!AN112+1,\"\")","v":""},{"$f":"IF(Conf8!$P$54>List!AO112,List!AO112+1,\"\")","v":""},{"$f":"IF(Conf9!$P$55>List!AP112,List!AP112+1,\"\")","v":""},{"$f":"IF(Conf9!$P$54+Conf9!$P$55>List!AQ112,List!AQ112+1,\"\")","v":""},{"$f":"IF(Conf9!$P$54>List!AR112,List!AR112+1,\"\")","v":""},{"$f":"IF(Conf10!$P$55>List!AS112,List!AS112+1,\"\")","v":""},{"$f":"IF(Conf10!$P$54+Conf10!$P$55>List!AT112,List!AT112+1,\"\")","v":""},{"$f":"IF(Conf10!$P$54>List!AU112,List!AU112+1,\"\")","v":""}]
[null,null,null,null,null,null,null,null,null,null,null,{"$f":"IF(Configurator!$P$55>List!L113,List!L113+1,\"\")","v":""},{"$f":"IF(Configurator!$P$54+Configurator!$P$55>List!M113,List!M113+1,\"\")","v":""},{"$f":"IF(Configurator!$P$54>List!N113,List!N113+1,\"\")","v":""},{"$f":"IF(Conf2!$P$55>List!O113,List!O113+1,\"\")","v":""},{"$f":"IF(Conf2!$P$54+Conf2!$P$55>List!P113,List!P113+1,\"\")","v":""},{"$f":"IF(Conf2!$P$54>List!Q113,List!Q113+1,\"\")","v":""},{"$f":"IF(Conf3!$P$55>List!R113,List!R113+1,\"\")","v":""},{"$f":"IF(Conf3!$P$54+Conf3!$P$55>List!S113,List!S113+1,\"\")","v":""},{"$f":"IF(Conf3!$P$54>List!T113,List!T113+1,\"\")","v":""},{"$f":"IF(Conf4!$P$55>List!U113,List!U113+1,\"\")","v":""},{"$f":"IF(Conf4!$P$54+Conf4!$P$55>List!V113,List!V113+1,\"\")","v":""},{"$f":"IF(Conf4!$P$54>List!W113,List!W113+1,\"\")","v":""},null,null,null,60,null,null,{"$f":"IF(Conf5!$P$55>List!AD113,List!AD113+1,\"\")","v":""},{"$f":"IF(Conf5!$P$54+Conf5!$P$55>List!AE113,List!AE113+1,\"\")","v":""},{"$f":"IF(Conf5!$P$54>List!AF113,List!AF113+1,\"\")","v":""},{"$f":"IF(Conf6!$P$55>List!AG113,List!AG113+1,\"\")","v":""},{"$f":"IF(Conf6!$P$54+Conf6!$P$55>List!AH113,List!AH113+1,\"\")","v":""},{"$f":"IF(Conf6!$P$54>List!AI113,List!AI113+1,\"\")","v":""},{"$f":"IF(Conf7!$P$55>List!AJ113,List!AJ113+1,\"\")","v":""},{"$f":"IF(Conf7!$P$54+Conf7!$P$55>List!AK113,List!AK113+1,\"\")","v":""},{"$f":"IF(Conf7!$P$54>List!AL113,List!AL113+1,\"\")","v":""},{"$f":"IF(Conf8!$P$55>List!AM113,List!AM113+1,\"\")","v":""},{"$f":"IF(Conf8!$P$54+Conf8!$P$55>List!AN113,List!AN113+1,\"\")","v":""},{"$f":"IF(Conf8!$P$54>List!AO113,List!AO113+1,\"\")","v":""},{"$f":"IF(Conf9!$P$55>List!AP113,List!AP113+1,\"\")","v":""},{"$f":"IF(Conf9!$P$54+Conf9!$P$55>List!AQ113,List!AQ113+1,\"\")","v":""},{"$f":"IF(Conf9!$P$54>List!AR113,List!AR113+1,\"\")","v":""},{"$f":"IF(Conf10!$P$55>List!AS113,List!AS113+1,\"\")","v":""},{"$f":"IF(Conf10!$P$54+Conf10!$P$55>List!AT113,List!AT113+1,\"\")","v":""},{"$f":"IF(Conf10!$P$54>List!AU113,List!AU113+1,\"\")","v":""}]
[null,null,null,null,null,null,null,null,null,null,null,{"$f":"IF(Configurator!$P$55>List!L114,List!L114+1,\"\")","v":""},{"$f":"IF(Configurator!$P$54+Configurator!$P$55>List!M114,List!M114+1,\"\")","v":""},{"$f":"IF(Configurator!$P$54>List!N114,List!N114+1,\"\")","v":""},{"$f":"IF(Conf2!$P$55>List!O114,List!O114+1,\"\")","v":""},{"$f":"IF(Conf2!$P$54+Conf2!$P$55>List!P114,List!P114+1,\"\")","v":""},{"$f":"IF(Conf2!$P$54>List!Q114,List!Q114+1,\"\")","v":""},{"$f":"IF(Conf3!$P$55>List!R114,List!R114+1,\"\")","v":""},{"$f":"IF(Conf3!$P$54+Conf3!$P$55>List!S114,List!S114+1,\"\")","v":""},{"$f":"IF(Conf3!$P$54>List!T114,List!T114+1,\"\")","v":""},{"$f":"IF(Conf4!$P$55>List!U114,List!U114+1,\"\")","v":""},{"$f":"IF(Conf4!$P$54+Conf4!$P$55>List!V114,List!V114+1,\"\")","v":""},{"$f":"IF(Conf4!$P$54>List!W114,List!W114+1,\"\")","v":""},null,null,null,null,null,null,{"$f":"IF(Conf5!$P$55>List!AD114,List!AD114+1,\"\")","v":""},{"$f":"IF(Conf5!$P$54+Conf5!$P$55>List!AE114,List!AE114+1,\"\")","v":""},{"$f":"IF(Conf5!$P$54>List!AF114,List!AF114+1,\"\")","v":""},{"$f":"IF(Conf6!$P$55>List!AG114,List!AG114+1,\"\")","v":""},{"$f":"IF(Conf6!$P$54+Conf6!$P$55>List!AH114,List!AH114+1,\"\")","v":""},{"$f":"IF(Conf6!$P$54>List!AI114,List!AI114+1,\"\")","v":""},{"$f":"IF(Conf7!$P$55>List!AJ114,List!AJ114+1,\"\")","v":""},{"$f":"IF(Conf7!$P$54+Conf7!$P$55>List!AK114,List!AK114+1,\"\")","v":""},{"$f":"IF(Conf7!$P$54>List!AL114,List!AL114+1,\"\")","v":""},{"$f":"IF(Conf8!$P$55>List!AM114,List!AM114+1,\"\")","v":""},{"$f":"IF(Conf8!$P$54+Conf8!$P$55>List!AN114,List!AN114+1,\"\")","v":""},{"$f":"IF(Conf8!$P$54>List!AO114,List!AO114+1,\"\")","v":""},{"$f":"IF(Conf9!$P$55>List!AP114,List!AP114+1,\"\")","v":""},{"$f":"IF(Conf9!$P$54+Conf9!$P$55>List!AQ114,List!AQ114+1,\"\")","v":""},{"$f":"IF(Conf9!$P$54>List!AR114,List!AR114+1,\"\")","v":""},{"$f":"IF(Conf10!$P$55>List!AS114,List!AS114+1,\"\")","v":""},{"$f":"IF(Conf10!$P$54+Conf10!$P$55>List!AT114,List!AT114+1,\"\")","v":""},{"$f":"IF(Conf10!$P$54>List!AU114,List!AU114+1,\"\")","v":""}]
[null,null,null,null,null,null,null,null,null,null,null,{"$f":"IF(Configurator!$P$55>List!L115,List!L115+1,\"\")","v":""},{"$f":"IF(Configurator!$P$54+Configurator!$P$55>List!M115,List!M115+1,\"\")","v":""},{"$f":"IF(Configurator!$P$54>List!N115,List!N115+1,\"\")","v":""},{"$f":"IF(Conf2!$P$55>List!O115,List!O115+1,\"\")","v":""},{"$f":"IF(Conf2!$P$54+Conf2!$P$55>List!P115,List!P115+1,\"\")","v":""},{"$f":"IF(Conf2!$P$54>List!Q115,List!Q115+1,\"\")","v":""},{"$f":"IF(Conf3!$P$55>List!R115,List!R115+1,\"\")","v":""},{"$f":"IF(Conf3!$P$54+Conf3!$P$55>List!S115,List!S115+1,\"\")","v":""},{"$f":"IF(Conf3!$P$54>List!T115,List!T115+1,\"\")","v":""},{"$f":"IF(Conf4!$P$55>List!U115,List!U115+1,\"\")","v":""},{"$f":"IF(Conf4!$P$54+Conf4!$P$55>List!V115,List!V115+1,\"\")","v":""},{"$f":"IF(Conf4!$P$54>List!W115,List!W115+1,\"\")","v":""},null,null,null,null,null,null,{"$f":"IF(Conf5!$P$55>List!AD115,List!AD115+1,\"\")","v":""},{"$f":"IF(Conf5!$P$54+Conf5!$P$55>List!AE115,List!AE115+1,\"\")","v":""},{"$f":"IF(Conf5!$P$54>List!AF115,List!AF115+1,\"\")","v":""},{"$f":"IF(Conf6!$P$55>List!AG115,List!AG115+1,\"\")","v":""},{"$f":"IF(Conf6!$P$54+Conf6!$P$55>List!AH115,List!AH115+1,\"\")","v":""},{"$f":"IF(Conf6!$P$54>List!AI115,List!AI115+1,\"\")","v":""},{"$f":"IF(Conf7!$P$55>List!AJ115,List!AJ115+1,\"\")","v":""},{"$f":"IF(Conf7!$P$54+Conf7!$P$55>List!AK115,List!AK115+1,\"\")","v":""},{"$f":"IF(Conf7!$P$54>List!AL115,List!AL115+1,\"\")","v":""},{"$f":"IF(Conf8!$P$55>List!AM115,List!AM115+1,\"\")","v":""},{"$f":"IF(Conf8!$P$54+Conf8!$P$55>List!AN115,List!AN115+1,\"\")","v":""},{"$f":"IF(Conf8!$P$54>List!AO115,List!AO115+1,\"\")","v":""},{"$f":"IF(Conf9!$P$55>List!AP115,List!AP115+1,\"\")","v":""},{"$f":"IF(Conf9!$P$54+Conf9!$P$55>List!AQ115,List!AQ115+1,\"\")","v":""},{"$f":"IF(Conf9!$P$54>List!AR115,List!AR115+1,\"\")","v":""},{"$f":"IF(Conf10!$P$55>List!AS115,List!AS115+1,\"\")","v":""},{"$f":"IF(Conf10!$P$54+Conf10!$P$55>List!AT115,List!AT115+1,\"\")","v":""},{"$f":"IF(Conf10!$P$54>List!AU115,List!AU115+1,\"\")","v":""}]
[null,null,null,null,null,null,null,null,null,null,null,{"$f":"IF(Configurator!$P$55>List!L116,List!L116+1,\"\")","v":""},{"$f":"IF(Configurator!$P$54+Configurator!$P$55>List!M116,List!M116+1,\"\")","v":""},{"$f":"IF(Configurator!$P$54>List!N116,List!N116+1,\"\")","v":""},{"$f":"IF(Conf2!$P$55>List!O116,List!O116+1,\"\")","v":""},{"$f":"IF(Conf2!$P$54+Conf2!$P$55>List!P116,List!P116+1,\"\")","v":""},{"$f":"IF(Conf2!$P$54>List!Q116,List!Q116+1,\"\")","v":""},{"$f":"IF(Conf3!$P$55>List!R116,List!R116+1,\"\")","v":""},{"$f":"IF(Conf3!$P$54+Conf3!$P$55>List!S116,List!S116+1,\"\")","v":""},{"$f":"IF(Conf3!$P$54>List!T116,List!T116+1,\"\")","v":""},{"$f":"IF(Conf4!$P$55>List!U116,List!U116+1,\"\")","v":""},{"$f":"IF(Conf4!$P$54+Conf4!$P$55>List!V116,List!V116+1,\"\")","v":""},{"$f":"IF(Conf4!$P$54>List!W116,List!W116+1,\"\")","v":""},null,null,null,null,null,null,{"$f":"IF(Conf5!$P$55>List!AD116,List!AD116+1,\"\")","v":""},{"$f":"IF(Conf5!$P$54+Conf5!$P$55>List!AE116,List!AE116+1,\"\")","v":""},{"$f":"IF(Conf5!$P$54>List!AF116,List!AF116+1,\"\")","v":""},{"$f":"IF(Conf6!$P$55>List!AG116,List!AG116+1,\"\")","v":""},{"$f":"IF(Conf6!$P$54+Conf6!$P$55>List!AH116,List!AH116+1,\"\")","v":""},{"$f":"IF(Conf6!$P$54>List!AI116,List!AI116+1,\"\")","v":""},{"$f":"IF(Conf7!$P$55>List!AJ116,List!AJ116+1,\"\")","v":""},{"$f":"IF(Conf7!$P$54+Conf7!$P$55>List!AK116,List!AK116+1,\"\")","v":""},{"$f":"IF(Conf7!$P$54>List!AL116,List!AL116+1,\"\")","v":""},{"$f":"IF(Conf8!$P$55>List!AM116,List!AM116+1,\"\")","v":""},{"$f":"IF(Conf8!$P$54+Conf8!$P$55>List!AN116,List!AN116+1,\"\")","v":""},{"$f":"IF(Conf8!$P$54>List!AO116,List!AO116+1,\"\")","v":""},{"$f":"IF(Conf9!$P$55>List!AP116,List!AP116+1,\"\")","v":""},{"$f":"IF(Conf9!$P$54+Conf9!$P$55>List!AQ116,List!AQ116+1,\"\")","v":""},{"$f":"IF(Conf9!$P$54>List!AR116,List!AR116+1,\"\")","v":""},{"$f":"IF(Conf10!$P$55>List!AS116,List!AS116+1,\"\")","v":""},{"$f":"IF(Conf10!$P$54+Conf10!$P$55>List!AT116,List!AT116+1,\"\")","v":""},{"$f":"IF(Conf10!$P$54>List!AU116,List!AU116+1,\"\")","v":""}]
[null,null,null,null,null,null,null,null,null,null,null,{"$f":"IF(Configurator!$P$55>List!L117,List!L117+1,\"\")","v":""},{"$f":"IF(Configurator!$P$54+Configurator!$P$55>List!M117,List!M117+1,\"\")","v":""},{"$f":"IF(Configurator!$P$54>List!N117,List!N117+1,\"\")","v":""},{"$f":"IF(Conf2!$P$55>List!O117,List!O117+1,\"\")","v":""},{"$f":"IF(Conf2!$P$54+Conf2!$P$55>List!P117,List!P117+1,\"\")","v":""},{"$f":"IF(Conf2!$P$54>List!Q117,List!Q117+1,\"\")","v":""},{"$f":"IF(Conf3!$P$55>List!R117,List!R117+1,\"\")","v":""},{"$f":"IF(Conf3!$P$54+Conf3!$P$55>List!S117,List!S117+1,\"\")","v":""},{"$f":"IF(Conf3!$P$54>List!T117,List!T117+1,\"\")","v":""},{"$f":"IF(Conf4!$P$55>List!U117,List!U117+1,\"\")","v":""},{"$f":"IF(Conf4!$P$54+Conf4!$P$55>List!V117,List!V117+1,\"\")","v":""},{"$f":"IF(Conf4!$P$54>List!W117,List!W117+1,\"\")","v":""},null,null,null,null,null,null,{"$f":"IF(Conf5!$P$55>List!AD117,List!AD117+1,\"\")","v":""},{"$f":"IF(Conf5!$P$54+Conf5!$P$55>List!AE117,List!AE117+1,\"\")","v":""},{"$f":"IF(Conf5!$P$54>List!AF117,List!AF117+1,\"\")","v":""},{"$f":"IF(Conf6!$P$55>List!AG117,List!AG117+1,\"\")","v":""},{"$f":"IF(Conf6!$P$54+Conf6!$P$55>List!AH117,List!AH117+1,\"\")","v":""},{"$f":"IF(Conf6!$P$54>List!AI117,List!AI117+1,\"\")","v":""},{"$f":"IF(Conf7!$P$55>List!AJ117,List!AJ117+1,\"\")","v":""},{"$f":"IF(Conf7!$P$54+Conf7!$P$55>List!AK117,List!AK117+1,\"\")","v":""},{"$f":"IF(Conf7!$P$54>List!AL117,List!AL117+1,\"\")","v":""},{"$f":"IF(Conf8!$P$55>List!AM117,List!AM117+1,\"\")","v":""},{"$f":"IF(Conf8!$P$54+Conf8!$P$55>List!AN117,List!AN117+1,\"\")","v":""},{"$f":"IF(Conf8!$P$54>List!AO117,List!AO117+1,\"\")","v":""},{"$f":"IF(Conf9!$P$55>List!AP117,List!AP117+1,\"\")","v":""},{"$f":"IF(Conf9!$P$54+Conf9!$P$55>List!AQ117,List!AQ117+1,\"\")","v":""},{"$f":"IF(Conf9!$P$54>List!AR117,List!AR117+1,\"\")","v":""},{"$f":"IF(Conf10!$P$55>List!AS117,List!AS117+1,\"\")","v":""},{"$f":"IF(Conf10!$P$54+Conf10!$P$55>List!AT117,List!AT117+1,\"\")","v":""},{"$f":"IF(Conf10!$P$54>List!AU117,List!AU117+1,\"\")","v":""}]
[null,null,null,null,null,null,null,null,null,null,null,{"$f":"IF(Configurator!$P$55>List!L118,List!L118+1,\"\")","v":""},{"$f":"IF(Configurator!$P$54+Configurator!$P$55>List!M118,List!M118+1,\"\")","v":""},{"$f":"IF(Configurator!$P$54>List!N118,List!N118+1,\"\")","v":""},{"$f":"IF(Conf2!$P$55>List!O118,List!O118+1,\"\")","v":""},{"$f":"IF(Conf2!$P$54+Conf2!$P$55>List!P118,List!P118+1,\"\")","v":""},{"$f":"IF(Conf2!$P$54>List!Q118,List!Q118+1,\"\")","v":""},{"$f":"IF(Conf3!$P$55>List!R118,List!R118+1,\"\")","v":""},{"$f":"IF(Conf3!$P$54+Conf3!$P$55>List!S118,List!S118+1,\"\")","v":""},{"$f":"IF(Conf3!$P$54>List!T118,List!T118+1,\"\")","v":""},{"$f":"IF(Conf4!$P$55>List!U118,List!U118+1,\"\")","v":""},{"$f":"IF(Conf4!$P$54+Conf4!$P$55>List!V118,List!V118+1,\"\")","v":""},{"$f":"IF(Conf4!$P$54>List!W118,List!W118+1,\"\")","v":""},null,null,null,null,null,null,{"$f":"IF(Conf5!$P$55>List!AD118,List!AD118+1,\"\")","v":""},{"$f":"IF(Conf5!$P$54+Conf5!$P$55>List!AE118,List!AE118+1,\"\")","v":""},{"$f":"IF(Conf5!$P$54>List!AF118,List!AF118+1,\"\")","v":""},{"$f":"IF(Conf6!$P$55>List!AG118,List!AG118+1,\"\")","v":""},{"$f":"IF(Conf6!$P$54+Conf6!$P$55>List!AH118,List!AH118+1,\"\")","v":""},{"$f":"IF(Conf6!$P$54>List!AI118,List!AI118+1,\"\")","v":""},{"$f":"IF(Conf7!$P$55>List!AJ118,List!AJ118+1,\"\")","v":""},{"$f":"IF(Conf7!$P$54+Conf7!$P$55>List!AK118,List!AK118+1,\"\")","v":""},{"$f":"IF(Conf7!$P$54>List!AL118,List!AL118+1,\"\")","v":""},{"$f":"IF(Conf8!$P$55>List!AM118,List!AM118+1,\"\")","v":""},{"$f":"IF(Conf8!$P$54+Conf8!$P$55>List!AN118,List!AN118+1,\"\")","v":""},{"$f":"IF(Conf8!$P$54>List!AO118,List!AO118+1,\"\")","v":""},{"$f":"IF(Conf9!$P$55>List!AP118,List!AP118+1,\"\")","v":""},{"$f":"IF(Conf9!$P$54+Conf9!$P$55>List!AQ118,List!AQ118+1,\"\")","v":""},{"$f":"IF(Conf9!$P$54>List!AR118,List!AR118+1,\"\")","v":""},{"$f":"IF(Conf10!$P$55>List!AS118,List!AS118+1,\"\")","v":""},{"$f":"IF(Conf10!$P$54+Conf10!$P$55>List!AT118,List!AT118+1,\"\")","v":""},{"$f":"IF(Conf10!$P$54>List!AU118,List!AU118+1,\"\")","v":""}]
[null,null,null,null,null,null,null,null,null,null,null,{"$f":"IF(Configurator!$P$55>List!L119,List!L119+1,\"\")","v":""},{"$f":"IF(Configurator!$P$54+Configurator!$P$55>List!M119,List!M119+1,\"\")","v":""},{"$f":"IF(Configurator!$P$54>List!N119,List!N119+1,\"\")","v":""},{"$f":"IF(Conf2!$P$55>List!O119,List!O119+1,\"\")","v":""},{"$f":"IF(Conf2!$P$54+Conf2!$P$55>List!P119,List!P119+1,\"\")","v":""},{"$f":"IF(Conf2!$P$54>List!Q119,List!Q119+1,\"\")","v":""},{"$f":"IF(Conf3!$P$55>List!R119,List!R119+1,\"\")","v":""},{"$f":"IF(Conf3!$P$54+Conf3!$P$55>List!S119,List!S119+1,\"\")","v":""},{"$f":"IF(Conf3!$P$54>List!T119,List!T119+1,\"\")","v":""},{"$f":"IF(Conf4!$P$55>List!U119,List!U119+1,\"\")","v":""},{"$f":"IF(Conf4!$P$54+Conf4!$P$55>List!V119,List!V119+1,\"\")","v":""},{"$f":"IF(Conf4!$P$54>List!W119,List!W119+1,\"\")","v":""},null,null,null,null,null,null,{"$f":"IF(Conf5!$P$55>List!AD119,List!AD119+1,\"\")","v":""},{"$f":"IF(Conf5!$P$54+Conf5!$P$55>List!AE119,List!AE119+1,\"\")","v":""},{"$f":"IF(Conf5!$P$54>List!AF119,List!AF119+1,\"\")","v":""},{"$f":"IF(Conf6!$P$55>List!AG119,List!AG119+1,\"\")","v":""},{"$f":"IF(Conf6!$P$54+Conf6!$P$55>List!AH119,List!AH119+1,\"\")","v":""},{"$f":"IF(Conf6!$P$54>List!AI119,List!AI119+1,\"\")","v":""},{"$f":"IF(Conf7!$P$55>List!AJ119,List!AJ119+1,\"\")","v":""},{"$f":"IF(Conf7!$P$54+Conf7!$P$55>List!AK119,List!AK119+1,\"\")","v":""},{"$f":"IF(Conf7!$P$54>List!AL119,List!AL119+1,\"\")","v":""},{"$f":"IF(Conf8!$P$55>List!AM119,List!AM119+1,\"\")","v":""},{"$f":"IF(Conf8!$P$54+Conf8!$P$55>List!AN119,List!AN119+1,\"\")","v":""},{"$f":"IF(Conf8!$P$54>List!AO119,List!AO119+1,\"\")","v":""},{"$f":"IF(Conf9!$P$55>List!AP119,List!AP119+1,\"\")","v":""},{"$f":"IF(Conf9!$P$54+Conf9!$P$55>List!AQ119,List!AQ119+1,\"\")","v":""},{"$f":"IF(Conf9!$P$54>List!AR119,List!AR119+1,\"\")","v":""},{"$f":"IF(Conf10!$P$55>List!AS119,List!AS119+1,\"\")","v":""},{"$f":"IF(Conf10!$P$54+Conf10!$P$55>List!AT119,List!AT119+1,\"\")","v":""},{"$f":"IF(Conf10!$P$54>List!AU119,List!AU119+1,\"\")","v":""}]
[null,null,null,null,null,null,null,null,null,null,null,{"$f":"IF(Configurator!$P$55>List!L120,List!L120+1,\"\")","v":""},{"$f":"IF(Configurator!$P$54+Configurator!$P$55>List!M120,List!M120+1,\"\")","v":""},{"$f":"IF(Configurator!$P$54>List!N120,List!N120+1,\"\")","v":""},{"$f":"IF(Conf2!$P$55>List!O120,List!O120+1,\"\")","v":""},{"$f":"IF(Conf2!$P$54+Conf2!$P$55>List!P120,List!P120+1,\"\")","v":""},{"$f":"IF(Conf2!$P$54>List!Q120,List!Q120+1,\"\")","v":""},{"$f":"IF(Conf3!$P$55>List!R120,List!R120+1,\"\")","v":""},{"$f":"IF(Conf3!$P$54+Conf3!$P$55>List!S120,List!S120+1,\"\")","v":""},{"$f":"IF(Conf3!$P$54>List!T120,List!T120+1,\"\")","v":""},{"$f":"IF(Conf4!$P$55>List!U120,List!U120+1,\"\")","v":""},{"$f":"IF(Conf4!$P$54+Conf4!$P$55>List!V120,List!V120+1,\"\")","v":""},{"$f":"IF(Conf4!$P$54>List!W120,List!W120+1,\"\")","v":""},null,null,null,null,null,null,{"$f":"IF(Conf5!$P$55>List!AD120,List!AD120+1,\"\")","v":""},{"$f":"IF(Conf5!$P$54+Conf5!$P$55>List!AE120,List!AE120+1,\"\")","v":""},{"$f":"IF(Conf5!$P$54>List!AF120,List!AF120+1,\"\")","v":""},{"$f":"IF(Conf6!$P$55>List!AG120,List!AG120+1,\"\")","v":""},{"$f":"IF(Conf6!$P$54+Conf6!$P$55>List!AH120,List!AH120+1,\"\")","v":""},{"$f":"IF(Conf6!$P$54>List!AI120,List!AI120+1,\"\")","v":""},{"$f":"IF(Conf7!$P$55>List!AJ120,List!AJ120+1,\"\")","v":""},{"$f":"IF(Conf7!$P$54+Conf7!$P$55>List!AK120,List!AK120+1,\"\")","v":""},{"$f":"IF(Conf7!$P$54>List!AL120,List!AL120+1,\"\")","v":""},{"$f":"IF(Conf8!$P$55>List!AM120,List!AM120+1,\"\")","v":""},{"$f":"IF(Conf8!$P$54+Conf8!$P$55>List!AN120,List!AN120+1,\"\")","v":""},{"$f":"IF(Conf8!$P$54>List!AO120,List!AO120+1,\"\")","v":""},{"$f":"IF(Conf9!$P$55>List!AP120,List!AP120+1,\"\")","v":""},{"$f":"IF(Conf9!$P$54+Conf9!$P$55>List!AQ120,List!AQ120+1,\"\")","v":""},{"$f":"IF(Conf9!$P$54>List!AR120,List!AR120+1,\"\")","v":""},{"$f":"IF(Conf10!$P$55>List!AS120,List!AS120+1,\"\")","v":""},{"$f":"IF(Conf10!$P$54+Conf10!$P$55>List!AT120,List!AT120+1,\"\")","v":""},{"$f":"IF(Conf10!$P$54>List!AU120,List!AU120+1,\"\")","v":""}]
[null,null,null,null,null,null,null,null,null,null,null,{"$f":"IF(Configurator!$P$55>List!L121,List!L121+1,\"\")","v":""},{"$f":"IF(Configurator!$P$54+Configurator!$P$55>List!M121,List!M121+1,\"\")","v":""},{"$f":"IF(Configurator!$P$54>List!N121,List!N121+1,\"\")","v":""},{"$f":"IF(Conf2!$P$55>List!O121,List!O121+1,\"\")","v":""},{"$f":"IF(Conf2!$P$54+Conf2!$P$55>List!P121,List!P121+1,\"\")","v":""},{"$f":"IF(Conf2!$P$54>List!Q121,List!Q121+1,\"\")","v":""},{"$f":"IF(Conf3!$P$55>List!R121,List!R121+1,\"\")","v":""},{"$f":"IF(Conf3!$P$54+Conf3!$P$55>List!S121,List!S121+1,\"\")","v":""},{"$f":"IF(Conf3!$P$54>List!T121,List!T121+1,\"\")","v":""},{"$f":"IF(Conf4!$P$55>List!U121,List!U121+1,\"\")","v":""},{"$f":"IF(Conf4!$P$54+Conf4!$P$55>List!V121,List!V121+1,\"\")","v":""},{"$f":"IF(Conf4!$P$54>List!W121,List!W121+1,\"\")","v":""},null,null,null,null,null,null,{"$f":"IF(Conf5!$P$55>List!AD121,List!AD121+1,\"\")","v":""},{"$f":"IF(Conf5!$P$54+Conf5!$P$55>List!AE121,List!AE121+1,\"\")","v":""},{"$f":"IF(Conf5!$P$54>List!AF121,List!AF121+1,\"\")","v":""},{"$f":"IF(Conf6!$P$55>List!AG121,List!AG121+1,\"\")","v":""},{"$f":"IF(Conf6!$P$54+Conf6!$P$55>List!AH121,List!AH121+1,\"\")","v":""},{"$f":"IF(Conf6!$P$54>List!AI121,List!AI121+1,\"\")","v":""},{"$f":"IF(Conf7!$P$55>List!AJ121,List!AJ121+1,\"\")","v":""},{"$f":"IF(Conf7!$P$54+Conf7!$P$55>List!AK121,List!AK121+1,\"\")","v":""},{"$f":"IF(Conf7!$P$54>List!AL121,List!AL121+1,\"\")","v":""},{"$f":"IF(Conf8!$P$55>List!AM121,List!AM121+1,\"\")","v":""},{"$f":"IF(Conf8!$P$54+Conf8!$P$55>List!AN121,List!AN121+1,\"\")","v":""},{"$f":"IF(Conf8!$P$54>List!AO121,List!AO121+1,\"\")","v":""},{"$f":"IF(Conf9!$P$55>List!AP121,List!AP121+1,\"\")","v":""},{"$f":"IF(Conf9!$P$54+Conf9!$P$55>List!AQ121,List!AQ121+1,\"\")","v":""},{"$f":"IF(Conf9!$P$54>List!AR121,List!AR121+1,\"\")","v":""},{"$f":"IF(Conf10!$P$55>List!AS121,List!AS121+1,\"\")","v":""},{"$f":"IF(Conf10!$P$54+Conf10!$P$55>List!AT121,List!AT121+1,\"\")","v":""},{"$f":"IF(Conf10!$P$54>List!AU121,List!AU121+1,\"\")","v":""}]
[null,null,null,null,null,null,null,null,null,null,null,{"$f":"IF(Configurator!$P$55>List!L122,List!L122+1,\"\")","v":""},{"$f":"IF(Configurator!$P$54+Configurator!$P$55>List!M122,List!M122+1,\"\")","v":""},{"$f":"IF(Configurator!$P$54>List!N122,List!N122+1,\"\")","v":""},{"$f":"IF(Conf2!$P$55>List!O122,List!O122+1,\"\")","v":""},{"$f":"IF(Conf2!$P$54+Conf2!$P$55>List!P122,List!P122+1,\"\")","v":""},{"$f":"IF(Conf2!$P$54>List!Q122,List!Q122+1,\"\")","v":""},{"$f":"IF(Conf3!$P$55>List!R122,List!R122+1,\"\")","v":""},{"$f":"IF(Conf3!$P$54+Conf3!$P$55>List!S122,List!S122+1,\"\")","v":""},{"$f":"IF(Conf3!$P$54>List!T122,List!T122+1,\"\")","v":""},{"$f":"IF(Conf4!$P$55>List!U122,List!U122+1,\"\")","v":""},{"$f":"IF(Conf4!$P$54+Conf4!$P$55>List!V122,List!V122+1,\"\")","v":""},{"$f":"IF(Conf4!$P$54>List!W122,List!W122+1,\"\")","v":""},null,null,null,null,null,null,{"$f":"IF(Conf5!$P$55>List!AD122,List!AD122+1,\"\")","v":""},{"$f":"IF(Conf5!$P$54+Conf5!$P$55>List!AE122,List!AE122+1,\"\")","v":""},{"$f":"IF(Conf5!$P$54>List!AF122,List!AF122+1,\"\")","v":""},{"$f":"IF(Conf6!$P$55>List!AG122,List!AG122+1,\"\")","v":""},{"$f":"IF(Conf6!$P$54+Conf6!$P$55>List!AH122,List!AH122+1,\"\")","v":""},{"$f":"IF(Conf6!$P$54>List!AI122,List!AI122+1,\"\")","v":""},{"$f":"IF(Conf7!$P$55>List!AJ122,List!AJ122+1,\"\")","v":""},{"$f":"IF(Conf7!$P$54+Conf7!$P$55>List!AK122,List!AK122+1,\"\")","v":""},{"$f":"IF(Conf7!$P$54>List!AL122,List!AL122+1,\"\")","v":""},{"$f":"IF(Conf8!$P$55>List!AM122,List!AM122+1,\"\")","v":""},{"$f":"IF(Conf8!$P$54+Conf8!$P$55>List!AN122,List!AN122+1,\"\")","v":""},{"$f":"IF(Conf8!$P$54>List!AO122,List!AO122+1,\"\")","v":""},{"$f":"IF(Conf9!$P$55>List!AP122,List!AP122+1,\"\")","v":""},{"$f":"IF(Conf9!$P$54+Conf9!$P$55>List!AQ122,List!AQ122+1,\"\")","v":""},{"$f":"IF(Conf9!$P$54>List!AR122,List!AR122+1,\"\")","v":""},{"$f":"IF(Conf10!$P$55>List!AS122,List!AS122+1,\"\")","v":""},{"$f":"IF(Conf10!$P$54+Conf10!$P$55>List!AT122,List!AT122+1,\"\")","v":""},{"$f":"IF(Conf10!$P$54>List!AU122,List!AU122+1,\"\")","v":""}]
[null,null,null,null,null,null,null,null,null,null,null,{"$f":"IF(Configurator!$P$55>List!L123,List!L123+1,\"\")","v":""},{"$f":"IF(Configurator!$P$54+Configurator!$P$55>List!M123,List!M123+1,\"\")","v":""},{"$f":"IF(Configurator!$P$54>List!N123,List!N123+1,\"\")","v":""},{"$f":"IF(Conf2!$P$55>List!O123,List!O123+1,\"\")","v":""},{"$f":"IF(Conf2!$P$54+Conf2!$P$55>List!P123,List!P123+1,\"\")","v":""},{"$f":"IF(Conf2!$P$54>List!Q123,List!Q123+1,\"\")","v":""},{"$f":"IF(Conf3!$P$55>List!R123,List!R123+1,\"\")","v":""},{"$f":"IF(Conf3!$P$54+Conf3!$P$55>List!S123,List!S123+1,\"\")","v":""},{"$f":"IF(Conf3!$P$54>List!T123,List!T123+1,\"\")","v":""},{"$f":"IF(Conf4!$P$55>List!U123,List!U123+1,\"\")","v":""},{"$f":"IF(Conf4!$P$54+Conf4!$P$55>List!V123,List!V123+1,\"\")","v":""},{"$f":"IF(Conf4!$P$54>List!W123,List!W123+1,\"\")","v":""},null,null,null,null,null,null,{"$f":"IF(Conf5!$P$55>List!AD123,List!AD123+1,\"\")","v":""},{"$f":"IF(Conf5!$P$54+Conf5!$P$55>List!AE123,List!AE123+1,\"\")","v":""},{"$f":"IF(Conf5!$P$54>List!AF123,List!AF123+1,\"\")","v":""},{"$f":"IF(Conf6!$P$55>List!AG123,List!AG123+1,\"\")","v":""},{"$f":"IF(Conf6!$P$54+Conf6!$P$55>List!AH123,List!AH123+1,\"\")","v":""},{"$f":"IF(Conf6!$P$54>List!AI123,List!AI123+1,\"\")","v":""},{"$f":"IF(Conf7!$P$55>List!AJ123,List!AJ123+1,\"\")","v":""},{"$f":"IF(Conf7!$P$54+Conf7!$P$55>List!AK123,List!AK123+1,\"\")","v":""},{"$f":"IF(Conf7!$P$54>List!AL123,List!AL123+1,\"\")","v":""},{"$f":"IF(Conf8!$P$55>List!AM123,List!AM123+1,\"\")","v":""},{"$f":"IF(Conf8!$P$54+Conf8!$P$55>List!AN123,List!AN123+1,\"\")","v":""},{"$f":"IF(Conf8!$P$54>List!AO123,List!AO123+1,\"\")","v":""},{"$f":"IF(Conf9!$P$55>List!AP123,List!AP123+1,\"\")","v":""},{"$f":"IF(Conf9!$P$54+Conf9!$P$55>List!AQ123,List!AQ123+1,\"\")","v":""},{"$f":"IF(Conf9!$P$54>List!AR123,List!AR123+1,\"\")","v":""},{"$f":"IF(Conf10!$P$55>List!AS123,List!AS123+1,\"\")","v":""},{"$f":"IF(Conf10!$P$54+Conf10!$P$55>List!AT123,List!AT123+1,\"\")","v":""},{"$f":"IF(Conf10!$P$54>List!AU123,List!AU123+1,\"\")","v":""}]
[null,null,null,null,null,null,null,null,null,null,null,{"$f":"IF(Configurator!$P$55>List!L124,List!L124+1,\"\")","v":""},{"$f":"IF(Configurator!$P$54+Configurator!$P$55>List!M124,List!M124+1,\"\")","v":""},{"$f":"IF(Configurator!$P$54>List!N124,List!N124+1,\"\")","v":""},{"$f":"IF(Conf2!$P$55>List!O124,List!O124+1,\"\")","v":""},{"$f":"IF(Conf2!$P$54+Conf2!$P$55>List!P124,List!P124+1,\"\")","v":""},{"$f":"IF(Conf2!$P$54>List!Q124,List!Q124+1,\"\")","v":""},{"$f":"IF(Conf3!$P$55>List!R124,List!R124+1,\"\")","v":""},{"$f":"IF(Conf3!$P$54+Conf3!$P$55>List!S124,List!S124+1,\"\")","v":""},{"$f":"IF(Conf3!$P$54>List!T124,List!T124+1,\"\")","v":""},{"$f":"IF(Conf4!$P$55>List!U124,List!U124+1,\"\")","v":""},{"$f":"IF(Conf4!$P$54+Conf4!$P$55>List!V124,List!V124+1,\"\")","v":""},{"$f":"IF(Conf4!$P$54>List!W124,List!W124+1,\"\")","v":""},null,null,null,null,null,null,{"$f":"IF(Conf5!$P$55>List!AD124,List!AD124+1,\"\")","v":""},{"$f":"IF(Conf5!$P$54+Conf5!$P$55>List!AE124,List!AE124+1,\"\")","v":""},{"$f":"IF(Conf5!$P$54>List!AF124,List!AF124+1,\"\")","v":""},{"$f":"IF(Conf6!$P$55>List!AG124,List!AG124+1,\"\")","v":""},{"$f":"IF(Conf6!$P$54+Conf6!$P$55>List!AH124,List!AH124+1,\"\")","v":""},{"$f":"IF(Conf6!$P$54>List!AI124,List!AI124+1,\"\")","v":""},{"$f":"IF(Conf7!$P$55>List!AJ124,List!AJ124+1,\"\")","v":""},{"$f":"IF(Conf7!$P$54+Conf7!$P$55>List!AK124,List!AK124+1,\"\")","v":""},{"$f":"IF(Conf7!$P$54>List!AL124,List!AL124+1,\"\")","v":""},{"$f":"IF(Conf8!$P$55>List!AM124,List!AM124+1,\"\")","v":""},{"$f":"IF(Conf8!$P$54+Conf8!$P$55>List!AN124,List!AN124+1,\"\")","v":""},{"$f":"IF(Conf8!$P$54>List!AO124,List!AO124+1,\"\")","v":""},{"$f":"IF(Conf9!$P$55>List!AP124,List!AP124+1,\"\")","v":""},{"$f":"IF(Conf9!$P$54+Conf9!$P$55>List!AQ124,List!AQ124+1,\"\")","v":""},{"$f":"IF(Conf9!$P$54>List!AR124,List!AR124+1,\"\")","v":""},{"$f":"IF(Conf10!$P$55>List!AS124,List!AS124+1,\"\")","v":""},{"$f":"IF(Conf10!$P$54+Conf10!$P$55>List!AT124,List!AT124+1,\"\")","v":""},{"$f":"IF(Conf10!$P$54>List!AU124,List!AU124+1,\"\")","v":""}]
[null,null,null,null,null,null,null,null,null,null,null,{"$f":"IF(Configurator!$P$55>List!L125,List!L125+1,\"\")","v":""},{"$f":"IF(Configurator!$P$54+Configurator!$P$55>List!M125,List!M125+1,\"\")","v":""},{"$f":"IF(Configurator!$P$54>List!N125,List!N125+1,\"\")","v":""},{"$f":"IF(Conf2!$P$55>List!O125,List!O125+1,\"\")","v":""},{"$f":"IF(Conf2!$P$54+Conf2!$P$55>List!P125,List!P125+1,\"\")","v":""},{"$f":"IF(Conf2!$P$54>List!Q125,List!Q125+1,\"\")","v":""},{"$f":"IF(Conf3!$P$55>List!R125,List!R125+1,\"\")","v":""},{"$f":"IF(Conf3!$P$54+Conf3!$P$55>List!S125,List!S125+1,\"\")","v":""},{"$f":"IF(Conf3!$P$54>List!T125,List!T125+1,\"\")","v":""},{"$f":"IF(Conf4!$P$55>List!U125,List!U125+1,\"\")","v":""},{"$f":"IF(Conf4!$P$54+Conf4!$P$55>List!V125,List!V125+1,\"\")","v":""},{"$f":"IF(Conf4!$P$54>List!W125,List!W125+1,\"\")","v":""},null,null,null,null,null,null,{"$f":"IF(Conf5!$P$55>List!AD125,List!AD125+1,\"\")","v":""},{"$f":"IF(Conf5!$P$54+Conf5!$P$55>List!AE125,List!AE125+1,\"\")","v":""},{"$f":"IF(Conf5!$P$54>List!AF125,List!AF125+1,\"\")","v":""},{"$f":"IF(Conf6!$P$55>List!AG125,List!AG125+1,\"\")","v":""},{"$f":"IF(Conf6!$P$54+Conf6!$P$55>List!AH125,List!AH125+1,\"\")","v":""},{"$f":"IF(Conf6!$P$54>List!AI125,List!AI125+1,\"\")","v":""},{"$f":"IF(Conf7!$P$55>List!AJ125,List!AJ125+1,\"\")","v":""},{"$f":"IF(Conf7!$P$54+Conf7!$P$55>List!AK125,List!AK125+1,\"\")","v":""},{"$f":"IF(Conf7!$P$54>List!AL125,List!AL125+1,\"\")","v":""},{"$f":"IF(Conf8!$P$55>List!AM125,List!AM125+1,\"\")","v":""},{"$f":"IF(Conf8!$P$54+Conf8!$P$55>List!AN125,List!AN125+1,\"\")","v":""},{"$f":"IF(Conf8!$P$54>List!AO125,List!AO125+1,\"\")","v":""},{"$f":"IF(Conf9!$P$55>List!AP125,List!AP125+1,\"\")","v":""},{"$f":"IF(Conf9!$P$54+Conf9!$P$55>List!AQ125,List!AQ125+1,\"\")","v":""},{"$f":"IF(Conf9!$P$54>List!AR125,List!AR125+1,\"\")","v":""},{"$f":"IF(Conf10!$P$55>List!AS125,List!AS125+1,\"\")","v":""},{"$f":"IF(Conf10!$P$54+Conf10!$P$55>List!AT125,List!AT125+1,\"\")","v":""},{"$f":"IF(Conf10!$P$54>List!AU125,List!AU125+1,\"\")","v":""}]
[null,null,null,null,null,null,null,null,null,null,null,{"$f":"IF(Configurator!$P$55>List!L126,List!L126+1,\"\")","v":""},{"$f":"IF(Configurator!$P$54+Configurator!$P$55>List!M126,List!M126+1,\"\")","v":""},{"$f":"IF(Configurator!$P$54>List!N126,List!N126+1,\"\")","v":""},{"$f":"IF(Conf2!$P$55>List!O126,List!O126+1,\"\")","v":""},{"$f":"IF(Conf2!$P$54+Conf2!$P$55>List!P126,List!P126+1,\"\")","v":""},{"$f":"IF(Conf2!$P$54>List!Q126,List!Q126+1,\"\")","v":""},{"$f":"IF(Conf3!$P$55>List!R126,List!R126+1,\"\")","v":""},{"$f":"IF(Conf3!$P$54+Conf3!$P$55>List!S126,List!S126+1,\"\")","v":""},{"$f":"IF(Conf3!$P$54>List!T126,List!T126+1,\"\")","v":""},{"$f":"IF(Conf4!$P$55>List!U126,List!U126+1,\"\")","v":""},{"$f":"IF(Conf4!$P$54+Conf4!$P$55>List!V126,List!V126+1,\"\")","v":""},{"$f":"IF(Conf4!$P$54>List!W126,List!W126+1,\"\")","v":""},null,null,null,null,null,null,{"$f":"IF(Conf5!$P$55>List!AD126,List!AD126+1,\"\")","v":""},{"$f":"IF(Conf5!$P$54+Conf5!$P$55>List!AE126,List!AE126+1,\"\")","v":""},{"$f":"IF(Conf5!$P$54>List!AF126,List!AF126+1,\"\")","v":""},{"$f":"IF(Conf6!$P$55>List!AG126,List!AG126+1,\"\")","v":""},{"$f":"IF(Conf6!$P$54+Conf6!$P$55>List!AH126,List!AH126+1,\"\")","v":""},{"$f":"IF(Conf6!$P$54>List!AI126,List!AI126+1,\"\")","v":""},{"$f":"IF(Conf7!$P$55>List!AJ126,List!AJ126+1,\"\")","v":""},{"$f":"IF(Conf7!$P$54+Conf7!$P$55>List!AK126,List!AK126+1,\"\")","v":""},{"$f":"IF(Conf7!$P$54>List!AL126,List!AL126+1,\"\")","v":""},{"$f":"IF(Conf8!$P$55>List!AM126,List!AM126+1,\"\")","v":""},{"$f":"IF(Conf8!$P$54+Conf8!$P$55>List!AN126,List!AN126+1,\"\")","v":""},{"$f":"IF(Conf8!$P$54>List!AO126,List!AO126+1,\"\")","v":""},{"$f":"IF(Conf9!$P$55>List!AP126,List!AP126+1,\"\")","v":""},{"$f":"IF(Conf9!$P$54+Conf9!$P$55>List!AQ126,List!AQ126+1,\"\")","v":""},{"$f":"IF(Conf9!$P$54>List!AR126,List!AR126+1,\"\")","v":""},{"$f":"IF(Conf10!$P$55>List!AS126,List!AS126+1,\"\")","v":""},{"$f":"IF(Conf10!$P$54+Conf10!$P$55>List!AT126,List!AT126+1,\"\")","v":""},{"$f":"IF(Conf10!$P$54>List!AU126,List!AU126+1,\"\")","v":""}]
[null,null,null,null,null,null,null,null,null,null,null,{"$f":"IF(Configurator!$P$55>List!L127,List!L127+1,\"\")","v":""},{"$f":"IF(Configurator!$P$54+Configurator!$P$55>List!M127,List!M127+1,\"\")","v":""},{"$f":"IF(Configurator!$P$54>List!N127,List!N127+1,\"\")","v":""},{"$f":"IF(Conf2!$P$55>List!O127,List!O127+1,\"\")","v":""},{"$f":"IF(Conf2!$P$54+Conf2!$P$55>List!P127,List!P127+1,\"\")","v":""},{"$f":"IF(Conf2!$P$54>List!Q127,List!Q127+1,\"\")","v":""},{"$f":"IF(Conf3!$P$55>List!R127,List!R127+1,\"\")","v":""},{"$f":"IF(Conf3!$P$54+Conf3!$P$55>List!S127,List!S127+1,\"\")","v":""},{"$f":"IF(Conf3!$P$54>List!T127,List!T127+1,\"\")","v":""},{"$f":"IF(Conf4!$P$55>List!U127,List!U127+1,\"\")","v":""},{"$f":"IF(Conf4!$P$54+Conf4!$P$55>List!V127,List!V127+1,\"\")","v":""},{"$f":"IF(Conf4!$P$54>List!W127,List!W127+1,\"\")","v":""},null,null,null,null,null,null,{"$f":"IF(Conf5!$P$55>List!AD127,List!AD127+1,\"\")","v":""},{"$f":"IF(Conf5!$P$54+Conf5!$P$55>List!AE127,List!AE127+1,\"\")","v":""},{"$f":"IF(Conf5!$P$54>List!AF127,List!AF127+1,\"\")","v":""},{"$f":"IF(Conf6!$P$55>List!AG127,List!AG127+1,\"\")","v":""},{"$f":"IF(Conf6!$P$54+Conf6!$P$55>List!AH127,List!AH127+1,\"\")","v":""},{"$f":"IF(Conf6!$P$54>List!AI127,List!AI127+1,\"\")","v":""},{"$f":"IF(Conf7!$P$55>List!AJ127,List!AJ127+1,\"\")","v":""},{"$f":"IF(Conf7!$P$54+Conf7!$P$55>List!AK127,List!AK127+1,\"\")","v":""},{"$f":"IF(Conf7!$P$54>List!AL127,List!AL127+1,\"\")","v":""},{"$f":"IF(Conf8!$P$55>List!AM127,List!AM127+1,\"\")","v":""},{"$f":"IF(Conf8!$P$54+Conf8!$P$55>List!AN127,List!AN127+1,\"\")","v":""},{"$f":"IF(Conf8!$P$54>List!AO127,List!AO127+1,\"\")","v":""},{"$f":"IF(Conf9!$P$55>List!AP127,List!AP127+1,\"\")","v":""},{"$f":"IF(Conf9!$P$54+Conf9!$P$55>List!AQ127,List!AQ127+1,\"\")","v":""},{"$f":"IF(Conf9!$P$54>List!AR127,List!AR127+1,\"\")","v":""},{"$f":"IF(Conf10!$P$55>List!AS127,List!AS127+1,\"\")","v":""},{"$f":"IF(Conf10!$P$54+Conf10!$P$55>List!AT127,List!AT127+1,\"\")","v":""},{"$f":"IF(Conf10!$P$54>List!AU127,List!AU127+1,\"\")","v":""}]
[null,null,null,null,null,null,null,null,null,null,null,{"$f":"IF(Configurator!$P$55>List!L128,List!L128+1,\"\")","v":""},{"$f":"IF(Configurator!$P$54+Configurator!$P$55>List!M128,List!M128+1,\"\")","v":""},{"$f":"IF(Configurator!$P$54>List!N128,List!N128+1,\"\")","v":""},{"$f":"IF(Conf2!$P$55>List!O128,List!O128+1,\"\")","v":""},{"$f":"IF(Conf2!$P$54+Conf2!$P$55>List!P128,List!P128+1,\"\")","v":""},{"$f":"IF(Conf2!$P$54>List!Q128,List!Q128+1,\"\")","v":""},{"$f":"IF(Conf3!$P$55>List!R128,List!R128+1,\"\")","v":""},{"$f":"IF(Conf3!$P$54+Conf3!$P$55>List!S128,List!S128+1,\"\")","v":""},{"$f":"IF(Conf3!$P$54>List!T128,List!T128+1,\"\")","v":""},{"$f":"IF(Conf4!$P$55>List!U128,List!U128+1,\"\")","v":""},{"$f":"IF(Conf4!$P$54+Conf4!$P$55>List!V128,List!V128+1,\"\")","v":""},{"$f":"IF(Conf4!$P$54>List!W128,List!W128+1,\"\")","v":""},null,null,null,null,null,null,{"$f":"IF(Conf5!$P$55>List!AD128,List!AD128+1,\"\")","v":""},{"$f":"IF(Conf5!$P$54+Conf5!$P$55>List!AE128,List!AE128+1,\"\")","v":""},{"$f":"IF(Conf5!$P$54>List!AF128,List!AF128+1,\"\")","v":""},{"$f":"IF(Conf6!$P$55>List!AG128,List!AG128+1,\"\")","v":""},{"$f":"IF(Conf6!$P$54+Conf6!$P$55>List!AH128,List!AH128+1,\"\")","v":""},{"$f":"IF(Conf6!$P$54>List!AI128,List!AI128+1,\"\")","v":""},{"$f":"IF(Conf7!$P$55>List!AJ128,List!AJ128+1,\"\")","v":""},{"$f":"IF(Conf7!$P$54+Conf7!$P$55>List!AK128,List!AK128+1,\"\")","v":""},{"$f":"IF(Conf7!$P$54>List!AL128,List!AL128+1,\"\")","v":""},{"$f":"IF(Conf8!$P$55>List!AM128,List!AM128+1,\"\")","v":""},{"$f":"IF(Conf8!$P$54+Conf8!$P$55>List!AN128,List!AN128+1,\"\")","v":""},{"$f":"IF(Conf8!$P$54>List!AO128,List!AO128+1,\"\")","v":""},{"$f":"IF(Conf9!$P$55>List!AP128,List!AP128+1,\"\")","v":""},{"$f":"IF(Conf9!$P$54+Conf9!$P$55>List!AQ128,List!AQ128+1,\"\")","v":""},{"$f":"IF(Conf9!$P$54>List!AR128,List!AR128+1,\"\")","v":""},{"$f":"IF(Conf10!$P$55>List!AS128,List!AS128+1,\"\")","v":""},{"$f":"IF(Conf10!$P$54+Conf10!$P$55>List!AT128,List!AT128+1,\"\")","v":""},{"$f":"IF(Conf10!$P$54>List!AU128,List!AU128+1,\"\")","v":""}]
[null,null,null,null,null,null,null,null,null,null,null,{"$f":"IF(Configurator!$P$55>List!L129,List!L129+1,\"\")","v":""},{"$f":"IF(Configurator!$P$54+Configurator!$P$55>List!M129,List!M129+1,\"\")","v":""},{"$f":"IF(Configurator!$P$54>List!N129,List!N129+1,\"\")","v":""},{"$f":"IF(Conf2!$P$55>List!O129,List!O129+1,\"\")","v":""},{"$f":"IF(Conf2!$P$54+Conf2!$P$55>List!P129,List!P129+1,\"\")","v":""},{"$f":"IF(Conf2!$P$54>List!Q129,List!Q129+1,\"\")","v":""},{"$f":"IF(Conf3!$P$55>List!R129,List!R129+1,\"\")","v":""},{"$f":"IF(Conf3!$P$54+Conf3!$P$55>List!S129,List!S129+1,\"\")","v":""},{"$f":"IF(Conf3!$P$54>List!T129,List!T129+1,\"\")","v":""},{"$f":"IF(Conf4!$P$55>List!U129,List!U129+1,\"\")","v":""},{"$f":"IF(Conf4!$P$54+Conf4!$P$55>List!V129,List!V129+1,\"\")","v":""},{"$f":"IF(Conf4!$P$54>List!W129,List!W129+1,\"\")","v":""},null,null,null,null,null,null,{"$f":"IF(Conf5!$P$55>List!AD129,List!AD129+1,\"\")","v":""},{"$f":"IF(Conf5!$P$54+Conf5!$P$55>List!AE129,List!AE129+1,\"\")","v":""},{"$f":"IF(Conf5!$P$54>List!AF129,List!AF129+1,\"\")","v":""},{"$f":"IF(Conf6!$P$55>List!AG129,List!AG129+1,\"\")","v":""},{"$f":"IF(Conf6!$P$54+Conf6!$P$55>List!AH129,List!AH129+1,\"\")","v":""},{"$f":"IF(Conf6!$P$54>List!AI129,List!AI129+1,\"\")","v":""},{"$f":"IF(Conf7!$P$55>List!AJ129,List!AJ129+1,\"\")","v":""},{"$f":"IF(Conf7!$P$54+Conf7!$P$55>List!AK129,List!AK129+1,\"\")","v":""},{"$f":"IF(Conf7!$P$54>List!AL129,List!AL129+1,\"\")","v":""},{"$f":"IF(Conf8!$P$55>List!AM129,List!AM129+1,\"\")","v":""},{"$f":"IF(Conf8!$P$54+Conf8!$P$55>List!AN129,List!AN129+1,\"\")","v":""},{"$f":"IF(Conf8!$P$54>List!AO129,List!AO129+1,\"\")","v":""},{"$f":"IF(Conf9!$P$55>List!AP129,List!AP129+1,\"\")","v":""},{"$f":"IF(Conf9!$P$54+Conf9!$P$55>List!AQ129,List!AQ129+1,\"\")","v":""},{"$f":"IF(Conf9!$P$54>List!AR129,List!AR129+1,\"\")","v":""},{"$f":"IF(Conf10!$P$55>List!AS129,List!AS129+1,\"\")","v":""},{"$f":"IF(Conf10!$P$54+Conf10!$P$55>List!AT129,List!AT129+1,\"\")","v":""},{"$f":"IF(Conf10!$P$54>List!AU129,List!AU129+1,\"\")","v":""}]
[null,null,null,null,null,null,null,null,null,null,null,{"$f":"IF(Configurator!$P$55>List!L130,List!L130+1,\"\")","v":""},{"$f":"IF(Configurator!$P$54+Configurator!$P$55>List!M130,List!M130+1,\"\")","v":""},{"$f":"IF(Configurator!$P$54>List!N130,List!N130+1,\"\")","v":""},{"$f":"IF(Conf2!$P$55>List!O130,List!O130+1,\"\")","v":""},{"$f":"IF(Conf2!$P$54+Conf2!$P$55>List!P130,List!P130+1,\"\")","v":""},{"$f":"IF(Conf2!$P$54>List!Q130,List!Q130+1,\"\")","v":""},{"$f":"IF(Conf3!$P$55>List!R130,List!R130+1,\"\")","v":""},{"$f":"IF(Conf3!$P$54+Conf3!$P$55>List!S130,List!S130+1,\"\")","v":""},{"$f":"IF(Conf3!$P$54>List!T130,List!T130+1,\"\")","v":""},{"$f":"IF(Conf4!$P$55>List!U130,List!U130+1,\"\")","v":""},{"$f":"IF(Conf4!$P$54+Conf4!$P$55>List!V130,List!V130+1,\"\")","v":""},{"$f":"IF(Conf4!$P$54>List!W130,List!W130+1,\"\")","v":""},null,null,null,null,null,null,{"$f":"IF(Conf5!$P$55>List!AD130,List!AD130+1,\"\")","v":""},{"$f":"IF(Conf5!$P$54+Conf5!$P$55>List!AE130,List!AE130+1,\"\")","v":""},{"$f":"IF(Conf5!$P$54>List!AF130,List!AF130+1,\"\")","v":""},{"$f":"IF(Conf6!$P$55>List!AG130,List!AG130+1,\"\")","v":""},{"$f":"IF(Conf6!$P$54+Conf6!$P$55>List!AH130,List!AH130+1,\"\")","v":""},{"$f":"IF(Conf6!$P$54>List!AI130,List!AI130+1,\"\")","v":""},{"$f":"IF(Conf7!$P$55>List!AJ130,List!AJ130+1,\"\")","v":""},{"$f":"IF(Conf7!$P$54+Conf7!$P$55>List!AK130,List!AK130+1,\"\")","v":""},{"$f":"IF(Conf7!$P$54>List!AL130,List!AL130+1,\"\")","v":""},{"$f":"IF(Conf8!$P$55>List!AM130,List!AM130+1,\"\")","v":""},{"$f":"IF(Conf8!$P$54+Conf8!$P$55>List!AN130,List!AN130+1,\"\")","v":""},{"$f":"IF(Conf8!$P$54>List!AO130,List!AO130+1,\"\")","v":""},{"$f":"IF(Conf9!$P$55>List!AP130,List!AP130+1,\"\")","v":""},{"$f":"IF(Conf9!$P$54+Conf9!$P$55>List!AQ130,List!AQ130+1,\"\")","v":""},{"$f":"IF(Conf9!$P$54>List!AR130,List!AR130+1,\"\")","v":""},{"$f":"IF(Conf10!$P$55>List!AS130,List!AS130+1,\"\")","v":""},{"$f":"IF(Conf10!$P$54+Conf10!$P$55>List!AT130,List!AT130+1,\"\")","v":""},{"$f":"IF(Conf10!$P$54>List!AU130,List!AU130+1,\"\")","v":""}]
[null,null,null,null,null,null,null,null,null,null,null,{"$f":"IF(Configurator!$P$55>List!L131,List!L131+1,\"\")","v":""},{"$f":"IF(Configurator!$P$54+Configurator!$P$55>List!M131,List!M131+1,\"\")","v":""},{"$f":"IF(Configurator!$P$54>List!N131,List!N131+1,\"\")","v":""},{"$f":"IF(Conf2!$P$55>List!O131,List!O131+1,\"\")","v":""},{"$f":"IF(Conf2!$P$54+Conf2!$P$55>List!P131,List!P131+1,\"\")","v":""},{"$f":"IF(Conf2!$P$54>List!Q131,List!Q131+1,\"\")","v":""},{"$f":"IF(Conf3!$P$55>List!R131,List!R131+1,\"\")","v":""},{"$f":"IF(Conf3!$P$54+Conf3!$P$55>List!S131,List!S131+1,\"\")","v":""},{"$f":"IF(Conf3!$P$54>List!T131,List!T131+1,\"\")","v":""},{"$f":"IF(Conf4!$P$55>List!U131,List!U131+1,\"\")","v":""},{"$f":"IF(Conf4!$P$54+Conf4!$P$55>List!V131,List!V131+1,\"\")","v":""},{"$f":"IF(Conf4!$P$54>List!W131,List!W131+1,\"\")","v":""},null,null,null,null,null,null,{"$f":"IF(Conf5!$P$55>List!AD131,List!AD131+1,\"\")","v":""},{"$f":"IF(Conf5!$P$54+Conf5!$P$55>List!AE131,List!AE131+1,\"\")","v":""},{"$f":"IF(Conf5!$P$54>List!AF131,List!AF131+1,\"\")","v":""},{"$f":"IF(Conf6!$P$55>List!AG131,List!AG131+1,\"\")","v":""},{"$f":"IF(Conf6!$P$54+Conf6!$P$55>List!AH131,List!AH131+1,\"\")","v":""},{"$f":"IF(Conf6!$P$54>List!AI131,List!AI131+1,\"\")","v":""},{"$f":"IF(Conf7!$P$55>List!AJ131,List!AJ131+1,\"\")","v":""},{"$f":"IF(Conf7!$P$54+Conf7!$P$55>List!AK131,List!AK131+1,\"\")","v":""},{"$f":"IF(Conf7!$P$54>List!AL131,List!AL131+1,\"\")","v":""},{"$f":"IF(Conf8!$P$55>List!AM131,List!AM131+1,\"\")","v":""},{"$f":"IF(Conf8!$P$54+Conf8!$P$55>List!AN131,List!AN131+1,\"\")","v":""},{"$f":"IF(Conf8!$P$54>List!AO131,List!AO131+1,\"\")","v":""},{"$f":"IF(Conf9!$P$55>List!AP131,List!AP131+1,\"\")","v":""},{"$f":"IF(Conf9!$P$54+Conf9!$P$55>List!AQ131,List!AQ131+1,\"\")","v":""},{"$f":"IF(Conf9!$P$54>List!AR131,List!AR131+1,\"\")","v":""},{"$f":"IF(Conf10!$P$55>List!AS131,List!AS131+1,\"\")","v":""},{"$f":"IF(Conf10!$P$54+Conf10!$P$55>List!AT131,List!AT131+1,\"\")","v":""},{"$f":"IF(Conf10!$P$54>List!AU131,List!AU131+1,\"\")","v":""}]
[null,null,null,null,null,null,null,null,null,null,null,{"$f":"IF(Configurator!$P$55>List!L132,List!L132+1,\"\")","v":""},{"$f":"IF(Configurator!$P$54+Configurator!$P$55>List!M132,List!M132+1,\"\")","v":""},{"$f":"IF(Configurator!$P$54>List!N132,List!N132+1,\"\")","v":""},{"$f":"IF(Conf2!$P$55>List!O132,List!O132+1,\"\")","v":""},{"$f":"IF(Conf2!$P$54+Conf2!$P$55>List!P132,List!P132+1,\"\")","v":""},{"$f":"IF(Conf2!$P$54>List!Q132,List!Q132+1,\"\")","v":""},{"$f":"IF(Conf3!$P$55>List!R132,List!R132+1,\"\")","v":""},{"$f":"IF(Conf3!$P$54+Conf3!$P$55>List!S132,List!S132+1,\"\")","v":""},{"$f":"IF(Conf3!$P$54>List!T132,List!T132+1,\"\")","v":""},{"$f":"IF(Conf4!$P$55>List!U132,List!U132+1,\"\")","v":""},{"$f":"IF(Conf4!$P$54+Conf4!$P$55>List!V132,List!V132+1,\"\")","v":""},{"$f":"IF(Conf4!$P$54>List!W132,List!W132+1,\"\")","v":""},null,null,null,null,null,null,{"$f":"IF(Conf5!$P$55>List!AD132,List!AD132+1,\"\")","v":""},{"$f":"IF(Conf5!$P$54+Conf5!$P$55>List!AE132,List!AE132+1,\"\")","v":""},{"$f":"IF(Conf5!$P$54>List!AF132,List!AF132+1,\"\")","v":""},{"$f":"IF(Conf6!$P$55>List!AG132,List!AG132+1,\"\")","v":""},{"$f":"IF(Conf6!$P$54+Conf6!$P$55>List!AH132,List!AH132+1,\"\")","v":""},{"$f":"IF(Conf6!$P$54>List!AI132,List!AI132+1,\"\")","v":""},{"$f":"IF(Conf7!$P$55>List!AJ132,List!AJ132+1,\"\")","v":""},{"$f":"IF(Conf7!$P$54+Conf7!$P$55>List!AK132,List!AK132+1,\"\")","v":""},{"$f":"IF(Conf7!$P$54>List!AL132,List!AL132+1,\"\")","v":""},{"$f":"IF(Conf8!$P$55>List!AM132,List!AM132+1,\"\")","v":""},{"$f":"IF(Conf8!$P$54+Conf8!$P$55>List!AN132,List!AN132+1,\"\")","v":""},{"$f":"IF(Conf8!$P$54>List!AO132,List!AO132+1,\"\")","v":""},{"$f":"IF(Conf9!$P$55>List!AP132,List!AP132+1,\"\")","v":""},{"$f":"IF(Conf9!$P$54+Conf9!$P$55>List!AQ132,List!AQ132+1,\"\")","v":""},{"$f":"IF(Conf9!$P$54>List!AR132,List!AR132+1,\"\")","v":""},{"$f":"IF(Conf10!$P$55>List!AS132,List!AS132+1,\"\")","v":""},{"$f":"IF(Conf10!$P$54+Conf10!$P$55>List!AT132,List!AT132+1,\"\")","v":""},{"$f":"IF(Conf10!$P$54>List!AU132,List!AU132+1,\"\")","v":""}]
[null,null,null,null,null,null,null,null,null,null,null,{"$f":"IF(Configurator!$P$55>List!L133,List!L133+1,\"\")","v":""},{"$f":"IF(Configurator!$P$54+Configurator!$P$55>List!M133,List!M133+1,\"\")","v":""},{"$f":"IF(Configurator!$P$54>List!N133,List!N133+1,\"\")","v":""},{"$f":"IF(Conf2!$P$55>List!O133,List!O133+1,\"\")","v":""},{"$f":"IF(Conf2!$P$54+Conf2!$P$55>List!P133,List!P133+1,\"\")","v":""},{"$f":"IF(Conf2!$P$54>List!Q133,List!Q133+1,\"\")","v":""},{"$f":"IF(Conf3!$P$55>List!R133,List!R133+1,\"\")","v":""},{"$f":"IF(Conf3!$P$54+Conf3!$P$55>List!S133,List!S133+1,\"\")","v":""},{"$f":"IF(Conf3!$P$54>List!T133,List!T133+1,\"\")","v":""},{"$f":"IF(Conf4!$P$55>List!U133,List!U133+1,\"\")","v":""},{"$f":"IF(Conf4!$P$54+Conf4!$P$55>List!V133,List!V133+1,\"\")","v":""},{"$f":"IF(Conf4!$P$54>List!W133,List!W133+1,\"\")","v":""},null,null,null,null,null,null,{"$f":"IF(Conf5!$P$55>List!AD133,List!AD133+1,\"\")","v":""},{"$f":"IF(Conf5!$P$54+Conf5!$P$55>List!AE133,List!AE133+1,\"\")","v":""},{"$f":"IF(Conf5!$P$54>List!AF133,List!AF133+1,\"\")","v":""},{"$f":"IF(Conf6!$P$55>List!AG133,List!AG133+1,\"\")","v":""},{"$f":"IF(Conf6!$P$54+Conf6!$P$55>List!AH133,List!AH133+1,\"\")","v":""},{"$f":"IF(Conf6!$P$54>List!AI133,List!AI133+1,\"\")","v":""},{"$f":"IF(Conf7!$P$55>List!AJ133,List!AJ133+1,\"\")","v":""},{"$f":"IF(Conf7!$P$54+Conf7!$P$55>List!AK133,List!AK133+1,\"\")","v":""},{"$f":"IF(Conf7!$P$54>List!AL133,List!AL133+1,\"\")","v":""},{"$f":"IF(Conf8!$P$55>List!AM133,List!AM133+1,\"\")","v":""},{"$f":"IF(Conf8!$P$54+Conf8!$P$55>List!AN133,List!AN133+1,\"\")","v":""},{"$f":"IF(Conf8!$P$54>List!AO133,List!AO133+1,\"\")","v":""},{"$f":"IF(Conf9!$P$55>List!AP133,List!AP133+1,\"\")","v":""},{"$f":"IF(Conf9!$P$54+Conf9!$P$55>List!AQ133,List!AQ133+1,\"\")","v":""},{"$f":"IF(Conf9!$P$54>List!AR133,List!AR133+1,\"\")","v":""},{"$f":"IF(Conf10!$P$55>List!AS133,List!AS133+1,\"\")","v":""},{"$f":"IF(Conf10!$P$54+Conf10!$P$55>List!AT133,List!AT133+1,\"\")","v":""},{"$f":"IF(Conf10!$P$54>List!AU133,List!AU133+1,\"\")","v":""}]
[null,null,null,null,null,null,null,null,null,null,null,{"$f":"IF(Configurator!$P$55>List!L134,List!L134+1,\"\")","v":""},{"$f":"IF(Configurator!$P$54+Configurator!$P$55>List!M134,List!M134+1,\"\")","v":""},{"$f":"IF(Configurator!$P$54>List!N134,List!N134+1,\"\")","v":""},{"$f":"IF(Conf2!$P$55>List!O134,List!O134+1,\"\")","v":""},{"$f":"IF(Conf2!$P$54+Conf2!$P$55>List!P134,List!P134+1,\"\")","v":""},{"$f":"IF(Conf2!$P$54>List!Q134,List!Q134+1,\"\")","v":""},{"$f":"IF(Conf3!$P$55>List!R134,List!R134+1,\"\")","v":""},{"$f":"IF(Conf3!$P$54+Conf3!$P$55>List!S134,List!S134+1,\"\")","v":""},{"$f":"IF(Conf3!$P$54>List!T134,List!T134+1,\"\")","v":""},{"$f":"IF(Conf4!$P$55>List!U134,List!U134+1,\"\")","v":""},{"$f":"IF(Conf4!$P$54+Conf4!$P$55>List!V134,List!V134+1,\"\")","v":""},{"$f":"IF(Conf4!$P$54>List!W134,List!W134+1,\"\")","v":""},null,null,null,null,null,null,{"$f":"IF(Conf5!$P$55>List!AD134,List!AD134+1,\"\")","v":""},{"$f":"IF(Conf5!$P$54+Conf5!$P$55>List!AE134,List!AE134+1,\"\")","v":""},{"$f":"IF(Conf5!$P$54>List!AF134,List!AF134+1,\"\")","v":""},{"$f":"IF(Conf6!$P$55>List!AG134,List!AG134+1,\"\")","v":""},{"$f":"IF(Conf6!$P$54+Conf6!$P$55>List!AH134,List!AH134+1,\"\")","v":""},{"$f":"IF(Conf6!$P$54>List!AI134,List!AI134+1,\"\")","v":""},{"$f":"IF(Conf7!$P$55>List!AJ134,List!AJ134+1,\"\")","v":""},{"$f":"IF(Conf7!$P$54+Conf7!$P$55>List!AK134,List!AK134+1,\"\")","v":""},{"$f":"IF(Conf7!$P$54>List!AL134,List!AL134+1,\"\")","v":""},{"$f":"IF(Conf8!$P$55>List!AM134,List!AM134+1,\"\")","v":""},{"$f":"IF(Conf8!$P$54+Conf8!$P$55>List!AN134,List!AN134+1,\"\")","v":""},{"$f":"IF(Conf8!$P$54>List!AO134,List!AO134+1,\"\")","v":""},{"$f":"IF(Conf9!$P$55>List!AP134,List!AP134+1,\"\")","v":""},{"$f":"IF(Conf9!$P$54+Conf9!$P$55>List!AQ134,List!AQ134+1,\"\")","v":""},{"$f":"IF(Conf9!$P$54>List!AR134,List!AR134+1,\"\")","v":""},{"$f":"IF(Conf10!$P$55>List!AS134,List!AS134+1,\"\")","v":""},{"$f":"IF(Conf10!$P$54+Conf10!$P$55>List!AT134,List!AT134+1,\"\")","v":""},{"$f":"IF(Conf10!$P$54>List!AU134,List!AU134+1,\"\")","v":""}]
[null,null,null,null,null,null,null,null,null,null,null,{"$f":"IF(Configurator!$P$55>List!L135,List!L135+1,\"\")","v":""},{"$f":"IF(Configurator!$P$54+Configurator!$P$55>List!M135,List!M135+1,\"\")","v":""},{"$f":"IF(Configurator!$P$54>List!N135,List!N135+1,\"\")","v":""},{"$f":"IF(Conf2!$P$55>List!O135,List!O135+1,\"\")","v":""},{"$f":"IF(Conf2!$P$54+Conf2!$P$55>List!P135,List!P135+1,\"\")","v":""},{"$f":"IF(Conf2!$P$54>List!Q135,List!Q135+1,\"\")","v":""},{"$f":"IF(Conf3!$P$55>List!R135,List!R135+1,\"\")","v":""},{"$f":"IF(Conf3!$P$54+Conf3!$P$55>List!S135,List!S135+1,\"\")","v":""},{"$f":"IF(Conf3!$P$54>List!T135,List!T135+1,\"\")","v":""},{"$f":"IF(Conf4!$P$55>List!U135,List!U135+1,\"\")","v":""},{"$f":"IF(Conf4!$P$54+Conf4!$P$55>List!V135,List!V135+1,\"\")","v":""},{"$f":"IF(Conf4!$P$54>List!W135,List!W135+1,\"\")","v":""},null,null,null,null,null,null,{"$f":"IF(Conf5!$P$55>List!AD135,List!AD135+1,\"\")","v":""},{"$f":"IF(Conf5!$P$54+Conf5!$P$55>List!AE135,List!AE135+1,\"\")","v":""},{"$f":"IF(Conf5!$P$54>List!AF135,List!AF135+1,\"\")","v":""},{"$f":"IF(Conf6!$P$55>List!AG135,List!AG135+1,\"\")","v":""},{"$f":"IF(Conf6!$P$54+Conf6!$P$55>List!AH135,List!AH135+1,\"\")","v":""},{"$f":"IF(Conf6!$P$54>List!AI135,List!AI135+1,\"\")","v":""},{"$f":"IF(Conf7!$P$55>List!AJ135,List!AJ135+1,\"\")","v":""},{"$f":"IF(Conf7!$P$54+Conf7!$P$55>List!AK135,List!AK135+1,\"\")","v":""},{"$f":"IF(Conf7!$P$54>List!AL135,List!AL135+1,\"\")","v":""},{"$f":"IF(Conf8!$P$55>List!AM135,List!AM135+1,\"\")","v":""},{"$f":"IF(Conf8!$P$54+Conf8!$P$55>List!AN135,List!AN135+1,\"\")","v":""},{"$f":"IF(Conf8!$P$54>List!AO135,List!AO135+1,\"\")","v":""},{"$f":"IF(Conf9!$P$55>List!AP135,List!AP135+1,\"\")","v":""},{"$f":"IF(Conf9!$P$54+Conf9!$P$55>List!AQ135,List!AQ135+1,\"\")","v":""},{"$f":"IF(Conf9!$P$54>List!AR135,List!AR135+1,\"\")","v":""},{"$f":"IF(Conf10!$P$55>List!AS135,List!AS135+1,\"\")","v":""},{"$f":"IF(Conf10!$P$54+Conf10!$P$55>List!AT135,List!AT135+1,\"\")","v":""},{"$f":"IF(Conf10!$P$54>List!AU135,List!AU135+1,\"\")","v":""}]
[null,null,null,null,null,null,null,null,null,null,null,{"$f":"IF(Configurator!$P$55>List!L136,List!L136+1,\"\")","v":""},{"$f":"IF(Configurator!$P$54+Configurator!$P$55>List!M136,List!M136+1,\"\")","v":""},{"$f":"IF(Configurator!$P$54>List!N136,List!N136+1,\"\")","v":""},{"$f":"IF(Conf2!$P$55>List!O136,List!O136+1,\"\")","v":""},{"$f":"IF(Conf2!$P$54+Conf2!$P$55>List!P136,List!P136+1,\"\")","v":""},{"$f":"IF(Conf2!$P$54>List!Q136,List!Q136+1,\"\")","v":""},{"$f":"IF(Conf3!$P$55>List!R136,List!R136+1,\"\")","v":""},{"$f":"IF(Conf3!$P$54+Conf3!$P$55>List!S136,List!S136+1,\"\")","v":""},{"$f":"IF(Conf3!$P$54>List!T136,List!T136+1,\"\")","v":""},{"$f":"IF(Conf4!$P$55>List!U136,List!U136+1,\"\")","v":""},{"$f":"IF(Conf4!$P$54+Conf4!$P$55>List!V136,List!V136+1,\"\")","v":""},{"$f":"IF(Conf4!$P$54>List!W136,List!W136+1,\"\")","v":""},null,null,null,null,null,null,{"$f":"IF(Conf5!$P$55>List!AD136,List!AD136+1,\"\")","v":""},{"$f":"IF(Conf5!$P$54+Conf5!$P$55>List!AE136,List!AE136+1,\"\")","v":""},{"$f":"IF(Conf5!$P$54>List!AF136,List!AF136+1,\"\")","v":""},{"$f":"IF(Conf6!$P$55>List!AG136,List!AG136+1,\"\")","v":""},{"$f":"IF(Conf6!$P$54+Conf6!$P$55>List!AH136,List!AH136+1,\"\")","v":""},{"$f":"IF(Conf6!$P$54>List!AI136,List!AI136+1,\"\")","v":""},{"$f":"IF(Conf7!$P$55>List!AJ136,List!AJ136+1,\"\")","v":""},{"$f":"IF(Conf7!$P$54+Conf7!$P$55>List!AK136,List!AK136+1,\"\")","v":""},{"$f":"IF(Conf7!$P$54>List!AL136,List!AL136+1,\"\")","v":""},{"$f":"IF(Conf8!$P$55>List!AM136,List!AM136+1,\"\")","v":""},{"$f":"IF(Conf8!$P$54+Conf8!$P$55>List!AN136,List!AN136+1,\"\")","v":""},{"$f":"IF(Conf8!$P$54>List!AO136,List!AO136+1,\"\")","v":""},{"$f":"IF(Conf9!$P$55>List!AP136,List!AP136+1,\"\")","v":""},{"$f":"IF(Conf9!$P$54+Conf9!$P$55>List!AQ136,List!AQ136+1,\"\")","v":""},{"$f":"IF(Conf9!$P$54>List!AR136,List!AR136+1,\"\")","v":""},{"$f":"IF(Conf10!$P$55>List!AS136,List!AS136+1,\"\")","v":""},{"$f":"IF(Conf10!$P$54+Conf10!$P$55>List!AT136,List!AT136+1,\"\")","v":""},{"$f":"IF(Conf10!$P$54>List!AU136,List!AU136+1,\"\")","v":""}]
[null,null,null,null,null,null,null,null,null,null,null,{"$f":"IF(Configurator!$P$55>List!L137,List!L137+1,\"\")","v":""},{"$f":"IF(Configurator!$P$54+Configurator!$P$55>List!M137,List!M137+1,\"\")","v":""},{"$f":"IF(Configurator!$P$54>List!N137,List!N137+1,\"\")","v":""},{"$f":"IF(Conf2!$P$55>List!O137,List!O137+1,\"\")","v":""},{"$f":"IF(Conf2!$P$54+Conf2!$P$55>List!P137,List!P137+1,\"\")","v":""},{"$f":"IF(Conf2!$P$54>List!Q137,List!Q137+1,\"\")","v":""},{"$f":"IF(Conf3!$P$55>List!R137,List!R137+1,\"\")","v":""},{"$f":"IF(Conf3!$P$54+Conf3!$P$55>List!S137,List!S137+1,\"\")","v":""},{"$f":"IF(Conf3!$P$54>List!T137,List!T137+1,\"\")","v":""},{"$f":"IF(Conf4!$P$55>List!U137,List!U137+1,\"\")","v":""},{"$f":"IF(Conf4!$P$54+Conf4!$P$55>List!V137,List!V137+1,\"\")","v":""},{"$f":"IF(Conf4!$P$54>List!W137,List!W137+1,\"\")","v":""},null,null,null,null,null,null,{"$f":"IF(Conf5!$P$55>List!AD137,List!AD137+1,\"\")","v":""},{"$f":"IF(Conf5!$P$54+Conf5!$P$55>List!AE137,List!AE137+1,\"\")","v":""},{"$f":"IF(Conf5!$P$54>List!AF137,List!AF137+1,\"\")","v":""},{"$f":"IF(Conf6!$P$55>List!AG137,List!AG137+1,\"\")","v":""},{"$f":"IF(Conf6!$P$54+Conf6!$P$55>List!AH137,List!AH137+1,\"\")","v":""},{"$f":"IF(Conf6!$P$54>List!AI137,List!AI137+1,\"\")","v":""},{"$f":"IF(Conf7!$P$55>List!AJ137,List!AJ137+1,\"\")","v":""},{"$f":"IF(Conf7!$P$54+Conf7!$P$55>List!AK137,List!AK137+1,\"\")","v":""},{"$f":"IF(Conf7!$P$54>List!AL137,List!AL137+1,\"\")","v":""},{"$f":"IF(Conf8!$P$55>List!AM137,List!AM137+1,\"\")","v":""},{"$f":"IF(Conf8!$P$54+Conf8!$P$55>List!AN137,List!AN137+1,\"\")","v":""},{"$f":"IF(Conf8!$P$54>List!AO137,List!AO137+1,\"\")","v":""},{"$f":"IF(Conf9!$P$55>List!AP137,List!AP137+1,\"\")","v":""},{"$f":"IF(Conf9!$P$54+Conf9!$P$55>List!AQ137,List!AQ137+1,\"\")","v":""},{"$f":"IF(Conf9!$P$54>List!AR137,List!AR137+1,\"\")","v":""},{"$f":"IF(Conf10!$P$55>List!AS137,List!AS137+1,\"\")","v":""},{"$f":"IF(Conf10!$P$54+Conf10!$P$55>List!AT137,List!AT137+1,\"\")","v":""},{"$f":"IF(Conf10!$P$54>List!AU137,List!AU137+1,\"\")","v":""}]
[null,null,null,null,null,null,null,null,null,null,null,{"$f":"IF(Configurator!$P$55>List!L138,List!L138+1,\"\")","v":""},{"$f":"IF(Configurator!$P$54+Configurator!$P$55>List!M138,List!M138+1,\"\")","v":""},{"$f":"IF(Configurator!$P$54>List!N138,List!N138+1,\"\")","v":""},{"$f":"IF(Conf2!$P$55>List!O138,List!O138+1,\"\")","v":""},{"$f":"IF(Conf2!$P$54+Conf2!$P$55>List!P138,List!P138+1,\"\")","v":""},{"$f":"IF(Conf2!$P$54>List!Q138,List!Q138+1,\"\")","v":""},{"$f":"IF(Conf3!$P$55>List!R138,List!R138+1,\"\")","v":""},{"$f":"IF(Conf3!$P$54+Conf3!$P$55>List!S138,List!S138+1,\"\")","v":""},{"$f":"IF(Conf3!$P$54>List!T138,List!T138+1,\"\")","v":""},{"$f":"IF(Conf4!$P$55>List!U138,List!U138+1,\"\")","v":""},{"$f":"IF(Conf4!$P$54+Conf4!$P$55>List!V138,List!V138+1,\"\")","v":""},{"$f":"IF(Conf4!$P$54>List!W138,List!W138+1,\"\")","v":""},null,null,null,null,null,null,{"$f":"IF(Conf5!$P$55>List!AD138,List!AD138+1,\"\")","v":""},{"$f":"IF(Conf5!$P$54+Conf5!$P$55>List!AE138,List!AE138+1,\"\")","v":""},{"$f":"IF(Conf5!$P$54>List!AF138,List!AF138+1,\"\")","v":""},{"$f":"IF(Conf6!$P$55>List!AG138,List!AG138+1,\"\")","v":""},{"$f":"IF(Conf6!$P$54+Conf6!$P$55>List!AH138,List!AH138+1,\"\")","v":""},{"$f":"IF(Conf6!$P$54>List!AI138,List!AI138+1,\"\")","v":""},{"$f":"IF(Conf7!$P$55>List!AJ138,List!AJ138+1,\"\")","v":""},{"$f":"IF(Conf7!$P$54+Conf7!$P$55>List!AK138,List!AK138+1,\"\")","v":""},{"$f":"IF(Conf7!$P$54>List!AL138,List!AL138+1,\"\")","v":""},{"$f":"IF(Conf8!$P$55>List!AM138,List!AM138+1,\"\")","v":""},{"$f":"IF(Conf8!$P$54+Conf8!$P$55>List!AN138,List!AN138+1,\"\")","v":""},{"$f":"IF(Conf8!$P$54>List!AO138,List!AO138+1,\"\")","v":""},{"$f":"IF(Conf9!$P$55>List!AP138,List!AP138+1,\"\")","v":""},{"$f":"IF(Conf9!$P$54+Conf9!$P$55>List!AQ138,List!AQ138+1,\"\")","v":""},{"$f":"IF(Conf9!$P$54>List!AR138,List!AR138+1,\"\")","v":""},{"$f":"IF(Conf10!$P$55>List!AS138,List!AS138+1,\"\")","v":""},{"$f":"IF(Conf10!$P$54+Conf10!$P$55>List!AT138,List!AT138+1,\"\")","v":""},{"$f":"IF(Conf10!$P$54>List!AU138,List!AU138+1,\"\")","v":""}]
[null,null,null,null,null,null,null,null,null,null,null,{"$f":"IF(Configurator!$P$55>List!L139,List!L139+1,\"\")","v":""},{"$f":"IF(Configurator!$P$54+Configurator!$P$55>List!M139,List!M139+1,\"\")","v":""},{"$f":"IF(Configurator!$P$54>List!N139,List!N139+1,\"\")","v":""},{"$f":"IF(Conf2!$P$55>List!O139,List!O139+1,\"\")","v":""},{"$f":"IF(Conf2!$P$54+Conf2!$P$55>List!P139,List!P139+1,\"\")","v":""},{"$f":"IF(Conf2!$P$54>List!Q139,List!Q139+1,\"\")","v":""},{"$f":"IF(Conf3!$P$55>List!R139,List!R139+1,\"\")","v":""},{"$f":"IF(Conf3!$P$54+Conf3!$P$55>List!S139,List!S139+1,\"\")","v":""},{"$f":"IF(Conf3!$P$54>List!T139,List!T139+1,\"\")","v":""},{"$f":"IF(Conf4!$P$55>List!U139,List!U139+1,\"\")","v":""},{"$f":"IF(Conf4!$P$54+Conf4!$P$55>List!V139,List!V139+1,\"\")","v":""},{"$f":"IF(Conf4!$P$54>List!W139,List!W139+1,\"\")","v":""},null,null,null,null,null,null,{"$f":"IF(Conf5!$P$55>List!AD139,List!AD139+1,\"\")","v":""},{"$f":"IF(Conf5!$P$54+Conf5!$P$55>List!AE139,List!AE139+1,\"\")","v":""},{"$f":"IF(Conf5!$P$54>List!AF139,List!AF139+1,\"\")","v":""},{"$f":"IF(Conf6!$P$55>List!AG139,List!AG139+1,\"\")","v":""},{"$f":"IF(Conf6!$P$54+Conf6!$P$55>List!AH139,List!AH139+1,\"\")","v":""},{"$f":"IF(Conf6!$P$54>List!AI139,List!AI139+1,\"\")","v":""},{"$f":"IF(Conf7!$P$55>List!AJ139,List!AJ139+1,\"\")","v":""},{"$f":"IF(Conf7!$P$54+Conf7!$P$55>List!AK139,List!AK139+1,\"\")","v":""},{"$f":"IF(Conf7!$P$54>List!AL139,List!AL139+1,\"\")","v":""},{"$f":"IF(Conf8!$P$55>List!AM139,List!AM139+1,\"\")","v":""},{"$f":"IF(Conf8!$P$54+Conf8!$P$55>List!AN139,List!AN139+1,\"\")","v":""},{"$f":"IF(Conf8!$P$54>List!AO139,List!AO139+1,\"\")","v":""},{"$f":"IF(Conf9!$P$55>List!AP139,List!AP139+1,\"\")","v":""},{"$f":"IF(Conf9!$P$54+Conf9!$P$55>List!AQ139,List!AQ139+1,\"\")","v":""},{"$f":"IF(Conf9!$P$54>List!AR139,List!AR139+1,\"\")","v":""},{"$f":"IF(Conf10!$P$55>List!AS139,List!AS139+1,\"\")","v":""},{"$f":"IF(Conf10!$P$54+Conf10!$P$55>List!AT139,List!AT139+1,\"\")","v":""},{"$f":"IF(Conf10!$P$54>List!AU139,List!AU139+1,\"\")","v":""}]
[null,null,null,null,null,null,null,null,null,null,null,{"$f":"IF(Configurator!$P$55>List!L140,List!L140+1,\"\")","v":""},{"$f":"IF(Configurator!$P$54+Configurator!$P$55>List!M140,List!M140+1,\"\")","v":""},{"$f":"IF(Configurator!$P$54>List!N140,List!N140+1,\"\")","v":""},{"$f":"IF(Conf2!$P$55>List!O140,List!O140+1,\"\")","v":""},{"$f":"IF(Conf2!$P$54+Conf2!$P$55>List!P140,List!P140+1,\"\")","v":""},{"$f":"IF(Conf2!$P$54>List!Q140,List!Q140+1,\"\")","v":""},{"$f":"IF(Conf3!$P$55>List!R140,List!R140+1,\"\")","v":""},{"$f":"IF(Conf3!$P$54+Conf3!$P$55>List!S140,List!S140+1,\"\")","v":""},{"$f":"IF(Conf3!$P$54>List!T140,List!T140+1,\"\")","v":""},{"$f":"IF(Conf4!$P$55>List!U140,List!U140+1,\"\")","v":""},{"$f":"IF(Conf4!$P$54+Conf4!$P$55>List!V140,List!V140+1,\"\")","v":""},{"$f":"IF(Conf4!$P$54>List!W140,List!W140+1,\"\")","v":""},null,null,null,null,null,null,{"$f":"IF(Conf5!$P$55>List!AD140,List!AD140+1,\"\")","v":""},{"$f":"IF(Conf5!$P$54+Conf5!$P$55>List!AE140,List!AE140+1,\"\")","v":""},{"$f":"IF(Conf5!$P$54>List!AF140,List!AF140+1,\"\")","v":""},{"$f":"IF(Conf6!$P$55>List!AG140,List!AG140+1,\"\")","v":""},{"$f":"IF(Conf6!$P$54+Conf6!$P$55>List!AH140,List!AH140+1,\"\")","v":""},{"$f":"IF(Conf6!$P$54>List!AI140,List!AI140+1,\"\")","v":""},{"$f":"IF(Conf7!$P$55>List!AJ140,List!AJ140+1,\"\")","v":""},{"$f":"IF(Conf7!$P$54+Conf7!$P$55>List!AK140,List!AK140+1,\"\")","v":""},{"$f":"IF(Conf7!$P$54>List!AL140,List!AL140+1,\"\")","v":""},{"$f":"IF(Conf8!$P$55>List!AM140,List!AM140+1,\"\")","v":""},{"$f":"IF(Conf8!$P$54+Conf8!$P$55>List!AN140,List!AN140+1,\"\")","v":""},{"$f":"IF(Conf8!$P$54>List!AO140,List!AO140+1,\"\")","v":""},{"$f":"IF(Conf9!$P$55>List!AP140,List!AP140+1,\"\")","v":""},{"$f":"IF(Conf9!$P$54+Conf9!$P$55>List!AQ140,List!AQ140+1,\"\")","v":""},{"$f":"IF(Conf9!$P$54>List!AR140,List!AR140+1,\"\")","v":""},{"$f":"IF(Conf10!$P$55>List!AS140,List!AS140+1,\"\")","v":""},{"$f":"IF(Conf10!$P$54+Conf10!$P$55>List!AT140,List!AT140+1,\"\")","v":""},{"$f":"IF(Conf10!$P$54>List!AU140,List!AU140+1,\"\")","v":""}]
[null,null,null,null,null,null,null,null,null,null,null,{"$f":"IF(Configurator!$P$55>List!L141,List!L141+1,\"\")","v":""},{"$f":"IF(Configurator!$P$54+Configurator!$P$55>List!M141,List!M141+1,\"\")","v":""},{"$f":"IF(Configurator!$P$54>List!N141,List!N141+1,\"\")","v":""},{"$f":"IF(Conf2!$P$55>List!O141,List!O141+1,\"\")","v":""},{"$f":"IF(Conf2!$P$54+Conf2!$P$55>List!P141,List!P141+1,\"\")","v":""},{"$f":"IF(Conf2!$P$54>List!Q141,List!Q141+1,\"\")","v":""},{"$f":"IF(Conf3!$P$55>List!R141,List!R141+1,\"\")","v":""},{"$f":"IF(Conf3!$P$54+Conf3!$P$55>List!S141,List!S141+1,\"\")","v":""},{"$f":"IF(Conf3!$P$54>List!T141,List!T141+1,\"\")","v":""},{"$f":"IF(Conf4!$P$55>List!U141,List!U141+1,\"\")","v":""},{"$f":"IF(Conf4!$P$54+Conf4!$P$55>List!V141,List!V141+1,\"\")","v":""},{"$f":"IF(Conf4!$P$54>List!W141,List!W141+1,\"\")","v":""},null,null,null,null,null,null,{"$f":"IF(Conf5!$P$55>List!AD141,List!AD141+1,\"\")","v":""},{"$f":"IF(Conf5!$P$54+Conf5!$P$55>List!AE141,List!AE141+1,\"\")","v":""},{"$f":"IF(Conf5!$P$54>List!AF141,List!AF141+1,\"\")","v":""},{"$f":"IF(Conf6!$P$55>List!AG141,List!AG141+1,\"\")","v":""},{"$f":"IF(Conf6!$P$54+Conf6!$P$55>List!AH141,List!AH141+1,\"\")","v":""},{"$f":"IF(Conf6!$P$54>List!AI141,List!AI141+1,\"\")","v":""},{"$f":"IF(Conf7!$P$55>List!AJ141,List!AJ141+1,\"\")","v":""},{"$f":"IF(Conf7!$P$54+Conf7!$P$55>List!AK141,List!AK141+1,\"\")","v":""},{"$f":"IF(Conf7!$P$54>List!AL141,List!AL141+1,\"\")","v":""},{"$f":"IF(Conf8!$P$55>List!AM141,List!AM141+1,\"\")","v":""},{"$f":"IF(Conf8!$P$54+Conf8!$P$55>List!AN141,List!AN141+1,\"\")","v":""},{"$f":"IF(Conf8!$P$54>List!AO141,List!AO141+1,\"\")","v":""},{"$f":"IF(Conf9!$P$55>List!AP141,List!AP141+1,\"\")","v":""},{"$f":"IF(Conf9!$P$54+Conf9!$P$55>List!AQ141,List!AQ141+1,\"\")","v":""},{"$f":"IF(Conf9!$P$54>List!AR141,List!AR141+1,\"\")","v":""},{"$f":"IF(Conf10!$P$55>List!AS141,List!AS141+1,\"\")","v":""},{"$f":"IF(Conf10!$P$54+Conf10!$P$55>List!AT141,List!AT141+1,\"\")","v":""},{"$f":"IF(Conf10!$P$54>List!AU141,List!AU141+1,\"\")","v":""}]
[null,null,null,null,null,null,null,null,null,null,null,{"$f":"IF(Configurator!$P$55>List!L142,List!L142+1,\"\")","v":""},{"$f":"IF(Configurator!$P$54+Configurator!$P$55>List!M142,List!M142+1,\"\")","v":""},{"$f":"IF(Configurator!$P$54>List!N142,List!N142+1,\"\")","v":""},{"$f":"IF(Conf2!$P$55>List!O142,List!O142+1,\"\")","v":""},{"$f":"IF(Conf2!$P$54+Conf2!$P$55>List!P142,List!P142+1,\"\")","v":""},{"$f":"IF(Conf2!$P$54>List!Q142,List!Q142+1,\"\")","v":""},{"$f":"IF(Conf3!$P$55>List!R142,List!R142+1,\"\")","v":""},{"$f":"IF(Conf3!$P$54+Conf3!$P$55>List!S142,List!S142+1,\"\")","v":""},{"$f":"IF(Conf3!$P$54>List!T142,List!T142+1,\"\")","v":""},{"$f":"IF(Conf4!$P$55>List!U142,List!U142+1,\"\")","v":""},{"$f":"IF(Conf4!$P$54+Conf4!$P$55>List!V142,List!V142+1,\"\")","v":""},{"$f":"IF(Conf4!$P$54>List!W142,List!W142+1,\"\")","v":""},null,null,null,null,null,null,{"$f":"IF(Conf5!$P$55>List!AD142,List!AD142+1,\"\")","v":""},{"$f":"IF(Conf5!$P$54+Conf5!$P$55>List!AE142,List!AE142+1,\"\")","v":""},{"$f":"IF(Conf5!$P$54>List!AF142,List!AF142+1,\"\")","v":""},{"$f":"IF(Conf6!$P$55>List!AG142,List!AG142+1,\"\")","v":""},{"$f":"IF(Conf6!$P$54+Conf6!$P$55>List!AH142,List!AH142+1,\"\")","v":""},{"$f":"IF(Conf6!$P$54>List!AI142,List!AI142+1,\"\")","v":""},{"$f":"IF(Conf7!$P$55>List!AJ142,List!AJ142+1,\"\")","v":""},{"$f":"IF(Conf7!$P$54+Conf7!$P$55>List!AK142,List!AK142+1,\"\")","v":""},{"$f":"IF(Conf7!$P$54>List!AL142,List!AL142+1,\"\")","v":""},{"$f":"IF(Conf8!$P$55>List!AM142,List!AM142+1,\"\")","v":""},{"$f":"IF(Conf8!$P$54+Conf8!$P$55>List!AN142,List!AN142+1,\"\")","v":""},{"$f":"IF(Conf8!$P$54>List!AO142,List!AO142+1,\"\")","v":""},{"$f":"IF(Conf9!$P$55>List!AP142,List!AP142+1,\"\")","v":""},{"$f":"IF(Conf9!$P$54+Conf9!$P$55>List!AQ142,List!AQ142+1,\"\")","v":""},{"$f":"IF(Conf9!$P$54>List!AR142,List!AR142+1,\"\")","v":""},{"$f":"IF(Conf10!$P$55>List!AS142,List!AS142+1,\"\")","v":""},{"$f":"IF(Conf10!$P$54+Conf10!$P$55>List!AT142,List!AT142+1,\"\")","v":""},{"$f":"IF(Conf10!$P$54>List!AU142,List!AU142+1,\"\")","v":""}]
[null,null,null,null,null,null,null,null,null,null,null,{"$f":"IF(Configurator!$P$55>List!L143,List!L143+1,\"\")","v":""},{"$f":"IF(Configurator!$P$54+Configurator!$P$55>List!M143,List!M143+1,\"\")","v":""},{"$f":"IF(Configurator!$P$54>List!N143,List!N143+1,\"\")","v":""},{"$f":"IF(Conf2!$P$55>List!O143,List!O143+1,\"\")","v":""},{"$f":"IF(Conf2!$P$54+Conf2!$P$55>List!P143,List!P143+1,\"\")","v":""},{"$f":"IF(Conf2!$P$54>List!Q143,List!Q143+1,\"\")","v":""},{"$f":"IF(Conf3!$P$55>List!R143,List!R143+1,\"\")","v":""},{"$f":"IF(Conf3!$P$54+Conf3!$P$55>List!S143,List!S143+1,\"\")","v":""},{"$f":"IF(Conf3!$P$54>List!T143,List!T143+1,\"\")","v":""},{"$f":"IF(Conf4!$P$55>List!U143,List!U143+1,\"\")","v":""},{"$f":"IF(Conf4!$P$54+Conf4!$P$55>List!V143,List!V143+1,\"\")","v":""},{"$f":"IF(Conf4!$P$54>List!W143,List!W143+1,\"\")","v":""},null,null,null,null,null,null,{"$f":"IF(Conf5!$P$55>List!AD143,List!AD143+1,\"\")","v":""},{"$f":"IF(Conf5!$P$54+Conf5!$P$55>List!AE143,List!AE143+1,\"\")","v":""},{"$f":"IF(Conf5!$P$54>List!AF143,List!AF143+1,\"\")","v":""},{"$f":"IF(Conf6!$P$55>List!AG143,List!AG143+1,\"\")","v":""},{"$f":"IF(Conf6!$P$54+Conf6!$P$55>List!AH143,List!AH143+1,\"\")","v":""},{"$f":"IF(Conf6!$P$54>List!AI143,List!AI143+1,\"\")","v":""},{"$f":"IF(Conf7!$P$55>List!AJ143,List!AJ143+1,\"\")","v":""},{"$f":"IF(Conf7!$P$54+Conf7!$P$55>List!AK143,List!AK143+1,\"\")","v":""},{"$f":"IF(Conf7!$P$54>List!AL143,List!AL143+1,\"\")","v":""},{"$f":"IF(Conf8!$P$55>List!AM143,List!AM143+1,\"\")","v":""},{"$f":"IF(Conf8!$P$54+Conf8!$P$55>List!AN143,List!AN143+1,\"\")","v":""},{"$f":"IF(Conf8!$P$54>List!AO143,List!AO143+1,\"\")","v":""},{"$f":"IF(Conf9!$P$55>List!AP143,List!AP143+1,\"\")","v":""},{"$f":"IF(Conf9!$P$54+Conf9!$P$55>List!AQ143,List!AQ143+1,\"\")","v":""},{"$f":"IF(Conf9!$P$54>List!AR143,List!AR143+1,\"\")","v":""},{"$f":"IF(Conf10!$P$55>List!AS143,List!AS143+1,\"\")","v":""},{"$f":"IF(Conf10!$P$54+Conf10!$P$55>List!AT143,List!AT143+1,\"\")","v":""},{"$f":"IF(Conf10!$P$54>List!AU143,List!AU143+1,\"\")","v":""}]
[null,null,null,null,null,null,null,null,null,null,null,{"$f":"IF(Configurator!$P$55>List!L144,List!L144+1,\"\")","v":""},{"$f":"IF(Configurator!$P$54+Configurator!$P$55>List!M144,List!M144+1,\"\")","v":""},{"$f":"IF(Configurator!$P$54>List!N144,List!N144+1,\"\")","v":""},{"$f":"IF(Conf2!$P$55>List!O144,List!O144+1,\"\")","v":""},{"$f":"IF(Conf2!$P$54+Conf2!$P$55>List!P144,List!P144+1,\"\")","v":""},{"$f":"IF(Conf2!$P$54>List!Q144,List!Q144+1,\"\")","v":""},{"$f":"IF(Conf3!$P$55>List!R144,List!R144+1,\"\")","v":""},{"$f":"IF(Conf3!$P$54+Conf3!$P$55>List!S144,List!S144+1,\"\")","v":""},{"$f":"IF(Conf3!$P$54>List!T144,List!T144+1,\"\")","v":""},{"$f":"IF(Conf4!$P$55>List!U144,List!U144+1,\"\")","v":""},{"$f":"IF(Conf4!$P$54+Conf4!$P$55>List!V144,List!V144+1,\"\")","v":""},{"$f":"IF(Conf4!$P$54>List!W144,List!W144+1,\"\")","v":""},null,null,null,null,null,null,{"$f":"IF(Conf5!$P$55>List!AD144,List!AD144+1,\"\")","v":""},{"$f":"IF(Conf5!$P$54+Conf5!$P$55>List!AE144,List!AE144+1,\"\")","v":""},{"$f":"IF(Conf5!$P$54>List!AF144,List!AF144+1,\"\")","v":""},{"$f":"IF(Conf6!$P$55>List!AG144,List!AG144+1,\"\")","v":""},{"$f":"IF(Conf6!$P$54+Conf6!$P$55>List!AH144,List!AH144+1,\"\")","v":""},{"$f":"IF(Conf6!$P$54>List!AI144,List!AI144+1,\"\")","v":""},{"$f":"IF(Conf7!$P$55>List!AJ144,List!AJ144+1,\"\")","v":""},{"$f":"IF(Conf7!$P$54+Conf7!$P$55>List!AK144,List!AK144+1,\"\")","v":""},{"$f":"IF(Conf7!$P$54>List!AL144,List!AL144+1,\"\")","v":""},{"$f":"IF(Conf8!$P$55>List!AM144,List!AM144+1,\"\")","v":""},{"$f":"IF(Conf8!$P$54+Conf8!$P$55>List!AN144,List!AN144+1,\"\")","v":""},{"$f":"IF(Conf8!$P$54>List!AO144,List!AO144+1,\"\")","v":""},{"$f":"IF(Conf9!$P$55>List!AP144,List!AP144+1,\"\")","v":""},{"$f":"IF(Conf9!$P$54+Conf9!$P$55>List!AQ144,List!AQ144+1,\"\")","v":""},{"$f":"IF(Conf9!$P$54>List!AR144,List!AR144+1,\"\")","v":""},{"$f":"IF(Conf10!$P$55>List!AS144,List!AS144+1,\"\")","v":""},{"$f":"IF(Conf10!$P$54+Conf10!$P$55>List!AT144,List!AT144+1,\"\")","v":""},{"$f":"IF(Conf10!$P$54>List!AU144,List!AU144+1,\"\")","v":""}]
[null,null,null,null,null,null,null,null,null,null,null,{"$f":"IF(Configurator!$P$55>List!L145,List!L145+1,\"\")","v":""},{"$f":"IF(Configurator!$P$54+Configurator!$P$55>List!M145,List!M145+1,\"\")","v":""},{"$f":"IF(Configurator!$P$54>List!N145,List!N145+1,\"\")","v":""},{"$f":"IF(Conf2!$P$55>List!O145,List!O145+1,\"\")","v":""},{"$f":"IF(Conf2!$P$54+Conf2!$P$55>List!P145,List!P145+1,\"\")","v":""},{"$f":"IF(Conf2!$P$54>List!Q145,List!Q145+1,\"\")","v":""},{"$f":"IF(Conf3!$P$55>List!R145,List!R145+1,\"\")","v":""},{"$f":"IF(Conf3!$P$54+Conf3!$P$55>List!S145,List!S145+1,\"\")","v":""},{"$f":"IF(Conf3!$P$54>List!T145,List!T145+1,\"\")","v":""},{"$f":"IF(Conf4!$P$55>List!U145,List!U145+1,\"\")","v":""},{"$f":"IF(Conf4!$P$54+Conf4!$P$55>List!V145,List!V145+1,\"\")","v":""},{"$f":"IF(Conf4!$P$54>List!W145,List!W145+1,\"\")","v":""},null,null,null,null,null,null,{"$f":"IF(Conf5!$P$55>List!AD145,List!AD145+1,\"\")","v":""},{"$f":"IF(Conf5!$P$54+Conf5!$P$55>List!AE145,List!AE145+1,\"\")","v":""},{"$f":"IF(Conf5!$P$54>List!AF145,List!AF145+1,\"\")","v":""},{"$f":"IF(Conf6!$P$55>List!AG145,List!AG145+1,\"\")","v":""},{"$f":"IF(Conf6!$P$54+Conf6!$P$55>List!AH145,List!AH145+1,\"\")","v":""},{"$f":"IF(Conf6!$P$54>List!AI145,List!AI145+1,\"\")","v":""},{"$f":"IF(Conf7!$P$55>List!AJ145,List!AJ145+1,\"\")","v":""},{"$f":"IF(Conf7!$P$54+Conf7!$P$55>List!AK145,List!AK145+1,\"\")","v":""},{"$f":"IF(Conf7!$P$54>List!AL145,List!AL145+1,\"\")","v":""},{"$f":"IF(Conf8!$P$55>List!AM145,List!AM145+1,\"\")","v":""},{"$f":"IF(Conf8!$P$54+Conf8!$P$55>List!AN145,List!AN145+1,\"\")","v":""},{"$f":"IF(Conf8!$P$54>List!AO145,List!AO145+1,\"\")","v":""},{"$f":"IF(Conf9!$P$55>List!AP145,List!AP145+1,\"\")","v":""},{"$f":"IF(Conf9!$P$54+Conf9!$P$55>List!AQ145,List!AQ145+1,\"\")","v":""},{"$f":"IF(Conf9!$P$54>List!AR145,List!AR145+1,\"\")","v":""},{"$f":"IF(Conf10!$P$55>List!AS145,List!AS145+1,\"\")","v":""},{"$f":"IF(Conf10!$P$54+Conf10!$P$55>List!AT145,List!AT145+1,\"\")","v":""},{"$f":"IF(Conf10!$P$54>List!AU145,List!AU145+1,\"\")","v":""}]
[null,null,null,null,null,null,null,null,null,null,null,{"$f":"IF(Configurator!$P$55>List!L146,List!L146+1,\"\")","v":""},{"$f":"IF(Configurator!$P$54+Configurator!$P$55>List!M146,List!M146+1,\"\")","v":""},{"$f":"IF(Configurator!$P$54>List!N146,List!N146+1,\"\")","v":""},{"$f":"IF(Conf2!$P$55>List!O146,List!O146+1,\"\")","v":""},{"$f":"IF(Conf2!$P$54+Conf2!$P$55>List!P146,List!P146+1,\"\")","v":""},{"$f":"IF(Conf2!$P$54>List!Q146,List!Q146+1,\"\")","v":""},{"$f":"IF(Conf3!$P$55>List!R146,List!R146+1,\"\")","v":""},{"$f":"IF(Conf3!$P$54+Conf3!$P$55>List!S146,List!S146+1,\"\")","v":""},{"$f":"IF(Conf3!$P$54>List!T146,List!T146+1,\"\")","v":""},{"$f":"IF(Conf4!$P$55>List!U146,List!U146+1,\"\")","v":""},{"$f":"IF(Conf4!$P$54+Conf4!$P$55>List!V146,List!V146+1,\"\")","v":""},{"$f":"IF(Conf4!$P$54>List!W146,List!W146+1,\"\")","v":""},null,null,null,null,null,null,{"$f":"IF(Conf5!$P$55>List!AD146,List!AD146+1,\"\")","v":""},{"$f":"IF(Conf5!$P$54+Conf5!$P$55>List!AE146,List!AE146+1,\"\")","v":""},{"$f":"IF(Conf5!$P$54>List!AF146,List!AF146+1,\"\")","v":""},{"$f":"IF(Conf6!$P$55>List!AG146,List!AG146+1,\"\")","v":""},{"$f":"IF(Conf6!$P$54+Conf6!$P$55>List!AH146,List!AH146+1,\"\")","v":""},{"$f":"IF(Conf6!$P$54>List!AI146,List!AI146+1,\"\")","v":""},{"$f":"IF(Conf7!$P$55>List!AJ146,List!AJ146+1,\"\")","v":""},{"$f":"IF(Conf7!$P$54+Conf7!$P$55>List!AK146,List!AK146+1,\"\")","v":""},{"$f":"IF(Conf7!$P$54>List!AL146,List!AL146+1,\"\")","v":""},{"$f":"IF(Conf8!$P$55>List!AM146,List!AM146+1,\"\")","v":""},{"$f":"IF(Conf8!$P$54+Conf8!$P$55>List!AN146,List!AN146+1,\"\")","v":""},{"$f":"IF(Conf8!$P$54>List!AO146,List!AO146+1,\"\")","v":""},{"$f":"IF(Conf9!$P$55>List!AP146,List!AP146+1,\"\")","v":""},{"$f":"IF(Conf9!$P$54+Conf9!$P$55>List!AQ146,List!AQ146+1,\"\")","v":""},{"$f":"IF(Conf9!$P$54>List!AR146,List!AR146+1,\"\")","v":""},{"$f":"IF(Conf10!$P$55>List!AS146,List!AS146+1,\"\")","v":""},{"$f":"IF(Conf10!$P$54+Conf10!$P$55>List!AT146,List!AT146+1,\"\")","v":""},{"$f":"IF(Conf10!$P$54>List!AU146,List!AU146+1,\"\")","v":""}]
[null,null,null,null,null,null,null,null,null,null,null,{"$f":"IF(Configurator!$P$55>List!L147,List!L147+1,\"\")","v":""},{"$f":"IF(Configurator!$P$54+Configurator!$P$55>List!M147,List!M147+1,\"\")","v":""},{"$f":"IF(Configurator!$P$54>List!N147,List!N147+1,\"\")","v":""},{"$f":"IF(Conf2!$P$55>List!O147,List!O147+1,\"\")","v":""},{"$f":"IF(Conf2!$P$54+Conf2!$P$55>List!P147,List!P147+1,\"\")","v":""},{"$f":"IF(Conf2!$P$54>List!Q147,List!Q147+1,\"\")","v":""},{"$f":"IF(Conf3!$P$55>List!R147,List!R147+1,\"\")","v":""},{"$f":"IF(Conf3!$P$54+Conf3!$P$55>List!S147,List!S147+1,\"\")","v":""},{"$f":"IF(Conf3!$P$54>List!T147,List!T147+1,\"\")","v":""},{"$f":"IF(Conf4!$P$55>List!U147,List!U147+1,\"\")","v":""},{"$f":"IF(Conf4!$P$54+Conf4!$P$55>List!V147,List!V147+1,\"\")","v":""},{"$f":"IF(Conf4!$P$54>List!W147,List!W147+1,\"\")","v":""},null,null,null,null,null,null,{"$f":"IF(Conf5!$P$55>List!AD147,List!AD147+1,\"\")","v":""},{"$f":"IF(Conf5!$P$54+Conf5!$P$55>List!AE147,List!AE147+1,\"\")","v":""},{"$f":"IF(Conf5!$P$54>List!AF147,List!AF147+1,\"\")","v":""},{"$f":"IF(Conf6!$P$55>List!AG147,List!AG147+1,\"\")","v":""},{"$f":"IF(Conf6!$P$54+Conf6!$P$55>List!AH147,List!AH147+1,\"\")","v":""},{"$f":"IF(Conf6!$P$54>List!AI147,List!AI147+1,\"\")","v":""},{"$f":"IF(Conf7!$P$55>List!AJ147,List!AJ147+1,\"\")","v":""},{"$f":"IF(Conf7!$P$54+Conf7!$P$55>List!AK147,List!AK147+1,\"\")","v":""},{"$f":"IF(Conf7!$P$54>List!AL147,List!AL147+1,\"\")","v":""},{"$f":"IF(Conf8!$P$55>List!AM147,List!AM147+1,\"\")","v":""},{"$f":"IF(Conf8!$P$54+Conf8!$P$55>List!AN147,List!AN147+1,\"\")","v":""},{"$f":"IF(Conf8!$P$54>List!AO147,List!AO147+1,\"\")","v":""},{"$f":"IF(Conf9!$P$55>List!AP147,List!AP147+1,\"\")","v":""},{"$f":"IF(Conf9!$P$54+Conf9!$P$55>List!AQ147,List!AQ147+1,\"\")","v":""},{"$f":"IF(Conf9!$P$54>List!AR147,List!AR147+1,\"\")","v":""},{"$f":"IF(Conf10!$P$55>List!AS147,List!AS147+1,\"\")","v":""},{"$f":"IF(Conf10!$P$54+Conf10!$P$55>List!AT147,List!AT147+1,\"\")","v":""},{"$f":"IF(Conf10!$P$54>List!AU147,List!AU147+1,\"\")","v":""}]
[null,null,null,null,null,null,null,null,null,null,null,{"$f":"IF(Configurator!$P$55>List!L148,List!L148+1,\"\")","v":""},{"$f":"IF(Configurator!$P$54+Configurator!$P$55>List!M148,List!M148+1,\"\")","v":""},{"$f":"IF(Configurator!$P$54>List!N148,List!N148+1,\"\")","v":""},{"$f":"IF(Conf2!$P$55>List!O148,List!O148+1,\"\")","v":""},{"$f":"IF(Conf2!$P$54+Conf2!$P$55>List!P148,List!P148+1,\"\")","v":""},{"$f":"IF(Conf2!$P$54>List!Q148,List!Q148+1,\"\")","v":""},{"$f":"IF(Conf3!$P$55>List!R148,List!R148+1,\"\")","v":""},{"$f":"IF(Conf3!$P$54+Conf3!$P$55>List!S148,List!S148+1,\"\")","v":""},{"$f":"IF(Conf3!$P$54>List!T148,List!T148+1,\"\")","v":""},{"$f":"IF(Conf4!$P$55>List!U148,List!U148+1,\"\")","v":""},{"$f":"IF(Conf4!$P$54+Conf4!$P$55>List!V148,List!V148+1,\"\")","v":""},{"$f":"IF(Conf4!$P$54>List!W148,List!W148+1,\"\")","v":""},null,null,null,null,null,null,{"$f":"IF(Conf5!$P$55>List!AD148,List!AD148+1,\"\")","v":""},{"$f":"IF(Conf5!$P$54+Conf5!$P$55>List!AE148,List!AE148+1,\"\")","v":""},{"$f":"IF(Conf5!$P$54>List!AF148,List!AF148+1,\"\")","v":""},{"$f":"IF(Conf6!$P$55>List!AG148,List!AG148+1,\"\")","v":""},{"$f":"IF(Conf6!$P$54+Conf6!$P$55>List!AH148,List!AH148+1,\"\")","v":""},{"$f":"IF(Conf6!$P$54>List!AI148,List!AI148+1,\"\")","v":""},{"$f":"IF(Conf7!$P$55>List!AJ148,List!AJ148+1,\"\")","v":""},{"$f":"IF(Conf7!$P$54+Conf7!$P$55>List!AK148,List!AK148+1,\"\")","v":""},{"$f":"IF(Conf7!$P$54>List!AL148,List!AL148+1,\"\")","v":""},{"$f":"IF(Conf8!$P$55>List!AM148,List!AM148+1,\"\")","v":""},{"$f":"IF(Conf8!$P$54+Conf8!$P$55>List!AN148,List!AN148+1,\"\")","v":""},{"$f":"IF(Conf8!$P$54>List!AO148,List!AO148+1,\"\")","v":""},{"$f":"IF(Conf9!$P$55>List!AP148,List!AP148+1,\"\")","v":""},{"$f":"IF(Conf9!$P$54+Conf9!$P$55>List!AQ148,List!AQ148+1,\"\")","v":""},{"$f":"IF(Conf9!$P$54>List!AR148,List!AR148+1,\"\")","v":""},{"$f":"IF(Conf10!$P$55>List!AS148,List!AS148+1,\"\")","v":""},{"$f":"IF(Conf10!$P$54+Conf10!$P$55>List!AT148,List!AT148+1,\"\")","v":""},{"$f":"IF(Conf10!$P$54>List!AU148,List!AU148+1,\"\")","v":""}]
[null,null,null,null,null,null,null,null,null,null,null,{"$f":"IF(Configurator!$P$55>List!L149,List!L149+1,\"\")","v":""},{"$f":"IF(Configurator!$P$54+Configurator!$P$55>List!M149,List!M149+1,\"\")","v":""},{"$f":"IF(Configurator!$P$54>List!N149,List!N149+1,\"\")","v":""},{"$f":"IF(Conf2!$P$55>List!O149,List!O149+1,\"\")","v":""},{"$f":"IF(Conf2!$P$54+Conf2!$P$55>List!P149,List!P149+1,\"\")","v":""},{"$f":"IF(Conf2!$P$54>List!Q149,List!Q149+1,\"\")","v":""},{"$f":"IF(Conf3!$P$55>List!R149,List!R149+1,\"\")","v":""},{"$f":"IF(Conf3!$P$54+Conf3!$P$55>List!S149,List!S149+1,\"\")","v":""},{"$f":"IF(Conf3!$P$54>List!T149,List!T149+1,\"\")","v":""},{"$f":"IF(Conf4!$P$55>List!U149,List!U149+1,\"\")","v":""},{"$f":"IF(Conf4!$P$54+Conf4!$P$55>List!V149,List!V149+1,\"\")","v":""},{"$f":"IF(Conf4!$P$54>List!W149,List!W149+1,\"\")","v":""},null,null,null,null,null,null,{"$f":"IF(Conf5!$P$55>List!AD149,List!AD149+1,\"\")","v":""},{"$f":"IF(Conf5!$P$54+Conf5!$P$55>List!AE149,List!AE149+1,\"\")","v":""},{"$f":"IF(Conf5!$P$54>List!AF149,List!AF149+1,\"\")","v":""},{"$f":"IF(Conf6!$P$55>List!AG149,List!AG149+1,\"\")","v":""},{"$f":"IF(Conf6!$P$54+Conf6!$P$55>List!AH149,List!AH149+1,\"\")","v":""},{"$f":"IF(Conf6!$P$54>List!AI149,List!AI149+1,\"\")","v":""},{"$f":"IF(Conf7!$P$55>List!AJ149,List!AJ149+1,\"\")","v":""},{"$f":"IF(Conf7!$P$54+Conf7!$P$55>List!AK149,List!AK149+1,\"\")","v":""},{"$f":"IF(Conf7!$P$54>List!AL149,List!AL149+1,\"\")","v":""},{"$f":"IF(Conf8!$P$55>List!AM149,List!AM149+1,\"\")","v":""},{"$f":"IF(Conf8!$P$54+Conf8!$P$55>List!AN149,List!AN149+1,\"\")","v":""},{"$f":"IF(Conf8!$P$54>List!AO149,List!AO149+1,\"\")","v":""},{"$f":"IF(Conf9!$P$55>List!AP149,List!AP149+1,\"\")","v":""},{"$f":"IF(Conf9!$P$54+Conf9!$P$55>List!AQ149,List!AQ149+1,\"\")","v":""},{"$f":"IF(Conf9!$P$54>List!AR149,List!AR149+1,\"\")","v":""},{"$f":"IF(Conf10!$P$55>List!AS149,List!AS149+1,\"\")","v":""},{"$f":"IF(Conf10!$P$54+Conf10!$P$55>List!AT149,List!AT149+1,\"\")","v":""},{"$f":"IF(Conf10!$P$54>List!AU149,List!AU149+1,\"\")","v":""}]
[null,null,null,null,null,null,null,null,null,null,null,{"$f":"IF(Configurator!$P$55>List!L150,List!L150+1,\"\")","v":""},{"$f":"IF(Configurator!$P$54+Configurator!$P$55>List!M150,List!M150+1,\"\")","v":""},{"$f":"IF(Configurator!$P$54>List!N150,List!N150+1,\"\")","v":""},{"$f":"IF(Conf2!$P$55>List!O150,List!O150+1,\"\")","v":""},{"$f":"IF(Conf2!$P$54+Conf2!$P$55>List!P150,List!P150+1,\"\")","v":""},{"$f":"IF(Conf2!$P$54>List!Q150,List!Q150+1,\"\")","v":""},{"$f":"IF(Conf3!$P$55>List!R150,List!R150+1,\"\")","v":""},{"$f":"IF(Conf3!$P$54+Conf3!$P$55>List!S150,List!S150+1,\"\")","v":""},{"$f":"IF(Conf3!$P$54>List!T150,List!T150+1,\"\")","v":""},{"$f":"IF(Conf4!$P$55>List!U150,List!U150+1,\"\")","v":""},{"$f":"IF(Conf4!$P$54+Conf4!$P$55>List!V150,List!V150+1,\"\")","v":""},{"$f":"IF(Conf4!$P$54>List!W150,List!W150+1,\"\")","v":""},null,null,null,null,null,null,{"$f":"IF(Conf5!$P$55>List!AD150,List!AD150+1,\"\")","v":""},{"$f":"IF(Conf5!$P$54+Conf5!$P$55>List!AE150,List!AE150+1,\"\")","v":""},{"$f":"IF(Conf5!$P$54>List!AF150,List!AF150+1,\"\")","v":""},{"$f":"IF(Conf6!$P$55>List!AG150,List!AG150+1,\"\")","v":""},{"$f":"IF(Conf6!$P$54+Conf6!$P$55>List!AH150,List!AH150+1,\"\")","v":""},{"$f":"IF(Conf6!$P$54>List!AI150,List!AI150+1,\"\")","v":""},{"$f":"IF(Conf7!$P$55>List!AJ150,List!AJ150+1,\"\")","v":""},{"$f":"IF(Conf7!$P$54+Conf7!$P$55>List!AK150,List!AK150+1,\"\")","v":""},{"$f":"IF(Conf7!$P$54>List!AL150,List!AL150+1,\"\")","v":""},{"$f":"IF(Conf8!$P$55>List!AM150,List!AM150+1,\"\")","v":""},{"$f":"IF(Conf8!$P$54+Conf8!$P$55>List!AN150,List!AN150+1,\"\")","v":""},{"$f":"IF(Conf8!$P$54>List!AO150,List!AO150+1,\"\")","v":""},{"$f":"IF(Conf9!$P$55>List!AP150,List!AP150+1,\"\")","v":""},{"$f":"IF(Conf9!$P$54+Conf9!$P$55>List!AQ150,List!AQ150+1,\"\")","v":""},{"$f":"IF(Conf9!$P$54>List!AR150,List!AR150+1,\"\")","v":""},{"$f":"IF(Conf10!$P$55>List!AS150,List!AS150+1,\"\")","v":""},{"$f":"IF(Conf10!$P$54+Conf10!$P$55>List!AT150,List!AT150+1,\"\")","v":""},{"$f":"IF(Conf10!$P$54>List!AU150,List!AU150+1,\"\")","v":""}]
[null,null,null,null,null,null,null,null,null,null,null,{"$f":"IF(Configurator!$P$55>List!L151,List!L151+1,\"\")","v":""},{"$f":"IF(Configurator!$P$54+Configurator!$P$55>List!M151,List!M151+1,\"\")","v":""},{"$f":"IF(Configurator!$P$54>List!N151,List!N151+1,\"\")","v":""},{"$f":"IF(Conf2!$P$55>List!O151,List!O151+1,\"\")","v":""},{"$f":"IF(Conf2!$P$54+Conf2!$P$55>List!P151,List!P151+1,\"\")","v":""},{"$f":"IF(Conf2!$P$54>List!Q151,List!Q151+1,\"\")","v":""},{"$f":"IF(Conf3!$P$55>List!R151,List!R151+1,\"\")","v":""},{"$f":"IF(Conf3!$P$54+Conf3!$P$55>List!S151,List!S151+1,\"\")","v":""},{"$f":"IF(Conf3!$P$54>List!T151,List!T151+1,\"\")","v":""},{"$f":"IF(Conf4!$P$55>List!U151,List!U151+1,\"\")","v":""},{"$f":"IF(Conf4!$P$54+Conf4!$P$55>List!V151,List!V151+1,\"\")","v":""},{"$f":"IF(Conf4!$P$54>List!W151,List!W151+1,\"\")","v":""},null,null,null,null,null,null,{"$f":"IF(Conf5!$P$55>List!AD151,List!AD151+1,\"\")","v":""},{"$f":"IF(Conf5!$P$54+Conf5!$P$55>List!AE151,List!AE151+1,\"\")","v":""},{"$f":"IF(Conf5!$P$54>List!AF151,List!AF151+1,\"\")","v":""},{"$f":"IF(Conf6!$P$55>List!AG151,List!AG151+1,\"\")","v":""},{"$f":"IF(Conf6!$P$54+Conf6!$P$55>List!AH151,List!AH151+1,\"\")","v":""},{"$f":"IF(Conf6!$P$54>List!AI151,List!AI151+1,\"\")","v":""},{"$f":"IF(Conf7!$P$55>List!AJ151,List!AJ151+1,\"\")","v":""},{"$f":"IF(Conf7!$P$54+Conf7!$P$55>List!AK151,List!AK151+1,\"\")","v":""},{"$f":"IF(Conf7!$P$54>List!AL151,List!AL151+1,\"\")","v":""},{"$f":"IF(Conf8!$P$55>List!AM151,List!AM151+1,\"\")","v":""},{"$f":"IF(Conf8!$P$54+Conf8!$P$55>List!AN151,List!AN151+1,\"\")","v":""},{"$f":"IF(Conf8!$P$54>List!AO151,List!AO151+1,\"\")","v":""},{"$f":"IF(Conf9!$P$55>List!AP151,List!AP151+1,\"\")","v":""},{"$f":"IF(Conf9!$P$54+Conf9!$P$55>List!AQ151,List!AQ151+1,\"\")","v":""},{"$f":"IF(Conf9!$P$54>List!AR151,List!AR151+1,\"\")","v":""},{"$f":"IF(Conf10!$P$55>List!AS151,List!AS151+1,\"\")","v":""},{"$f":"IF(Conf10!$P$54+Conf10!$P$55>List!AT151,List!AT151+1,\"\")","v":""},{"$f":"IF(Conf10!$P$54>List!AU151,List!AU151+1,\"\")","v":""}]
[null,null,null,null,null,null,null,null,null,null,null,{"$f":"IF(Configurator!$P$55>List!L152,List!L152+1,\"\")","v":""},{"$f":"IF(Configurator!$P$54+Configurator!$P$55>List!M152,List!M152+1,\"\")","v":""},{"$f":"IF(Configurator!$P$54>List!N152,List!N152+1,\"\")","v":""},{"$f":"IF(Conf2!$P$55>List!O152,List!O152+1,\"\")","v":""},{"$f":"IF(Conf2!$P$54+Conf2!$P$55>List!P152,List!P152+1,\"\")","v":""},{"$f":"IF(Conf2!$P$54>List!Q152,List!Q152+1,\"\")","v":""},{"$f":"IF(Conf3!$P$55>List!R152,List!R152+1,\"\")","v":""},{"$f":"IF(Conf3!$P$54+Conf3!$P$55>List!S152,List!S152+1,\"\")","v":""},{"$f":"IF(Conf3!$P$54>List!T152,List!T152+1,\"\")","v":""},{"$f":"IF(Conf4!$P$55>List!U152,List!U152+1,\"\")","v":""},{"$f":"IF(Conf4!$P$54+Conf4!$P$55>List!V152,List!V152+1,\"\")","v":""},{"$f":"IF(Conf4!$P$54>List!W152,List!W152+1,\"\")","v":""},null,null,null,null,null,null,{"$f":"IF(Conf5!$P$55>List!AD152,List!AD152+1,\"\")","v":""},{"$f":"IF(Conf5!$P$54+Conf5!$P$55>List!AE152,List!AE152+1,\"\")","v":""},{"$f":"IF(Conf5!$P$54>List!AF152,List!AF152+1,\"\")","v":""},{"$f":"IF(Conf6!$P$55>List!AG152,List!AG152+1,\"\")","v":""},{"$f":"IF(Conf6!$P$54+Conf6!$P$55>List!AH152,List!AH152+1,\"\")","v":""},{"$f":"IF(Conf6!$P$54>List!AI152,List!AI152+1,\"\")","v":""},{"$f":"IF(Conf7!$P$55>List!AJ152,List!AJ152+1,\"\")","v":""},{"$f":"IF(Conf7!$P$54+Conf7!$P$55>List!AK152,List!AK152+1,\"\")","v":""},{"$f":"IF(Conf7!$P$54>List!AL152,List!AL152+1,\"\")","v":""},{"$f":"IF(Conf8!$P$55>List!AM152,List!AM152+1,\"\")","v":""},{"$f":"IF(Conf8!$P$54+Conf8!$P$55>List!AN152,List!AN152+1,\"\")","v":""},{"$f":"IF(Conf8!$P$54>List!AO152,List!AO152+1,\"\")","v":""},{"$f":"IF(Conf9!$P$55>List!AP152,List!AP152+1,\"\")","v":""},{"$f":"IF(Conf9!$P$54+Conf9!$P$55>List!AQ152,List!AQ152+1,\"\")","v":""},{"$f":"IF(Conf9!$P$54>List!AR152,List!AR152+1,\"\")","v":""},{"$f":"IF(Conf10!$P$55>List!AS152,List!AS152+1,\"\")","v":""},{"$f":"IF(Conf10!$P$54+Conf10!$P$55>List!AT152,List!AT152+1,\"\")","v":""},{"$f":"IF(Conf10!$P$54>List!AU152,List!AU152+1,\"\")","v":""}]
[null,null,null,null,null,null,null,null,null,null,null,{"$f":"IF(Configurator!$P$55>List!L153,List!L153+1,\"\")","v":""},{"$f":"IF(Configurator!$P$54+Configurator!$P$55>List!M153,List!M153+1,\"\")","v":""},{"$f":"IF(Configurator!$P$54>List!N153,List!N153+1,\"\")","v":""},{"$f":"IF(Conf2!$P$55>List!O153,List!O153+1,\"\")","v":""},{"$f":"IF(Conf2!$P$54+Conf2!$P$55>List!P153,List!P153+1,\"\")","v":""},{"$f":"IF(Conf2!$P$54>List!Q153,List!Q153+1,\"\")","v":""},{"$f":"IF(Conf3!$P$55>List!R153,List!R153+1,\"\")","v":""},{"$f":"IF(Conf3!$P$54+Conf3!$P$55>List!S153,List!S153+1,\"\")","v":""},{"$f":"IF(Conf3!$P$54>List!T153,List!T153+1,\"\")","v":""},{"$f":"IF(Conf4!$P$55>List!U153,List!U153+1,\"\")","v":""},{"$f":"IF(Conf4!$P$54+Conf4!$P$55>List!V153,List!V153+1,\"\")","v":""},{"$f":"IF(Conf4!$P$54>List!W153,List!W153+1,\"\")","v":""},null,null,null,null,null,null,{"$f":"IF(Conf5!$P$55>List!AD153,List!AD153+1,\"\")","v":""},{"$f":"IF(Conf5!$P$54+Conf5!$P$55>List!AE153,List!AE153+1,\"\")","v":""},{"$f":"IF(Conf5!$P$54>List!AF153,List!AF153+1,\"\")","v":""},{"$f":"IF(Conf6!$P$55>List!AG153,List!AG153+1,\"\")","v":""},{"$f":"IF(Conf6!$P$54+Conf6!$P$55>List!AH153,List!AH153+1,\"\")","v":""},{"$f":"IF(Conf6!$P$54>List!AI153,List!AI153+1,\"\")","v":""},{"$f":"IF(Conf7!$P$55>List!AJ153,List!AJ153+1,\"\")","v":""},{"$f":"IF(Conf7!$P$54+Conf7!$P$55>List!AK153,List!AK153+1,\"\")","v":""},{"$f":"IF(Conf7!$P$54>List!AL153,List!AL153+1,\"\")","v":""},{"$f":"IF(Conf8!$P$55>List!AM153,List!AM153+1,\"\")","v":""},{"$f":"IF(Conf8!$P$54+Conf8!$P$55>List!AN153,List!AN153+1,\"\")","v":""},{"$f":"IF(Conf8!$P$54>List!AO153,List!AO153+1,\"\")","v":""},{"$f":"IF(Conf9!$P$55>List!AP153,List!AP153+1,\"\")","v":""},{"$f":"IF(Conf9!$P$54+Conf9!$P$55>List!AQ153,List!AQ153+1,\"\")","v":""},{"$f":"IF(Conf9!$P$54>List!AR153,List!AR153+1,\"\")","v":""},{"$f":"IF(Conf10!$P$55>List!AS153,List!AS153+1,\"\")","v":""},{"$f":"IF(Conf10!$P$54+Conf10!$P$55>List!AT153,List!AT153+1,\"\")","v":""},{"$f":"IF(Conf10!$P$54>List!AU153,List!AU153+1,\"\")","v":""}]
[null,null,null,null,null,null,null,null,null,null,null,{"$f":"IF(Configurator!$P$55>List!L154,List!L154+1,\"\")","v":""},{"$f":"IF(Configurator!$P$54+Configurator!$P$55>List!M154,List!M154+1,\"\")","v":""},{"$f":"IF(Configurator!$P$54>List!N154,List!N154+1,\"\")","v":""},{"$f":"IF(Conf2!$P$55>List!O154,List!O154+1,\"\")","v":""},{"$f":"IF(Conf2!$P$54+Conf2!$P$55>List!P154,List!P154+1,\"\")","v":""},{"$f":"IF(Conf2!$P$54>List!Q154,List!Q154+1,\"\")","v":""},{"$f":"IF(Conf3!$P$55>List!R154,List!R154+1,\"\")","v":""},{"$f":"IF(Conf3!$P$54+Conf3!$P$55>List!S154,List!S154+1,\"\")","v":""},{"$f":"IF(Conf3!$P$54>List!T154,List!T154+1,\"\")","v":""},{"$f":"IF(Conf4!$P$55>List!U154,List!U154+1,\"\")","v":""},{"$f":"IF(Conf4!$P$54+Conf4!$P$55>List!V154,List!V154+1,\"\")","v":""},{"$f":"IF(Conf4!$P$54>List!W154,List!W154+1,\"\")","v":""},null,null,null,null,null,null,{"$f":"IF(Conf5!$P$55>List!AD154,List!AD154+1,\"\")","v":""},{"$f":"IF(Conf5!$P$54+Conf5!$P$55>List!AE154,List!AE154+1,\"\")","v":""},{"$f":"IF(Conf5!$P$54>List!AF154,List!AF154+1,\"\")","v":""},{"$f":"IF(Conf6!$P$55>List!AG154,List!AG154+1,\"\")","v":""},{"$f":"IF(Conf6!$P$54+Conf6!$P$55>List!AH154,List!AH154+1,\"\")","v":""},{"$f":"IF(Conf6!$P$54>List!AI154,List!AI154+1,\"\")","v":""},{"$f":"IF(Conf7!$P$55>List!AJ154,List!AJ154+1,\"\")","v":""},{"$f":"IF(Conf7!$P$54+Conf7!$P$55>List!AK154,List!AK154+1,\"\")","v":""},{"$f":"IF(Conf7!$P$54>List!AL154,List!AL154+1,\"\")","v":""},{"$f":"IF(Conf8!$P$55>List!AM154,List!AM154+1,\"\")","v":""},{"$f":"IF(Conf8!$P$54+Conf8!$P$55>List!AN154,List!AN154+1,\"\")","v":""},{"$f":"IF(Conf8!$P$54>List!AO154,List!AO154+1,\"\")","v":""},{"$f":"IF(Conf9!$P$55>List!AP154,List!AP154+1,\"\")","v":""},{"$f":"IF(Conf9!$P$54+Conf9!$P$55>List!AQ154,List!AQ154+1,\"\")","v":""},{"$f":"IF(Conf9!$P$54>List!AR154,List!AR154+1,\"\")","v":""},{"$f":"IF(Conf10!$P$55>List!AS154,List!AS154+1,\"\")","v":""},{"$f":"IF(Conf10!$P$54+Conf10!$P$55>List!AT154,List!AT154+1,\"\")","v":""},{"$f":"IF(Conf10!$P$54>List!AU154,List!AU154+1,\"\")","v":""}]
[null,null,null,null,null,null,null,null,null,null,null,{"$f":"IF(Configurator!$P$55>List!L155,List!L155+1,\"\")","v":""},{"$f":"IF(Configurator!$P$54+Configurator!$P$55>List!M155,List!M155+1,\"\")","v":""},{"$f":"IF(Configurator!$P$54>List!N155,List!N155+1,\"\")","v":""},{"$f":"IF(Conf2!$P$55>List!O155,List!O155+1,\"\")","v":""},{"$f":"IF(Conf2!$P$54+Conf2!$P$55>List!P155,List!P155+1,\"\")","v":""},{"$f":"IF(Conf2!$P$54>List!Q155,List!Q155+1,\"\")","v":""},{"$f":"IF(Conf3!$P$55>List!R155,List!R155+1,\"\")","v":""},{"$f":"IF(Conf3!$P$54+Conf3!$P$55>List!S155,List!S155+1,\"\")","v":""},{"$f":"IF(Conf3!$P$54>List!T155,List!T155+1,\"\")","v":""},{"$f":"IF(Conf4!$P$55>List!U155,List!U155+1,\"\")","v":""},{"$f":"IF(Conf4!$P$54+Conf4!$P$55>List!V155,List!V155+1,\"\")","v":""},{"$f":"IF(Conf4!$P$54>List!W155,List!W155+1,\"\")","v":""},null,null,null,null,null,null,{"$f":"IF(Conf5!$P$55>List!AD155,List!AD155+1,\"\")","v":""},{"$f":"IF(Conf5!$P$54+Conf5!$P$55>List!AE155,List!AE155+1,\"\")","v":""},{"$f":"IF(Conf5!$P$54>List!AF155,List!AF155+1,\"\")","v":""},{"$f":"IF(Conf6!$P$55>List!AG155,List!AG155+1,\"\")","v":""},{"$f":"IF(Conf6!$P$54+Conf6!$P$55>List!AH155,List!AH155+1,\"\")","v":""},{"$f":"IF(Conf6!$P$54>List!AI155,List!AI155+1,\"\")","v":""},{"$f":"IF(Conf7!$P$55>List!AJ155,List!AJ155+1,\"\")","v":""},{"$f":"IF(Conf7!$P$54+Conf7!$P$55>List!AK155,List!AK155+1,\"\")","v":""},{"$f":"IF(Conf7!$P$54>List!AL155,List!AL155+1,\"\")","v":""},{"$f":"IF(Conf8!$P$55>List!AM155,List!AM155+1,\"\")","v":""},{"$f":"IF(Conf8!$P$54+Conf8!$P$55>List!AN155,List!AN155+1,\"\")","v":""},{"$f":"IF(Conf8!$P$54>List!AO155,List!AO155+1,\"\")","v":""},{"$f":"IF(Conf9!$P$55>List!AP155,List!AP155+1,\"\")","v":""},{"$f":"IF(Conf9!$P$54+Conf9!$P$55>List!AQ155,List!AQ155+1,\"\")","v":""},{"$f":"IF(Conf9!$P$54>List!AR155,List!AR155+1,\"\")","v":""},{"$f":"IF(Conf10!$P$55>List!AS155,List!AS155+1,\"\")","v":""},{"$f":"IF(Conf10!$P$54+Conf10!$P$55>List!AT155,List!AT155+1,\"\")","v":""},{"$f":"IF(Conf10!$P$54>List!AU155,List!AU155+1,\"\")","v":""}]
[null,null,null,null,null,null,null,null,null,null,null,{"$f":"IF(Configurator!$P$55>List!L156,List!L156+1,\"\")","v":""},{"$f":"IF(Configurator!$P$54+Configurator!$P$55>List!M156,List!M156+1,\"\")","v":""},{"$f":"IF(Configurator!$P$54>List!N156,List!N156+1,\"\")","v":""},{"$f":"IF(Conf2!$P$55>List!O156,List!O156+1,\"\")","v":""},{"$f":"IF(Conf2!$P$54+Conf2!$P$55>List!P156,List!P156+1,\"\")","v":""},{"$f":"IF(Conf2!$P$54>List!Q156,List!Q156+1,\"\")","v":""},{"$f":"IF(Conf3!$P$55>List!R156,List!R156+1,\"\")","v":""},{"$f":"IF(Conf3!$P$54+Conf3!$P$55>List!S156,List!S156+1,\"\")","v":""},{"$f":"IF(Conf3!$P$54>List!T156,List!T156+1,\"\")","v":""},{"$f":"IF(Conf4!$P$55>List!U156,List!U156+1,\"\")","v":""},{"$f":"IF(Conf4!$P$54+Conf4!$P$55>List!V156,List!V156+1,\"\")","v":""},{"$f":"IF(Conf4!$P$54>List!W156,List!W156+1,\"\")","v":""},null,null,null,null,null,null,{"$f":"IF(Conf5!$P$55>List!AD156,List!AD156+1,\"\")","v":""},{"$f":"IF(Conf5!$P$54+Conf5!$P$55>List!AE156,List!AE156+1,\"\")","v":""},{"$f":"IF(Conf5!$P$54>List!AF156,List!AF156+1,\"\")","v":""},{"$f":"IF(Conf6!$P$55>List!AG156,List!AG156+1,\"\")","v":""},{"$f":"IF(Conf6!$P$54+Conf6!$P$55>List!AH156,List!AH156+1,\"\")","v":""},{"$f":"IF(Conf6!$P$54>List!AI156,List!AI156+1,\"\")","v":""},{"$f":"IF(Conf7!$P$55>List!AJ156,List!AJ156+1,\"\")","v":""},{"$f":"IF(Conf7!$P$54+Conf7!$P$55>List!AK156,List!AK156+1,\"\")","v":""},{"$f":"IF(Conf7!$P$54>List!AL156,List!AL156+1,\"\")","v":""},{"$f":"IF(Conf8!$P$55>List!AM156,List!AM156+1,\"\")","v":""},{"$f":"IF(Conf8!$P$54+Conf8!$P$55>List!AN156,List!AN156+1,\"\")","v":""},{"$f":"IF(Conf8!$P$54>List!AO156,List!AO156+1,\"\")","v":""},{"$f":"IF(Conf9!$P$55>List!AP156,List!AP156+1,\"\")","v":""},{"$f":"IF(Conf9!$P$54+Conf9!$P$55>List!AQ156,List!AQ156+1,\"\")","v":""},{"$f":"IF(Conf9!$P$54>List!AR156,List!AR156+1,\"\")","v":""},{"$f":"IF(Conf10!$P$55>List!AS156,List!AS156+1,\"\")","v":""},{"$f":"IF(Conf10!$P$54+Conf10!$P$55>List!AT156,List!AT156+1,\"\")","v":""},{"$f":"IF(Conf10!$P$54>List!AU156,List!AU156+1,\"\")","v":""}]
[null,null,null,null,null,null,null,null,null,null,null,{"$f":"IF(Configurator!$P$55>List!L157,List!L157+1,\"\")","v":""},{"$f":"IF(Configurator!$P$54+Configurator!$P$55>List!M157,List!M157+1,\"\")","v":""},{"$f":"IF(Configurator!$P$54>List!N157,List!N157+1,\"\")","v":""},{"$f":"IF(Conf2!$P$55>List!O157,List!O157+1,\"\")","v":""},{"$f":"IF(Conf2!$P$54+Conf2!$P$55>List!P157,List!P157+1,\"\")","v":""},{"$f":"IF(Conf2!$P$54>List!Q157,List!Q157+1,\"\")","v":""},{"$f":"IF(Conf3!$P$55>List!R157,List!R157+1,\"\")","v":""},{"$f":"IF(Conf3!$P$54+Conf3!$P$55>List!S157,List!S157+1,\"\")","v":""},{"$f":"IF(Conf3!$P$54>List!T157,List!T157+1,\"\")","v":""},{"$f":"IF(Conf4!$P$55>List!U157,List!U157+1,\"\")","v":""},{"$f":"IF(Conf4!$P$54+Conf4!$P$55>List!V157,List!V157+1,\"\")","v":""},{"$f":"IF(Conf4!$P$54>List!W157,List!W157+1,\"\")","v":""},null,null,null,null,null,null,{"$f":"IF(Conf5!$P$55>List!AD157,List!AD157+1,\"\")","v":""},{"$f":"IF(Conf5!$P$54+Conf5!$P$55>List!AE157,List!AE157+1,\"\")","v":""},{"$f":"IF(Conf5!$P$54>List!AF157,List!AF157+1,\"\")","v":""},{"$f":"IF(Conf6!$P$55>List!AG157,List!AG157+1,\"\")","v":""},{"$f":"IF(Conf6!$P$54+Conf6!$P$55>List!AH157,List!AH157+1,\"\")","v":""},{"$f":"IF(Conf6!$P$54>List!AI157,List!AI157+1,\"\")","v":""},{"$f":"IF(Conf7!$P$55>List!AJ157,List!AJ157+1,\"\")","v":""},{"$f":"IF(Conf7!$P$54+Conf7!$P$55>List!AK157,List!AK157+1,\"\")","v":""},{"$f":"IF(Conf7!$P$54>List!AL157,List!AL157+1,\"\")","v":""},{"$f":"IF(Conf8!$P$55>List!AM157,List!AM157+1,\"\")","v":""},{"$f":"IF(Conf8!$P$54+Conf8!$P$55>List!AN157,List!AN157+1,\"\")","v":""},{"$f":"IF(Conf8!$P$54>List!AO157,List!AO157+1,\"\")","v":""},{"$f":"IF(Conf9!$P$55>List!AP157,List!AP157+1,\"\")","v":""},{"$f":"IF(Conf9!$P$54+Conf9!$P$55>List!AQ157,List!AQ157+1,\"\")","v":""},{"$f":"IF(Conf9!$P$54>List!AR157,List!AR157+1,\"\")","v":""},{"$f":"IF(Conf10!$P$55>List!AS157,List!AS157+1,\"\")","v":""},{"$f":"IF(Conf10!$P$54+Conf10!$P$55>List!AT157,List!AT157+1,\"\")","v":""},{"$f":"IF(Conf10!$P$54>List!AU157,List!AU157+1,\"\")","v":""}]
[null,null,null,null,null,null,null,null,null,null,null,{"$f":"IF(Configurator!$P$55>List!L158,List!L158+1,\"\")","v":""},{"$f":"IF(Configurator!$P$54+Configurator!$P$55>List!M158,List!M158+1,\"\")","v":""},{"$f":"IF(Configurator!$P$54>List!N158,List!N158+1,\"\")","v":""},{"$f":"IF(Conf2!$P$55>List!O158,List!O158+1,\"\")","v":""},{"$f":"IF(Conf2!$P$54+Conf2!$P$55>List!P158,List!P158+1,\"\")","v":""},{"$f":"IF(Conf2!$P$54>List!Q158,List!Q158+1,\"\")","v":""},{"$f":"IF(Conf3!$P$55>List!R158,List!R158+1,\"\")","v":""},{"$f":"IF(Conf3!$P$54+Conf3!$P$55>List!S158,List!S158+1,\"\")","v":""},{"$f":"IF(Conf3!$P$54>List!T158,List!T158+1,\"\")","v":""},{"$f":"IF(Conf4!$P$55>List!U158,List!U158+1,\"\")","v":""},{"$f":"IF(Conf4!$P$54+Conf4!$P$55>List!V158,List!V158+1,\"\")","v":""},{"$f":"IF(Conf4!$P$54>List!W158,List!W158+1,\"\")","v":""},null,null,null,null,null,null,{"$f":"IF(Conf5!$P$55>List!AD158,List!AD158+1,\"\")","v":""},{"$f":"IF(Conf5!$P$54+Conf5!$P$55>List!AE158,List!AE158+1,\"\")","v":""},{"$f":"IF(Conf5!$P$54>List!AF158,List!AF158+1,\"\")","v":""},{"$f":"IF(Conf6!$P$55>List!AG158,List!AG158+1,\"\")","v":""},{"$f":"IF(Conf6!$P$54+Conf6!$P$55>List!AH158,List!AH158+1,\"\")","v":""},{"$f":"IF(Conf6!$P$54>List!AI158,List!AI158+1,\"\")","v":""},{"$f":"IF(Conf7!$P$55>List!AJ158,List!AJ158+1,\"\")","v":""},{"$f":"IF(Conf7!$P$54+Conf7!$P$55>List!AK158,List!AK158+1,\"\")","v":""},{"$f":"IF(Conf7!$P$54>List!AL158,List!AL158+1,\"\")","v":""},{"$f":"IF(Conf8!$P$55>List!AM158,List!AM158+1,\"\")","v":""},{"$f":"IF(Conf8!$P$54+Conf8!$P$55>List!AN158,List!AN158+1,\"\")","v":""},{"$f":"IF(Conf8!$P$54>List!AO158,List!AO158+1,\"\")","v":""},{"$f":"IF(Conf9!$P$55>List!AP158,List!AP158+1,\"\")","v":""},{"$f":"IF(Conf9!$P$54+Conf9!$P$55>List!AQ158,List!AQ158+1,\"\")","v":""},{"$f":"IF(Conf9!$P$54>List!AR158,List!AR158+1,\"\")","v":""},{"$f":"IF(Conf10!$P$55>List!AS158,List!AS158+1,\"\")","v":""},{"$f":"IF(Conf10!$P$54+Conf10!$P$55>List!AT158,List!AT158+1,\"\")","v":""},{"$f":"IF(Conf10!$P$54>List!AU158,List!AU158+1,\"\")","v":""}]
[null,null,null,null,null,null,null,null,null,null,null,{"$f":"IF(Configurator!$P$55>List!L159,List!L159+1,\"\")","v":""},{"$f":"IF(Configurator!$P$54+Configurator!$P$55>List!M159,List!M159+1,\"\")","v":""},{"$f":"IF(Configurator!$P$54>List!N159,List!N159+1,\"\")","v":""},{"$f":"IF(Conf2!$P$55>List!O159,List!O159+1,\"\")","v":""},{"$f":"IF(Conf2!$P$54+Conf2!$P$55>List!P159,List!P159+1,\"\")","v":""},{"$f":"IF(Conf2!$P$54>List!Q159,List!Q159+1,\"\")","v":""},{"$f":"IF(Conf3!$P$55>List!R159,List!R159+1,\"\")","v":""},{"$f":"IF(Conf3!$P$54+Conf3!$P$55>List!S159,List!S159+1,\"\")","v":""},{"$f":"IF(Conf3!$P$54>List!T159,List!T159+1,\"\")","v":""},{"$f":"IF(Conf4!$P$55>List!U159,List!U159+1,\"\")","v":""},{"$f":"IF(Conf4!$P$54+Conf4!$P$55>List!V159,List!V159+1,\"\")","v":""},{"$f":"IF(Conf4!$P$54>List!W159,List!W159+1,\"\")","v":""},null,null,null,null,null,null,{"$f":"IF(Conf5!$P$55>List!AD159,List!AD159+1,\"\")","v":""},{"$f":"IF(Conf5!$P$54+Conf5!$P$55>List!AE159,List!AE159+1,\"\")","v":""},{"$f":"IF(Conf5!$P$54>List!AF159,List!AF159+1,\"\")","v":""},{"$f":"IF(Conf6!$P$55>List!AG159,List!AG159+1,\"\")","v":""},{"$f":"IF(Conf6!$P$54+Conf6!$P$55>List!AH159,List!AH159+1,\"\")","v":""},{"$f":"IF(Conf6!$P$54>List!AI159,List!AI159+1,\"\")","v":""},{"$f":"IF(Conf7!$P$55>List!AJ159,List!AJ159+1,\"\")","v":""},{"$f":"IF(Conf7!$P$54+Conf7!$P$55>List!AK159,List!AK159+1,\"\")","v":""},{"$f":"IF(Conf7!$P$54>List!AL159,List!AL159+1,\"\")","v":""},{"$f":"IF(Conf8!$P$55>List!AM159,List!AM159+1,\"\")","v":""},{"$f":"IF(Conf8!$P$54+Conf8!$P$55>List!AN159,List!AN159+1,\"\")","v":""},{"$f":"IF(Conf8!$P$54>List!AO159,List!AO159+1,\"\")","v":""},{"$f":"IF(Conf9!$P$55>List!AP159,List!AP159+1,\"\")","v":""},{"$f":"IF(Conf9!$P$54+Conf9!$P$55>List!AQ159,List!AQ159+1,\"\")","v":""},{"$f":"IF(Conf9!$P$54>List!AR159,List!AR159+1,\"\")","v":""},{"$f":"IF(Conf10!$P$55>List!AS159,List!AS159+1,\"\")","v":""},{"$f":"IF(Conf10!$P$54+Conf10!$P$55>List!AT159,List!AT159+1,\"\")","v":""},{"$f":"IF(Conf10!$P$54>List!AU159,List!AU159+1,\"\")","v":""}]
[null,null,null,null,null,null,null,null,null,null,null,{"$f":"IF(Configurator!$P$55>List!L160,List!L160+1,\"\")","v":""},{"$f":"IF(Configurator!$P$54+Configurator!$P$55>List!M160,List!M160+1,\"\")","v":""},{"$f":"IF(Configurator!$P$54>List!N160,List!N160+1,\"\")","v":""},{"$f":"IF(Conf2!$P$55>List!O160,List!O160+1,\"\")","v":""},{"$f":"IF(Conf2!$P$54+Conf2!$P$55>List!P160,List!P160+1,\"\")","v":""},{"$f":"IF(Conf2!$P$54>List!Q160,List!Q160+1,\"\")","v":""},{"$f":"IF(Conf3!$P$55>List!R160,List!R160+1,\"\")","v":""},{"$f":"IF(Conf3!$P$54+Conf3!$P$55>List!S160,List!S160+1,\"\")","v":""},{"$f":"IF(Conf3!$P$54>List!T160,List!T160+1,\"\")","v":""},{"$f":"IF(Conf4!$P$55>List!U160,List!U160+1,\"\")","v":""},{"$f":"IF(Conf4!$P$54+Conf4!$P$55>List!V160,List!V160+1,\"\")","v":""},{"$f":"IF(Conf4!$P$54>List!W160,List!W160+1,\"\")","v":""},null,null,null,null,null,null,{"$f":"IF(Conf5!$P$55>List!AD160,List!AD160+1,\"\")","v":""},{"$f":"IF(Conf5!$P$54+Conf5!$P$55>List!AE160,List!AE160+1,\"\")","v":""},{"$f":"IF(Conf5!$P$54>List!AF160,List!AF160+1,\"\")","v":""},{"$f":"IF(Conf6!$P$55>List!AG160,List!AG160+1,\"\")","v":""},{"$f":"IF(Conf6!$P$54+Conf6!$P$55>List!AH160,List!AH160+1,\"\")","v":""},{"$f":"IF(Conf6!$P$54>List!AI160,List!AI160+1,\"\")","v":""},{"$f":"IF(Conf7!$P$55>List!AJ160,List!AJ160+1,\"\")","v":""},{"$f":"IF(Conf7!$P$54+Conf7!$P$55>List!AK160,List!AK160+1,\"\")","v":""},{"$f":"IF(Conf7!$P$54>List!AL160,List!AL160+1,\"\")","v":""},{"$f":"IF(Conf8!$P$55>List!AM160,List!AM160+1,\"\")","v":""},{"$f":"IF(Conf8!$P$54+Conf8!$P$55>List!AN160,List!AN160+1,\"\")","v":""},{"$f":"IF(Conf8!$P$54>List!AO160,List!AO160+1,\"\")","v":""},{"$f":"IF(Conf9!$P$55>List!AP160,List!AP160+1,\"\")","v":""},{"$f":"IF(Conf9!$P$54+Conf9!$P$55>List!AQ160,List!AQ160+1,\"\")","v":""},{"$f":"IF(Conf9!$P$54>List!AR160,List!AR160+1,\"\")","v":""},{"$f":"IF(Conf10!$P$55>List!AS160,List!AS160+1,\"\")","v":""},{"$f":"IF(Conf10!$P$54+Conf10!$P$55>List!AT160,List!AT160+1,\"\")","v":""},{"$f":"IF(Conf10!$P$54>List!AU160,List!AU160+1,\"\")","v":""}]
[null,null,null,null,null,null,null,null,null,null,null,{"$f":"IF(Configurator!$P$55>List!L161,List!L161+1,\"\")","v":""},{"$f":"IF(Configurator!$P$54+Configurator!$P$55>List!M161,List!M161+1,\"\")","v":""},{"$f":"IF(Configurator!$P$54>List!N161,List!N161+1,\"\")","v":""},{"$f":"IF(Conf2!$P$55>List!O161,List!O161+1,\"\")","v":""},{"$f":"IF(Conf2!$P$54+Conf2!$P$55>List!P161,List!P161+1,\"\")","v":""},{"$f":"IF(Conf2!$P$54>List!Q161,List!Q161+1,\"\")","v":""},{"$f":"IF(Conf3!$P$55>List!R161,List!R161+1,\"\")","v":""},{"$f":"IF(Conf3!$P$54+Conf3!$P$55>List!S161,List!S161+1,\"\")","v":""},{"$f":"IF(Conf3!$P$54>List!T161,List!T161+1,\"\")","v":""},{"$f":"IF(Conf4!$P$55>List!U161,List!U161+1,\"\")","v":""},{"$f":"IF(Conf4!$P$54+Conf4!$P$55>List!V161,List!V161+1,\"\")","v":""},{"$f":"IF(Conf4!$P$54>List!W161,List!W161+1,\"\")","v":""},null,null,null,null,null,null,{"$f":"IF(Conf5!$P$55>List!AD161,List!AD161+1,\"\")","v":""},{"$f":"IF(Conf5!$P$54+Conf5!$P$55>List!AE161,List!AE161+1,\"\")","v":""},{"$f":"IF(Conf5!$P$54>List!AF161,List!AF161+1,\"\")","v":""},{"$f":"IF(Conf6!$P$55>List!AG161,List!AG161+1,\"\")","v":""},{"$f":"IF(Conf6!$P$54+Conf6!$P$55>List!AH161,List!AH161+1,\"\")","v":""},{"$f":"IF(Conf6!$P$54>List!AI161,List!AI161+1,\"\")","v":""},{"$f":"IF(Conf7!$P$55>List!AJ161,List!AJ161+1,\"\")","v":""},{"$f":"IF(Conf7!$P$54+Conf7!$P$55>List!AK161,List!AK161+1,\"\")","v":""},{"$f":"IF(Conf7!$P$54>List!AL161,List!AL161+1,\"\")","v":""},{"$f":"IF(Conf8!$P$55>List!AM161,List!AM161+1,\"\")","v":""},{"$f":"IF(Conf8!$P$54+Conf8!$P$55>List!AN161,List!AN161+1,\"\")","v":""},{"$f":"IF(Conf8!$P$54>List!AO161,List!AO161+1,\"\")","v":""},{"$f":"IF(Conf9!$P$55>List!AP161,List!AP161+1,\"\")","v":""},{"$f":"IF(Conf9!$P$54+Conf9!$P$55>List!AQ161,List!AQ161+1,\"\")","v":""},{"$f":"IF(Conf9!$P$54>List!AR161,List!AR161+1,\"\")","v":""},{"$f":"IF(Conf10!$P$55>List!AS161,List!AS161+1,\"\")","v":""},{"$f":"IF(Conf10!$P$54+Conf10!$P$55>List!AT161,List!AT161+1,\"\")","v":""},{"$f":"IF(Conf10!$P$54>List!AU161,List!AU161+1,\"\")","v":""}]
[null,null,null,null,null,null,null,null,null,null,null,{"$f":"IF(Configurator!$P$55>List!L162,List!L162+1,\"\")","v":""},{"$f":"IF(Configurator!$P$54+Configurator!$P$55>List!M162,List!M162+1,\"\")","v":""},{"$f":"IF(Configurator!$P$54>List!N162,List!N162+1,\"\")","v":""},{"$f":"IF(Conf2!$P$55>List!O162,List!O162+1,\"\")","v":""},{"$f":"IF(Conf2!$P$54+Conf2!$P$55>List!P162,List!P162+1,\"\")","v":""},{"$f":"IF(Conf2!$P$54>List!Q162,List!Q162+1,\"\")","v":""},{"$f":"IF(Conf3!$P$55>List!R162,List!R162+1,\"\")","v":""},{"$f":"IF(Conf3!$P$54+Conf3!$P$55>List!S162,List!S162+1,\"\")","v":""},{"$f":"IF(Conf3!$P$54>List!T162,List!T162+1,\"\")","v":""},{"$f":"IF(Conf4!$P$55>List!U162,List!U162+1,\"\")","v":""},{"$f":"IF(Conf4!$P$54+Conf4!$P$55>List!V162,List!V162+1,\"\")","v":""},{"$f":"IF(Conf4!$P$54>List!W162,List!W162+1,\"\")","v":""},null,null,null,null,null,null,{"$f":"IF(Conf5!$P$55>List!AD162,List!AD162+1,\"\")","v":""},{"$f":"IF(Conf5!$P$54+Conf5!$P$55>List!AE162,List!AE162+1,\"\")","v":""},{"$f":"IF(Conf5!$P$54>List!AF162,List!AF162+1,\"\")","v":""},{"$f":"IF(Conf6!$P$55>List!AG162,List!AG162+1,\"\")","v":""},{"$f":"IF(Conf6!$P$54+Conf6!$P$55>List!AH162,List!AH162+1,\"\")","v":""},{"$f":"IF(Conf6!$P$54>List!AI162,List!AI162+1,\"\")","v":""},{"$f":"IF(Conf7!$P$55>List!AJ162,List!AJ162+1,\"\")","v":""},{"$f":"IF(Conf7!$P$54+Conf7!$P$55>List!AK162,List!AK162+1,\"\")","v":""},{"$f":"IF(Conf7!$P$54>List!AL162,List!AL162+1,\"\")","v":""},{"$f":"IF(Conf8!$P$55>List!AM162,List!AM162+1,\"\")","v":""},{"$f":"IF(Conf8!$P$54+Conf8!$P$55>List!AN162,List!AN162+1,\"\")","v":""},{"$f":"IF(Conf8!$P$54>List!AO162,List!AO162+1,\"\")","v":""},{"$f":"IF(Conf9!$P$55>List!AP162,List!AP162+1,\"\")","v":""},{"$f":"IF(Conf9!$P$54+Conf9!$P$55>List!AQ162,List!AQ162+1,\"\")","v":""},{"$f":"IF(Conf9!$P$54>List!AR162,List!AR162+1,\"\")","v":""},{"$f":"IF(Conf10!$P$55>List!AS162,List!AS162+1,\"\")","v":""},{"$f":"IF(Conf10!$P$54+Conf10!$P$55>List!AT162,List!AT162+1,\"\")","v":""},{"$f":"IF(Conf10!$P$54>List!AU162,List!AU162+1,\"\")","v":""}]
[null,null,null,null,null,null,null,null,null,null,null,{"$f":"IF(Configurator!$P$55>List!L163,List!L163+1,\"\")","v":""},{"$f":"IF(Configurator!$P$54+Configurator!$P$55>List!M163,List!M163+1,\"\")","v":""},{"$f":"IF(Configurator!$P$54>List!N163,List!N163+1,\"\")","v":""},{"$f":"IF(Conf2!$P$55>List!O163,List!O163+1,\"\")","v":""},{"$f":"IF(Conf2!$P$54+Conf2!$P$55>List!P163,List!P163+1,\"\")","v":""},{"$f":"IF(Conf2!$P$54>List!Q163,List!Q163+1,\"\")","v":""},{"$f":"IF(Conf3!$P$55>List!R163,List!R163+1,\"\")","v":""},{"$f":"IF(Conf3!$P$54+Conf3!$P$55>List!S163,List!S163+1,\"\")","v":""},{"$f":"IF(Conf3!$P$54>List!T163,List!T163+1,\"\")","v":""},{"$f":"IF(Conf4!$P$55>List!U163,List!U163+1,\"\")","v":""},{"$f":"IF(Conf4!$P$54+Conf4!$P$55>List!V163,List!V163+1,\"\")","v":""},{"$f":"IF(Conf4!$P$54>List!W163,List!W163+1,\"\")","v":""},null,null,null,null,null,null,{"$f":"IF(Conf5!$P$55>List!AD163,List!AD163+1,\"\")","v":""},{"$f":"IF(Conf5!$P$54+Conf5!$P$55>List!AE163,List!AE163+1,\"\")","v":""},{"$f":"IF(Conf5!$P$54>List!AF163,List!AF163+1,\"\")","v":""},{"$f":"IF(Conf6!$P$55>List!AG163,List!AG163+1,\"\")","v":""},{"$f":"IF(Conf6!$P$54+Conf6!$P$55>List!AH163,List!AH163+1,\"\")","v":""},{"$f":"IF(Conf6!$P$54>List!AI163,List!AI163+1,\"\")","v":""},{"$f":"IF(Conf7!$P$55>List!AJ163,List!AJ163+1,\"\")","v":""},{"$f":"IF(Conf7!$P$54+Conf7!$P$55>List!AK163,List!AK163+1,\"\")","v":""},{"$f":"IF(Conf7!$P$54>List!AL163,List!AL163+1,\"\")","v":""},{"$f":"IF(Conf8!$P$55>List!AM163,List!AM163+1,\"\")","v":""},{"$f":"IF(Conf8!$P$54+Conf8!$P$55>List!AN163,List!AN163+1,\"\")","v":""},{"$f":"IF(Conf8!$P$54>List!AO163,List!AO163+1,\"\")","v":""},{"$f":"IF(Conf9!$P$55>List!AP163,List!AP163+1,\"\")","v":""},{"$f":"IF(Conf9!$P$54+Conf9!$P$55>List!AQ163,List!AQ163+1,\"\")","v":""},{"$f":"IF(Conf9!$P$54>List!AR163,List!AR163+1,\"\")","v":""},{"$f":"IF(Conf10!$P$55>List!AS163,List!AS163+1,\"\")","v":""},{"$f":"IF(Conf10!$P$54+Conf10!$P$55>List!AT163,List!AT163+1,\"\")","v":""},{"$f":"IF(Conf10!$P$54>List!AU163,List!AU163+1,\"\")","v":""}]
[null,null,null,null,null,null,null,null,null,null,null,{"$f":"IF(Configurator!$P$55>List!L164,List!L164+1,\"\")","v":""},{"$f":"IF(Configurator!$P$54+Configurator!$P$55>List!M164,List!M164+1,\"\")","v":""},{"$f":"IF(Configurator!$P$54>List!N164,List!N164+1,\"\")","v":""},{"$f":"IF(Conf2!$P$55>List!O164,List!O164+1,\"\")","v":""},{"$f":"IF(Conf2!$P$54+Conf2!$P$55>List!P164,List!P164+1,\"\")","v":""},{"$f":"IF(Conf2!$P$54>List!Q164,List!Q164+1,\"\")","v":""},{"$f":"IF(Conf3!$P$55>List!R164,List!R164+1,\"\")","v":""},{"$f":"IF(Conf3!$P$54+Conf3!$P$55>List!S164,List!S164+1,\"\")","v":""},{"$f":"IF(Conf3!$P$54>List!T164,List!T164+1,\"\")","v":""},{"$f":"IF(Conf4!$P$55>List!U164,List!U164+1,\"\")","v":""},{"$f":"IF(Conf4!$P$54+Conf4!$P$55>List!V164,List!V164+1,\"\")","v":""},{"$f":"IF(Conf4!$P$54>List!W164,List!W164+1,\"\")","v":""},null,null,null,null,null,null,{"$f":"IF(Conf5!$P$55>List!AD164,List!AD164+1,\"\")","v":""},{"$f":"IF(Conf5!$P$54+Conf5!$P$55>List!AE164,List!AE164+1,\"\")","v":""},{"$f":"IF(Conf5!$P$54>List!AF164,List!AF164+1,\"\")","v":""},{"$f":"IF(Conf6!$P$55>List!AG164,List!AG164+1,\"\")","v":""},{"$f":"IF(Conf6!$P$54+Conf6!$P$55>List!AH164,List!AH164+1,\"\")","v":""},{"$f":"IF(Conf6!$P$54>List!AI164,List!AI164+1,\"\")","v":""},{"$f":"IF(Conf7!$P$55>List!AJ164,List!AJ164+1,\"\")","v":""},{"$f":"IF(Conf7!$P$54+Conf7!$P$55>List!AK164,List!AK164+1,\"\")","v":""},{"$f":"IF(Conf7!$P$54>List!AL164,List!AL164+1,\"\")","v":""},{"$f":"IF(Conf8!$P$55>List!AM164,List!AM164+1,\"\")","v":""},{"$f":"IF(Conf8!$P$54+Conf8!$P$55>List!AN164,List!AN164+1,\"\")","v":""},{"$f":"IF(Conf8!$P$54>List!AO164,List!AO164+1,\"\")","v":""},{"$f":"IF(Conf9!$P$55>List!AP164,List!AP164+1,\"\")","v":""},{"$f":"IF(Conf9!$P$54+Conf9!$P$55>List!AQ164,List!AQ164+1,\"\")","v":""},{"$f":"IF(Conf9!$P$54>List!AR164,List!AR164+1,\"\")","v":""},{"$f":"IF(Conf10!$P$55>List!AS164,List!AS164+1,\"\")","v":""},{"$f":"IF(Conf10!$P$54+Conf10!$P$55>List!AT164,List!AT164+1,\"\")","v":""},{"$f":"IF(Conf10!$P$54>List!AU164,List!AU164+1,\"\")","v":""}]
[null,null,null,null,null,null,null,null,null,null,null,{"$f":"IF(Configurator!$P$55>List!L165,List!L165+1,\"\")","v":""},{"$f":"IF(Configurator!$P$54+Configurator!$P$55>List!M165,List!M165+1,\"\")","v":""},{"$f":"IF(Configurator!$P$54>List!N165,List!N165+1,\"\")","v":""},{"$f":"IF(Conf2!$P$55>List!O165,List!O165+1,\"\")","v":""},{"$f":"IF(Conf2!$P$54+Conf2!$P$55>List!P165,List!P165+1,\"\")","v":""},{"$f":"IF(Conf2!$P$54>List!Q165,List!Q165+1,\"\")","v":""},{"$f":"IF(Conf3!$P$55>List!R165,List!R165+1,\"\")","v":""},{"$f":"IF(Conf3!$P$54+Conf3!$P$55>List!S165,List!S165+1,\"\")","v":""},{"$f":"IF(Conf3!$P$54>List!T165,List!T165+1,\"\")","v":""},{"$f":"IF(Conf4!$P$55>List!U165,List!U165+1,\"\")","v":""},{"$f":"IF(Conf4!$P$54+Conf4!$P$55>List!V165,List!V165+1,\"\")","v":""},{"$f":"IF(Conf4!$P$54>List!W165,List!W165+1,\"\")","v":""},null,null,null,null,null,null,{"$f":"IF(Conf5!$P$55>List!AD165,List!AD165+1,\"\")","v":""},{"$f":"IF(Conf5!$P$54+Conf5!$P$55>List!AE165,List!AE165+1,\"\")","v":""},{"$f":"IF(Conf5!$P$54>List!AF165,List!AF165+1,\"\")","v":""},{"$f":"IF(Conf6!$P$55>List!AG165,List!AG165+1,\"\")","v":""},{"$f":"IF(Conf6!$P$54+Conf6!$P$55>List!AH165,List!AH165+1,\"\")","v":""},{"$f":"IF(Conf6!$P$54>List!AI165,List!AI165+1,\"\")","v":""},{"$f":"IF(Conf7!$P$55>List!AJ165,List!AJ165+1,\"\")","v":""},{"$f":"IF(Conf7!$P$54+Conf7!$P$55>List!AK165,List!AK165+1,\"\")","v":""},{"$f":"IF(Conf7!$P$54>List!AL165,List!AL165+1,\"\")","v":""},{"$f":"IF(Conf8!$P$55>List!AM165,List!AM165+1,\"\")","v":""},{"$f":"IF(Conf8!$P$54+Conf8!$P$55>List!AN165,List!AN165+1,\"\")","v":""},{"$f":"IF(Conf8!$P$54>List!AO165,List!AO165+1,\"\")","v":""},{"$f":"IF(Conf9!$P$55>List!AP165,List!AP165+1,\"\")","v":""},{"$f":"IF(Conf9!$P$54+Conf9!$P$55>List!AQ165,List!AQ165+1,\"\")","v":""},{"$f":"IF(Conf9!$P$54>List!AR165,List!AR165+1,\"\")","v":""},{"$f":"IF(Conf10!$P$55>List!AS165,List!AS165+1,\"\")","v":""},{"$f":"IF(Conf10!$P$54+Conf10!$P$55>List!AT165,List!AT165+1,\"\")","v":""},{"$f":"IF(Conf10!$P$54>List!AU165,List!AU165+1,\"\")","v":""}]
[null,null,null,null,null,null,null,null,null,null,null,{"$f":"IF(Configurator!$P$55>List!L166,List!L166+1,\"\")","v":""},{"$f":"IF(Configurator!$P$54+Configurator!$P$55>List!M166,List!M166+1,\"\")","v":""},{"$f":"IF(Configurator!$P$54>List!N166,List!N166+1,\"\")","v":""},{"$f":"IF(Conf2!$P$55>List!O166,List!O166+1,\"\")","v":""},{"$f":"IF(Conf2!$P$54+Conf2!$P$55>List!P166,List!P166+1,\"\")","v":""},{"$f":"IF(Conf2!$P$54>List!Q166,List!Q166+1,\"\")","v":""},{"$f":"IF(Conf3!$P$55>List!R166,List!R166+1,\"\")","v":""},{"$f":"IF(Conf3!$P$54+Conf3!$P$55>List!S166,List!S166+1,\"\")","v":""},{"$f":"IF(Conf3!$P$54>List!T166,List!T166+1,\"\")","v":""},{"$f":"IF(Conf4!$P$55>List!U166,List!U166+1,\"\")","v":""},{"$f":"IF(Conf4!$P$54+Conf4!$P$55>List!V166,List!V166+1,\"\")","v":""},{"$f":"IF(Conf4!$P$54>List!W166,List!W166+1,\"\")","v":""},null,null,null,null,null,null,{"$f":"IF(Conf5!$P$55>List!AD166,List!AD166+1,\"\")","v":""},{"$f":"IF(Conf5!$P$54+Conf5!$P$55>List!AE166,List!AE166+1,\"\")","v":""},{"$f":"IF(Conf5!$P$54>List!AF166,List!AF166+1,\"\")","v":""},{"$f":"IF(Conf6!$P$55>List!AG166,List!AG166+1,\"\")","v":""},{"$f":"IF(Conf6!$P$54+Conf6!$P$55>List!AH166,List!AH166+1,\"\")","v":""},{"$f":"IF(Conf6!$P$54>List!AI166,List!AI166+1,\"\")","v":""},{"$f":"IF(Conf7!$P$55>List!AJ166,List!AJ166+1,\"\")","v":""},{"$f":"IF(Conf7!$P$54+Conf7!$P$55>List!AK166,List!AK166+1,\"\")","v":""},{"$f":"IF(Conf7!$P$54>List!AL166,List!AL166+1,\"\")","v":""},{"$f":"IF(Conf8!$P$55>List!AM166,List!AM166+1,\"\")","v":""},{"$f":"IF(Conf8!$P$54+Conf8!$P$55>List!AN166,List!AN166+1,\"\")","v":""},{"$f":"IF(Conf8!$P$54>List!AO166,List!AO166+1,\"\")","v":""},{"$f":"IF(Conf9!$P$55>List!AP166,List!AP166+1,\"\")","v":""},{"$f":"IF(Conf9!$P$54+Conf9!$P$55>List!AQ166,List!AQ166+1,\"\")","v":""},{"$f":"IF(Conf9!$P$54>List!AR166,List!AR166+1,\"\")","v":""},{"$f":"IF(Conf10!$P$55>List!AS166,List!AS166+1,\"\")","v":""},{"$f":"IF(Conf10!$P$54+Conf10!$P$55>List!AT166,List!AT166+1,\"\")","v":""},{"$f":"IF(Conf10!$P$54>List!AU166,List!AU166+1,\"\")","v":""}]
[null,null,null,null,null,null,null,null,null,null,null,{"$f":"IF(Configurator!$P$55>List!L167,List!L167+1,\"\")","v":""},{"$f":"IF(Configurator!$P$54+Configurator!$P$55>List!M167,List!M167+1,\"\")","v":""},{"$f":"IF(Configurator!$P$54>List!N167,List!N167+1,\"\")","v":""},{"$f":"IF(Conf2!$P$55>List!O167,List!O167+1,\"\")","v":""},{"$f":"IF(Conf2!$P$54+Conf2!$P$55>List!P167,List!P167+1,\"\")","v":""},{"$f":"IF(Conf2!$P$54>List!Q167,List!Q167+1,\"\")","v":""},{"$f":"IF(Conf3!$P$55>List!R167,List!R167+1,\"\")","v":""},{"$f":"IF(Conf3!$P$54+Conf3!$P$55>List!S167,List!S167+1,\"\")","v":""},{"$f":"IF(Conf3!$P$54>List!T167,List!T167+1,\"\")","v":""},{"$f":"IF(Conf4!$P$55>List!U167,List!U167+1,\"\")","v":""},{"$f":"IF(Conf4!$P$54+Conf4!$P$55>List!V167,List!V167+1,\"\")","v":""},{"$f":"IF(Conf4!$P$54>List!W167,List!W167+1,\"\")","v":""},null,null,null,null,null,null,{"$f":"IF(Conf5!$P$55>List!AD167,List!AD167+1,\"\")","v":""},{"$f":"IF(Conf5!$P$54+Conf5!$P$55>List!AE167,List!AE167+1,\"\")","v":""},{"$f":"IF(Conf5!$P$54>List!AF167,List!AF167+1,\"\")","v":""},{"$f":"IF(Conf6!$P$55>List!AG167,List!AG167+1,\"\")","v":""},{"$f":"IF(Conf6!$P$54+Conf6!$P$55>List!AH167,List!AH167+1,\"\")","v":""},{"$f":"IF(Conf6!$P$54>List!AI167,List!AI167+1,\"\")","v":""},{"$f":"IF(Conf7!$P$55>List!AJ167,List!AJ167+1,\"\")","v":""},{"$f":"IF(Conf7!$P$54+Conf7!$P$55>List!AK167,List!AK167+1,\"\")","v":""},{"$f":"IF(Conf7!$P$54>List!AL167,List!AL167+1,\"\")","v":""},{"$f":"IF(Conf8!$P$55>List!AM167,List!AM167+1,\"\")","v":""},{"$f":"IF(Conf8!$P$54+Conf8!$P$55>List!AN167,List!AN167+1,\"\")","v":""},{"$f":"IF(Conf8!$P$54>List!AO167,List!AO167+1,\"\")","v":""},{"$f":"IF(Conf9!$P$55>List!AP167,List!AP167+1,\"\")","v":""},{"$f":"IF(Conf9!$P$54+Conf9!$P$55>List!AQ167,List!AQ167+1,\"\")","v":""},{"$f":"IF(Conf9!$P$54>List!AR167,List!AR167+1,\"\")","v":""},{"$f":"IF(Conf10!$P$55>List!AS167,List!AS167+1,\"\")","v":""},{"$f":"IF(Conf10!$P$54+Conf10!$P$55>List!AT167,List!AT167+1,\"\")","v":""},{"$f":"IF(Conf10!$P$54>List!AU167,List!AU167+1,\"\")","v":""}]
[null,null,null,null,null,null,null,null,null,null,null,{"$f":"IF(Configurator!$P$55>List!L168,List!L168+1,\"\")","v":""},{"$f":"IF(Configurator!$P$54+Configurator!$P$55>List!M168,List!M168+1,\"\")","v":""},{"$f":"IF(Configurator!$P$54>List!N168,List!N168+1,\"\")","v":""},{"$f":"IF(Conf2!$P$55>List!O168,List!O168+1,\"\")","v":""},{"$f":"IF(Conf2!$P$54+Conf2!$P$55>List!P168,List!P168+1,\"\")","v":""},{"$f":"IF(Conf2!$P$54>List!Q168,List!Q168+1,\"\")","v":""},{"$f":"IF(Conf3!$P$55>List!R168,List!R168+1,\"\")","v":""},{"$f":"IF(Conf3!$P$54+Conf3!$P$55>List!S168,List!S168+1,\"\")","v":""},{"$f":"IF(Conf3!$P$54>List!T168,List!T168+1,\"\")","v":""},{"$f":"IF(Conf4!$P$55>List!U168,List!U168+1,\"\")","v":""},{"$f":"IF(Conf4!$P$54+Conf4!$P$55>List!V168,List!V168+1,\"\")","v":""},{"$f":"IF(Conf4!$P$54>List!W168,List!W168+1,\"\")","v":""},null,null,null,null,null,null,{"$f":"IF(Conf5!$P$55>List!AD168,List!AD168+1,\"\")","v":""},{"$f":"IF(Conf5!$P$54+Conf5!$P$55>List!AE168,List!AE168+1,\"\")","v":""},{"$f":"IF(Conf5!$P$54>List!AF168,List!AF168+1,\"\")","v":""},{"$f":"IF(Conf6!$P$55>List!AG168,List!AG168+1,\"\")","v":""},{"$f":"IF(Conf6!$P$54+Conf6!$P$55>List!AH168,List!AH168+1,\"\")","v":""},{"$f":"IF(Conf6!$P$54>List!AI168,List!AI168+1,\"\")","v":""},{"$f":"IF(Conf7!$P$55>List!AJ168,List!AJ168+1,\"\")","v":""},{"$f":"IF(Conf7!$P$54+Conf7!$P$55>List!AK168,List!AK168+1,\"\")","v":""},{"$f":"IF(Conf7!$P$54>List!AL168,List!AL168+1,\"\")","v":""},{"$f":"IF(Conf8!$P$55>List!AM168,List!AM168+1,\"\")","v":""},{"$f":"IF(Conf8!$P$54+Conf8!$P$55>List!AN168,List!AN168+1,\"\")","v":""},{"$f":"IF(Conf8!$P$54>List!AO168,List!AO168+1,\"\")","v":""},{"$f":"IF(Conf9!$P$55>List!AP168,List!AP168+1,\"\")","v":""},{"$f":"IF(Conf9!$P$54+Conf9!$P$55>List!AQ168,List!AQ168+1,\"\")","v":""},{"$f":"IF(Conf9!$P$54>List!AR168,List!AR168+1,\"\")","v":""},{"$f":"IF(Conf10!$P$55>List!AS168,List!AS168+1,\"\")","v":""},{"$f":"IF(Conf10!$P$54+Conf10!$P$55>List!AT168,List!AT168+1,\"\")","v":""},{"$f":"IF(Conf10!$P$54>List!AU168,List!AU168+1,\"\")","v":""}]
[null,null,null,null,null,null,null,null,null,null,null,{"$f":"IF(Configurator!$P$55>List!L169,List!L169+1,\"\")","v":""},{"$f":"IF(Configurator!$P$54+Configurator!$P$55>List!M169,List!M169+1,\"\")","v":""},{"$f":"IF(Configurator!$P$54>List!N169,List!N169+1,\"\")","v":""},{"$f":"IF(Conf2!$P$55>List!O169,List!O169+1,\"\")","v":""},{"$f":"IF(Conf2!$P$54+Conf2!$P$55>List!P169,List!P169+1,\"\")","v":""},{"$f":"IF(Conf2!$P$54>List!Q169,List!Q169+1,\"\")","v":""},{"$f":"IF(Conf3!$P$55>List!R169,List!R169+1,\"\")","v":""},{"$f":"IF(Conf3!$P$54+Conf3!$P$55>List!S169,List!S169+1,\"\")","v":""},{"$f":"IF(Conf3!$P$54>List!T169,List!T169+1,\"\")","v":""},{"$f":"IF(Conf4!$P$55>List!U169,List!U169+1,\"\")","v":""},{"$f":"IF(Conf4!$P$54+Conf4!$P$55>List!V169,List!V169+1,\"\")","v":""},{"$f":"IF(Conf4!$P$54>List!W169,List!W169+1,\"\")","v":""},null,null,null,null,null,null,{"$f":"IF(Conf5!$P$55>List!AD169,List!AD169+1,\"\")","v":""},{"$f":"IF(Conf5!$P$54+Conf5!$P$55>List!AE169,List!AE169+1,\"\")","v":""},{"$f":"IF(Conf5!$P$54>List!AF169,List!AF169+1,\"\")","v":""},{"$f":"IF(Conf6!$P$55>List!AG169,List!AG169+1,\"\")","v":""},{"$f":"IF(Conf6!$P$54+Conf6!$P$55>List!AH169,List!AH169+1,\"\")","v":""},{"$f":"IF(Conf6!$P$54>List!AI169,List!AI169+1,\"\")","v":""},{"$f":"IF(Conf7!$P$55>List!AJ169,List!AJ169+1,\"\")","v":""},{"$f":"IF(Conf7!$P$54+Conf7!$P$55>List!AK169,List!AK169+1,\"\")","v":""},{"$f":"IF(Conf7!$P$54>List!AL169,List!AL169+1,\"\")","v":""},{"$f":"IF(Conf8!$P$55>List!AM169,List!AM169+1,\"\")","v":""},{"$f":"IF(Conf8!$P$54+Conf8!$P$55>List!AN169,List!AN169+1,\"\")","v":""},{"$f":"IF(Conf8!$P$54>List!AO169,List!AO169+1,\"\")","v":""},{"$f":"IF(Conf9!$P$55>List!AP169,List!AP169+1,\"\")","v":""},{"$f":"IF(Conf9!$P$54+Conf9!$P$55>List!AQ169,List!AQ169+1,\"\")","v":""},{"$f":"IF(Conf9!$P$54>List!AR169,List!AR169+1,\"\")","v":""},{"$f":"IF(Conf10!$P$55>List!AS169,List!AS169+1,\"\")","v":""},{"$f":"IF(Conf10!$P$54+Conf10!$P$55>List!AT169,List!AT169+1,\"\")","v":""},{"$f":"IF(Conf10!$P$54>List!AU169,List!AU169+1,\"\")","v":""}]
[null,null,null,null,null,null,null,null,null,null,null,{"$f":"IF(Configurator!$P$55>List!L170,List!L170+1,\"\")","v":""},{"$f":"IF(Configurator!$P$54+Configurator!$P$55>List!M170,List!M170+1,\"\")","v":""},{"$f":"IF(Configurator!$P$54>List!N170,List!N170+1,\"\")","v":""},{"$f":"IF(Conf2!$P$55>List!O170,List!O170+1,\"\")","v":""},{"$f":"IF(Conf2!$P$54+Conf2!$P$55>List!P170,List!P170+1,\"\")","v":""},{"$f":"IF(Conf2!$P$54>List!Q170,List!Q170+1,\"\")","v":""},{"$f":"IF(Conf3!$P$55>List!R170,List!R170+1,\"\")","v":""},{"$f":"IF(Conf3!$P$54+Conf3!$P$55>List!S170,List!S170+1,\"\")","v":""},{"$f":"IF(Conf3!$P$54>List!T170,List!T170+1,\"\")","v":""},{"$f":"IF(Conf4!$P$55>List!U170,List!U170+1,\"\")","v":""},{"$f":"IF(Conf4!$P$54+Conf4!$P$55>List!V170,List!V170+1,\"\")","v":""},{"$f":"IF(Conf4!$P$54>List!W170,List!W170+1,\"\")","v":""},null,null,null,null,null,null,{"$f":"IF(Conf5!$P$55>List!AD170,List!AD170+1,\"\")","v":""},{"$f":"IF(Conf5!$P$54+Conf5!$P$55>List!AE170,List!AE170+1,\"\")","v":""},{"$f":"IF(Conf5!$P$54>List!AF170,List!AF170+1,\"\")","v":""},{"$f":"IF(Conf6!$P$55>List!AG170,List!AG170+1,\"\")","v":""},{"$f":"IF(Conf6!$P$54+Conf6!$P$55>List!AH170,List!AH170+1,\"\")","v":""},{"$f":"IF(Conf6!$P$54>List!AI170,List!AI170+1,\"\")","v":""},{"$f":"IF(Conf7!$P$55>List!AJ170,List!AJ170+1,\"\")","v":""},{"$f":"IF(Conf7!$P$54+Conf7!$P$55>List!AK170,List!AK170+1,\"\")","v":""},{"$f":"IF(Conf7!$P$54>List!AL170,List!AL170+1,\"\")","v":""},{"$f":"IF(Conf8!$P$55>List!AM170,List!AM170+1,\"\")","v":""},{"$f":"IF(Conf8!$P$54+Conf8!$P$55>List!AN170,List!AN170+1,\"\")","v":""},{"$f":"IF(Conf8!$P$54>List!AO170,List!AO170+1,\"\")","v":""},{"$f":"IF(Conf9!$P$55>List!AP170,List!AP170+1,\"\")","v":""},{"$f":"IF(Conf9!$P$54+Conf9!$P$55>List!AQ170,List!AQ170+1,\"\")","v":""},{"$f":"IF(Conf9!$P$54>List!AR170,List!AR170+1,\"\")","v":""},{"$f":"IF(Conf10!$P$55>List!AS170,List!AS170+1,\"\")","v":""},{"$f":"IF(Conf10!$P$54+Conf10!$P$55>List!AT170,List!AT170+1,\"\")","v":""},{"$f":"IF(Conf10!$P$54>List!AU170,List!AU170+1,\"\")","v":""}]
[null,null,null,null,null,null,null,null,null,null,null,{"$f":"IF(Configurator!$P$55>List!L171,List!L171+1,\"\")","v":""},{"$f":"IF(Configurator!$P$54+Configurator!$P$55>List!M171,List!M171+1,\"\")","v":""},{"$f":"IF(Configurator!$P$54>List!N171,List!N171+1,\"\")","v":""},{"$f":"IF(Conf2!$P$55>List!O171,List!O171+1,\"\")","v":""},{"$f":"IF(Conf2!$P$54+Conf2!$P$55>List!P171,List!P171+1,\"\")","v":""},{"$f":"IF(Conf2!$P$54>List!Q171,List!Q171+1,\"\")","v":""},{"$f":"IF(Conf3!$P$55>List!R171,List!R171+1,\"\")","v":""},{"$f":"IF(Conf3!$P$54+Conf3!$P$55>List!S171,List!S171+1,\"\")","v":""},{"$f":"IF(Conf3!$P$54>List!T171,List!T171+1,\"\")","v":""},{"$f":"IF(Conf4!$P$55>List!U171,List!U171+1,\"\")","v":""},{"$f":"IF(Conf4!$P$54+Conf4!$P$55>List!V171,List!V171+1,\"\")","v":""},{"$f":"IF(Conf4!$P$54>List!W171,List!W171+1,\"\")","v":""},null,null,null,null,null,null,{"$f":"IF(Conf5!$P$55>List!AD171,List!AD171+1,\"\")","v":""},{"$f":"IF(Conf5!$P$54+Conf5!$P$55>List!AE171,List!AE171+1,\"\")","v":""},{"$f":"IF(Conf5!$P$54>List!AF171,List!AF171+1,\"\")","v":""},{"$f":"IF(Conf6!$P$55>List!AG171,List!AG171+1,\"\")","v":""},{"$f":"IF(Conf6!$P$54+Conf6!$P$55>List!AH171,List!AH171+1,\"\")","v":""},{"$f":"IF(Conf6!$P$54>List!AI171,List!AI171+1,\"\")","v":""},{"$f":"IF(Conf7!$P$55>List!AJ171,List!AJ171+1,\"\")","v":""},{"$f":"IF(Conf7!$P$54+Conf7!$P$55>List!AK171,List!AK171+1,\"\")","v":""},{"$f":"IF(Conf7!$P$54>List!AL171,List!AL171+1,\"\")","v":""},{"$f":"IF(Conf8!$P$55>List!AM171,List!AM171+1,\"\")","v":""},{"$f":"IF(Conf8!$P$54+Conf8!$P$55>List!AN171,List!AN171+1,\"\")","v":""},{"$f":"IF(Conf8!$P$54>List!AO171,List!AO171+1,\"\")","v":""},{"$f":"IF(Conf9!$P$55>List!AP171,List!AP171+1,\"\")","v":""},{"$f":"IF(Conf9!$P$54+Conf9!$P$55>List!AQ171,List!AQ171+1,\"\")","v":""},{"$f":"IF(Conf9!$P$54>List!AR171,List!AR171+1,\"\")","v":""},{"$f":"IF(Conf10!$P$55>List!AS171,List!AS171+1,\"\")","v":""},{"$f":"IF(Conf10!$P$54+Conf10!$P$55>List!AT171,List!AT171+1,\"\")","v":""},{"$f":"IF(Conf10!$P$54>List!AU171,List!AU171+1,\"\")","v":""}]
[null,null,null,null,null,null,null,null,null,null,null,{"$f":"IF(Configurator!$P$55>List!L172,List!L172+1,\"\")","v":""},{"$f":"IF(Configurator!$P$54+Configurator!$P$55>List!M172,List!M172+1,\"\")","v":""},{"$f":"IF(Configurator!$P$54>List!N172,List!N172+1,\"\")","v":""},{"$f":"IF(Conf2!$P$55>List!O172,List!O172+1,\"\")","v":""},{"$f":"IF(Conf2!$P$54+Conf2!$P$55>List!P172,List!P172+1,\"\")","v":""},{"$f":"IF(Conf2!$P$54>List!Q172,List!Q172+1,\"\")","v":""},{"$f":"IF(Conf3!$P$55>List!R172,List!R172+1,\"\")","v":""},{"$f":"IF(Conf3!$P$54+Conf3!$P$55>List!S172,List!S172+1,\"\")","v":""},{"$f":"IF(Conf3!$P$54>List!T172,List!T172+1,\"\")","v":""},{"$f":"IF(Conf4!$P$55>List!U172,List!U172+1,\"\")","v":""},{"$f":"IF(Conf4!$P$54+Conf4!$P$55>List!V172,List!V172+1,\"\")","v":""},{"$f":"IF(Conf4!$P$54>List!W172,List!W172+1,\"\")","v":""},null,null,null,null,null,null,{"$f":"IF(Conf5!$P$55>List!AD172,List!AD172+1,\"\")","v":""},{"$f":"IF(Conf5!$P$54+Conf5!$P$55>List!AE172,List!AE172+1,\"\")","v":""},{"$f":"IF(Conf5!$P$54>List!AF172,List!AF172+1,\"\")","v":""},{"$f":"IF(Conf6!$P$55>List!AG172,List!AG172+1,\"\")","v":""},{"$f":"IF(Conf6!$P$54+Conf6!$P$55>List!AH172,List!AH172+1,\"\")","v":""},{"$f":"IF(Conf6!$P$54>List!AI172,List!AI172+1,\"\")","v":""},{"$f":"IF(Conf7!$P$55>List!AJ172,List!AJ172+1,\"\")","v":""},{"$f":"IF(Conf7!$P$54+Conf7!$P$55>List!AK172,List!AK172+1,\"\")","v":""},{"$f":"IF(Conf7!$P$54>List!AL172,List!AL172+1,\"\")","v":""},{"$f":"IF(Conf8!$P$55>List!AM172,List!AM172+1,\"\")","v":""},{"$f":"IF(Conf8!$P$54+Conf8!$P$55>List!AN172,List!AN172+1,\"\")","v":""},{"$f":"IF(Conf8!$P$54>List!AO172,List!AO172+1,\"\")","v":""},{"$f":"IF(Conf9!$P$55>List!AP172,List!AP172+1,\"\")","v":""},{"$f":"IF(Conf9!$P$54+Conf9!$P$55>List!AQ172,List!AQ172+1,\"\")","v":""},{"$f":"IF(Conf9!$P$54>List!AR172,List!AR172+1,\"\")","v":""},{"$f":"IF(Conf10!$P$55>List!AS172,List!AS172+1,\"\")","v":""},{"$f":"IF(Conf10!$P$54+Conf10!$P$55>List!AT172,List!AT172+1,\"\")","v":""},{"$f":"IF(Conf10!$P$54>List!AU172,List!AU172+1,\"\")","v":""}]
[null,null,null,null,null,null,null,null,null,null,null,{"$f":"IF(Configurator!$P$55>List!L173,List!L173+1,\"\")","v":""},{"$f":"IF(Configurator!$P$54+Configurator!$P$55>List!M173,List!M173+1,\"\")","v":""},{"$f":"IF(Configurator!$P$54>List!N173,List!N173+1,\"\")","v":""},{"$f":"IF(Conf2!$P$55>List!O173,List!O173+1,\"\")","v":""},{"$f":"IF(Conf2!$P$54+Conf2!$P$55>List!P173,List!P173+1,\"\")","v":""},{"$f":"IF(Conf2!$P$54>List!Q173,List!Q173+1,\"\")","v":""},{"$f":"IF(Conf3!$P$55>List!R173,List!R173+1,\"\")","v":""},{"$f":"IF(Conf3!$P$54+Conf3!$P$55>List!S173,List!S173+1,\"\")","v":""},{"$f":"IF(Conf3!$P$54>List!T173,List!T173+1,\"\")","v":""},{"$f":"IF(Conf4!$P$55>List!U173,List!U173+1,\"\")","v":""},{"$f":"IF(Conf4!$P$54+Conf4!$P$55>List!V173,List!V173+1,\"\")","v":""},{"$f":"IF(Conf4!$P$54>List!W173,List!W173+1,\"\")","v":""},null,null,null,null,null,null,{"$f":"IF(Conf5!$P$55>List!AD173,List!AD173+1,\"\")","v":""},{"$f":"IF(Conf5!$P$54+Conf5!$P$55>List!AE173,List!AE173+1,\"\")","v":""},{"$f":"IF(Conf5!$P$54>List!AF173,List!AF173+1,\"\")","v":""},{"$f":"IF(Conf6!$P$55>List!AG173,List!AG173+1,\"\")","v":""},{"$f":"IF(Conf6!$P$54+Conf6!$P$55>List!AH173,List!AH173+1,\"\")","v":""},{"$f":"IF(Conf6!$P$54>List!AI173,List!AI173+1,\"\")","v":""},{"$f":"IF(Conf7!$P$55>List!AJ173,List!AJ173+1,\"\")","v":""},{"$f":"IF(Conf7!$P$54+Conf7!$P$55>List!AK173,List!AK173+1,\"\")","v":""},{"$f":"IF(Conf7!$P$54>List!AL173,List!AL173+1,\"\")","v":""},{"$f":"IF(Conf8!$P$55>List!AM173,List!AM173+1,\"\")","v":""},{"$f":"IF(Conf8!$P$54+Conf8!$P$55>List!AN173,List!AN173+1,\"\")","v":""},{"$f":"IF(Conf8!$P$54>List!AO173,List!AO173+1,\"\")","v":""},{"$f":"IF(Conf9!$P$55>List!AP173,List!AP173+1,\"\")","v":""},{"$f":"IF(Conf9!$P$54+Conf9!$P$55>List!AQ173,List!AQ173+1,\"\")","v":""},{"$f":"IF(Conf9!$P$54>List!AR173,List!AR173+1,\"\")","v":""},{"$f":"IF(Conf10!$P$55>List!AS173,List!AS173+1,\"\")","v":""},{"$f":"IF(Conf10!$P$54+Conf10!$P$55>List!AT173,List!AT173+1,\"\")","v":""},{"$f":"IF(Conf10!$P$54>List!AU173,List!AU173+1,\"\")","v":""}]
[null,null,null,null,null,null,null,null,null,null,null,{"$f":"IF(Configurator!$P$55>List!L174,List!L174+1,\"\")","v":""},{"$f":"IF(Configurator!$P$54+Configurator!$P$55>List!M174,List!M174+1,\"\")","v":""},{"$f":"IF(Configurator!$P$54>List!N174,List!N174+1,\"\")","v":""},{"$f":"IF(Conf2!$P$55>List!O174,List!O174+1,\"\")","v":""},{"$f":"IF(Conf2!$P$54+Conf2!$P$55>List!P174,List!P174+1,\"\")","v":""},{"$f":"IF(Conf2!$P$54>List!Q174,List!Q174+1,\"\")","v":""},{"$f":"IF(Conf3!$P$55>List!R174,List!R174+1,\"\")","v":""},{"$f":"IF(Conf3!$P$54+Conf3!$P$55>List!S174,List!S174+1,\"\")","v":""},{"$f":"IF(Conf3!$P$54>List!T174,List!T174+1,\"\")","v":""},{"$f":"IF(Conf4!$P$55>List!U174,List!U174+1,\"\")","v":""},{"$f":"IF(Conf4!$P$54+Conf4!$P$55>List!V174,List!V174+1,\"\")","v":""},{"$f":"IF(Conf4!$P$54>List!W174,List!W174+1,\"\")","v":""},null,null,null,null,null,null,{"$f":"IF(Conf5!$P$55>List!AD174,List!AD174+1,\"\")","v":""},{"$f":"IF(Conf5!$P$54+Conf5!$P$55>List!AE174,List!AE174+1,\"\")","v":""},{"$f":"IF(Conf5!$P$54>List!AF174,List!AF174+1,\"\")","v":""},{"$f":"IF(Conf6!$P$55>List!AG174,List!AG174+1,\"\")","v":""},{"$f":"IF(Conf6!$P$54+Conf6!$P$55>List!AH174,List!AH174+1,\"\")","v":""},{"$f":"IF(Conf6!$P$54>List!AI174,List!AI174+1,\"\")","v":""},{"$f":"IF(Conf7!$P$55>List!AJ174,List!AJ174+1,\"\")","v":""},{"$f":"IF(Conf7!$P$54+Conf7!$P$55>List!AK174,List!AK174+1,\"\")","v":""},{"$f":"IF(Conf7!$P$54>List!AL174,List!AL174+1,\"\")","v":""},{"$f":"IF(Conf8!$P$55>List!AM174,List!AM174+1,\"\")","v":""},{"$f":"IF(Conf8!$P$54+Conf8!$P$55>List!AN174,List!AN174+1,\"\")","v":""},{"$f":"IF(Conf8!$P$54>List!AO174,List!AO174+1,\"\")","v":""},{"$f":"IF(Conf9!$P$55>List!AP174,List!AP174+1,\"\")","v":""},{"$f":"IF(Conf9!$P$54+Conf9!$P$55>List!AQ174,List!AQ174+1,\"\")","v":""},{"$f":"IF(Conf9!$P$54>List!AR174,List!AR174+1,\"\")","v":""},{"$f":"IF(Conf10!$P$55>List!AS174,List!AS174+1,\"\")","v":""},{"$f":"IF(Conf10!$P$54+Conf10!$P$55>List!AT174,List!AT174+1,\"\")","v":""},{"$f":"IF(Conf10!$P$54>List!AU174,List!AU174+1,\"\")","v":""}]
[null,null,null,null,null,null,null,null,null,null,null,{"$f":"IF(Configurator!$P$55>List!L175,List!L175+1,\"\")","v":""},{"$f":"IF(Configurator!$P$54+Configurator!$P$55>List!M175,List!M175+1,\"\")","v":""},{"$f":"IF(Configurator!$P$54>List!N175,List!N175+1,\"\")","v":""},{"$f":"IF(Conf2!$P$55>List!O175,List!O175+1,\"\")","v":""},{"$f":"IF(Conf2!$P$54+Conf2!$P$55>List!P175,List!P175+1,\"\")","v":""},{"$f":"IF(Conf2!$P$54>List!Q175,List!Q175+1,\"\")","v":""},{"$f":"IF(Conf3!$P$55>List!R175,List!R175+1,\"\")","v":""},{"$f":"IF(Conf3!$P$54+Conf3!$P$55>List!S175,List!S175+1,\"\")","v":""},{"$f":"IF(Conf3!$P$54>List!T175,List!T175+1,\"\")","v":""},{"$f":"IF(Conf4!$P$55>List!U175,List!U175+1,\"\")","v":""},{"$f":"IF(Conf4!$P$54+Conf4!$P$55>List!V175,List!V175+1,\"\")","v":""},{"$f":"IF(Conf4!$P$54>List!W175,List!W175+1,\"\")","v":""},null,null,null,null,null,null,{"$f":"IF(Conf5!$P$55>List!AD175,List!AD175+1,\"\")","v":""},{"$f":"IF(Conf5!$P$54+Conf5!$P$55>List!AE175,List!AE175+1,\"\")","v":""},{"$f":"IF(Conf5!$P$54>List!AF175,List!AF175+1,\"\")","v":""},{"$f":"IF(Conf6!$P$55>List!AG175,List!AG175+1,\"\")","v":""},{"$f":"IF(Conf6!$P$54+Conf6!$P$55>List!AH175,List!AH175+1,\"\")","v":""},{"$f":"IF(Conf6!$P$54>List!AI175,List!AI175+1,\"\")","v":""},{"$f":"IF(Conf7!$P$55>List!AJ175,List!AJ175+1,\"\")","v":""},{"$f":"IF(Conf7!$P$54+Conf7!$P$55>List!AK175,List!AK175+1,\"\")","v":""},{"$f":"IF(Conf7!$P$54>List!AL175,List!AL175+1,\"\")","v":""},{"$f":"IF(Conf8!$P$55>List!AM175,List!AM175+1,\"\")","v":""},{"$f":"IF(Conf8!$P$54+Conf8!$P$55>List!AN175,List!AN175+1,\"\")","v":""},{"$f":"IF(Conf8!$P$54>List!AO175,List!AO175+1,\"\")","v":""},{"$f":"IF(Conf9!$P$55>List!AP175,List!AP175+1,\"\")","v":""},{"$f":"IF(Conf9!$P$54+Conf9!$P$55>List!AQ175,List!AQ175+1,\"\")","v":""},{"$f":"IF(Conf9!$P$54>List!AR175,List!AR175+1,\"\")","v":""},{"$f":"IF(Conf10!$P$55>List!AS175,List!AS175+1,\"\")","v":""},{"$f":"IF(Conf10!$P$54+Conf10!$P$55>List!AT175,List!AT175+1,\"\")","v":""},{"$f":"IF(Conf10!$P$54>List!AU175,List!AU175+1,\"\")","v":""}]
[null,null,null,null,null,null,null,null,null,null,null,{"$f":"IF(Configurator!$P$55>List!L176,List!L176+1,\"\")","v":""},{"$f":"IF(Configurator!$P$54+Configurator!$P$55>List!M176,List!M176+1,\"\")","v":""},{"$f":"IF(Configurator!$P$54>List!N176,List!N176+1,\"\")","v":""},{"$f":"IF(Conf2!$P$55>List!O176,List!O176+1,\"\")","v":""},{"$f":"IF(Conf2!$P$54+Conf2!$P$55>List!P176,List!P176+1,\"\")","v":""},{"$f":"IF(Conf2!$P$54>List!Q176,List!Q176+1,\"\")","v":""},{"$f":"IF(Conf3!$P$55>List!R176,List!R176+1,\"\")","v":""},{"$f":"IF(Conf3!$P$54+Conf3!$P$55>List!S176,List!S176+1,\"\")","v":""},{"$f":"IF(Conf3!$P$54>List!T176,List!T176+1,\"\")","v":""},{"$f":"IF(Conf4!$P$55>List!U176,List!U176+1,\"\")","v":""},{"$f":"IF(Conf4!$P$54+Conf4!$P$55>List!V176,List!V176+1,\"\")","v":""},{"$f":"IF(Conf4!$P$54>List!W176,List!W176+1,\"\")","v":""},null,null,null,null,null,null,{"$f":"IF(Conf5!$P$55>List!AD176,List!AD176+1,\"\")","v":""},{"$f":"IF(Conf5!$P$54+Conf5!$P$55>List!AE176,List!AE176+1,\"\")","v":""},{"$f":"IF(Conf5!$P$54>List!AF176,List!AF176+1,\"\")","v":""},{"$f":"IF(Conf6!$P$55>List!AG176,List!AG176+1,\"\")","v":""},{"$f":"IF(Conf6!$P$54+Conf6!$P$55>List!AH176,List!AH176+1,\"\")","v":""},{"$f":"IF(Conf6!$P$54>List!AI176,List!AI176+1,\"\")","v":""},{"$f":"IF(Conf7!$P$55>List!AJ176,List!AJ176+1,\"\")","v":""},{"$f":"IF(Conf7!$P$54+Conf7!$P$55>List!AK176,List!AK176+1,\"\")","v":""},{"$f":"IF(Conf7!$P$54>List!AL176,List!AL176+1,\"\")","v":""},{"$f":"IF(Conf8!$P$55>List!AM176,List!AM176+1,\"\")","v":""},{"$f":"IF(Conf8!$P$54+Conf8!$P$55>List!AN176,List!AN176+1,\"\")","v":""},{"$f":"IF(Conf8!$P$54>List!AO176,List!AO176+1,\"\")","v":""},{"$f":"IF(Conf9!$P$55>List!AP176,List!AP176+1,\"\")","v":""},{"$f":"IF(Conf9!$P$54+Conf9!$P$55>List!AQ176,List!AQ176+1,\"\")","v":""},{"$f":"IF(Conf9!$P$54>List!AR176,List!AR176+1,\"\")","v":""},{"$f":"IF(Conf10!$P$55>List!AS176,List!AS176+1,\"\")","v":""},{"$f":"IF(Conf10!$P$54+Conf10!$P$55>List!AT176,List!AT176+1,\"\")","v":""},{"$f":"IF(Conf10!$P$54>List!AU176,List!AU176+1,\"\")","v":""}]
[null,null,null,null,null,null,null,null,null,null,null,{"$f":"IF(Configurator!$P$55>List!L177,List!L177+1,\"\")","v":""},{"$f":"IF(Configurator!$P$54+Configurator!$P$55>List!M177,List!M177+1,\"\")","v":""},{"$f":"IF(Configurator!$P$54>List!N177,List!N177+1,\"\")","v":""},{"$f":"IF(Conf2!$P$55>List!O177,List!O177+1,\"\")","v":""},{"$f":"IF(Conf2!$P$54+Conf2!$P$55>List!P177,List!P177+1,\"\")","v":""},{"$f":"IF(Conf2!$P$54>List!Q177,List!Q177+1,\"\")","v":""},{"$f":"IF(Conf3!$P$55>List!R177,List!R177+1,\"\")","v":""},{"$f":"IF(Conf3!$P$54+Conf3!$P$55>List!S177,List!S177+1,\"\")","v":""},{"$f":"IF(Conf3!$P$54>List!T177,List!T177+1,\"\")","v":""},{"$f":"IF(Conf4!$P$55>List!U177,List!U177+1,\"\")","v":""},{"$f":"IF(Conf4!$P$54+Conf4!$P$55>List!V177,List!V177+1,\"\")","v":""},{"$f":"IF(Conf4!$P$54>List!W177,List!W177+1,\"\")","v":""},null,null,null,null,null,null,{"$f":"IF(Conf5!$P$55>List!AD177,List!AD177+1,\"\")","v":""},{"$f":"IF(Conf5!$P$54+Conf5!$P$55>List!AE177,List!AE177+1,\"\")","v":""},{"$f":"IF(Conf5!$P$54>List!AF177,List!AF177+1,\"\")","v":""},{"$f":"IF(Conf6!$P$55>List!AG177,List!AG177+1,\"\")","v":""},{"$f":"IF(Conf6!$P$54+Conf6!$P$55>List!AH177,List!AH177+1,\"\")","v":""},{"$f":"IF(Conf6!$P$54>List!AI177,List!AI177+1,\"\")","v":""},{"$f":"IF(Conf7!$P$55>List!AJ177,List!AJ177+1,\"\")","v":""},{"$f":"IF(Conf7!$P$54+Conf7!$P$55>List!AK177,List!AK177+1,\"\")","v":""},{"$f":"IF(Conf7!$P$54>List!AL177,List!AL177+1,\"\")","v":""},{"$f":"IF(Conf8!$P$55>List!AM177,List!AM177+1,\"\")","v":""},{"$f":"IF(Conf8!$P$54+Conf8!$P$55>List!AN177,List!AN177+1,\"\")","v":""},{"$f":"IF(Conf8!$P$54>List!AO177,List!AO177+1,\"\")","v":""},{"$f":"IF(Conf9!$P$55>List!AP177,List!AP177+1,\"\")","v":""},{"$f":"IF(Conf9!$P$54+Conf9!$P$55>List!AQ177,List!AQ177+1,\"\")","v":""},{"$f":"IF(Conf9!$P$54>List!AR177,List!AR177+1,\"\")","v":""},{"$f":"IF(Conf10!$P$55>List!AS177,List!AS177+1,\"\")","v":""},{"$f":"IF(Conf10!$P$54+Conf10!$P$55>List!AT177,List!AT177+1,\"\")","v":""},{"$f":"IF(Conf10!$P$54>List!AU177,List!AU177+1,\"\")","v":""}]
[null,null,null,null,null,null,null,null,null,null,null,{"$f":"IF(Configurator!$P$55>List!L178,List!L178+1,\"\")","v":""},{"$f":"IF(Configurator!$P$54+Configurator!$P$55>List!M178,List!M178+1,\"\")","v":""},{"$f":"IF(Configurator!$P$54>List!N178,List!N178+1,\"\")","v":""},{"$f":"IF(Conf2!$P$55>List!O178,List!O178+1,\"\")","v":""},{"$f":"IF(Conf2!$P$54+Conf2!$P$55>List!P178,List!P178+1,\"\")","v":""},{"$f":"IF(Conf2!$P$54>List!Q178,List!Q178+1,\"\")","v":""},{"$f":"IF(Conf3!$P$55>List!R178,List!R178+1,\"\")","v":""},{"$f":"IF(Conf3!$P$54+Conf3!$P$55>List!S178,List!S178+1,\"\")","v":""},{"$f":"IF(Conf3!$P$54>List!T178,List!T178+1,\"\")","v":""},{"$f":"IF(Conf4!$P$55>List!U178,List!U178+1,\"\")","v":""},{"$f":"IF(Conf4!$P$54+Conf4!$P$55>List!V178,List!V178+1,\"\")","v":""},{"$f":"IF(Conf4!$P$54>List!W178,List!W178+1,\"\")","v":""},null,null,null,null,null,null,{"$f":"IF(Conf5!$P$55>List!AD178,List!AD178+1,\"\")","v":""},{"$f":"IF(Conf5!$P$54+Conf5!$P$55>List!AE178,List!AE178+1,\"\")","v":""},{"$f":"IF(Conf5!$P$54>List!AF178,List!AF178+1,\"\")","v":""},{"$f":"IF(Conf6!$P$55>List!AG178,List!AG178+1,\"\")","v":""},{"$f":"IF(Conf6!$P$54+Conf6!$P$55>List!AH178,List!AH178+1,\"\")","v":""},{"$f":"IF(Conf6!$P$54>List!AI178,List!AI178+1,\"\")","v":""},{"$f":"IF(Conf7!$P$55>List!AJ178,List!AJ178+1,\"\")","v":""},{"$f":"IF(Conf7!$P$54+Conf7!$P$55>List!AK178,List!AK178+1,\"\")","v":""},{"$f":"IF(Conf7!$P$54>List!AL178,List!AL178+1,\"\")","v":""},{"$f":"IF(Conf8!$P$55>List!AM178,List!AM178+1,\"\")","v":""},{"$f":"IF(Conf8!$P$54+Conf8!$P$55>List!AN178,List!AN178+1,\"\")","v":""},{"$f":"IF(Conf8!$P$54>List!AO178,List!AO178+1,\"\")","v":""},{"$f":"IF(Conf9!$P$55>List!AP178,List!AP178+1,\"\")","v":""},{"$f":"IF(Conf9!$P$54+Conf9!$P$55>List!AQ178,List!AQ178+1,\"\")","v":""},{"$f":"IF(Conf9!$P$54>List!AR178,List!AR178+1,\"\")","v":""},{"$f":"IF(Conf10!$P$55>List!AS178,List!AS178+1,\"\")","v":""},{"$f":"IF(Conf10!$P$54+Conf10!$P$55>List!AT178,List!AT178+1,\"\")","v":""},{"$f":"IF(Conf10!$P$54>List!AU178,List!AU178+1,\"\")","v":""}]
[null,null,null,null,null,null,null,null,null,null,null,{"$f":"IF(Configurator!$P$55>List!L179,List!L179+1,\"\")","v":""},{"$f":"IF(Configurator!$P$54+Configurator!$P$55>List!M179,List!M179+1,\"\")","v":""},{"$f":"IF(Configurator!$P$54>List!N179,List!N179+1,\"\")","v":""},{"$f":"IF(Conf2!$P$55>List!O179,List!O179+1,\"\")","v":""},{"$f":"IF(Conf2!$P$54+Conf2!$P$55>List!P179,List!P179+1,\"\")","v":""},{"$f":"IF(Conf2!$P$54>List!Q179,List!Q179+1,\"\")","v":""},{"$f":"IF(Conf3!$P$55>List!R179,List!R179+1,\"\")","v":""},{"$f":"IF(Conf3!$P$54+Conf3!$P$55>List!S179,List!S179+1,\"\")","v":""},{"$f":"IF(Conf3!$P$54>List!T179,List!T179+1,\"\")","v":""},{"$f":"IF(Conf4!$P$55>List!U179,List!U179+1,\"\")","v":""},{"$f":"IF(Conf4!$P$54+Conf4!$P$55>List!V179,List!V179+1,\"\")","v":""},{"$f":"IF(Conf4!$P$54>List!W179,List!W179+1,\"\")","v":""},null,null,null,null,null,null,{"$f":"IF(Conf5!$P$55>List!AD179,List!AD179+1,\"\")","v":""},{"$f":"IF(Conf5!$P$54+Conf5!$P$55>List!AE179,List!AE179+1,\"\")","v":""},{"$f":"IF(Conf5!$P$54>List!AF179,List!AF179+1,\"\")","v":""},{"$f":"IF(Conf6!$P$55>List!AG179,List!AG179+1,\"\")","v":""},{"$f":"IF(Conf6!$P$54+Conf6!$P$55>List!AH179,List!AH179+1,\"\")","v":""},{"$f":"IF(Conf6!$P$54>List!AI179,List!AI179+1,\"\")","v":""},{"$f":"IF(Conf7!$P$55>List!AJ179,List!AJ179+1,\"\")","v":""},{"$f":"IF(Conf7!$P$54+Conf7!$P$55>List!AK179,List!AK179+1,\"\")","v":""},{"$f":"IF(Conf7!$P$54>List!AL179,List!AL179+1,\"\")","v":""},{"$f":"IF(Conf8!$P$55>List!AM179,List!AM179+1,\"\")","v":""},{"$f":"IF(Conf8!$P$54+Conf8!$P$55>List!AN179,List!AN179+1,\"\")","v":""},{"$f":"IF(Conf8!$P$54>List!AO179,List!AO179+1,\"\")","v":""},{"$f":"IF(Conf9!$P$55>List!AP179,List!AP179+1,\"\")","v":""},{"$f":"IF(Conf9!$P$54+Conf9!$P$55>List!AQ179,List!AQ179+1,\"\")","v":""},{"$f":"IF(Conf9!$P$54>List!AR179,List!AR179+1,\"\")","v":""},{"$f":"IF(Conf10!$P$55>List!AS179,List!AS179+1,\"\")","v":""},{"$f":"IF(Conf10!$P$54+Conf10!$P$55>List!AT179,List!AT179+1,\"\")","v":""},{"$f":"IF(Conf10!$P$54>List!AU179,List!AU179+1,\"\")","v":""}]
[null,null,null,null,null,null,null,null,null,null,null,{"$f":"IF(Configurator!$P$55>List!L180,List!L180+1,\"\")","v":""},{"$f":"IF(Configurator!$P$54+Configurator!$P$55>List!M180,List!M180+1,\"\")","v":""},{"$f":"IF(Configurator!$P$54>List!N180,List!N180+1,\"\")","v":""},{"$f":"IF(Conf2!$P$55>List!O180,List!O180+1,\"\")","v":""},{"$f":"IF(Conf2!$P$54+Conf2!$P$55>List!P180,List!P180+1,\"\")","v":""},{"$f":"IF(Conf2!$P$54>List!Q180,List!Q180+1,\"\")","v":""},{"$f":"IF(Conf3!$P$55>List!R180,List!R180+1,\"\")","v":""},{"$f":"IF(Conf3!$P$54+Conf3!$P$55>List!S180,List!S180+1,\"\")","v":""},{"$f":"IF(Conf3!$P$54>List!T180,List!T180+1,\"\")","v":""},{"$f":"IF(Conf4!$P$55>List!U180,List!U180+1,\"\")","v":""},{"$f":"IF(Conf4!$P$54+Conf4!$P$55>List!V180,List!V180+1,\"\")","v":""},{"$f":"IF(Conf4!$P$54>List!W180,List!W180+1,\"\")","v":""},null,null,null,null,null,null,{"$f":"IF(Conf5!$P$55>List!AD180,List!AD180+1,\"\")","v":""},{"$f":"IF(Conf5!$P$54+Conf5!$P$55>List!AE180,List!AE180+1,\"\")","v":""},{"$f":"IF(Conf5!$P$54>List!AF180,List!AF180+1,\"\")","v":""},{"$f":"IF(Conf6!$P$55>List!AG180,List!AG180+1,\"\")","v":""},{"$f":"IF(Conf6!$P$54+Conf6!$P$55>List!AH180,List!AH180+1,\"\")","v":""},{"$f":"IF(Conf6!$P$54>List!AI180,List!AI180+1,\"\")","v":""},{"$f":"IF(Conf7!$P$55>List!AJ180,List!AJ180+1,\"\")","v":""},{"$f":"IF(Conf7!$P$54+Conf7!$P$55>List!AK180,List!AK180+1,\"\")","v":""},{"$f":"IF(Conf7!$P$54>List!AL180,List!AL180+1,\"\")","v":""},{"$f":"IF(Conf8!$P$55>List!AM180,List!AM180+1,\"\")","v":""},{"$f":"IF(Conf8!$P$54+Conf8!$P$55>List!AN180,List!AN180+1,\"\")","v":""},{"$f":"IF(Conf8!$P$54>List!AO180,List!AO180+1,\"\")","v":""},{"$f":"IF(Conf9!$P$55>List!AP180,List!AP180+1,\"\")","v":""},{"$f":"IF(Conf9!$P$54+Conf9!$P$55>List!AQ180,List!AQ180+1,\"\")","v":""},{"$f":"IF(Conf9!$P$54>List!AR180,List!AR180+1,\"\")","v":""},{"$f":"IF(Conf10!$P$55>List!AS180,List!AS180+1,\"\")","v":""},{"$f":"IF(Conf10!$P$54+Conf10!$P$55>List!AT180,List!AT180+1,\"\")","v":""},{"$f":"IF(Conf10!$P$54>List!AU180,List!AU180+1,\"\")","v":""}]
[null,null,null,null,null,null,null,null,null,null,null,{"$f":"IF(Configurator!$P$55>List!L181,List!L181+1,\"\")","v":""},{"$f":"IF(Configurator!$P$54+Configurator!$P$55>List!M181,List!M181+1,\"\")","v":""},{"$f":"IF(Configurator!$P$54>List!N181,List!N181+1,\"\")","v":""},{"$f":"IF(Conf2!$P$55>List!O181,List!O181+1,\"\")","v":""},{"$f":"IF(Conf2!$P$54+Conf2!$P$55>List!P181,List!P181+1,\"\")","v":""},{"$f":"IF(Conf2!$P$54>List!Q181,List!Q181+1,\"\")","v":""},{"$f":"IF(Conf3!$P$55>List!R181,List!R181+1,\"\")","v":""},{"$f":"IF(Conf3!$P$54+Conf3!$P$55>List!S181,List!S181+1,\"\")","v":""},{"$f":"IF(Conf3!$P$54>List!T181,List!T181+1,\"\")","v":""},{"$f":"IF(Conf4!$P$55>List!U181,List!U181+1,\"\")","v":""},{"$f":"IF(Conf4!$P$54+Conf4!$P$55>List!V181,List!V181+1,\"\")","v":""},{"$f":"IF(Conf4!$P$54>List!W181,List!W181+1,\"\")","v":""},null,null,null,null,null,null,{"$f":"IF(Conf5!$P$55>List!AD181,List!AD181+1,\"\")","v":""},{"$f":"IF(Conf5!$P$54+Conf5!$P$55>List!AE181,List!AE181+1,\"\")","v":""},{"$f":"IF(Conf5!$P$54>List!AF181,List!AF181+1,\"\")","v":""},{"$f":"IF(Conf6!$P$55>List!AG181,List!AG181+1,\"\")","v":""},{"$f":"IF(Conf6!$P$54+Conf6!$P$55>List!AH181,List!AH181+1,\"\")","v":""},{"$f":"IF(Conf6!$P$54>List!AI181,List!AI181+1,\"\")","v":""},{"$f":"IF(Conf7!$P$55>List!AJ181,List!AJ181+1,\"\")","v":""},{"$f":"IF(Conf7!$P$54+Conf7!$P$55>List!AK181,List!AK181+1,\"\")","v":""},{"$f":"IF(Conf7!$P$54>List!AL181,List!AL181+1,\"\")","v":""},{"$f":"IF(Conf8!$P$55>List!AM181,List!AM181+1,\"\")","v":""},{"$f":"IF(Conf8!$P$54+Conf8!$P$55>List!AN181,List!AN181+1,\"\")","v":""},{"$f":"IF(Conf8!$P$54>List!AO181,List!AO181+1,\"\")","v":""},{"$f":"IF(Conf9!$P$55>List!AP181,List!AP181+1,\"\")","v":""},{"$f":"IF(Conf9!$P$54+Conf9!$P$55>List!AQ181,List!AQ181+1,\"\")","v":""},{"$f":"IF(Conf9!$P$54>List!AR181,List!AR181+1,\"\")","v":""},{"$f":"IF(Conf10!$P$55>List!AS181,List!AS181+1,\"\")","v":""},{"$f":"IF(Conf10!$P$54+Conf10!$P$55>List!AT181,List!AT181+1,\"\")","v":""},{"$f":"IF(Conf10!$P$54>List!AU181,List!AU181+1,\"\")","v":""}]
[null,null,null,null,null,null,null,null,null,null,null,{"$f":"IF(Configurator!$P$55>List!L182,List!L182+1,\"\")","v":""},{"$f":"IF(Configurator!$P$54+Configurator!$P$55>List!M182,List!M182+1,\"\")","v":""},{"$f":"IF(Configurator!$P$54>List!N182,List!N182+1,\"\")","v":""},{"$f":"IF(Conf2!$P$55>List!O182,List!O182+1,\"\")","v":""},{"$f":"IF(Conf2!$P$54+Conf2!$P$55>List!P182,List!P182+1,\"\")","v":""},{"$f":"IF(Conf2!$P$54>List!Q182,List!Q182+1,\"\")","v":""},{"$f":"IF(Conf3!$P$55>List!R182,List!R182+1,\"\")","v":""},{"$f":"IF(Conf3!$P$54+Conf3!$P$55>List!S182,List!S182+1,\"\")","v":""},{"$f":"IF(Conf3!$P$54>List!T182,List!T182+1,\"\")","v":""},{"$f":"IF(Conf4!$P$55>List!U182,List!U182+1,\"\")","v":""},{"$f":"IF(Conf4!$P$54+Conf4!$P$55>List!V182,List!V182+1,\"\")","v":""},{"$f":"IF(Conf4!$P$54>List!W182,List!W182+1,\"\")","v":""},null,null,null,null,null,null,{"$f":"IF(Conf5!$P$55>List!AD182,List!AD182+1,\"\")","v":""},{"$f":"IF(Conf5!$P$54+Conf5!$P$55>List!AE182,List!AE182+1,\"\")","v":""},{"$f":"IF(Conf5!$P$54>List!AF182,List!AF182+1,\"\")","v":""},{"$f":"IF(Conf6!$P$55>List!AG182,List!AG182+1,\"\")","v":""},{"$f":"IF(Conf6!$P$54+Conf6!$P$55>List!AH182,List!AH182+1,\"\")","v":""},{"$f":"IF(Conf6!$P$54>List!AI182,List!AI182+1,\"\")","v":""},{"$f":"IF(Conf7!$P$55>List!AJ182,List!AJ182+1,\"\")","v":""},{"$f":"IF(Conf7!$P$54+Conf7!$P$55>List!AK182,List!AK182+1,\"\")","v":""},{"$f":"IF(Conf7!$P$54>List!AL182,List!AL182+1,\"\")","v":""},{"$f":"IF(Conf8!$P$55>List!AM182,List!AM182+1,\"\")","v":""},{"$f":"IF(Conf8!$P$54+Conf8!$P$55>List!AN182,List!AN182+1,\"\")","v":""},{"$f":"IF(Conf8!$P$54>List!AO182,List!AO182+1,\"\")","v":""},{"$f":"IF(Conf9!$P$55>List!AP182,List!AP182+1,\"\")","v":""},{"$f":"IF(Conf9!$P$54+Conf9!$P$55>List!AQ182,List!AQ182+1,\"\")","v":""},{"$f":"IF(Conf9!$P$54>List!AR182,List!AR182+1,\"\")","v":""},{"$f":"IF(Conf10!$P$55>List!AS182,List!AS182+1,\"\")","v":""},{"$f":"IF(Conf10!$P$54+Conf10!$P$55>List!AT182,List!AT182+1,\"\")","v":""},{"$f":"IF(Conf10!$P$54>List!AU182,List!AU182+1,\"\")","v":""}]
[null,null,null,null,null,null,null,null,null,null,null,{"$f":"IF(Configurator!$P$55>List!L183,List!L183+1,\"\")","v":""},{"$f":"IF(Configurator!$P$54+Configurator!$P$55>List!M183,List!M183+1,\"\")","v":""},{"$f":"IF(Configurator!$P$54>List!N183,List!N183+1,\"\")","v":""},{"$f":"IF(Conf2!$P$55>List!O183,List!O183+1,\"\")","v":""},{"$f":"IF(Conf2!$P$54+Conf2!$P$55>List!P183,List!P183+1,\"\")","v":""},{"$f":"IF(Conf2!$P$54>List!Q183,List!Q183+1,\"\")","v":""},{"$f":"IF(Conf3!$P$55>List!R183,List!R183+1,\"\")","v":""},{"$f":"IF(Conf3!$P$54+Conf3!$P$55>List!S183,List!S183+1,\"\")","v":""},{"$f":"IF(Conf3!$P$54>List!T183,List!T183+1,\"\")","v":""},{"$f":"IF(Conf4!$P$55>List!U183,List!U183+1,\"\")","v":""},{"$f":"IF(Conf4!$P$54+Conf4!$P$55>List!V183,List!V183+1,\"\")","v":""},{"$f":"IF(Conf4!$P$54>List!W183,List!W183+1,\"\")","v":""},null,null,null,null,null,null,{"$f":"IF(Conf5!$P$55>List!AD183,List!AD183+1,\"\")","v":""},{"$f":"IF(Conf5!$P$54+Conf5!$P$55>List!AE183,List!AE183+1,\"\")","v":""},{"$f":"IF(Conf5!$P$54>List!AF183,List!AF183+1,\"\")","v":""},{"$f":"IF(Conf6!$P$55>List!AG183,List!AG183+1,\"\")","v":""},{"$f":"IF(Conf6!$P$54+Conf6!$P$55>List!AH183,List!AH183+1,\"\")","v":""},{"$f":"IF(Conf6!$P$54>List!AI183,List!AI183+1,\"\")","v":""},{"$f":"IF(Conf7!$P$55>List!AJ183,List!AJ183+1,\"\")","v":""},{"$f":"IF(Conf7!$P$54+Conf7!$P$55>List!AK183,List!AK183+1,\"\")","v":""},{"$f":"IF(Conf7!$P$54>List!AL183,List!AL183+1,\"\")","v":""},{"$f":"IF(Conf8!$P$55>List!AM183,List!AM183+1,\"\")","v":""},{"$f":"IF(Conf8!$P$54+Conf8!$P$55>List!AN183,List!AN183+1,\"\")","v":""},{"$f":"IF(Conf8!$P$54>List!AO183,List!AO183+1,\"\")","v":""},{"$f":"IF(Conf9!$P$55>List!AP183,List!AP183+1,\"\")","v":""},{"$f":"IF(Conf9!$P$54+Conf9!$P$55>List!AQ183,List!AQ183+1,\"\")","v":""},{"$f":"IF(Conf9!$P$54>List!AR183,List!AR183+1,\"\")","v":""},{"$f":"IF(Conf10!$P$55>List!AS183,List!AS183+1,\"\")","v":""},{"$f":"IF(Conf10!$P$54+Conf10!$P$55>List!AT183,List!AT183+1,\"\")","v":""},{"$f":"IF(Conf10!$P$54>List!AU183,List!AU183+1,\"\")","v":""}]
[null,null,null,null,null,null,null,null,null,null,null,{"$f":"IF(Configurator!$P$55>List!L184,List!L184+1,\"\")","v":""},{"$f":"IF(Configurator!$P$54+Configurator!$P$55>List!M184,List!M184+1,\"\")","v":""},{"$f":"IF(Configurator!$P$54>List!N184,List!N184+1,\"\")","v":""},{"$f":"IF(Conf2!$P$55>List!O184,List!O184+1,\"\")","v":""},{"$f":"IF(Conf2!$P$54+Conf2!$P$55>List!P184,List!P184+1,\"\")","v":""},{"$f":"IF(Conf2!$P$54>List!Q184,List!Q184+1,\"\")","v":""},{"$f":"IF(Conf3!$P$55>List!R184,List!R184+1,\"\")","v":""},{"$f":"IF(Conf3!$P$54+Conf3!$P$55>List!S184,List!S184+1,\"\")","v":""},{"$f":"IF(Conf3!$P$54>List!T184,List!T184+1,\"\")","v":""},{"$f":"IF(Conf4!$P$55>List!U184,List!U184+1,\"\")","v":""},{"$f":"IF(Conf4!$P$54+Conf4!$P$55>List!V184,List!V184+1,\"\")","v":""},{"$f":"IF(Conf4!$P$54>List!W184,List!W184+1,\"\")","v":""},null,null,null,null,null,null,{"$f":"IF(Conf5!$P$55>List!AD184,List!AD184+1,\"\")","v":""},{"$f":"IF(Conf5!$P$54+Conf5!$P$55>List!AE184,List!AE184+1,\"\")","v":""},{"$f":"IF(Conf5!$P$54>List!AF184,List!AF184+1,\"\")","v":""},{"$f":"IF(Conf6!$P$55>List!AG184,List!AG184+1,\"\")","v":""},{"$f":"IF(Conf6!$P$54+Conf6!$P$55>List!AH184,List!AH184+1,\"\")","v":""},{"$f":"IF(Conf6!$P$54>List!AI184,List!AI184+1,\"\")","v":""},{"$f":"IF(Conf7!$P$55>List!AJ184,List!AJ184+1,\"\")","v":""},{"$f":"IF(Conf7!$P$54+Conf7!$P$55>List!AK184,List!AK184+1,\"\")","v":""},{"$f":"IF(Conf7!$P$54>List!AL184,List!AL184+1,\"\")","v":""},{"$f":"IF(Conf8!$P$55>List!AM184,List!AM184+1,\"\")","v":""},{"$f":"IF(Conf8!$P$54+Conf8!$P$55>List!AN184,List!AN184+1,\"\")","v":""},{"$f":"IF(Conf8!$P$54>List!AO184,List!AO184+1,\"\")","v":""},{"$f":"IF(Conf9!$P$55>List!AP184,List!AP184+1,\"\")","v":""},{"$f":"IF(Conf9!$P$54+Conf9!$P$55>List!AQ184,List!AQ184+1,\"\")","v":""},{"$f":"IF(Conf9!$P$54>List!AR184,List!AR184+1,\"\")","v":""},{"$f":"IF(Conf10!$P$55>List!AS184,List!AS184+1,\"\")","v":""},{"$f":"IF(Conf10!$P$54+Conf10!$P$55>List!AT184,List!AT184+1,\"\")","v":""},{"$f":"IF(Conf10!$P$54>List!AU184,List!AU184+1,\"\")","v":""}]
[null,null,null,null,null,null,null,null,null,null,null,{"$f":"IF(Configurator!$P$55>List!L185,List!L185+1,\"\")","v":""},{"$f":"IF(Configurator!$P$54+Configurator!$P$55>List!M185,List!M185+1,\"\")","v":""},{"$f":"IF(Configurator!$P$54>List!N185,List!N185+1,\"\")","v":""},{"$f":"IF(Conf2!$P$55>List!O185,List!O185+1,\"\")","v":""},{"$f":"IF(Conf2!$P$54+Conf2!$P$55>List!P185,List!P185+1,\"\")","v":""},{"$f":"IF(Conf2!$P$54>List!Q185,List!Q185+1,\"\")","v":""},{"$f":"IF(Conf3!$P$55>List!R185,List!R185+1,\"\")","v":""},{"$f":"IF(Conf3!$P$54+Conf3!$P$55>List!S185,List!S185+1,\"\")","v":""},{"$f":"IF(Conf3!$P$54>List!T185,List!T185+1,\"\")","v":""},{"$f":"IF(Conf4!$P$55>List!U185,List!U185+1,\"\")","v":""},{"$f":"IF(Conf4!$P$54+Conf4!$P$55>List!V185,List!V185+1,\"\")","v":""},{"$f":"IF(Conf4!$P$54>List!W185,List!W185+1,\"\")","v":""},null,null,null,null,null,null,{"$f":"IF(Conf5!$P$55>List!AD185,List!AD185+1,\"\")","v":""},{"$f":"IF(Conf5!$P$54+Conf5!$P$55>List!AE185,List!AE185+1,\"\")","v":""},{"$f":"IF(Conf5!$P$54>List!AF185,List!AF185+1,\"\")","v":""},{"$f":"IF(Conf6!$P$55>List!AG185,List!AG185+1,\"\")","v":""},{"$f":"IF(Conf6!$P$54+Conf6!$P$55>List!AH185,List!AH185+1,\"\")","v":""},{"$f":"IF(Conf6!$P$54>List!AI185,List!AI185+1,\"\")","v":""},{"$f":"IF(Conf7!$P$55>List!AJ185,List!AJ185+1,\"\")","v":""},{"$f":"IF(Conf7!$P$54+Conf7!$P$55>List!AK185,List!AK185+1,\"\")","v":""},{"$f":"IF(Conf7!$P$54>List!AL185,List!AL185+1,\"\")","v":""},{"$f":"IF(Conf8!$P$55>List!AM185,List!AM185+1,\"\")","v":""},{"$f":"IF(Conf8!$P$54+Conf8!$P$55>List!AN185,List!AN185+1,\"\")","v":""},{"$f":"IF(Conf8!$P$54>List!AO185,List!AO185+1,\"\")","v":""},{"$f":"IF(Conf9!$P$55>List!AP185,List!AP185+1,\"\")","v":""},{"$f":"IF(Conf9!$P$54+Conf9!$P$55>List!AQ185,List!AQ185+1,\"\")","v":""},{"$f":"IF(Conf9!$P$54>List!AR185,List!AR185+1,\"\")","v":""},{"$f":"IF(Conf10!$P$55>List!AS185,List!AS185+1,\"\")","v":""},{"$f":"IF(Conf10!$P$54+Conf10!$P$55>List!AT185,List!AT185+1,\"\")","v":""},{"$f":"IF(Conf10!$P$54>List!AU185,List!AU185+1,\"\")","v":""}]
[null,null,null,null,null,null,null,null,null,null,null,{"$f":"IF(Configurator!$P$55>List!L186,List!L186+1,\"\")","v":""},{"$f":"IF(Configurator!$P$54+Configurator!$P$55>List!M186,List!M186+1,\"\")","v":""},{"$f":"IF(Configurator!$P$54>List!N186,List!N186+1,\"\")","v":""},{"$f":"IF(Conf2!$P$55>List!O186,List!O186+1,\"\")","v":""},{"$f":"IF(Conf2!$P$54+Conf2!$P$55>List!P186,List!P186+1,\"\")","v":""},{"$f":"IF(Conf2!$P$54>List!Q186,List!Q186+1,\"\")","v":""},{"$f":"IF(Conf3!$P$55>List!R186,List!R186+1,\"\")","v":""},{"$f":"IF(Conf3!$P$54+Conf3!$P$55>List!S186,List!S186+1,\"\")","v":""},{"$f":"IF(Conf3!$P$54>List!T186,List!T186+1,\"\")","v":""},{"$f":"IF(Conf4!$P$55>List!U186,List!U186+1,\"\")","v":""},{"$f":"IF(Conf4!$P$54+Conf4!$P$55>List!V186,List!V186+1,\"\")","v":""},{"$f":"IF(Conf4!$P$54>List!W186,List!W186+1,\"\")","v":""},null,null,null,null,null,null,{"$f":"IF(Conf5!$P$55>List!AD186,List!AD186+1,\"\")","v":""},{"$f":"IF(Conf5!$P$54+Conf5!$P$55>List!AE186,List!AE186+1,\"\")","v":""},{"$f":"IF(Conf5!$P$54>List!AF186,List!AF186+1,\"\")","v":""},{"$f":"IF(Conf6!$P$55>List!AG186,List!AG186+1,\"\")","v":""},{"$f":"IF(Conf6!$P$54+Conf6!$P$55>List!AH186,List!AH186+1,\"\")","v":""},{"$f":"IF(Conf6!$P$54>List!AI186,List!AI186+1,\"\")","v":""},{"$f":"IF(Conf7!$P$55>List!AJ186,List!AJ186+1,\"\")","v":""},{"$f":"IF(Conf7!$P$54+Conf7!$P$55>List!AK186,List!AK186+1,\"\")","v":""},{"$f":"IF(Conf7!$P$54>List!AL186,List!AL186+1,\"\")","v":""},{"$f":"IF(Conf8!$P$55>List!AM186,List!AM186+1,\"\")","v":""},{"$f":"IF(Conf8!$P$54+Conf8!$P$55>List!AN186,List!AN186+1,\"\")","v":""},{"$f":"IF(Conf8!$P$54>List!AO186,List!AO186+1,\"\")","v":""},{"$f":"IF(Conf9!$P$55>List!AP186,List!AP186+1,\"\")","v":""},{"$f":"IF(Conf9!$P$54+Conf9!$P$55>List!AQ186,List!AQ186+1,\"\")","v":""},{"$f":"IF(Conf9!$P$54>List!AR186,List!AR186+1,\"\")","v":""},{"$f":"IF(Conf10!$P$55>List!AS186,List!AS186+1,\"\")","v":""},{"$f":"IF(Conf10!$P$54+Conf10!$P$55>List!AT186,List!AT186+1,\"\")","v":""},{"$f":"IF(Conf10!$P$54>List!AU186,List!AU186+1,\"\")","v":""}]
[null,null,null,null,null,null,null,null,null,null,null,{"$f":"IF(Configurator!$P$55>List!L187,List!L187+1,\"\")","v":""},{"$f":"IF(Configurator!$P$54+Configurator!$P$55>List!M187,List!M187+1,\"\")","v":""},{"$f":"IF(Configurator!$P$54>List!N187,List!N187+1,\"\")","v":""},{"$f":"IF(Conf2!$P$55>List!O187,List!O187+1,\"\")","v":""},{"$f":"IF(Conf2!$P$54+Conf2!$P$55>List!P187,List!P187+1,\"\")","v":""},{"$f":"IF(Conf2!$P$54>List!Q187,List!Q187+1,\"\")","v":""},{"$f":"IF(Conf3!$P$55>List!R187,List!R187+1,\"\")","v":""},{"$f":"IF(Conf3!$P$54+Conf3!$P$55>List!S187,List!S187+1,\"\")","v":""},{"$f":"IF(Conf3!$P$54>List!T187,List!T187+1,\"\")","v":""},{"$f":"IF(Conf4!$P$55>List!U187,List!U187+1,\"\")","v":""},{"$f":"IF(Conf4!$P$54+Conf4!$P$55>List!V187,List!V187+1,\"\")","v":""},{"$f":"IF(Conf4!$P$54>List!W187,List!W187+1,\"\")","v":""},null,null,null,null,null,null,{"$f":"IF(Conf5!$P$55>List!AD187,List!AD187+1,\"\")","v":""},{"$f":"IF(Conf5!$P$54+Conf5!$P$55>List!AE187,List!AE187+1,\"\")","v":""},{"$f":"IF(Conf5!$P$54>List!AF187,List!AF187+1,\"\")","v":""},{"$f":"IF(Conf6!$P$55>List!AG187,List!AG187+1,\"\")","v":""},{"$f":"IF(Conf6!$P$54+Conf6!$P$55>List!AH187,List!AH187+1,\"\")","v":""},{"$f":"IF(Conf6!$P$54>List!AI187,List!AI187+1,\"\")","v":""},{"$f":"IF(Conf7!$P$55>List!AJ187,List!AJ187+1,\"\")","v":""},{"$f":"IF(Conf7!$P$54+Conf7!$P$55>List!AK187,List!AK187+1,\"\")","v":""},{"$f":"IF(Conf7!$P$54>List!AL187,List!AL187+1,\"\")","v":""},{"$f":"IF(Conf8!$P$55>List!AM187,List!AM187+1,\"\")","v":""},{"$f":"IF(Conf8!$P$54+Conf8!$P$55>List!AN187,List!AN187+1,\"\")","v":""},{"$f":"IF(Conf8!$P$54>List!AO187,List!AO187+1,\"\")","v":""},{"$f":"IF(Conf9!$P$55>List!AP187,List!AP187+1,\"\")","v":""},{"$f":"IF(Conf9!$P$54+Conf9!$P$55>List!AQ187,List!AQ187+1,\"\")","v":""},{"$f":"IF(Conf9!$P$54>List!AR187,List!AR187+1,\"\")","v":""},{"$f":"IF(Conf10!$P$55>List!AS187,List!AS187+1,\"\")","v":""},{"$f":"IF(Conf10!$P$54+Conf10!$P$55>List!AT187,List!AT187+1,\"\")","v":""},{"$f":"IF(Conf10!$P$54>List!AU187,List!AU187+1,\"\")","v":""}]
[null,null,null,null,null,null,null,null,null,null,null,{"$f":"IF(Configurator!$P$55>List!L188,List!L188+1,\"\")","v":""},{"$f":"IF(Configurator!$P$54+Configurator!$P$55>List!M188,List!M188+1,\"\")","v":""},{"$f":"IF(Configurator!$P$54>List!N188,List!N188+1,\"\")","v":""},{"$f":"IF(Conf2!$P$55>List!O188,List!O188+1,\"\")","v":""},{"$f":"IF(Conf2!$P$54+Conf2!$P$55>List!P188,List!P188+1,\"\")","v":""},{"$f":"IF(Conf2!$P$54>List!Q188,List!Q188+1,\"\")","v":""},{"$f":"IF(Conf3!$P$55>List!R188,List!R188+1,\"\")","v":""},{"$f":"IF(Conf3!$P$54+Conf3!$P$55>List!S188,List!S188+1,\"\")","v":""},{"$f":"IF(Conf3!$P$54>List!T188,List!T188+1,\"\")","v":""},{"$f":"IF(Conf4!$P$55>List!U188,List!U188+1,\"\")","v":""},{"$f":"IF(Conf4!$P$54+Conf4!$P$55>List!V188,List!V188+1,\"\")","v":""},{"$f":"IF(Conf4!$P$54>List!W188,List!W188+1,\"\")","v":""},null,null,null,null,null,null,{"$f":"IF(Conf5!$P$55>List!AD188,List!AD188+1,\"\")","v":""},{"$f":"IF(Conf5!$P$54+Conf5!$P$55>List!AE188,List!AE188+1,\"\")","v":""},{"$f":"IF(Conf5!$P$54>List!AF188,List!AF188+1,\"\")","v":""},{"$f":"IF(Conf6!$P$55>List!AG188,List!AG188+1,\"\")","v":""},{"$f":"IF(Conf6!$P$54+Conf6!$P$55>List!AH188,List!AH188+1,\"\")","v":""},{"$f":"IF(Conf6!$P$54>List!AI188,List!AI188+1,\"\")","v":""},{"$f":"IF(Conf7!$P$55>List!AJ188,List!AJ188+1,\"\")","v":""},{"$f":"IF(Conf7!$P$54+Conf7!$P$55>List!AK188,List!AK188+1,\"\")","v":""},{"$f":"IF(Conf7!$P$54>List!AL188,List!AL188+1,\"\")","v":""},{"$f":"IF(Conf8!$P$55>List!AM188,List!AM188+1,\"\")","v":""},{"$f":"IF(Conf8!$P$54+Conf8!$P$55>List!AN188,List!AN188+1,\"\")","v":""},{"$f":"IF(Conf8!$P$54>List!AO188,List!AO188+1,\"\")","v":""},{"$f":"IF(Conf9!$P$55>List!AP188,List!AP188+1,\"\")","v":""},{"$f":"IF(Conf9!$P$54+Conf9!$P$55>List!AQ188,List!AQ188+1,\"\")","v":""},{"$f":"IF(Conf9!$P$54>List!AR188,List!AR188+1,\"\")","v":""},{"$f":"IF(Conf10!$P$55>List!AS188,List!AS188+1,\"\")","v":""},{"$f":"IF(Conf10!$P$54+Conf10!$P$55>List!AT188,List!AT188+1,\"\")","v":""},{"$f":"IF(Conf10!$P$54>List!AU188,List!AU188+1,\"\")","v":""}]
[null,null,null,null,null,null,null,null,null,null,null,{"$f":"IF(Configurator!$P$55>List!L189,List!L189+1,\"\")","v":""},{"$f":"IF(Configurator!$P$54+Configurator!$P$55>List!M189,List!M189+1,\"\")","v":""},{"$f":"IF(Configurator!$P$54>List!N189,List!N189+1,\"\")","v":""},{"$f":"IF(Conf2!$P$55>List!O189,List!O189+1,\"\")","v":""},{"$f":"IF(Conf2!$P$54+Conf2!$P$55>List!P189,List!P189+1,\"\")","v":""},{"$f":"IF(Conf2!$P$54>List!Q189,List!Q189+1,\"\")","v":""},{"$f":"IF(Conf3!$P$55>List!R189,List!R189+1,\"\")","v":""},{"$f":"IF(Conf3!$P$54+Conf3!$P$55>List!S189,List!S189+1,\"\")","v":""},{"$f":"IF(Conf3!$P$54>List!T189,List!T189+1,\"\")","v":""},{"$f":"IF(Conf4!$P$55>List!U189,List!U189+1,\"\")","v":""},{"$f":"IF(Conf4!$P$54+Conf4!$P$55>List!V189,List!V189+1,\"\")","v":""},{"$f":"IF(Conf4!$P$54>List!W189,List!W189+1,\"\")","v":""},null,null,null,null,null,null,{"$f":"IF(Conf5!$P$55>List!AD189,List!AD189+1,\"\")","v":""},{"$f":"IF(Conf5!$P$54+Conf5!$P$55>List!AE189,List!AE189+1,\"\")","v":""},{"$f":"IF(Conf5!$P$54>List!AF189,List!AF189+1,\"\")","v":""},{"$f":"IF(Conf6!$P$55>List!AG189,List!AG189+1,\"\")","v":""},{"$f":"IF(Conf6!$P$54+Conf6!$P$55>List!AH189,List!AH189+1,\"\")","v":""},{"$f":"IF(Conf6!$P$54>List!AI189,List!AI189+1,\"\")","v":""},{"$f":"IF(Conf7!$P$55>List!AJ189,List!AJ189+1,\"\")","v":""},{"$f":"IF(Conf7!$P$54+Conf7!$P$55>List!AK189,List!AK189+1,\"\")","v":""},{"$f":"IF(Conf7!$P$54>List!AL189,List!AL189+1,\"\")","v":""},{"$f":"IF(Conf8!$P$55>List!AM189,List!AM189+1,\"\")","v":""},{"$f":"IF(Conf8!$P$54+Conf8!$P$55>List!AN189,List!AN189+1,\"\")","v":""},{"$f":"IF(Conf8!$P$54>List!AO189,List!AO189+1,\"\")","v":""},{"$f":"IF(Conf9!$P$55>List!AP189,List!AP189+1,\"\")","v":""},{"$f":"IF(Conf9!$P$54+Conf9!$P$55>List!AQ189,List!AQ189+1,\"\")","v":""},{"$f":"IF(Conf9!$P$54>List!AR189,List!AR189+1,\"\")","v":""},{"$f":"IF(Conf10!$P$55>List!AS189,List!AS189+1,\"\")","v":""},{"$f":"IF(Conf10!$P$54+Conf10!$P$55>List!AT189,List!AT189+1,\"\")","v":""},{"$f":"IF(Conf10!$P$54>List!AU189,List!AU189+1,\"\")","v":""}]
[null,null,null,null,null,null,null,null,null,null,null,{"$f":"IF(Configurator!$P$55>List!L190,List!L190+1,\"\")","v":""},{"$f":"IF(Configurator!$P$54+Configurator!$P$55>List!M190,List!M190+1,\"\")","v":""},{"$f":"IF(Configurator!$P$54>List!N190,List!N190+1,\"\")","v":""},{"$f":"IF(Conf2!$P$55>List!O190,List!O190+1,\"\")","v":""},{"$f":"IF(Conf2!$P$54+Conf2!$P$55>List!P190,List!P190+1,\"\")","v":""},{"$f":"IF(Conf2!$P$54>List!Q190,List!Q190+1,\"\")","v":""},{"$f":"IF(Conf3!$P$55>List!R190,List!R190+1,\"\")","v":""},{"$f":"IF(Conf3!$P$54+Conf3!$P$55>List!S190,List!S190+1,\"\")","v":""},{"$f":"IF(Conf3!$P$54>List!T190,List!T190+1,\"\")","v":""},{"$f":"IF(Conf4!$P$55>List!U190,List!U190+1,\"\")","v":""},{"$f":"IF(Conf4!$P$54+Conf4!$P$55>List!V190,List!V190+1,\"\")","v":""},{"$f":"IF(Conf4!$P$54>List!W190,List!W190+1,\"\")","v":""},null,null,null,null,null,null,{"$f":"IF(Conf5!$P$55>List!AD190,List!AD190+1,\"\")","v":""},{"$f":"IF(Conf5!$P$54+Conf5!$P$55>List!AE190,List!AE190+1,\"\")","v":""},{"$f":"IF(Conf5!$P$54>List!AF190,List!AF190+1,\"\")","v":""},{"$f":"IF(Conf6!$P$55>List!AG190,List!AG190+1,\"\")","v":""},{"$f":"IF(Conf6!$P$54+Conf6!$P$55>List!AH190,List!AH190+1,\"\")","v":""},{"$f":"IF(Conf6!$P$54>List!AI190,List!AI190+1,\"\")","v":""},{"$f":"IF(Conf7!$P$55>List!AJ190,List!AJ190+1,\"\")","v":""},{"$f":"IF(Conf7!$P$54+Conf7!$P$55>List!AK190,List!AK190+1,\"\")","v":""},{"$f":"IF(Conf7!$P$54>List!AL190,List!AL190+1,\"\")","v":""},{"$f":"IF(Conf8!$P$55>List!AM190,List!AM190+1,\"\")","v":""},{"$f":"IF(Conf8!$P$54+Conf8!$P$55>List!AN190,List!AN190+1,\"\")","v":""},{"$f":"IF(Conf8!$P$54>List!AO190,List!AO190+1,\"\")","v":""},{"$f":"IF(Conf9!$P$55>List!AP190,List!AP190+1,\"\")","v":""},{"$f":"IF(Conf9!$P$54+Conf9!$P$55>List!AQ190,List!AQ190+1,\"\")","v":""},{"$f":"IF(Conf9!$P$54>List!AR190,List!AR190+1,\"\")","v":""},{"$f":"IF(Conf10!$P$55>List!AS190,List!AS190+1,\"\")","v":""},{"$f":"IF(Conf10!$P$54+Conf10!$P$55>List!AT190,List!AT190+1,\"\")","v":""},{"$f":"IF(Conf10!$P$54>List!AU190,List!AU190+1,\"\")","v":""}]
[null,null,null,null,null,null,null,null,null,null,null,{"$f":"IF(Configurator!$P$55>List!L191,List!L191+1,\"\")","v":""},{"$f":"IF(Configurator!$P$54+Configurator!$P$55>List!M191,List!M191+1,\"\")","v":""},{"$f":"IF(Configurator!$P$54>List!N191,List!N191+1,\"\")","v":""},{"$f":"IF(Conf2!$P$55>List!O191,List!O191+1,\"\")","v":""},{"$f":"IF(Conf2!$P$54+Conf2!$P$55>List!P191,List!P191+1,\"\")","v":""},{"$f":"IF(Conf2!$P$54>List!Q191,List!Q191+1,\"\")","v":""},{"$f":"IF(Conf3!$P$55>List!R191,List!R191+1,\"\")","v":""},{"$f":"IF(Conf3!$P$54+Conf3!$P$55>List!S191,List!S191+1,\"\")","v":""},{"$f":"IF(Conf3!$P$54>List!T191,List!T191+1,\"\")","v":""},{"$f":"IF(Conf4!$P$55>List!U191,List!U191+1,\"\")","v":""},{"$f":"IF(Conf4!$P$54+Conf4!$P$55>List!V191,List!V191+1,\"\")","v":""},{"$f":"IF(Conf4!$P$54>List!W191,List!W191+1,\"\")","v":""},null,null,null,null,null,null,{"$f":"IF(Conf5!$P$55>List!AD191,List!AD191+1,\"\")","v":""},{"$f":"IF(Conf5!$P$54+Conf5!$P$55>List!AE191,List!AE191+1,\"\")","v":""},{"$f":"IF(Conf5!$P$54>List!AF191,List!AF191+1,\"\")","v":""},{"$f":"IF(Conf6!$P$55>List!AG191,List!AG191+1,\"\")","v":""},{"$f":"IF(Conf6!$P$54+Conf6!$P$55>List!AH191,List!AH191+1,\"\")","v":""},{"$f":"IF(Conf6!$P$54>List!AI191,List!AI191+1,\"\")","v":""},{"$f":"IF(Conf7!$P$55>List!AJ191,List!AJ191+1,\"\")","v":""},{"$f":"IF(Conf7!$P$54+Conf7!$P$55>List!AK191,List!AK191+1,\"\")","v":""},{"$f":"IF(Conf7!$P$54>List!AL191,List!AL191+1,\"\")","v":""},{"$f":"IF(Conf8!$P$55>List!AM191,List!AM191+1,\"\")","v":""},{"$f":"IF(Conf8!$P$54+Conf8!$P$55>List!AN191,List!AN191+1,\"\")","v":""},{"$f":"IF(Conf8!$P$54>List!AO191,List!AO191+1,\"\")","v":""},{"$f":"IF(Conf9!$P$55>List!AP191,List!AP191+1,\"\")","v":""},{"$f":"IF(Conf9!$P$54+Conf9!$P$55>List!AQ191,List!AQ191+1,\"\")","v":""},{"$f":"IF(Conf9!$P$54>List!AR191,List!AR191+1,\"\")","v":""},{"$f":"IF(Conf10!$P$55>List!AS191,List!AS191+1,\"\")","v":""},{"$f":"IF(Conf10!$P$54+Conf10!$P$55>List!AT191,List!AT191+1,\"\")","v":""},{"$f":"IF(Conf10!$P$54>List!AU191,List!AU191+1,\"\")","v":""}]
[null,null,null,null,null,null,null,null,null,null,null,{"$f":"IF(Configurator!$P$55>List!L192,List!L192+1,\"\")","v":""},{"$f":"IF(Configurator!$P$54+Configurator!$P$55>List!M192,List!M192+1,\"\")","v":""},{"$f":"IF(Configurator!$P$54>List!N192,List!N192+1,\"\")","v":""},{"$f":"IF(Conf2!$P$55>List!O192,List!O192+1,\"\")","v":""},{"$f":"IF(Conf2!$P$54+Conf2!$P$55>List!P192,List!P192+1,\"\")","v":""},{"$f":"IF(Conf2!$P$54>List!Q192,List!Q192+1,\"\")","v":""},{"$f":"IF(Conf3!$P$55>List!R192,List!R192+1,\"\")","v":""},{"$f":"IF(Conf3!$P$54+Conf3!$P$55>List!S192,List!S192+1,\"\")","v":""},{"$f":"IF(Conf3!$P$54>List!T192,List!T192+1,\"\")","v":""},{"$f":"IF(Conf4!$P$55>List!U192,List!U192+1,\"\")","v":""},{"$f":"IF(Conf4!$P$54+Conf4!$P$55>List!V192,List!V192+1,\"\")","v":""},{"$f":"IF(Conf4!$P$54>List!W192,List!W192+1,\"\")","v":""},null,null,null,null,null,null,{"$f":"IF(Conf5!$P$55>List!AD192,List!AD192+1,\"\")","v":""},{"$f":"IF(Conf5!$P$54+Conf5!$P$55>List!AE192,List!AE192+1,\"\")","v":""},{"$f":"IF(Conf5!$P$54>List!AF192,List!AF192+1,\"\")","v":""},{"$f":"IF(Conf6!$P$55>List!AG192,List!AG192+1,\"\")","v":""},{"$f":"IF(Conf6!$P$54+Conf6!$P$55>List!AH192,List!AH192+1,\"\")","v":""},{"$f":"IF(Conf6!$P$54>List!AI192,List!AI192+1,\"\")","v":""},{"$f":"IF(Conf7!$P$55>List!AJ192,List!AJ192+1,\"\")","v":""},{"$f":"IF(Conf7!$P$54+Conf7!$P$55>List!AK192,List!AK192+1,\"\")","v":""},{"$f":"IF(Conf7!$P$54>List!AL192,List!AL192+1,\"\")","v":""},{"$f":"IF(Conf8!$P$55>List!AM192,List!AM192+1,\"\")","v":""},{"$f":"IF(Conf8!$P$54+Conf8!$P$55>List!AN192,List!AN192+1,\"\")","v":""},{"$f":"IF(Conf8!$P$54>List!AO192,List!AO192+1,\"\")","v":""},{"$f":"IF(Conf9!$P$55>List!AP192,List!AP192+1,\"\")","v":""},{"$f":"IF(Conf9!$P$54+Conf9!$P$55>List!AQ192,List!AQ192+1,\"\")","v":""},{"$f":"IF(Conf9!$P$54>List!AR192,List!AR192+1,\"\")","v":""},{"$f":"IF(Conf10!$P$55>List!AS192,List!AS192+1,\"\")","v":""},{"$f":"IF(Conf10!$P$54+Conf10!$P$55>List!AT192,List!AT192+1,\"\")","v":""},{"$f":"IF(Conf10!$P$54>List!AU192,List!AU192+1,\"\")","v":""}]
[null,null,null,null,null,null,null,null,null,null,null,{"$f":"IF(Configurator!$P$55>List!L193,List!L193+1,\"\")","v":""},{"$f":"IF(Configurator!$P$54+Configurator!$P$55>List!M193,List!M193+1,\"\")","v":""},{"$f":"IF(Configurator!$P$54>List!N193,List!N193+1,\"\")","v":""},{"$f":"IF(Conf2!$P$55>List!O193,List!O193+1,\"\")","v":""},{"$f":"IF(Conf2!$P$54+Conf2!$P$55>List!P193,List!P193+1,\"\")","v":""},{"$f":"IF(Conf2!$P$54>List!Q193,List!Q193+1,\"\")","v":""},{"$f":"IF(Conf3!$P$55>List!R193,List!R193+1,\"\")","v":""},{"$f":"IF(Conf3!$P$54+Conf3!$P$55>List!S193,List!S193+1,\"\")","v":""},{"$f":"IF(Conf3!$P$54>List!T193,List!T193+1,\"\")","v":""},{"$f":"IF(Conf4!$P$55>List!U193,List!U193+1,\"\")","v":""},{"$f":"IF(Conf4!$P$54+Conf4!$P$55>List!V193,List!V193+1,\"\")","v":""},{"$f":"IF(Conf4!$P$54>List!W193,List!W193+1,\"\")","v":""},null,null,null,null,null,null,{"$f":"IF(Conf5!$P$55>List!AD193,List!AD193+1,\"\")","v":""},{"$f":"IF(Conf5!$P$54+Conf5!$P$55>List!AE193,List!AE193+1,\"\")","v":""},{"$f":"IF(Conf5!$P$54>List!AF193,List!AF193+1,\"\")","v":""},{"$f":"IF(Conf6!$P$55>List!AG193,List!AG193+1,\"\")","v":""},{"$f":"IF(Conf6!$P$54+Conf6!$P$55>List!AH193,List!AH193+1,\"\")","v":""},{"$f":"IF(Conf6!$P$54>List!AI193,List!AI193+1,\"\")","v":""},{"$f":"IF(Conf7!$P$55>List!AJ193,List!AJ193+1,\"\")","v":""},{"$f":"IF(Conf7!$P$54+Conf7!$P$55>List!AK193,List!AK193+1,\"\")","v":""},{"$f":"IF(Conf7!$P$54>List!AL193,List!AL193+1,\"\")","v":""},{"$f":"IF(Conf8!$P$55>List!AM193,List!AM193+1,\"\")","v":""},{"$f":"IF(Conf8!$P$54+Conf8!$P$55>List!AN193,List!AN193+1,\"\")","v":""},{"$f":"IF(Conf8!$P$54>List!AO193,List!AO193+1,\"\")","v":""},{"$f":"IF(Conf9!$P$55>List!AP193,List!AP193+1,\"\")","v":""},{"$f":"IF(Conf9!$P$54+Conf9!$P$55>List!AQ193,List!AQ193+1,\"\")","v":""},{"$f":"IF(Conf9!$P$54>List!AR193,List!AR193+1,\"\")","v":""},{"$f":"IF(Conf10!$P$55>List!AS193,List!AS193+1,\"\")","v":""},{"$f":"IF(Conf10!$P$54+Conf10!$P$55>List!AT193,List!AT193+1,\"\")","v":""},{"$f":"IF(Conf10!$P$54>List!AU193,List!AU193+1,\"\")","v":""}]
[null,null,null,null,null,null,null,null,null,null,null,{"$f":"IF(Configurator!$P$55>List!L194,List!L194+1,\"\")","v":""},{"$f":"IF(Configurator!$P$54+Configurator!$P$55>List!M194,List!M194+1,\"\")","v":""},{"$f":"IF(Configurator!$P$54>List!N194,List!N194+1,\"\")","v":""},{"$f":"IF(Conf2!$P$55>List!O194,List!O194+1,\"\")","v":""},{"$f":"IF(Conf2!$P$54+Conf2!$P$55>List!P194,List!P194+1,\"\")","v":""},{"$f":"IF(Conf2!$P$54>List!Q194,List!Q194+1,\"\")","v":""},{"$f":"IF(Conf3!$P$55>List!R194,List!R194+1,\"\")","v":""},{"$f":"IF(Conf3!$P$54+Conf3!$P$55>List!S194,List!S194+1,\"\")","v":""},{"$f":"IF(Conf3!$P$54>List!T194,List!T194+1,\"\")","v":""},{"$f":"IF(Conf4!$P$55>List!U194,List!U194+1,\"\")","v":""},{"$f":"IF(Conf4!$P$54+Conf4!$P$55>List!V194,List!V194+1,\"\")","v":""},{"$f":"IF(Conf4!$P$54>List!W194,List!W194+1,\"\")","v":""},null,null,null,null,null,null,{"$f":"IF(Conf5!$P$55>List!AD194,List!AD194+1,\"\")","v":""},{"$f":"IF(Conf5!$P$54+Conf5!$P$55>List!AE194,List!AE194+1,\"\")","v":""},{"$f":"IF(Conf5!$P$54>List!AF194,List!AF194+1,\"\")","v":""},{"$f":"IF(Conf6!$P$55>List!AG194,List!AG194+1,\"\")","v":""},{"$f":"IF(Conf6!$P$54+Conf6!$P$55>List!AH194,List!AH194+1,\"\")","v":""},{"$f":"IF(Conf6!$P$54>List!AI194,List!AI194+1,\"\")","v":""},{"$f":"IF(Conf7!$P$55>List!AJ194,List!AJ194+1,\"\")","v":""},{"$f":"IF(Conf7!$P$54+Conf7!$P$55>List!AK194,List!AK194+1,\"\")","v":""},{"$f":"IF(Conf7!$P$54>List!AL194,List!AL194+1,\"\")","v":""},{"$f":"IF(Conf8!$P$55>List!AM194,List!AM194+1,\"\")","v":""},{"$f":"IF(Conf8!$P$54+Conf8!$P$55>List!AN194,List!AN194+1,\"\")","v":""},{"$f":"IF(Conf8!$P$54>List!AO194,List!AO194+1,\"\")","v":""},{"$f":"IF(Conf9!$P$55>List!AP194,List!AP194+1,\"\")","v":""},{"$f":"IF(Conf9!$P$54+Conf9!$P$55>List!AQ194,List!AQ194+1,\"\")","v":""},{"$f":"IF(Conf9!$P$54>List!AR194,List!AR194+1,\"\")","v":""},{"$f":"IF(Conf10!$P$55>List!AS194,List!AS194+1,\"\")","v":""},{"$f":"IF(Conf10!$P$54+Conf10!$P$55>List!AT194,List!AT194+1,\"\")","v":""},{"$f":"IF(Conf10!$P$54>List!AU194,List!AU194+1,\"\")","v":""}]
[null,null,null,null,null,null,null,null,null,null,null,{"$f":"IF(Configurator!$P$55>List!L195,List!L195+1,\"\")","v":""},{"$f":"IF(Configurator!$P$54+Configurator!$P$55>List!M195,List!M195+1,\"\")","v":""},{"$f":"IF(Configurator!$P$54>List!N195,List!N195+1,\"\")","v":""},{"$f":"IF(Conf2!$P$55>List!O195,List!O195+1,\"\")","v":""},{"$f":"IF(Conf2!$P$54+Conf2!$P$55>List!P195,List!P195+1,\"\")","v":""},{"$f":"IF(Conf2!$P$54>List!Q195,List!Q195+1,\"\")","v":""},{"$f":"IF(Conf3!$P$55>List!R195,List!R195+1,\"\")","v":""},{"$f":"IF(Conf3!$P$54+Conf3!$P$55>List!S195,List!S195+1,\"\")","v":""},{"$f":"IF(Conf3!$P$54>List!T195,List!T195+1,\"\")","v":""},{"$f":"IF(Conf4!$P$55>List!U195,List!U195+1,\"\")","v":""},{"$f":"IF(Conf4!$P$54+Conf4!$P$55>List!V195,List!V195+1,\"\")","v":""},{"$f":"IF(Conf4!$P$54>List!W195,List!W195+1,\"\")","v":""},null,null,null,null,null,null,{"$f":"IF(Conf5!$P$55>List!AD195,List!AD195+1,\"\")","v":""},{"$f":"IF(Conf5!$P$54+Conf5!$P$55>List!AE195,List!AE195+1,\"\")","v":""},{"$f":"IF(Conf5!$P$54>List!AF195,List!AF195+1,\"\")","v":""},{"$f":"IF(Conf6!$P$55>List!AG195,List!AG195+1,\"\")","v":""},{"$f":"IF(Conf6!$P$54+Conf6!$P$55>List!AH195,List!AH195+1,\"\")","v":""},{"$f":"IF(Conf6!$P$54>List!AI195,List!AI195+1,\"\")","v":""},{"$f":"IF(Conf7!$P$55>List!AJ195,List!AJ195+1,\"\")","v":""},{"$f":"IF(Conf7!$P$54+Conf7!$P$55>List!AK195,List!AK195+1,\"\")","v":""},{"$f":"IF(Conf7!$P$54>List!AL195,List!AL195+1,\"\")","v":""},{"$f":"IF(Conf8!$P$55>List!AM195,List!AM195+1,\"\")","v":""},{"$f":"IF(Conf8!$P$54+Conf8!$P$55>List!AN195,List!AN195+1,\"\")","v":""},{"$f":"IF(Conf8!$P$54>List!AO195,List!AO195+1,\"\")","v":""},{"$f":"IF(Conf9!$P$55>List!AP195,List!AP195+1,\"\")","v":""},{"$f":"IF(Conf9!$P$54+Conf9!$P$55>List!AQ195,List!AQ195+1,\"\")","v":""},{"$f":"IF(Conf9!$P$54>List!AR195,List!AR195+1,\"\")","v":""},{"$f":"IF(Conf10!$P$55>List!AS195,List!AS195+1,\"\")","v":""},{"$f":"IF(Conf10!$P$54+Conf10!$P$55>List!AT195,List!AT195+1,\"\")","v":""},{"$f":"IF(Conf10!$P$54>List!AU195,List!AU195+1,\"\")","v":""}]
[null,null,null,null,null,null,null,null,null,null,null,{"$f":"IF(Configurator!$P$55>List!L196,List!L196+1,\"\")","v":""},{"$f":"IF(Configurator!$P$54+Configurator!$P$55>List!M196,List!M196+1,\"\")","v":""},{"$f":"IF(Configurator!$P$54>List!N196,List!N196+1,\"\")","v":""},{"$f":"IF(Conf2!$P$55>List!O196,List!O196+1,\"\")","v":""},{"$f":"IF(Conf2!$P$54+Conf2!$P$55>List!P196,List!P196+1,\"\")","v":""},{"$f":"IF(Conf2!$P$54>List!Q196,List!Q196+1,\"\")","v":""},{"$f":"IF(Conf3!$P$55>List!R196,List!R196+1,\"\")","v":""},{"$f":"IF(Conf3!$P$54+Conf3!$P$55>List!S196,List!S196+1,\"\")","v":""},{"$f":"IF(Conf3!$P$54>List!T196,List!T196+1,\"\")","v":""},{"$f":"IF(Conf4!$P$55>List!U196,List!U196+1,\"\")","v":""},{"$f":"IF(Conf4!$P$54+Conf4!$P$55>List!V196,List!V196+1,\"\")","v":""},{"$f":"IF(Conf4!$P$54>List!W196,List!W196+1,\"\")","v":""},null,null,null,null,null,null,{"$f":"IF(Conf5!$P$55>List!AD196,List!AD196+1,\"\")","v":""},{"$f":"IF(Conf5!$P$54+Conf5!$P$55>List!AE196,List!AE196+1,\"\")","v":""},{"$f":"IF(Conf5!$P$54>List!AF196,List!AF196+1,\"\")","v":""},{"$f":"IF(Conf6!$P$55>List!AG196,List!AG196+1,\"\")","v":""},{"$f":"IF(Conf6!$P$54+Conf6!$P$55>List!AH196,List!AH196+1,\"\")","v":""},{"$f":"IF(Conf6!$P$54>List!AI196,List!AI196+1,\"\")","v":""},{"$f":"IF(Conf7!$P$55>List!AJ196,List!AJ196+1,\"\")","v":""},{"$f":"IF(Conf7!$P$54+Conf7!$P$55>List!AK196,List!AK196+1,\"\")","v":""},{"$f":"IF(Conf7!$P$54>List!AL196,List!AL196+1,\"\")","v":""},{"$f":"IF(Conf8!$P$55>List!AM196,List!AM196+1,\"\")","v":""},{"$f":"IF(Conf8!$P$54+Conf8!$P$55>List!AN196,List!AN196+1,\"\")","v":""},{"$f":"IF(Conf8!$P$54>List!AO196,List!AO196+1,\"\")","v":""},{"$f":"IF(Conf9!$P$55>List!AP196,List!AP196+1,\"\")","v":""},{"$f":"IF(Conf9!$P$54+Conf9!$P$55>List!AQ196,List!AQ196+1,\"\")","v":""},{"$f":"IF(Conf9!$P$54>List!AR196,List!AR196+1,\"\")","v":""},{"$f":"IF(Conf10!$P$55>List!AS196,List!AS196+1,\"\")","v":""},{"$f":"IF(Conf10!$P$54+Conf10!$P$55>List!AT196,List!AT196+1,\"\")","v":""},{"$f":"IF(Conf10!$P$54>List!AU196,List!AU196+1,\"\")","v":""}]
[null,null,null,null,null,null,null,null,null,null,null,{"$f":"IF(Configurator!$P$55>List!L197,List!L197+1,\"\")","v":""},{"$f":"IF(Configurator!$P$54+Configurator!$P$55>List!M197,List!M197+1,\"\")","v":""},{"$f":"IF(Configurator!$P$54>List!N197,List!N197+1,\"\")","v":""},{"$f":"IF(Conf2!$P$55>List!O197,List!O197+1,\"\")","v":""},{"$f":"IF(Conf2!$P$54+Conf2!$P$55>List!P197,List!P197+1,\"\")","v":""},{"$f":"IF(Conf2!$P$54>List!Q197,List!Q197+1,\"\")","v":""},{"$f":"IF(Conf3!$P$55>List!R197,List!R197+1,\"\")","v":""},{"$f":"IF(Conf3!$P$54+Conf3!$P$55>List!S197,List!S197+1,\"\")","v":""},{"$f":"IF(Conf3!$P$54>List!T197,List!T197+1,\"\")","v":""},{"$f":"IF(Conf4!$P$55>List!U197,List!U197+1,\"\")","v":""},{"$f":"IF(Conf4!$P$54+Conf4!$P$55>List!V197,List!V197+1,\"\")","v":""},{"$f":"IF(Conf4!$P$54>List!W197,List!W197+1,\"\")","v":""},null,null,null,null,null,null,{"$f":"IF(Conf5!$P$55>List!AD197,List!AD197+1,\"\")","v":""},{"$f":"IF(Conf5!$P$54+Conf5!$P$55>List!AE197,List!AE197+1,\"\")","v":""},{"$f":"IF(Conf5!$P$54>List!AF197,List!AF197+1,\"\")","v":""},{"$f":"IF(Conf6!$P$55>List!AG197,List!AG197+1,\"\")","v":""},{"$f":"IF(Conf6!$P$54+Conf6!$P$55>List!AH197,List!AH197+1,\"\")","v":""},{"$f":"IF(Conf6!$P$54>List!AI197,List!AI197+1,\"\")","v":""},{"$f":"IF(Conf7!$P$55>List!AJ197,List!AJ197+1,\"\")","v":""},{"$f":"IF(Conf7!$P$54+Conf7!$P$55>List!AK197,List!AK197+1,\"\")","v":""},{"$f":"IF(Conf7!$P$54>List!AL197,List!AL197+1,\"\")","v":""},{"$f":"IF(Conf8!$P$55>List!AM197,List!AM197+1,\"\")","v":""},{"$f":"IF(Conf8!$P$54+Conf8!$P$55>List!AN197,List!AN197+1,\"\")","v":""},{"$f":"IF(Conf8!$P$54>List!AO197,List!AO197+1,\"\")","v":""},{"$f":"IF(Conf9!$P$55>List!AP197,List!AP197+1,\"\")","v":""},{"$f":"IF(Conf9!$P$54+Conf9!$P$55>List!AQ197,List!AQ197+1,\"\")","v":""},{"$f":"IF(Conf9!$P$54>List!AR197,List!AR197+1,\"\")","v":""},{"$f":"IF(Conf10!$P$55>List!AS197,List!AS197+1,\"\")","v":""},{"$f":"IF(Conf10!$P$54+Conf10!$P$55>List!AT197,List!AT197+1,\"\")","v":""},{"$f":"IF(Conf10!$P$54>List!AU197,List!AU197+1,\"\")","v":""}]
[null,null,null,null,null,null,null,null,null,null,null,{"$f":"IF(Configurator!$P$55>List!L198,List!L198+1,\"\")","v":""},{"$f":"IF(Configurator!$P$54+Configurator!$P$55>List!M198,List!M198+1,\"\")","v":""},{"$f":"IF(Configurator!$P$54>List!N198,List!N198+1,\"\")","v":""},{"$f":"IF(Conf2!$P$55>List!O198,List!O198+1,\"\")","v":""},{"$f":"IF(Conf2!$P$54+Conf2!$P$55>List!P198,List!P198+1,\"\")","v":""},{"$f":"IF(Conf2!$P$54>List!Q198,List!Q198+1,\"\")","v":""},{"$f":"IF(Conf3!$P$55>List!R198,List!R198+1,\"\")","v":""},{"$f":"IF(Conf3!$P$54+Conf3!$P$55>List!S198,List!S198+1,\"\")","v":""},{"$f":"IF(Conf3!$P$54>List!T198,List!T198+1,\"\")","v":""},{"$f":"IF(Conf4!$P$55>List!U198,List!U198+1,\"\")","v":""},{"$f":"IF(Conf4!$P$54+Conf4!$P$55>List!V198,List!V198+1,\"\")","v":""},{"$f":"IF(Conf4!$P$54>List!W198,List!W198+1,\"\")","v":""},null,null,null,null,null,null,{"$f":"IF(Conf5!$P$55>List!AD198,List!AD198+1,\"\")","v":""},{"$f":"IF(Conf5!$P$54+Conf5!$P$55>List!AE198,List!AE198+1,\"\")","v":""},{"$f":"IF(Conf5!$P$54>List!AF198,List!AF198+1,\"\")","v":""},{"$f":"IF(Conf6!$P$55>List!AG198,List!AG198+1,\"\")","v":""},{"$f":"IF(Conf6!$P$54+Conf6!$P$55>List!AH198,List!AH198+1,\"\")","v":""},{"$f":"IF(Conf6!$P$54>List!AI198,List!AI198+1,\"\")","v":""},{"$f":"IF(Conf7!$P$55>List!AJ198,List!AJ198+1,\"\")","v":""},{"$f":"IF(Conf7!$P$54+Conf7!$P$55>List!AK198,List!AK198+1,\"\")","v":""},{"$f":"IF(Conf7!$P$54>List!AL198,List!AL198+1,\"\")","v":""},{"$f":"IF(Conf8!$P$55>List!AM198,List!AM198+1,\"\")","v":""},{"$f":"IF(Conf8!$P$54+Conf8!$P$55>List!AN198,List!AN198+1,\"\")","v":""},{"$f":"IF(Conf8!$P$54>List!AO198,List!AO198+1,\"\")","v":""},{"$f":"IF(Conf9!$P$55>List!AP198,List!AP198+1,\"\")","v":""},{"$f":"IF(Conf9!$P$54+Conf9!$P$55>List!AQ198,List!AQ198+1,\"\")","v":""},{"$f":"IF(Conf9!$P$54>List!AR198,List!AR198+1,\"\")","v":""},{"$f":"IF(Conf10!$P$55>List!AS198,List!AS198+1,\"\")","v":""},{"$f":"IF(Conf10!$P$54+Conf10!$P$55>List!AT198,List!AT198+1,\"\")","v":""},{"$f":"IF(Conf10!$P$54>List!AU198,List!AU198+1,\"\")","v":""}]
[null,null,null,null,null,null,null,null,null,null,null,{"$f":"IF(Configurator!$P$55>List!L199,List!L199+1,\"\")","v":""},{"$f":"IF(Configurator!$P$54+Configurator!$P$55>List!M199,List!M199+1,\"\")","v":""},{"$f":"IF(Configurator!$P$54>List!N199,List!N199+1,\"\")","v":""},{"$f":"IF(Conf2!$P$55>List!O199,List!O199+1,\"\")","v":""},{"$f":"IF(Conf2!$P$54+Conf2!$P$55>List!P199,List!P199+1,\"\")","v":""},{"$f":"IF(Conf2!$P$54>List!Q199,List!Q199+1,\"\")","v":""},{"$f":"IF(Conf3!$P$55>List!R199,List!R199+1,\"\")","v":""},{"$f":"IF(Conf3!$P$54+Conf3!$P$55>List!S199,List!S199+1,\"\")","v":""},{"$f":"IF(Conf3!$P$54>List!T199,List!T199+1,\"\")","v":""},{"$f":"IF(Conf4!$P$55>List!U199,List!U199+1,\"\")","v":""},{"$f":"IF(Conf4!$P$54+Conf4!$P$55>List!V199,List!V199+1,\"\")","v":""},{"$f":"IF(Conf4!$P$54>List!W199,List!W199+1,\"\")","v":""},null,null,null,null,null,null,{"$f":"IF(Conf5!$P$55>List!AD199,List!AD199+1,\"\")","v":""},{"$f":"IF(Conf5!$P$54+Conf5!$P$55>List!AE199,List!AE199+1,\"\")","v":""},{"$f":"IF(Conf5!$P$54>List!AF199,List!AF199+1,\"\")","v":""},{"$f":"IF(Conf6!$P$55>List!AG199,List!AG199+1,\"\")","v":""},{"$f":"IF(Conf6!$P$54+Conf6!$P$55>List!AH199,List!AH199+1,\"\")","v":""},{"$f":"IF(Conf6!$P$54>List!AI199,List!AI199+1,\"\")","v":""},{"$f":"IF(Conf7!$P$55>List!AJ199,List!AJ199+1,\"\")","v":""},{"$f":"IF(Conf7!$P$54+Conf7!$P$55>List!AK199,List!AK199+1,\"\")","v":""},{"$f":"IF(Conf7!$P$54>List!AL199,List!AL199+1,\"\")","v":""},{"$f":"IF(Conf8!$P$55>List!AM199,List!AM199+1,\"\")","v":""},{"$f":"IF(Conf8!$P$54+Conf8!$P$55>List!AN199,List!AN199+1,\"\")","v":""},{"$f":"IF(Conf8!$P$54>List!AO199,List!AO199+1,\"\")","v":""},{"$f":"IF(Conf9!$P$55>List!AP199,List!AP199+1,\"\")","v":""},{"$f":"IF(Conf9!$P$54+Conf9!$P$55>List!AQ199,List!AQ199+1,\"\")","v":""},{"$f":"IF(Conf9!$P$54>List!AR199,List!AR199+1,\"\")","v":""},{"$f":"IF(Conf10!$P$55>List!AS199,List!AS199+1,\"\")","v":""},{"$f":"IF(Conf10!$P$54+Conf10!$P$55>List!AT199,List!AT199+1,\"\")","v":""},{"$f":"IF(Conf10!$P$54>List!AU199,List!AU199+1,\"\")","v":""}]
[null,null,null,null,null,null,null,null,null,null,null,{"$f":"IF(Configurator!$P$55>List!L200,List!L200+1,\"\")","v":""},{"$f":"IF(Configurator!$P$54+Configurator!$P$55>List!M200,List!M200+1,\"\")","v":""},{"$f":"IF(Configurator!$P$54>List!N200,List!N200+1,\"\")","v":""},{"$f":"IF(Conf2!$P$55>List!O200,List!O200+1,\"\")","v":""},{"$f":"IF(Conf2!$P$54+Conf2!$P$55>List!P200,List!P200+1,\"\")","v":""},{"$f":"IF(Conf2!$P$54>List!Q200,List!Q200+1,\"\")","v":""},{"$f":"IF(Conf3!$P$55>List!R200,List!R200+1,\"\")","v":""},{"$f":"IF(Conf3!$P$54+Conf3!$P$55>List!S200,List!S200+1,\"\")","v":""},{"$f":"IF(Conf3!$P$54>List!T200,List!T200+1,\"\")","v":""},{"$f":"IF(Conf4!$P$55>List!U200,List!U200+1,\"\")","v":""},{"$f":"IF(Conf4!$P$54+Conf4!$P$55>List!V200,List!V200+1,\"\")","v":""},{"$f":"IF(Conf4!$P$54>List!W200,List!W200+1,\"\")","v":""},null,null,null,null,null,null,{"$f":"IF(Conf5!$P$55>List!AD200,List!AD200+1,\"\")","v":""},{"$f":"IF(Conf5!$P$54+Conf5!$P$55>List!AE200,List!AE200+1,\"\")","v":""},{"$f":"IF(Conf5!$P$54>List!AF200,List!AF200+1,\"\")","v":""},{"$f":"IF(Conf6!$P$55>List!AG200,List!AG200+1,\"\")","v":""},{"$f":"IF(Conf6!$P$54+Conf6!$P$55>List!AH200,List!AH200+1,\"\")","v":""},{"$f":"IF(Conf6!$P$54>List!AI200,List!AI200+1,\"\")","v":""},{"$f":"IF(Conf7!$P$55>List!AJ200,List!AJ200+1,\"\")","v":""},{"$f":"IF(Conf7!$P$54+Conf7!$P$55>List!AK200,List!AK200+1,\"\")","v":""},{"$f":"IF(Conf7!$P$54>List!AL200,List!AL200+1,\"\")","v":""},{"$f":"IF(Conf8!$P$55>List!AM200,List!AM200+1,\"\")","v":""},{"$f":"IF(Conf8!$P$54+Conf8!$P$55>List!AN200,List!AN200+1,\"\")","v":""},{"$f":"IF(Conf8!$P$54>List!AO200,List!AO200+1,\"\")","v":""},{"$f":"IF(Conf9!$P$55>List!AP200,List!AP200+1,\"\")","v":""},{"$f":"IF(Conf9!$P$54+Conf9!$P$55>List!AQ200,List!AQ200+1,\"\")","v":""},{"$f":"IF(Conf9!$P$54>List!AR200,List!AR200+1,\"\")","v":""},{"$f":"IF(Conf10!$P$55>List!AS200,List!AS200+1,\"\")","v":""},{"$f":"IF(Conf10!$P$54+Conf10!$P$55>List!AT200,List!AT200+1,\"\")","v":""},{"$f":"IF(Conf10!$P$54>List!AU200,List!AU200+1,\"\")","v":""}]
[null,null,null,null,null,null,null,null,null,null,null,{"$f":"IF(Configurator!$P$55>List!L201,List!L201+1,\"\")","v":""},{"$f":"IF(Configurator!$P$54+Configurator!$P$55>List!M201,List!M201+1,\"\")","v":""},{"$f":"IF(Configurator!$P$54>List!N201,List!N201+1,\"\")","v":""},{"$f":"IF(Conf2!$P$55>List!O201,List!O201+1,\"\")","v":""},{"$f":"IF(Conf2!$P$54+Conf2!$P$55>List!P201,List!P201+1,\"\")","v":""},{"$f":"IF(Conf2!$P$54>List!Q201,List!Q201+1,\"\")","v":""},{"$f":"IF(Conf3!$P$55>List!R201,List!R201+1,\"\")","v":""},{"$f":"IF(Conf3!$P$54+Conf3!$P$55>List!S201,List!S201+1,\"\")","v":""},{"$f":"IF(Conf3!$P$54>List!T201,List!T201+1,\"\")","v":""},{"$f":"IF(Conf4!$P$55>List!U201,List!U201+1,\"\")","v":""},{"$f":"IF(Conf4!$P$54+Conf4!$P$55>List!V201,List!V201+1,\"\")","v":""},{"$f":"IF(Conf4!$P$54>List!W201,List!W201+1,\"\")","v":""},null,null,null,null,null,null,{"$f":"IF(Conf5!$P$55>List!AD201,List!AD201+1,\"\")","v":""},{"$f":"IF(Conf5!$P$54+Conf5!$P$55>List!AE201,List!AE201+1,\"\")","v":""},{"$f":"IF(Conf5!$P$54>List!AF201,List!AF201+1,\"\")","v":""},{"$f":"IF(Conf6!$P$55>List!AG201,List!AG201+1,\"\")","v":""},{"$f":"IF(Conf6!$P$54+Conf6!$P$55>List!AH201,List!AH201+1,\"\")","v":""},{"$f":"IF(Conf6!$P$54>List!AI201,List!AI201+1,\"\")","v":""},{"$f":"IF(Conf7!$P$55>List!AJ201,List!AJ201+1,\"\")","v":""},{"$f":"IF(Conf7!$P$54+Conf7!$P$55>List!AK201,List!AK201+1,\"\")","v":""},{"$f":"IF(Conf7!$P$54>List!AL201,List!AL201+1,\"\")","v":""},{"$f":"IF(Conf8!$P$55>List!AM201,List!AM201+1,\"\")","v":""},{"$f":"IF(Conf8!$P$54+Conf8!$P$55>List!AN201,List!AN201+1,\"\")","v":""},{"$f":"IF(Conf8!$P$54>List!AO201,List!AO201+1,\"\")","v":""},{"$f":"IF(Conf9!$P$55>List!AP201,List!AP201+1,\"\")","v":""},{"$f":"IF(Conf9!$P$54+Conf9!$P$55>List!AQ201,List!AQ201+1,\"\")","v":""},{"$f":"IF(Conf9!$P$54>List!AR201,List!AR201+1,\"\")","v":""},{"$f":"IF(Conf10!$P$55>List!AS201,List!AS201+1,\"\")","v":""},{"$f":"IF(Conf10!$P$54+Conf10!$P$55>List!AT201,List!AT201+1,\"\")","v":""},{"$f":"IF(Conf10!$P$54>List!AU201,List!AU201+1,\"\")","v":""}]
[null,null,null,null,null,null,null,null,null,null,null,{"$f":"IF(Configurator!$P$55>List!L202,List!L202+1,\"\")","v":""},{"$f":"IF(Configurator!$P$54+Configurator!$P$55>List!M202,List!M202+1,\"\")","v":""},{"$f":"IF(Configurator!$P$54>List!N202,List!N202+1,\"\")","v":""},{"$f":"IF(Conf2!$P$55>List!O202,List!O202+1,\"\")","v":""},{"$f":"IF(Conf2!$P$54+Conf2!$P$55>List!P202,List!P202+1,\"\")","v":""},{"$f":"IF(Conf2!$P$54>List!Q202,List!Q202+1,\"\")","v":""},{"$f":"IF(Conf3!$P$55>List!R202,List!R202+1,\"\")","v":""},{"$f":"IF(Conf3!$P$54+Conf3!$P$55>List!S202,List!S202+1,\"\")","v":""},{"$f":"IF(Conf3!$P$54>List!T202,List!T202+1,\"\")","v":""},{"$f":"IF(Conf4!$P$55>List!U202,List!U202+1,\"\")","v":""},{"$f":"IF(Conf4!$P$54+Conf4!$P$55>List!V202,List!V202+1,\"\")","v":""},{"$f":"IF(Conf4!$P$54>List!W202,List!W202+1,\"\")","v":""},null,null,null,null,null,null,{"$f":"IF(Conf5!$P$55>List!AD202,List!AD202+1,\"\")","v":""},{"$f":"IF(Conf5!$P$54+Conf5!$P$55>List!AE202,List!AE202+1,\"\")","v":""},{"$f":"IF(Conf5!$P$54>List!AF202,List!AF202+1,\"\")","v":""},{"$f":"IF(Conf6!$P$55>List!AG202,List!AG202+1,\"\")","v":""},{"$f":"IF(Conf6!$P$54+Conf6!$P$55>List!AH202,List!AH202+1,\"\")","v":""},{"$f":"IF(Conf6!$P$54>List!AI202,List!AI202+1,\"\")","v":""},{"$f":"IF(Conf7!$P$55>List!AJ202,List!AJ202+1,\"\")","v":""},{"$f":"IF(Conf7!$P$54+Conf7!$P$55>List!AK202,List!AK202+1,\"\")","v":""},{"$f":"IF(Conf7!$P$54>List!AL202,List!AL202+1,\"\")","v":""},{"$f":"IF(Conf8!$P$55>List!AM202,List!AM202+1,\"\")","v":""},{"$f":"IF(Conf8!$P$54+Conf8!$P$55>List!AN202,List!AN202+1,\"\")","v":""},{"$f":"IF(Conf8!$P$54>List!AO202,List!AO202+1,\"\")","v":""},{"$f":"IF(Conf9!$P$55>List!AP202,List!AP202+1,\"\")","v":""},{"$f":"IF(Conf9!$P$54+Conf9!$P$55>List!AQ202,List!AQ202+1,\"\")","v":""},{"$f":"IF(Conf9!$P$54>List!AR202,List!AR202+1,\"\")","v":""},{"$f":"IF(Conf10!$P$55>List!AS202,List!AS202+1,\"\")","v":""},{"$f":"IF(Conf10!$P$54+Conf10!$P$55>List!AT202,List!AT202+1,\"\")","v":""},{"$f":"IF(Conf10!$P$54>List!AU202,List!AU202+1,\"\")","v":""}]
[null,null,null,null,null,null,null,null,null,null,null,{"$f":"IF(Configurator!$P$55>List!L203,List!L203+1,\"\")","v":""},{"$f":"IF(Configurator!$P$54+Configurator!$P$55>List!M203,List!M203+1,\"\")","v":""},{"$f":"IF(Configurator!$P$54>List!N203,List!N203+1,\"\")","v":""},{"$f":"IF(Conf2!$P$55>List!O203,List!O203+1,\"\")","v":""},{"$f":"IF(Conf2!$P$54+Conf2!$P$55>List!P203,List!P203+1,\"\")","v":""},{"$f":"IF(Conf2!$P$54>List!Q203,List!Q203+1,\"\")","v":""},{"$f":"IF(Conf3!$P$55>List!R203,List!R203+1,\"\")","v":""},{"$f":"IF(Conf3!$P$54+Conf3!$P$55>List!S203,List!S203+1,\"\")","v":""},{"$f":"IF(Conf3!$P$54>List!T203,List!T203+1,\"\")","v":""},{"$f":"IF(Conf4!$P$55>List!U203,List!U203+1,\"\")","v":""},{"$f":"IF(Conf4!$P$54+Conf4!$P$55>List!V203,List!V203+1,\"\")","v":""},{"$f":"IF(Conf4!$P$54>List!W203,List!W203+1,\"\")","v":""},null,null,null,null,null,null,{"$f":"IF(Conf5!$P$55>List!AD203,List!AD203+1,\"\")","v":""},{"$f":"IF(Conf5!$P$54+Conf5!$P$55>List!AE203,List!AE203+1,\"\")","v":""},{"$f":"IF(Conf5!$P$54>List!AF203,List!AF203+1,\"\")","v":""},{"$f":"IF(Conf6!$P$55>List!AG203,List!AG203+1,\"\")","v":""},{"$f":"IF(Conf6!$P$54+Conf6!$P$55>List!AH203,List!AH203+1,\"\")","v":""},{"$f":"IF(Conf6!$P$54>List!AI203,List!AI203+1,\"\")","v":""},{"$f":"IF(Conf7!$P$55>List!AJ203,List!AJ203+1,\"\")","v":""},{"$f":"IF(Conf7!$P$54+Conf7!$P$55>List!AK203,List!AK203+1,\"\")","v":""},{"$f":"IF(Conf7!$P$54>List!AL203,List!AL203+1,\"\")","v":""},{"$f":"IF(Conf8!$P$55>List!AM203,List!AM203+1,\"\")","v":""},{"$f":"IF(Conf8!$P$54+Conf8!$P$55>List!AN203,List!AN203+1,\"\")","v":""},{"$f":"IF(Conf8!$P$54>List!AO203,List!AO203+1,\"\")","v":""},{"$f":"IF(Conf9!$P$55>List!AP203,List!AP203+1,\"\")","v":""},{"$f":"IF(Conf9!$P$54+Conf9!$P$55>List!AQ203,List!AQ203+1,\"\")","v":""},{"$f":"IF(Conf9!$P$54>List!AR203,List!AR203+1,\"\")","v":""},{"$f":"IF(Conf10!$P$55>List!AS203,List!AS203+1,\"\")","v":""},{"$f":"IF(Conf10!$P$54+Conf10!$P$55>List!AT203,List!AT203+1,\"\")","v":""},{"$f":"IF(Conf10!$P$54>List!AU203,List!AU203+1,\"\")","v":""}]
[null,null,null,null,null,null,null,null,null,null,null,{"$f":"IF(Configurator!$P$55>List!L204,List!L204+1,\"\")","v":""},{"$f":"IF(Configurator!$P$54+Configurator!$P$55>List!M204,List!M204+1,\"\")","v":""},{"$f":"IF(Configurator!$P$54>List!N204,List!N204+1,\"\")","v":""},{"$f":"IF(Conf2!$P$55>List!O204,List!O204+1,\"\")","v":""},{"$f":"IF(Conf2!$P$54+Conf2!$P$55>List!P204,List!P204+1,\"\")","v":""},{"$f":"IF(Conf2!$P$54>List!Q204,List!Q204+1,\"\")","v":""},{"$f":"IF(Conf3!$P$55>List!R204,List!R204+1,\"\")","v":""},{"$f":"IF(Conf3!$P$54+Conf3!$P$55>List!S204,List!S204+1,\"\")","v":""},{"$f":"IF(Conf3!$P$54>List!T204,List!T204+1,\"\")","v":""},{"$f":"IF(Conf4!$P$55>List!U204,List!U204+1,\"\")","v":""},{"$f":"IF(Conf4!$P$54+Conf4!$P$55>List!V204,List!V204+1,\"\")","v":""},{"$f":"IF(Conf4!$P$54>List!W204,List!W204+1,\"\")","v":""},null,null,null,null,null,null,{"$f":"IF(Conf5!$P$55>List!AD204,List!AD204+1,\"\")","v":""},{"$f":"IF(Conf5!$P$54+Conf5!$P$55>List!AE204,List!AE204+1,\"\")","v":""},{"$f":"IF(Conf5!$P$54>List!AF204,List!AF204+1,\"\")","v":""},{"$f":"IF(Conf6!$P$55>List!AG204,List!AG204+1,\"\")","v":""},{"$f":"IF(Conf6!$P$54+Conf6!$P$55>List!AH204,List!AH204+1,\"\")","v":""},{"$f":"IF(Conf6!$P$54>List!AI204,List!AI204+1,\"\")","v":""},{"$f":"IF(Conf7!$P$55>List!AJ204,List!AJ204+1,\"\")","v":""},{"$f":"IF(Conf7!$P$54+Conf7!$P$55>List!AK204,List!AK204+1,\"\")","v":""},{"$f":"IF(Conf7!$P$54>List!AL204,List!AL204+1,\"\")","v":""},{"$f":"IF(Conf8!$P$55>List!AM204,List!AM204+1,\"\")","v":""},{"$f":"IF(Conf8!$P$54+Conf8!$P$55>List!AN204,List!AN204+1,\"\")","v":""},{"$f":"IF(Conf8!$P$54>List!AO204,List!AO204+1,\"\")","v":""},{"$f":"IF(Conf9!$P$55>List!AP204,List!AP204+1,\"\")","v":""},{"$f":"IF(Conf9!$P$54+Conf9!$P$55>List!AQ204,List!AQ204+1,\"\")","v":""},{"$f":"IF(Conf9!$P$54>List!AR204,List!AR204+1,\"\")","v":""},{"$f":"IF(Conf10!$P$55>List!AS204,List!AS204+1,\"\")","v":""},{"$f":"IF(Conf10!$P$54+Conf10!$P$55>List!AT204,List!AT204+1,\"\")","v":""},{"$f":"IF(Conf10!$P$54>List!AU204,List!AU204+1,\"\")","v":""}]
[null,null,null,null,null,null,null,null,null,null,null,{"$f":"IF(Configurator!$P$55>List!L205,List!L205+1,\"\")","v":""},{"$f":"IF(Configurator!$P$54+Configurator!$P$55>List!M205,List!M205+1,\"\")","v":""},{"$f":"IF(Configurator!$P$54>List!N205,List!N205+1,\"\")","v":""},{"$f":"IF(Conf2!$P$55>List!O205,List!O205+1,\"\")","v":""},{"$f":"IF(Conf2!$P$54+Conf2!$P$55>List!P205,List!P205+1,\"\")","v":""},{"$f":"IF(Conf2!$P$54>List!Q205,List!Q205+1,\"\")","v":""},{"$f":"IF(Conf3!$P$55>List!R205,List!R205+1,\"\")","v":""},{"$f":"IF(Conf3!$P$54+Conf3!$P$55>List!S205,List!S205+1,\"\")","v":""},{"$f":"IF(Conf3!$P$54>List!T205,List!T205+1,\"\")","v":""},{"$f":"IF(Conf4!$P$55>List!U205,List!U205+1,\"\")","v":""},{"$f":"IF(Conf4!$P$54+Conf4!$P$55>List!V205,List!V205+1,\"\")","v":""},{"$f":"IF(Conf4!$P$54>List!W205,List!W205+1,\"\")","v":""},null,null,null,null,null,null,{"$f":"IF(Conf5!$P$55>List!AD205,List!AD205+1,\"\")","v":""},{"$f":"IF(Conf5!$P$54+Conf5!$P$55>List!AE205,List!AE205+1,\"\")","v":""},{"$f":"IF(Conf5!$P$54>List!AF205,List!AF205+1,\"\")","v":""},{"$f":"IF(Conf6!$P$55>List!AG205,List!AG205+1,\"\")","v":""},{"$f":"IF(Conf6!$P$54+Conf6!$P$55>List!AH205,List!AH205+1,\"\")","v":""},{"$f":"IF(Conf6!$P$54>List!AI205,List!AI205+1,\"\")","v":""},{"$f":"IF(Conf7!$P$55>List!AJ205,List!AJ205+1,\"\")","v":""},{"$f":"IF(Conf7!$P$54+Conf7!$P$55>List!AK205,List!AK205+1,\"\")","v":""},{"$f":"IF(Conf7!$P$54>List!AL205,List!AL205+1,\"\")","v":""},{"$f":"IF(Conf8!$P$55>List!AM205,List!AM205+1,\"\")","v":""},{"$f":"IF(Conf8!$P$54+Conf8!$P$55>List!AN205,List!AN205+1,\"\")","v":""},{"$f":"IF(Conf8!$P$54>List!AO205,List!AO205+1,\"\")","v":""},{"$f":"IF(Conf9!$P$55>List!AP205,List!AP205+1,\"\")","v":""},{"$f":"IF(Conf9!$P$54+Conf9!$P$55>List!AQ205,List!AQ205+1,\"\")","v":""},{"$f":"IF(Conf9!$P$54>List!AR205,List!AR205+1,\"\")","v":""},{"$f":"IF(Conf10!$P$55>List!AS205,List!AS205+1,\"\")","v":""},{"$f":"IF(Conf10!$P$54+Conf10!$P$55>List!AT205,List!AT205+1,\"\")","v":""},{"$f":"IF(Conf10!$P$54>List!AU205,List!AU205+1,\"\")","v":""}]
[null,null,null,null,null,null,null,null,null,null,null,{"$f":"IF(Configurator!$P$55>List!L206,List!L206+1,\"\")","v":""},{"$f":"IF(Configurator!$P$54+Configurator!$P$55>List!M206,List!M206+1,\"\")","v":""},{"$f":"IF(Configurator!$P$54>List!N206,List!N206+1,\"\")","v":""},{"$f":"IF(Conf2!$P$55>List!O206,List!O206+1,\"\")","v":""},{"$f":"IF(Conf2!$P$54+Conf2!$P$55>List!P206,List!P206+1,\"\")","v":""},{"$f":"IF(Conf2!$P$54>List!Q206,List!Q206+1,\"\")","v":""},{"$f":"IF(Conf3!$P$55>List!R206,List!R206+1,\"\")","v":""},{"$f":"IF(Conf3!$P$54+Conf3!$P$55>List!S206,List!S206+1,\"\")","v":""},{"$f":"IF(Conf3!$P$54>List!T206,List!T206+1,\"\")","v":""},{"$f":"IF(Conf4!$P$55>List!U206,List!U206+1,\"\")","v":""},{"$f":"IF(Conf4!$P$54+Conf4!$P$55>List!V206,List!V206+1,\"\")","v":""},{"$f":"IF(Conf4!$P$54>List!W206,List!W206+1,\"\")","v":""},null,null,null,null,null,null,{"$f":"IF(Conf5!$P$55>List!AD206,List!AD206+1,\"\")","v":""},{"$f":"IF(Conf5!$P$54+Conf5!$P$55>List!AE206,List!AE206+1,\"\")","v":""},{"$f":"IF(Conf5!$P$54>List!AF206,List!AF206+1,\"\")","v":""},{"$f":"IF(Conf6!$P$55>List!AG206,List!AG206+1,\"\")","v":""},{"$f":"IF(Conf6!$P$54+Conf6!$P$55>List!AH206,List!AH206+1,\"\")","v":""},{"$f":"IF(Conf6!$P$54>List!AI206,List!AI206+1,\"\")","v":""},{"$f":"IF(Conf7!$P$55>List!AJ206,List!AJ206+1,\"\")","v":""},{"$f":"IF(Conf7!$P$54+Conf7!$P$55>List!AK206,List!AK206+1,\"\")","v":""},{"$f":"IF(Conf7!$P$54>List!AL206,List!AL206+1,\"\")","v":""},{"$f":"IF(Conf8!$P$55>List!AM206,List!AM206+1,\"\")","v":""},{"$f":"IF(Conf8!$P$54+Conf8!$P$55>List!AN206,List!AN206+1,\"\")","v":""},{"$f":"IF(Conf8!$P$54>List!AO206,List!AO206+1,\"\")","v":""},{"$f":"IF(Conf9!$P$55>List!AP206,List!AP206+1,\"\")","v":""},{"$f":"IF(Conf9!$P$54+Conf9!$P$55>List!AQ206,List!AQ206+1,\"\")","v":""},{"$f":"IF(Conf9!$P$54>List!AR206,List!AR206+1,\"\")","v":""},{"$f":"IF(Conf10!$P$55>List!AS206,List!AS206+1,\"\")","v":""},{"$f":"IF(Conf10!$P$54+Conf10!$P$55>List!AT206,List!AT206+1,\"\")","v":""},{"$f":"IF(Conf10!$P$54>List!AU206,List!AU206+1,\"\")","v":""}]
[null,null,null,null,null,null,null,null,null,null,null,{"$f":"IF(Configurator!$P$55>List!L207,List!L207+1,\"\")","v":""},{"$f":"IF(Configurator!$P$54+Configurator!$P$55>List!M207,List!M207+1,\"\")","v":""},{"$f":"IF(Configurator!$P$54>List!N207,List!N207+1,\"\")","v":""},{"$f":"IF(Conf2!$P$55>List!O207,List!O207+1,\"\")","v":""},{"$f":"IF(Conf2!$P$54+Conf2!$P$55>List!P207,List!P207+1,\"\")","v":""},{"$f":"IF(Conf2!$P$54>List!Q207,List!Q207+1,\"\")","v":""},{"$f":"IF(Conf3!$P$55>List!R207,List!R207+1,\"\")","v":""},{"$f":"IF(Conf3!$P$54+Conf3!$P$55>List!S207,List!S207+1,\"\")","v":""},{"$f":"IF(Conf3!$P$54>List!T207,List!T207+1,\"\")","v":""},{"$f":"IF(Conf4!$P$55>List!U207,List!U207+1,\"\")","v":""},{"$f":"IF(Conf4!$P$54+Conf4!$P$55>List!V207,List!V207+1,\"\")","v":""},{"$f":"IF(Conf4!$P$54>List!W207,List!W207+1,\"\")","v":""},null,null,null,null,null,null,{"$f":"IF(Conf5!$P$55>List!AD207,List!AD207+1,\"\")","v":""},{"$f":"IF(Conf5!$P$54+Conf5!$P$55>List!AE207,List!AE207+1,\"\")","v":""},{"$f":"IF(Conf5!$P$54>List!AF207,List!AF207+1,\"\")","v":""},{"$f":"IF(Conf6!$P$55>List!AG207,List!AG207+1,\"\")","v":""},{"$f":"IF(Conf6!$P$54+Conf6!$P$55>List!AH207,List!AH207+1,\"\")","v":""},{"$f":"IF(Conf6!$P$54>List!AI207,List!AI207+1,\"\")","v":""},{"$f":"IF(Conf7!$P$55>List!AJ207,List!AJ207+1,\"\")","v":""},{"$f":"IF(Conf7!$P$54+Conf7!$P$55>List!AK207,List!AK207+1,\"\")","v":""},{"$f":"IF(Conf7!$P$54>List!AL207,List!AL207+1,\"\")","v":""},{"$f":"IF(Conf8!$P$55>List!AM207,List!AM207+1,\"\")","v":""},{"$f":"IF(Conf8!$P$54+Conf8!$P$55>List!AN207,List!AN207+1,\"\")","v":""},{"$f":"IF(Conf8!$P$54>List!AO207,List!AO207+1,\"\")","v":""},{"$f":"IF(Conf9!$P$55>List!AP207,List!AP207+1,\"\")","v":""},{"$f":"IF(Conf9!$P$54+Conf9!$P$55>List!AQ207,List!AQ207+1,\"\")","v":""},{"$f":"IF(Conf9!$P$54>List!AR207,List!AR207+1,\"\")","v":""},{"$f":"IF(Conf10!$P$55>List!AS207,List!AS207+1,\"\")","v":""},{"$f":"IF(Conf10!$P$54+Conf10!$P$55>List!AT207,List!AT207+1,\"\")","v":""},{"$f":"IF(Conf10!$P$54>List!AU207,List!AU207+1,\"\")","v":""}]
[null,null,null,null,null,null,null,null,null,null,null,{"$f":"IF(Configurator!$P$55>List!L208,List!L208+1,\"\")","v":""},{"$f":"IF(Configurator!$P$54+Configurator!$P$55>List!M208,List!M208+1,\"\")","v":""},{"$f":"IF(Configurator!$P$54>List!N208,List!N208+1,\"\")","v":""},{"$f":"IF(Conf2!$P$55>List!O208,List!O208+1,\"\")","v":""},{"$f":"IF(Conf2!$P$54+Conf2!$P$55>List!P208,List!P208+1,\"\")","v":""},{"$f":"IF(Conf2!$P$54>List!Q208,List!Q208+1,\"\")","v":""},{"$f":"IF(Conf3!$P$55>List!R208,List!R208+1,\"\")","v":""},{"$f":"IF(Conf3!$P$54+Conf3!$P$55>List!S208,List!S208+1,\"\")","v":""},{"$f":"IF(Conf3!$P$54>List!T208,List!T208+1,\"\")","v":""},{"$f":"IF(Conf4!$P$55>List!U208,List!U208+1,\"\")","v":""},{"$f":"IF(Conf4!$P$54+Conf4!$P$55>List!V208,List!V208+1,\"\")","v":""},{"$f":"IF(Conf4!$P$54>List!W208,List!W208+1,\"\")","v":""},null,null,null,null,null,null,{"$f":"IF(Conf5!$P$55>List!AD208,List!AD208+1,\"\")","v":""},{"$f":"IF(Conf5!$P$54+Conf5!$P$55>List!AE208,List!AE208+1,\"\")","v":""},{"$f":"IF(Conf5!$P$54>List!AF208,List!AF208+1,\"\")","v":""},{"$f":"IF(Conf6!$P$55>List!AG208,List!AG208+1,\"\")","v":""},{"$f":"IF(Conf6!$P$54+Conf6!$P$55>List!AH208,List!AH208+1,\"\")","v":""},{"$f":"IF(Conf6!$P$54>List!AI208,List!AI208+1,\"\")","v":""},{"$f":"IF(Conf7!$P$55>List!AJ208,List!AJ208+1,\"\")","v":""},{"$f":"IF(Conf7!$P$54+Conf7!$P$55>List!AK208,List!AK208+1,\"\")","v":""},{"$f":"IF(Conf7!$P$54>List!AL208,List!AL208+1,\"\")","v":""},{"$f":"IF(Conf8!$P$55>List!AM208,List!AM208+1,\"\")","v":""},{"$f":"IF(Conf8!$P$54+Conf8!$P$55>List!AN208,List!AN208+1,\"\")","v":""},{"$f":"IF(Conf8!$P$54>List!AO208,List!AO208+1,\"\")","v":""},{"$f":"IF(Conf9!$P$55>List!AP208,List!AP208+1,\"\")","v":""},{"$f":"IF(Conf9!$P$54+Conf9!$P$55>List!AQ208,List!AQ208+1,\"\")","v":""},{"$f":"IF(Conf9!$P$54>List!AR208,List!AR208+1,\"\")","v":""},{"$f":"IF(Conf10!$P$55>List!AS208,List!AS208+1,\"\")","v":""},{"$f":"IF(Conf10!$P$54+Conf10!$P$55>List!AT208,List!AT208+1,\"\")","v":""},{"$f":"IF(Conf10!$P$54>List!AU208,List!AU208+1,\"\")","v":""}]
[null,null,null,null,null,null,null,null,null,null,null,{"$f":"IF(Configurator!$P$55>List!L209,List!L209+1,\"\")","v":""},{"$f":"IF(Configurator!$P$54+Configurator!$P$55>List!M209,List!M209+1,\"\")","v":""},{"$f":"IF(Configurator!$P$54>List!N209,List!N209+1,\"\")","v":""},{"$f":"IF(Conf2!$P$55>List!O209,List!O209+1,\"\")","v":""},{"$f":"IF(Conf2!$P$54+Conf2!$P$55>List!P209,List!P209+1,\"\")","v":""},{"$f":"IF(Conf2!$P$54>List!Q209,List!Q209+1,\"\")","v":""},{"$f":"IF(Conf3!$P$55>List!R209,List!R209+1,\"\")","v":""},{"$f":"IF(Conf3!$P$54+Conf3!$P$55>List!S209,List!S209+1,\"\")","v":""},{"$f":"IF(Conf3!$P$54>List!T209,List!T209+1,\"\")","v":""},{"$f":"IF(Conf4!$P$55>List!U209,List!U209+1,\"\")","v":""},{"$f":"IF(Conf4!$P$54+Conf4!$P$55>List!V209,List!V209+1,\"\")","v":""},{"$f":"IF(Conf4!$P$54>List!W209,List!W209+1,\"\")","v":""},null,null,null,null,null,null,{"$f":"IF(Conf5!$P$55>List!AD209,List!AD209+1,\"\")","v":""},{"$f":"IF(Conf5!$P$54+Conf5!$P$55>List!AE209,List!AE209+1,\"\")","v":""},{"$f":"IF(Conf5!$P$54>List!AF209,List!AF209+1,\"\")","v":""},{"$f":"IF(Conf6!$P$55>List!AG209,List!AG209+1,\"\")","v":""},{"$f":"IF(Conf6!$P$54+Conf6!$P$55>List!AH209,List!AH209+1,\"\")","v":""},{"$f":"IF(Conf6!$P$54>List!AI209,List!AI209+1,\"\")","v":""},{"$f":"IF(Conf7!$P$55>List!AJ209,List!AJ209+1,\"\")","v":""},{"$f":"IF(Conf7!$P$54+Conf7!$P$55>List!AK209,List!AK209+1,\"\")","v":""},{"$f":"IF(Conf7!$P$54>List!AL209,List!AL209+1,\"\")","v":""},{"$f":"IF(Conf8!$P$55>List!AM209,List!AM209+1,\"\")","v":""},{"$f":"IF(Conf8!$P$54+Conf8!$P$55>List!AN209,List!AN209+1,\"\")","v":""},{"$f":"IF(Conf8!$P$54>List!AO209,List!AO209+1,\"\")","v":""},{"$f":"IF(Conf9!$P$55>List!AP209,List!AP209+1,\"\")","v":""},{"$f":"IF(Conf9!$P$54+Conf9!$P$55>List!AQ209,List!AQ209+1,\"\")","v":""},{"$f":"IF(Conf9!$P$54>List!AR209,List!AR209+1,\"\")","v":""},{"$f":"IF(Conf10!$P$55>List!AS209,List!AS209+1,\"\")","v":""},{"$f":"IF(Conf10!$P$54+Conf10!$P$55>List!AT209,List!AT209+1,\"\")","v":""},{"$f":"IF(Conf10!$P$54>List!AU209,List!AU209+1,\"\")","v":""}]
[null,null,null,null,null,null,null,null,null,null,null,{"$f":"IF(Configurator!$P$55>List!L210,List!L210+1,\"\")","v":""},{"$f":"IF(Configurator!$P$54+Configurator!$P$55>List!M210,List!M210+1,\"\")","v":""},{"$f":"IF(Configurator!$P$54>List!N210,List!N210+1,\"\")","v":""},{"$f":"IF(Conf2!$P$55>List!O210,List!O210+1,\"\")","v":""},{"$f":"IF(Conf2!$P$54+Conf2!$P$55>List!P210,List!P210+1,\"\")","v":""},{"$f":"IF(Conf2!$P$54>List!Q210,List!Q210+1,\"\")","v":""},{"$f":"IF(Conf3!$P$55>List!R210,List!R210+1,\"\")","v":""},{"$f":"IF(Conf3!$P$54+Conf3!$P$55>List!S210,List!S210+1,\"\")","v":""},{"$f":"IF(Conf3!$P$54>List!T210,List!T210+1,\"\")","v":""},{"$f":"IF(Conf4!$P$55>List!U210,List!U210+1,\"\")","v":""},{"$f":"IF(Conf4!$P$54+Conf4!$P$55>List!V210,List!V210+1,\"\")","v":""},{"$f":"IF(Conf4!$P$54>List!W210,List!W210+1,\"\")","v":""},null,null,null,null,null,null,{"$f":"IF(Conf5!$P$55>List!AD210,List!AD210+1,\"\")","v":""},{"$f":"IF(Conf5!$P$54+Conf5!$P$55>List!AE210,List!AE210+1,\"\")","v":""},{"$f":"IF(Conf5!$P$54>List!AF210,List!AF210+1,\"\")","v":""},{"$f":"IF(Conf6!$P$55>List!AG210,List!AG210+1,\"\")","v":""},{"$f":"IF(Conf6!$P$54+Conf6!$P$55>List!AH210,List!AH210+1,\"\")","v":""},{"$f":"IF(Conf6!$P$54>List!AI210,List!AI210+1,\"\")","v":""},{"$f":"IF(Conf7!$P$55>List!AJ210,List!AJ210+1,\"\")","v":""},{"$f":"IF(Conf7!$P$54+Conf7!$P$55>List!AK210,List!AK210+1,\"\")","v":""},{"$f":"IF(Conf7!$P$54>List!AL210,List!AL210+1,\"\")","v":""},{"$f":"IF(Conf8!$P$55>List!AM210,List!AM210+1,\"\")","v":""},{"$f":"IF(Conf8!$P$54+Conf8!$P$55>List!AN210,List!AN210+1,\"\")","v":""},{"$f":"IF(Conf8!$P$54>List!AO210,List!AO210+1,\"\")","v":""},{"$f":"IF(Conf9!$P$55>List!AP210,List!AP210+1,\"\")","v":""},{"$f":"IF(Conf9!$P$54+Conf9!$P$55>List!AQ210,List!AQ210+1,\"\")","v":""},{"$f":"IF(Conf9!$P$54>List!AR210,List!AR210+1,\"\")","v":""},{"$f":"IF(Conf10!$P$55>List!AS210,List!AS210+1,\"\")","v":""},{"$f":"IF(Conf10!$P$54+Conf10!$P$55>List!AT210,List!AT210+1,\"\")","v":""},{"$f":"IF(Conf10!$P$54>List!AU210,List!AU210+1,\"\")","v":""}]
[null,null,null,null,null,null,null,null,null,null,null,{"$f":"IF(Configurator!$P$55>List!L211,List!L211+1,\"\")","v":""},{"$f":"IF(Configurator!$P$54+Configurator!$P$55>List!M211,List!M211+1,\"\")","v":""},{"$f":"IF(Configurator!$P$54>List!N211,List!N211+1,\"\")","v":""},{"$f":"IF(Conf2!$P$55>List!O211,List!O211+1,\"\")","v":""},{"$f":"IF(Conf2!$P$54+Conf2!$P$55>List!P211,List!P211+1,\"\")","v":""},{"$f":"IF(Conf2!$P$54>List!Q211,List!Q211+1,\"\")","v":""},{"$f":"IF(Conf3!$P$55>List!R211,List!R211+1,\"\")","v":""},{"$f":"IF(Conf3!$P$54+Conf3!$P$55>List!S211,List!S211+1,\"\")","v":""},{"$f":"IF(Conf3!$P$54>List!T211,List!T211+1,\"\")","v":""},{"$f":"IF(Conf4!$P$55>List!U211,List!U211+1,\"\")","v":""},{"$f":"IF(Conf4!$P$54+Conf4!$P$55>List!V211,List!V211+1,\"\")","v":""},{"$f":"IF(Conf4!$P$54>List!W211,List!W211+1,\"\")","v":""},null,null,null,null,null,null,{"$f":"IF(Conf5!$P$55>List!AD211,List!AD211+1,\"\")","v":""},{"$f":"IF(Conf5!$P$54+Conf5!$P$55>List!AE211,List!AE211+1,\"\")","v":""},{"$f":"IF(Conf5!$P$54>List!AF211,List!AF211+1,\"\")","v":""},{"$f":"IF(Conf6!$P$55>List!AG211,List!AG211+1,\"\")","v":""},{"$f":"IF(Conf6!$P$54+Conf6!$P$55>List!AH211,List!AH211+1,\"\")","v":""},{"$f":"IF(Conf6!$P$54>List!AI211,List!AI211+1,\"\")","v":""},{"$f":"IF(Conf7!$P$55>List!AJ211,List!AJ211+1,\"\")","v":""},{"$f":"IF(Conf7!$P$54+Conf7!$P$55>List!AK211,List!AK211+1,\"\")","v":""},{"$f":"IF(Conf7!$P$54>List!AL211,List!AL211+1,\"\")","v":""},{"$f":"IF(Conf8!$P$55>List!AM211,List!AM211+1,\"\")","v":""},{"$f":"IF(Conf8!$P$54+Conf8!$P$55>List!AN211,List!AN211+1,\"\")","v":""},{"$f":"IF(Conf8!$P$54>List!AO211,List!AO211+1,\"\")","v":""},{"$f":"IF(Conf9!$P$55>List!AP211,List!AP211+1,\"\")","v":""},{"$f":"IF(Conf9!$P$54+Conf9!$P$55>List!AQ211,List!AQ211+1,\"\")","v":""},{"$f":"IF(Conf9!$P$54>List!AR211,List!AR211+1,\"\")","v":""},{"$f":"IF(Conf10!$P$55>List!AS211,List!AS211+1,\"\")","v":""},{"$f":"IF(Conf10!$P$54+Conf10!$P$55>List!AT211,List!AT211+1,\"\")","v":""},{"$f":"IF(Conf10!$P$54>List!AU211,List!AU211+1,\"\")","v":""}]
[null,null,null,null,null,null,null,null,null,null,null,{"$f":"IF(Configurator!$P$55>List!L212,List!L212+1,\"\")","v":""},{"$f":"IF(Configurator!$P$54+Configurator!$P$55>List!M212,List!M212+1,\"\")","v":""},{"$f":"IF(Configurator!$P$54>List!N212,List!N212+1,\"\")","v":""},{"$f":"IF(Conf2!$P$55>List!O212,List!O212+1,\"\")","v":""},{"$f":"IF(Conf2!$P$54+Conf2!$P$55>List!P212,List!P212+1,\"\")","v":""},{"$f":"IF(Conf2!$P$54>List!Q212,List!Q212+1,\"\")","v":""},{"$f":"IF(Conf3!$P$55>List!R212,List!R212+1,\"\")","v":""},{"$f":"IF(Conf3!$P$54+Conf3!$P$55>List!S212,List!S212+1,\"\")","v":""},{"$f":"IF(Conf3!$P$54>List!T212,List!T212+1,\"\")","v":""},{"$f":"IF(Conf4!$P$55>List!U212,List!U212+1,\"\")","v":""},{"$f":"IF(Conf4!$P$54+Conf4!$P$55>List!V212,List!V212+1,\"\")","v":""},{"$f":"IF(Conf4!$P$54>List!W212,List!W212+1,\"\")","v":""},null,null,null,null,null,null,{"$f":"IF(Conf5!$P$55>List!AD212,List!AD212+1,\"\")","v":""},{"$f":"IF(Conf5!$P$54+Conf5!$P$55>List!AE212,List!AE212+1,\"\")","v":""},{"$f":"IF(Conf5!$P$54>List!AF212,List!AF212+1,\"\")","v":""},{"$f":"IF(Conf6!$P$55>List!AG212,List!AG212+1,\"\")","v":""},{"$f":"IF(Conf6!$P$54+Conf6!$P$55>List!AH212,List!AH212+1,\"\")","v":""},{"$f":"IF(Conf6!$P$54>List!AI212,List!AI212+1,\"\")","v":""},{"$f":"IF(Conf7!$P$55>List!AJ212,List!AJ212+1,\"\")","v":""},{"$f":"IF(Conf7!$P$54+Conf7!$P$55>List!AK212,List!AK212+1,\"\")","v":""},{"$f":"IF(Conf7!$P$54>List!AL212,List!AL212+1,\"\")","v":""},{"$f":"IF(Conf8!$P$55>List!AM212,List!AM212+1,\"\")","v":""},{"$f":"IF(Conf8!$P$54+Conf8!$P$55>List!AN212,List!AN212+1,\"\")","v":""},{"$f":"IF(Conf8!$P$54>List!AO212,List!AO212+1,\"\")","v":""},{"$f":"IF(Conf9!$P$55>List!AP212,List!AP212+1,\"\")","v":""},{"$f":"IF(Conf9!$P$54+Conf9!$P$55>List!AQ212,List!AQ212+1,\"\")","v":""},{"$f":"IF(Conf9!$P$54>List!AR212,List!AR212+1,\"\")","v":""},{"$f":"IF(Conf10!$P$55>List!AS212,List!AS212+1,\"\")","v":""},{"$f":"IF(Conf10!$P$54+Conf10!$P$55>List!AT212,List!AT212+1,\"\")","v":""},{"$f":"IF(Conf10!$P$54>List!AU212,List!AU212+1,\"\")","v":""}]
[null,null,null,null,null,null,null,null,null,null,null,{"$f":"IF(Configurator!$P$55>List!L213,List!L213+1,\"\")","v":""},{"$f":"IF(Configurator!$P$54+Configurator!$P$55>List!M213,List!M213+1,\"\")","v":""},{"$f":"IF(Configurator!$P$54>List!N213,List!N213+1,\"\")","v":""},{"$f":"IF(Conf2!$P$55>List!O213,List!O213+1,\"\")","v":""},{"$f":"IF(Conf2!$P$54+Conf2!$P$55>List!P213,List!P213+1,\"\")","v":""},{"$f":"IF(Conf2!$P$54>List!Q213,List!Q213+1,\"\")","v":""},{"$f":"IF(Conf3!$P$55>List!R213,List!R213+1,\"\")","v":""},{"$f":"IF(Conf3!$P$54+Conf3!$P$55>List!S213,List!S213+1,\"\")","v":""},{"$f":"IF(Conf3!$P$54>List!T213,List!T213+1,\"\")","v":""},{"$f":"IF(Conf4!$P$55>List!U213,List!U213+1,\"\")","v":""},{"$f":"IF(Conf4!$P$54+Conf4!$P$55>List!V213,List!V213+1,\"\")","v":""},{"$f":"IF(Conf4!$P$54>List!W213,List!W213+1,\"\")","v":""},null,null,null,null,null,null,{"$f":"IF(Conf5!$P$55>List!AD213,List!AD213+1,\"\")","v":""},{"$f":"IF(Conf5!$P$54+Conf5!$P$55>List!AE213,List!AE213+1,\"\")","v":""},{"$f":"IF(Conf5!$P$54>List!AF213,List!AF213+1,\"\")","v":""},{"$f":"IF(Conf6!$P$55>List!AG213,List!AG213+1,\"\")","v":""},{"$f":"IF(Conf6!$P$54+Conf6!$P$55>List!AH213,List!AH213+1,\"\")","v":""},{"$f":"IF(Conf6!$P$54>List!AI213,List!AI213+1,\"\")","v":""},{"$f":"IF(Conf7!$P$55>List!AJ213,List!AJ213+1,\"\")","v":""},{"$f":"IF(Conf7!$P$54+Conf7!$P$55>List!AK213,List!AK213+1,\"\")","v":""},{"$f":"IF(Conf7!$P$54>List!AL213,List!AL213+1,\"\")","v":""},{"$f":"IF(Conf8!$P$55>List!AM213,List!AM213+1,\"\")","v":""},{"$f":"IF(Conf8!$P$54+Conf8!$P$55>List!AN213,List!AN213+1,\"\")","v":""},{"$f":"IF(Conf8!$P$54>List!AO213,List!AO213+1,\"\")","v":""},{"$f":"IF(Conf9!$P$55>List!AP213,List!AP213+1,\"\")","v":""},{"$f":"IF(Conf9!$P$54+Conf9!$P$55>List!AQ213,List!AQ213+1,\"\")","v":""},{"$f":"IF(Conf9!$P$54>List!AR213,List!AR213+1,\"\")","v":""},{"$f":"IF(Conf10!$P$55>List!AS213,List!AS213+1,\"\")","v":""},{"$f":"IF(Conf10!$P$54+Conf10!$P$55>List!AT213,List!AT213+1,\"\")","v":""},{"$f":"IF(Conf10!$P$54>List!AU213,List!AU213+1,\"\")","v":""}]
[null,null,null,null,null,null,null,null,null,null,null,{"$f":"IF(Configurator!$P$55>List!L214,List!L214+1,\"\")","v":""},{"$f":"IF(Configurator!$P$54+Configurator!$P$55>List!M214,List!M214+1,\"\")","v":""},{"$f":"IF(Configurator!$P$54>List!N214,List!N214+1,\"\")","v":""},{"$f":"IF(Conf2!$P$55>List!O214,List!O214+1,\"\")","v":""},{"$f":"IF(Conf2!$P$54+Conf2!$P$55>List!P214,List!P214+1,\"\")","v":""},{"$f":"IF(Conf2!$P$54>List!Q214,List!Q214+1,\"\")","v":""},{"$f":"IF(Conf3!$P$55>List!R214,List!R214+1,\"\")","v":""},{"$f":"IF(Conf3!$P$54+Conf3!$P$55>List!S214,List!S214+1,\"\")","v":""},{"$f":"IF(Conf3!$P$54>List!T214,List!T214+1,\"\")","v":""},{"$f":"IF(Conf4!$P$55>List!U214,List!U214+1,\"\")","v":""},{"$f":"IF(Conf4!$P$54+Conf4!$P$55>List!V214,List!V214+1,\"\")","v":""},{"$f":"IF(Conf4!$P$54>List!W214,List!W214+1,\"\")","v":""},null,null,null,null,null,null,{"$f":"IF(Conf5!$P$55>List!AD214,List!AD214+1,\"\")","v":""},{"$f":"IF(Conf5!$P$54+Conf5!$P$55>List!AE214,List!AE214+1,\"\")","v":""},{"$f":"IF(Conf5!$P$54>List!AF214,List!AF214+1,\"\")","v":""},{"$f":"IF(Conf6!$P$55>List!AG214,List!AG214+1,\"\")","v":""},{"$f":"IF(Conf6!$P$54+Conf6!$P$55>List!AH214,List!AH214+1,\"\")","v":""},{"$f":"IF(Conf6!$P$54>List!AI214,List!AI214+1,\"\")","v":""},{"$f":"IF(Conf7!$P$55>List!AJ214,List!AJ214+1,\"\")","v":""},{"$f":"IF(Conf7!$P$54+Conf7!$P$55>List!AK214,List!AK214+1,\"\")","v":""},{"$f":"IF(Conf7!$P$54>List!AL214,List!AL214+1,\"\")","v":""},{"$f":"IF(Conf8!$P$55>List!AM214,List!AM214+1,\"\")","v":""},{"$f":"IF(Conf8!$P$54+Conf8!$P$55>List!AN214,List!AN214+1,\"\")","v":""},{"$f":"IF(Conf8!$P$54>List!AO214,List!AO214+1,\"\")","v":""},{"$f":"IF(Conf9!$P$55>List!AP214,List!AP214+1,\"\")","v":""},{"$f":"IF(Conf9!$P$54+Conf9!$P$55>List!AQ214,List!AQ214+1,\"\")","v":""},{"$f":"IF(Conf9!$P$54>List!AR214,List!AR214+1,\"\")","v":""},{"$f":"IF(Conf10!$P$55>List!AS214,List!AS214+1,\"\")","v":""},{"$f":"IF(Conf10!$P$54+Conf10!$P$55>List!AT214,List!AT214+1,\"\")","v":""},{"$f":"IF(Conf10!$P$54>List!AU214,List!AU214+1,\"\")","v":""}]
[null,null,null,null,null,null,null,null,null,null,null,{"$f":"IF(Configurator!$P$55>List!L215,List!L215+1,\"\")","v":""},{"$f":"IF(Configurator!$P$54+Configurator!$P$55>List!M215,List!M215+1,\"\")","v":""},{"$f":"IF(Configurator!$P$54>List!N215,List!N215+1,\"\")","v":""},{"$f":"IF(Conf2!$P$55>List!O215,List!O215+1,\"\")","v":""},{"$f":"IF(Conf2!$P$54+Conf2!$P$55>List!P215,List!P215+1,\"\")","v":""},{"$f":"IF(Conf2!$P$54>List!Q215,List!Q215+1,\"\")","v":""},{"$f":"IF(Conf3!$P$55>List!R215,List!R215+1,\"\")","v":""},{"$f":"IF(Conf3!$P$54+Conf3!$P$55>List!S215,List!S215+1,\"\")","v":""},{"$f":"IF(Conf3!$P$54>List!T215,List!T215+1,\"\")","v":""},{"$f":"IF(Conf4!$P$55>List!U215,List!U215+1,\"\")","v":""},{"$f":"IF(Conf4!$P$54+Conf4!$P$55>List!V215,List!V215+1,\"\")","v":""},{"$f":"IF(Conf4!$P$54>List!W215,List!W215+1,\"\")","v":""},null,null,null,null,null,null,{"$f":"IF(Conf5!$P$55>List!AD215,List!AD215+1,\"\")","v":""},{"$f":"IF(Conf5!$P$54+Conf5!$P$55>List!AE215,List!AE215+1,\"\")","v":""},{"$f":"IF(Conf5!$P$54>List!AF215,List!AF215+1,\"\")","v":""},{"$f":"IF(Conf6!$P$55>List!AG215,List!AG215+1,\"\")","v":""},{"$f":"IF(Conf6!$P$54+Conf6!$P$55>List!AH215,List!AH215+1,\"\")","v":""},{"$f":"IF(Conf6!$P$54>List!AI215,List!AI215+1,\"\")","v":""},{"$f":"IF(Conf7!$P$55>List!AJ215,List!AJ215+1,\"\")","v":""},{"$f":"IF(Conf7!$P$54+Conf7!$P$55>List!AK215,List!AK215+1,\"\")","v":""},{"$f":"IF(Conf7!$P$54>List!AL215,List!AL215+1,\"\")","v":""},{"$f":"IF(Conf8!$P$55>List!AM215,List!AM215+1,\"\")","v":""},{"$f":"IF(Conf8!$P$54+Conf8!$P$55>List!AN215,List!AN215+1,\"\")","v":""},{"$f":"IF(Conf8!$P$54>List!AO215,List!AO215+1,\"\")","v":""},{"$f":"IF(Conf9!$P$55>List!AP215,List!AP215+1,\"\")","v":""},{"$f":"IF(Conf9!$P$54+Conf9!$P$55>List!AQ215,List!AQ215+1,\"\")","v":""},{"$f":"IF(Conf9!$P$54>List!AR215,List!AR215+1,\"\")","v":""},{"$f":"IF(Conf10!$P$55>List!AS215,List!AS215+1,\"\")","v":""},{"$f":"IF(Conf10!$P$54+Conf10!$P$55>List!AT215,List!AT215+1,\"\")","v":""},{"$f":"IF(Conf10!$P$54>List!AU215,List!AU215+1,\"\")","v":""}]
[null,null,null,null,null,null,null,null,null,null,null,{"$f":"IF(Configurator!$P$55>List!L216,List!L216+1,\"\")","v":""},{"$f":"IF(Configurator!$P$54+Configurator!$P$55>List!M216,List!M216+1,\"\")","v":""},{"$f":"IF(Configurator!$P$54>List!N216,List!N216+1,\"\")","v":""},{"$f":"IF(Conf2!$P$55>List!O216,List!O216+1,\"\")","v":""},{"$f":"IF(Conf2!$P$54+Conf2!$P$55>List!P216,List!P216+1,\"\")","v":""},{"$f":"IF(Conf2!$P$54>List!Q216,List!Q216+1,\"\")","v":""},{"$f":"IF(Conf3!$P$55>List!R216,List!R216+1,\"\")","v":""},{"$f":"IF(Conf3!$P$54+Conf3!$P$55>List!S216,List!S216+1,\"\")","v":""},{"$f":"IF(Conf3!$P$54>List!T216,List!T216+1,\"\")","v":""},{"$f":"IF(Conf4!$P$55>List!U216,List!U216+1,\"\")","v":""},{"$f":"IF(Conf4!$P$54+Conf4!$P$55>List!V216,List!V216+1,\"\")","v":""},{"$f":"IF(Conf4!$P$54>List!W216,List!W216+1,\"\")","v":""},null,null,null,null,null,null,{"$f":"IF(Conf5!$P$55>List!AD216,List!AD216+1,\"\")","v":""},{"$f":"IF(Conf5!$P$54+Conf5!$P$55>List!AE216,List!AE216+1,\"\")","v":""},{"$f":"IF(Conf5!$P$54>List!AF216,List!AF216+1,\"\")","v":""},{"$f":"IF(Conf6!$P$55>List!AG216,List!AG216+1,\"\")","v":""},{"$f":"IF(Conf6!$P$54+Conf6!$P$55>List!AH216,List!AH216+1,\"\")","v":""},{"$f":"IF(Conf6!$P$54>List!AI216,List!AI216+1,\"\")","v":""},{"$f":"IF(Conf7!$P$55>List!AJ216,List!AJ216+1,\"\")","v":""},{"$f":"IF(Conf7!$P$54+Conf7!$P$55>List!AK216,List!AK216+1,\"\")","v":""},{"$f":"IF(Conf7!$P$54>List!AL216,List!AL216+1,\"\")","v":""},{"$f":"IF(Conf8!$P$55>List!AM216,List!AM216+1,\"\")","v":""},{"$f":"IF(Conf8!$P$54+Conf8!$P$55>List!AN216,List!AN216+1,\"\")","v":""},{"$f":"IF(Conf8!$P$54>List!AO216,List!AO216+1,\"\")","v":""},{"$f":"IF(Conf9!$P$55>List!AP216,List!AP216+1,\"\")","v":""},{"$f":"IF(Conf9!$P$54+Conf9!$P$55>List!AQ216,List!AQ216+1,\"\")","v":""},{"$f":"IF(Conf9!$P$54>List!AR216,List!AR216+1,\"\")","v":""},{"$f":"IF(Conf10!$P$55>List!AS216,List!AS216+1,\"\")","v":""},{"$f":"IF(Conf10!$P$54+Conf10!$P$55>List!AT216,List!AT216+1,\"\")","v":""},{"$f":"IF(Conf10!$P$54>List!AU216,List!AU216+1,\"\")","v":""}]
[null,null,null,null,null,null,null,null,null,null,null,{"$f":"IF(Configurator!$P$55>List!L217,List!L217+1,\"\")","v":""},{"$f":"IF(Configurator!$P$54+Configurator!$P$55>List!M217,List!M217+1,\"\")","v":""},{"$f":"IF(Configurator!$P$54>List!N217,List!N217+1,\"\")","v":""},{"$f":"IF(Conf2!$P$55>List!O217,List!O217+1,\"\")","v":""},{"$f":"IF(Conf2!$P$54+Conf2!$P$55>List!P217,List!P217+1,\"\")","v":""},{"$f":"IF(Conf2!$P$54>List!Q217,List!Q217+1,\"\")","v":""},{"$f":"IF(Conf3!$P$55>List!R217,List!R217+1,\"\")","v":""},{"$f":"IF(Conf3!$P$54+Conf3!$P$55>List!S217,List!S217+1,\"\")","v":""},{"$f":"IF(Conf3!$P$54>List!T217,List!T217+1,\"\")","v":""},{"$f":"IF(Conf4!$P$55>List!U217,List!U217+1,\"\")","v":""},{"$f":"IF(Conf4!$P$54+Conf4!$P$55>List!V217,List!V217+1,\"\")","v":""},{"$f":"IF(Conf4!$P$54>List!W217,List!W217+1,\"\")","v":""},null,null,null,null,null,null,{"$f":"IF(Conf5!$P$55>List!AD217,List!AD217+1,\"\")","v":""},{"$f":"IF(Conf5!$P$54+Conf5!$P$55>List!AE217,List!AE217+1,\"\")","v":""},{"$f":"IF(Conf5!$P$54>List!AF217,List!AF217+1,\"\")","v":""},{"$f":"IF(Conf6!$P$55>List!AG217,List!AG217+1,\"\")","v":""},{"$f":"IF(Conf6!$P$54+Conf6!$P$55>List!AH217,List!AH217+1,\"\")","v":""},{"$f":"IF(Conf6!$P$54>List!AI217,List!AI217+1,\"\")","v":""},{"$f":"IF(Conf7!$P$55>List!AJ217,List!AJ217+1,\"\")","v":""},{"$f":"IF(Conf7!$P$54+Conf7!$P$55>List!AK217,List!AK217+1,\"\")","v":""},{"$f":"IF(Conf7!$P$54>List!AL217,List!AL217+1,\"\")","v":""},{"$f":"IF(Conf8!$P$55>List!AM217,List!AM217+1,\"\")","v":""},{"$f":"IF(Conf8!$P$54+Conf8!$P$55>List!AN217,List!AN217+1,\"\")","v":""},{"$f":"IF(Conf8!$P$54>List!AO217,List!AO217+1,\"\")","v":""},{"$f":"IF(Conf9!$P$55>List!AP217,List!AP217+1,\"\")","v":""},{"$f":"IF(Conf9!$P$54+Conf9!$P$55>List!AQ217,List!AQ217+1,\"\")","v":""},{"$f":"IF(Conf9!$P$54>List!AR217,List!AR217+1,\"\")","v":""},{"$f":"IF(Conf10!$P$55>List!AS217,List!AS217+1,\"\")","v":""},{"$f":"IF(Conf10!$P$54+Conf10!$P$55>List!AT217,List!AT217+1,\"\")","v":""},{"$f":"IF(Conf10!$P$54>List!AU217,List!AU217+1,\"\")","v":""}]
[null,null,null,null,null,null,null,null,null,null,null,{"$f":"IF(Configurator!$P$55>List!L218,List!L218+1,\"\")","v":""},{"$f":"IF(Configurator!$P$54+Configurator!$P$55>List!M218,List!M218+1,\"\")","v":""},{"$f":"IF(Configurator!$P$54>List!N218,List!N218+1,\"\")","v":""},{"$f":"IF(Conf2!$P$55>List!O218,List!O218+1,\"\")","v":""},{"$f":"IF(Conf2!$P$54+Conf2!$P$55>List!P218,List!P218+1,\"\")","v":""},{"$f":"IF(Conf2!$P$54>List!Q218,List!Q218+1,\"\")","v":""},{"$f":"IF(Conf3!$P$55>List!R218,List!R218+1,\"\")","v":""},{"$f":"IF(Conf3!$P$54+Conf3!$P$55>List!S218,List!S218+1,\"\")","v":""},{"$f":"IF(Conf3!$P$54>List!T218,List!T218+1,\"\")","v":""},{"$f":"IF(Conf4!$P$55>List!U218,List!U218+1,\"\")","v":""},{"$f":"IF(Conf4!$P$54+Conf4!$P$55>List!V218,List!V218+1,\"\")","v":""},{"$f":"IF(Conf4!$P$54>List!W218,List!W218+1,\"\")","v":""},null,null,null,null,null,null,{"$f":"IF(Conf5!$P$55>List!AD218,List!AD218+1,\"\")","v":""},{"$f":"IF(Conf5!$P$54+Conf5!$P$55>List!AE218,List!AE218+1,\"\")","v":""},{"$f":"IF(Conf5!$P$54>List!AF218,List!AF218+1,\"\")","v":""},{"$f":"IF(Conf6!$P$55>List!AG218,List!AG218+1,\"\")","v":""},{"$f":"IF(Conf6!$P$54+Conf6!$P$55>List!AH218,List!AH218+1,\"\")","v":""},{"$f":"IF(Conf6!$P$54>List!AI218,List!AI218+1,\"\")","v":""},{"$f":"IF(Conf7!$P$55>List!AJ218,List!AJ218+1,\"\")","v":""},{"$f":"IF(Conf7!$P$54+Conf7!$P$55>List!AK218,List!AK218+1,\"\")","v":""},{"$f":"IF(Conf7!$P$54>List!AL218,List!AL218+1,\"\")","v":""},{"$f":"IF(Conf8!$P$55>List!AM218,List!AM218+1,\"\")","v":""},{"$f":"IF(Conf8!$P$54+Conf8!$P$55>List!AN218,List!AN218+1,\"\")","v":""},{"$f":"IF(Conf8!$P$54>List!AO218,List!AO218+1,\"\")","v":""},{"$f":"IF(Conf9!$P$55>List!AP218,List!AP218+1,\"\")","v":""},{"$f":"IF(Conf9!$P$54+Conf9!$P$55>List!AQ218,List!AQ218+1,\"\")","v":""},{"$f":"IF(Conf9!$P$54>List!AR218,List!AR218+1,\"\")","v":""},{"$f":"IF(Conf10!$P$55>List!AS218,List!AS218+1,\"\")","v":""},{"$f":"IF(Conf10!$P$54+Conf10!$P$55>List!AT218,List!AT218+1,\"\")","v":""},{"$f":"IF(Conf10!$P$54>List!AU218,List!AU218+1,\"\")","v":""}]
[null,null,null,null,null,null,null,null,null,null,null,{"$f":"IF(Configurator!$P$55>List!L219,List!L219+1,\"\")","v":""},{"$f":"IF(Configurator!$P$54+Configurator!$P$55>List!M219,List!M219+1,\"\")","v":""},{"$f":"IF(Configurator!$P$54>List!N219,List!N219+1,\"\")","v":""},{"$f":"IF(Conf2!$P$55>List!O219,List!O219+1,\"\")","v":""},{"$f":"IF(Conf2!$P$54+Conf2!$P$55>List!P219,List!P219+1,\"\")","v":""},{"$f":"IF(Conf2!$P$54>List!Q219,List!Q219+1,\"\")","v":""},{"$f":"IF(Conf3!$P$55>List!R219,List!R219+1,\"\")","v":""},{"$f":"IF(Conf3!$P$54+Conf3!$P$55>List!S219,List!S219+1,\"\")","v":""},{"$f":"IF(Conf3!$P$54>List!T219,List!T219+1,\"\")","v":""},{"$f":"IF(Conf4!$P$55>List!U219,List!U219+1,\"\")","v":""},{"$f":"IF(Conf4!$P$54+Conf4!$P$55>List!V219,List!V219+1,\"\")","v":""},{"$f":"IF(Conf4!$P$54>List!W219,List!W219+1,\"\")","v":""},null,null,null,null,null,null,{"$f":"IF(Conf5!$P$55>List!AD219,List!AD219+1,\"\")","v":""},{"$f":"IF(Conf5!$P$54+Conf5!$P$55>List!AE219,List!AE219+1,\"\")","v":""},{"$f":"IF(Conf5!$P$54>List!AF219,List!AF219+1,\"\")","v":""},{"$f":"IF(Conf6!$P$55>List!AG219,List!AG219+1,\"\")","v":""},{"$f":"IF(Conf6!$P$54+Conf6!$P$55>List!AH219,List!AH219+1,\"\")","v":""},{"$f":"IF(Conf6!$P$54>List!AI219,List!AI219+1,\"\")","v":""},{"$f":"IF(Conf7!$P$55>List!AJ219,List!AJ219+1,\"\")","v":""},{"$f":"IF(Conf7!$P$54+Conf7!$P$55>List!AK219,List!AK219+1,\"\")","v":""},{"$f":"IF(Conf7!$P$54>List!AL219,List!AL219+1,\"\")","v":""},{"$f":"IF(Conf8!$P$55>List!AM219,List!AM219+1,\"\")","v":""},{"$f":"IF(Conf8!$P$54+Conf8!$P$55>List!AN219,List!AN219+1,\"\")","v":""},{"$f":"IF(Conf8!$P$54>List!AO219,List!AO219+1,\"\")","v":""},{"$f":"IF(Conf9!$P$55>List!AP219,List!AP219+1,\"\")","v":""},{"$f":"IF(Conf9!$P$54+Conf9!$P$55>List!AQ219,List!AQ219+1,\"\")","v":""},{"$f":"IF(Conf9!$P$54>List!AR219,List!AR219+1,\"\")","v":""},{"$f":"IF(Conf10!$P$55>List!AS219,List!AS219+1,\"\")","v":""},{"$f":"IF(Conf10!$P$54+Conf10!$P$55>List!AT219,List!AT219+1,\"\")","v":""},{"$f":"IF(Conf10!$P$54>List!AU219,List!AU219+1,\"\")","v":""}]
[null,null,null,null,null,null,null,null,null,null,null,{"$f":"IF(Configurator!$P$55>List!L220,List!L220+1,\"\")","v":""},{"$f":"IF(Configurator!$P$54+Configurator!$P$55>List!M220,List!M220+1,\"\")","v":""},{"$f":"IF(Configurator!$P$54>List!N220,List!N220+1,\"\")","v":""},{"$f":"IF(Conf2!$P$55>List!O220,List!O220+1,\"\")","v":""},{"$f":"IF(Conf2!$P$54+Conf2!$P$55>List!P220,List!P220+1,\"\")","v":""},{"$f":"IF(Conf2!$P$54>List!Q220,List!Q220+1,\"\")","v":""},{"$f":"IF(Conf3!$P$55>List!R220,List!R220+1,\"\")","v":""},{"$f":"IF(Conf3!$P$54+Conf3!$P$55>List!S220,List!S220+1,\"\")","v":""},{"$f":"IF(Conf3!$P$54>List!T220,List!T220+1,\"\")","v":""},{"$f":"IF(Conf4!$P$55>List!U220,List!U220+1,\"\")","v":""},{"$f":"IF(Conf4!$P$54+Conf4!$P$55>List!V220,List!V220+1,\"\")","v":""},{"$f":"IF(Conf4!$P$54>List!W220,List!W220+1,\"\")","v":""},null,null,null,null,null,null,{"$f":"IF(Conf5!$P$55>List!AD220,List!AD220+1,\"\")","v":""},{"$f":"IF(Conf5!$P$54+Conf5!$P$55>List!AE220,List!AE220+1,\"\")","v":""},{"$f":"IF(Conf5!$P$54>List!AF220,List!AF220+1,\"\")","v":""},{"$f":"IF(Conf6!$P$55>List!AG220,List!AG220+1,\"\")","v":""},{"$f":"IF(Conf6!$P$54+Conf6!$P$55>List!AH220,List!AH220+1,\"\")","v":""},{"$f":"IF(Conf6!$P$54>List!AI220,List!AI220+1,\"\")","v":""},{"$f":"IF(Conf7!$P$55>List!AJ220,List!AJ220+1,\"\")","v":""},{"$f":"IF(Conf7!$P$54+Conf7!$P$55>List!AK220,List!AK220+1,\"\")","v":""},{"$f":"IF(Conf7!$P$54>List!AL220,List!AL220+1,\"\")","v":""},{"$f":"IF(Conf8!$P$55>List!AM220,List!AM220+1,\"\")","v":""},{"$f":"IF(Conf8!$P$54+Conf8!$P$55>List!AN220,List!AN220+1,\"\")","v":""},{"$f":"IF(Conf8!$P$54>List!AO220,List!AO220+1,\"\")","v":""},{"$f":"IF(Conf9!$P$55>List!AP220,List!AP220+1,\"\")","v":""},{"$f":"IF(Conf9!$P$54+Conf9!$P$55>List!AQ220,List!AQ220+1,\"\")","v":""},{"$f":"IF(Conf9!$P$54>List!AR220,List!AR220+1,\"\")","v":""},{"$f":"IF(Conf10!$P$55>List!AS220,List!AS220+1,\"\")","v":""},{"$f":"IF(Conf10!$P$54+Conf10!$P$55>List!AT220,List!AT220+1,\"\")","v":""},{"$f":"IF(Conf10!$P$54>List!AU220,List!AU220+1,\"\")","v":""}]
[null,null,null,null,null,null,null,null,null,null,null,{"$f":"IF(Configurator!$P$55>List!L221,List!L221+1,\"\")","v":""},{"$f":"IF(Configurator!$P$54+Configurator!$P$55>List!M221,List!M221+1,\"\")","v":""},{"$f":"IF(Configurator!$P$54>List!N221,List!N221+1,\"\")","v":""},{"$f":"IF(Conf2!$P$55>List!O221,List!O221+1,\"\")","v":""},{"$f":"IF(Conf2!$P$54+Conf2!$P$55>List!P221,List!P221+1,\"\")","v":""},{"$f":"IF(Conf2!$P$54>List!Q221,List!Q221+1,\"\")","v":""},{"$f":"IF(Conf3!$P$55>List!R221,List!R221+1,\"\")","v":""},{"$f":"IF(Conf3!$P$54+Conf3!$P$55>List!S221,List!S221+1,\"\")","v":""},{"$f":"IF(Conf3!$P$54>List!T221,List!T221+1,\"\")","v":""},{"$f":"IF(Conf4!$P$55>List!U221,List!U221+1,\"\")","v":""},{"$f":"IF(Conf4!$P$54+Conf4!$P$55>List!V221,List!V221+1,\"\")","v":""},{"$f":"IF(Conf4!$P$54>List!W221,List!W221+1,\"\")","v":""},null,null,null,null,null,null,{"$f":"IF(Conf5!$P$55>List!AD221,List!AD221+1,\"\")","v":""},{"$f":"IF(Conf5!$P$54+Conf5!$P$55>List!AE221,List!AE221+1,\"\")","v":""},{"$f":"IF(Conf5!$P$54>List!AF221,List!AF221+1,\"\")","v":""},{"$f":"IF(Conf6!$P$55>List!AG221,List!AG221+1,\"\")","v":""},{"$f":"IF(Conf6!$P$54+Conf6!$P$55>List!AH221,List!AH221+1,\"\")","v":""},{"$f":"IF(Conf6!$P$54>List!AI221,List!AI221+1,\"\")","v":""},{"$f":"IF(Conf7!$P$55>List!AJ221,List!AJ221+1,\"\")","v":""},{"$f":"IF(Conf7!$P$54+Conf7!$P$55>List!AK221,List!AK221+1,\"\")","v":""},{"$f":"IF(Conf7!$P$54>List!AL221,List!AL221+1,\"\")","v":""},{"$f":"IF(Conf8!$P$55>List!AM221,List!AM221+1,\"\")","v":""},{"$f":"IF(Conf8!$P$54+Conf8!$P$55>List!AN221,List!AN221+1,\"\")","v":""},{"$f":"IF(Conf8!$P$54>List!AO221,List!AO221+1,\"\")","v":""},{"$f":"IF(Conf9!$P$55>List!AP221,List!AP221+1,\"\")","v":""},{"$f":"IF(Conf9!$P$54+Conf9!$P$55>List!AQ221,List!AQ221+1,\"\")","v":""},{"$f":"IF(Conf9!$P$54>List!AR221,List!AR221+1,\"\")","v":""},{"$f":"IF(Conf10!$P$55>List!AS221,List!AS221+1,\"\")","v":""},{"$f":"IF(Conf10!$P$54+Conf10!$P$55>List!AT221,List!AT221+1,\"\")","v":""},{"$f":"IF(Conf10!$P$54>List!AU221,List!AU221+1,\"\")","v":""}]
[null,null,null,null,null,null,null,null,null,null,null,{"$f":"IF(Configurator!$P$55>List!L222,List!L222+1,\"\")","v":""},{"$f":"IF(Configurator!$P$54+Configurator!$P$55>List!M222,List!M222+1,\"\")","v":""},{"$f":"IF(Configurator!$P$54>List!N222,List!N222+1,\"\")","v":""},{"$f":"IF(Conf2!$P$55>List!O222,List!O222+1,\"\")","v":""},{"$f":"IF(Conf2!$P$54+Conf2!$P$55>List!P222,List!P222+1,\"\")","v":""},{"$f":"IF(Conf2!$P$54>List!Q222,List!Q222+1,\"\")","v":""},{"$f":"IF(Conf3!$P$55>List!R222,List!R222+1,\"\")","v":""},{"$f":"IF(Conf3!$P$54+Conf3!$P$55>List!S222,List!S222+1,\"\")","v":""},{"$f":"IF(Conf3!$P$54>List!T222,List!T222+1,\"\")","v":""},{"$f":"IF(Conf4!$P$55>List!U222,List!U222+1,\"\")","v":""},{"$f":"IF(Conf4!$P$54+Conf4!$P$55>List!V222,List!V222+1,\"\")","v":""},{"$f":"IF(Conf4!$P$54>List!W222,List!W222+1,\"\")","v":""},null,null,null,null,null,null,{"$f":"IF(Conf5!$P$55>List!AD222,List!AD222+1,\"\")","v":""},{"$f":"IF(Conf5!$P$54+Conf5!$P$55>List!AE222,List!AE222+1,\"\")","v":""},{"$f":"IF(Conf5!$P$54>List!AF222,List!AF222+1,\"\")","v":""},{"$f":"IF(Conf6!$P$55>List!AG222,List!AG222+1,\"\")","v":""},{"$f":"IF(Conf6!$P$54+Conf6!$P$55>List!AH222,List!AH222+1,\"\")","v":""},{"$f":"IF(Conf6!$P$54>List!AI222,List!AI222+1,\"\")","v":""},{"$f":"IF(Conf7!$P$55>List!AJ222,List!AJ222+1,\"\")","v":""},{"$f":"IF(Conf7!$P$54+Conf7!$P$55>List!AK222,List!AK222+1,\"\")","v":""},{"$f":"IF(Conf7!$P$54>List!AL222,List!AL222+1,\"\")","v":""},{"$f":"IF(Conf8!$P$55>List!AM222,List!AM222+1,\"\")","v":""},{"$f":"IF(Conf8!$P$54+Conf8!$P$55>List!AN222,List!AN222+1,\"\")","v":""},{"$f":"IF(Conf8!$P$54>List!AO222,List!AO222+1,\"\")","v":""},{"$f":"IF(Conf9!$P$55>List!AP222,List!AP222+1,\"\")","v":""},{"$f":"IF(Conf9!$P$54+Conf9!$P$55>List!AQ222,List!AQ222+1,\"\")","v":""},{"$f":"IF(Conf9!$P$54>List!AR222,List!AR222+1,\"\")","v":""},{"$f":"IF(Conf10!$P$55>List!AS222,List!AS222+1,\"\")","v":""},{"$f":"IF(Conf10!$P$54+Conf10!$P$55>List!AT222,List!AT222+1,\"\")","v":""},{"$f":"IF(Conf10!$P$54>List!AU222,List!AU222+1,\"\")","v":""}]
[null,null,null,null,null,null,null,null,null,null,null,{"$f":"IF(Configurator!$P$55>List!L223,List!L223+1,\"\")","v":""},{"$f":"IF(Configurator!$P$54+Configurator!$P$55>List!M223,List!M223+1,\"\")","v":""},{"$f":"IF(Configurator!$P$54>List!N223,List!N223+1,\"\")","v":""},{"$f":"IF(Conf2!$P$55>List!O223,List!O223+1,\"\")","v":""},{"$f":"IF(Conf2!$P$54+Conf2!$P$55>List!P223,List!P223+1,\"\")","v":""},{"$f":"IF(Conf2!$P$54>List!Q223,List!Q223+1,\"\")","v":""},{"$f":"IF(Conf3!$P$55>List!R223,List!R223+1,\"\")","v":""},{"$f":"IF(Conf3!$P$54+Conf3!$P$55>List!S223,List!S223+1,\"\")","v":""},{"$f":"IF(Conf3!$P$54>List!T223,List!T223+1,\"\")","v":""},{"$f":"IF(Conf4!$P$55>List!U223,List!U223+1,\"\")","v":""},{"$f":"IF(Conf4!$P$54+Conf4!$P$55>List!V223,List!V223+1,\"\")","v":""},{"$f":"IF(Conf4!$P$54>List!W223,List!W223+1,\"\")","v":""},null,null,null,null,null,null,{"$f":"IF(Conf5!$P$55>List!AD223,List!AD223+1,\"\")","v":""},{"$f":"IF(Conf5!$P$54+Conf5!$P$55>List!AE223,List!AE223+1,\"\")","v":""},{"$f":"IF(Conf5!$P$54>List!AF223,List!AF223+1,\"\")","v":""},{"$f":"IF(Conf6!$P$55>List!AG223,List!AG223+1,\"\")","v":""},{"$f":"IF(Conf6!$P$54+Conf6!$P$55>List!AH223,List!AH223+1,\"\")","v":""},{"$f":"IF(Conf6!$P$54>List!AI223,List!AI223+1,\"\")","v":""},{"$f":"IF(Conf7!$P$55>List!AJ223,List!AJ223+1,\"\")","v":""},{"$f":"IF(Conf7!$P$54+Conf7!$P$55>List!AK223,List!AK223+1,\"\")","v":""},{"$f":"IF(Conf7!$P$54>List!AL223,List!AL223+1,\"\")","v":""},{"$f":"IF(Conf8!$P$55>List!AM223,List!AM223+1,\"\")","v":""},{"$f":"IF(Conf8!$P$54+Conf8!$P$55>List!AN223,List!AN223+1,\"\")","v":""},{"$f":"IF(Conf8!$P$54>List!AO223,List!AO223+1,\"\")","v":""},{"$f":"IF(Conf9!$P$55>List!AP223,List!AP223+1,\"\")","v":""},{"$f":"IF(Conf9!$P$54+Conf9!$P$55>List!AQ223,List!AQ223+1,\"\")","v":""},{"$f":"IF(Conf9!$P$54>List!AR223,List!AR223+1,\"\")","v":""},{"$f":"IF(Conf10!$P$55>List!AS223,List!AS223+1,\"\")","v":""},{"$f":"IF(Conf10!$P$54+Conf10!$P$55>List!AT223,List!AT223+1,\"\")","v":""},{"$f":"IF(Conf10!$P$54>List!AU223,List!AU223+1,\"\")","v":""}]
[null,null,null,null,null,null,null,null,null,null,null,{"$f":"IF(Configurator!$P$55>List!L224,List!L224+1,\"\")","v":""},{"$f":"IF(Configurator!$P$54+Configurator!$P$55>List!M224,List!M224+1,\"\")","v":""},{"$f":"IF(Configurator!$P$54>List!N224,List!N224+1,\"\")","v":""},{"$f":"IF(Conf2!$P$55>List!O224,List!O224+1,\"\")","v":""},{"$f":"IF(Conf2!$P$54+Conf2!$P$55>List!P224,List!P224+1,\"\")","v":""},{"$f":"IF(Conf2!$P$54>List!Q224,List!Q224+1,\"\")","v":""},{"$f":"IF(Conf3!$P$55>List!R224,List!R224+1,\"\")","v":""},{"$f":"IF(Conf3!$P$54+Conf3!$P$55>List!S224,List!S224+1,\"\")","v":""},{"$f":"IF(Conf3!$P$54>List!T224,List!T224+1,\"\")","v":""},{"$f":"IF(Conf4!$P$55>List!U224,List!U224+1,\"\")","v":""},{"$f":"IF(Conf4!$P$54+Conf4!$P$55>List!V224,List!V224+1,\"\")","v":""},{"$f":"IF(Conf4!$P$54>List!W224,List!W224+1,\"\")","v":""},null,null,null,null,null,null,{"$f":"IF(Conf5!$P$55>List!AD224,List!AD224+1,\"\")","v":""},{"$f":"IF(Conf5!$P$54+Conf5!$P$55>List!AE224,List!AE224+1,\"\")","v":""},{"$f":"IF(Conf5!$P$54>List!AF224,List!AF224+1,\"\")","v":""},{"$f":"IF(Conf6!$P$55>List!AG224,List!AG224+1,\"\")","v":""},{"$f":"IF(Conf6!$P$54+Conf6!$P$55>List!AH224,List!AH224+1,\"\")","v":""},{"$f":"IF(Conf6!$P$54>List!AI224,List!AI224+1,\"\")","v":""},{"$f":"IF(Conf7!$P$55>List!AJ224,List!AJ224+1,\"\")","v":""},{"$f":"IF(Conf7!$P$54+Conf7!$P$55>List!AK224,List!AK224+1,\"\")","v":""},{"$f":"IF(Conf7!$P$54>List!AL224,List!AL224+1,\"\")","v":""},{"$f":"IF(Conf8!$P$55>List!AM224,List!AM224+1,\"\")","v":""},{"$f":"IF(Conf8!$P$54+Conf8!$P$55>List!AN224,List!AN224+1,\"\")","v":""},{"$f":"IF(Conf8!$P$54>List!AO224,List!AO224+1,\"\")","v":""},{"$f":"IF(Conf9!$P$55>List!AP224,List!AP224+1,\"\")","v":""},{"$f":"IF(Conf9!$P$54+Conf9!$P$55>List!AQ224,List!AQ224+1,\"\")","v":""},{"$f":"IF(Conf9!$P$54>List!AR224,List!AR224+1,\"\")","v":""},{"$f":"IF(Conf10!$P$55>List!AS224,List!AS224+1,\"\")","v":""},{"$f":"IF(Conf10!$P$54+Conf10!$P$55>List!AT224,List!AT224+1,\"\")","v":""},{"$f":"IF(Conf10!$P$54>List!AU224,List!AU224+1,\"\")","v":""}]
[null,null,null,null,null,null,null,null,null,null,null,{"$f":"IF(Configurator!$P$55>List!L225,List!L225+1,\"\")","v":""},{"$f":"IF(Configurator!$P$54+Configurator!$P$55>List!M225,List!M225+1,\"\")","v":""},{"$f":"IF(Configurator!$P$54>List!N225,List!N225+1,\"\")","v":""},{"$f":"IF(Conf2!$P$55>List!O225,List!O225+1,\"\")","v":""},{"$f":"IF(Conf2!$P$54+Conf2!$P$55>List!P225,List!P225+1,\"\")","v":""},{"$f":"IF(Conf2!$P$54>List!Q225,List!Q225+1,\"\")","v":""},{"$f":"IF(Conf3!$P$55>List!R225,List!R225+1,\"\")","v":""},{"$f":"IF(Conf3!$P$54+Conf3!$P$55>List!S225,List!S225+1,\"\")","v":""},{"$f":"IF(Conf3!$P$54>List!T225,List!T225+1,\"\")","v":""},{"$f":"IF(Conf4!$P$55>List!U225,List!U225+1,\"\")","v":""},{"$f":"IF(Conf4!$P$54+Conf4!$P$55>List!V225,List!V225+1,\"\")","v":""},{"$f":"IF(Conf4!$P$54>List!W225,List!W225+1,\"\")","v":""},null,null,null,null,null,null,{"$f":"IF(Conf5!$P$55>List!AD225,List!AD225+1,\"\")","v":""},{"$f":"IF(Conf5!$P$54+Conf5!$P$55>List!AE225,List!AE225+1,\"\")","v":""},{"$f":"IF(Conf5!$P$54>List!AF225,List!AF225+1,\"\")","v":""},{"$f":"IF(Conf6!$P$55>List!AG225,List!AG225+1,\"\")","v":""},{"$f":"IF(Conf6!$P$54+Conf6!$P$55>List!AH225,List!AH225+1,\"\")","v":""},{"$f":"IF(Conf6!$P$54>List!AI225,List!AI225+1,\"\")","v":""},{"$f":"IF(Conf7!$P$55>List!AJ225,List!AJ225+1,\"\")","v":""},{"$f":"IF(Conf7!$P$54+Conf7!$P$55>List!AK225,List!AK225+1,\"\")","v":""},{"$f":"IF(Conf7!$P$54>List!AL225,List!AL225+1,\"\")","v":""},{"$f":"IF(Conf8!$P$55>List!AM225,List!AM225+1,\"\")","v":""},{"$f":"IF(Conf8!$P$54+Conf8!$P$55>List!AN225,List!AN225+1,\"\")","v":""},{"$f":"IF(Conf8!$P$54>List!AO225,List!AO225+1,\"\")","v":""},{"$f":"IF(Conf9!$P$55>List!AP225,List!AP225+1,\"\")","v":""},{"$f":"IF(Conf9!$P$54+Conf9!$P$55>List!AQ225,List!AQ225+1,\"\")","v":""},{"$f":"IF(Conf9!$P$54>List!AR225,List!AR225+1,\"\")","v":""},{"$f":"IF(Conf10!$P$55>List!AS225,List!AS225+1,\"\")","v":""},{"$f":"IF(Conf10!$P$54+Conf10!$P$55>List!AT225,List!AT225+1,\"\")","v":""},{"$f":"IF(Conf10!$P$54>List!AU225,List!AU225+1,\"\")","v":""}]
[null,null,null,null,null,null,null,null,null,null,null,{"$f":"IF(Configurator!$P$55>List!L226,List!L226+1,\"\")","v":""},{"$f":"IF(Configurator!$P$54+Configurator!$P$55>List!M226,List!M226+1,\"\")","v":""},{"$f":"IF(Configurator!$P$54>List!N226,List!N226+1,\"\")","v":""},{"$f":"IF(Conf2!$P$55>List!O226,List!O226+1,\"\")","v":""},{"$f":"IF(Conf2!$P$54+Conf2!$P$55>List!P226,List!P226+1,\"\")","v":""},{"$f":"IF(Conf2!$P$54>List!Q226,List!Q226+1,\"\")","v":""},{"$f":"IF(Conf3!$P$55>List!R226,List!R226+1,\"\")","v":""},{"$f":"IF(Conf3!$P$54+Conf3!$P$55>List!S226,List!S226+1,\"\")","v":""},{"$f":"IF(Conf3!$P$54>List!T226,List!T226+1,\"\")","v":""},{"$f":"IF(Conf4!$P$55>List!U226,List!U226+1,\"\")","v":""},{"$f":"IF(Conf4!$P$54+Conf4!$P$55>List!V226,List!V226+1,\"\")","v":""},{"$f":"IF(Conf4!$P$54>List!W226,List!W226+1,\"\")","v":""},null,null,null,null,null,null,{"$f":"IF(Conf5!$P$55>List!AD226,List!AD226+1,\"\")","v":""},{"$f":"IF(Conf5!$P$54+Conf5!$P$55>List!AE226,List!AE226+1,\"\")","v":""},{"$f":"IF(Conf5!$P$54>List!AF226,List!AF226+1,\"\")","v":""},{"$f":"IF(Conf6!$P$55>List!AG226,List!AG226+1,\"\")","v":""},{"$f":"IF(Conf6!$P$54+Conf6!$P$55>List!AH226,List!AH226+1,\"\")","v":""},{"$f":"IF(Conf6!$P$54>List!AI226,List!AI226+1,\"\")","v":""},{"$f":"IF(Conf7!$P$55>List!AJ226,List!AJ226+1,\"\")","v":""},{"$f":"IF(Conf7!$P$54+Conf7!$P$55>List!AK226,List!AK226+1,\"\")","v":""},{"$f":"IF(Conf7!$P$54>List!AL226,List!AL226+1,\"\")","v":""},{"$f":"IF(Conf8!$P$55>List!AM226,List!AM226+1,\"\")","v":""},{"$f":"IF(Conf8!$P$54+Conf8!$P$55>List!AN226,List!AN226+1,\"\")","v":""},{"$f":"IF(Conf8!$P$54>List!AO226,List!AO226+1,\"\")","v":""},{"$f":"IF(Conf9!$P$55>List!AP226,List!AP226+1,\"\")","v":""},{"$f":"IF(Conf9!$P$54+Conf9!$P$55>List!AQ226,List!AQ226+1,\"\")","v":""},{"$f":"IF(Conf9!$P$54>List!AR226,List!AR226+1,\"\")","v":""},{"$f":"IF(Conf10!$P$55>List!AS226,List!AS226+1,\"\")","v":""},{"$f":"IF(Conf10!$P$54+Conf10!$P$55>List!AT226,List!AT226+1,\"\")","v":""},{"$f":"IF(Conf10!$P$54>List!AU226,List!AU226+1,\"\")","v":""}]
[null,null,null,null,null,null,null,null,null,null,null,{"$f":"IF(Configurator!$P$55>List!L227,List!L227+1,\"\")","v":""},{"$f":"IF(Configurator!$P$54+Configurator!$P$55>List!M227,List!M227+1,\"\")","v":""},{"$f":"IF(Configurator!$P$54>List!N227,List!N227+1,\"\")","v":""},{"$f":"IF(Conf2!$P$55>List!O227,List!O227+1,\"\")","v":""},{"$f":"IF(Conf2!$P$54+Conf2!$P$55>List!P227,List!P227+1,\"\")","v":""},{"$f":"IF(Conf2!$P$54>List!Q227,List!Q227+1,\"\")","v":""},{"$f":"IF(Conf3!$P$55>List!R227,List!R227+1,\"\")","v":""},{"$f":"IF(Conf3!$P$54+Conf3!$P$55>List!S227,List!S227+1,\"\")","v":""},{"$f":"IF(Conf3!$P$54>List!T227,List!T227+1,\"\")","v":""},{"$f":"IF(Conf4!$P$55>List!U227,List!U227+1,\"\")","v":""},{"$f":"IF(Conf4!$P$54+Conf4!$P$55>List!V227,List!V227+1,\"\")","v":""},{"$f":"IF(Conf4!$P$54>List!W227,List!W227+1,\"\")","v":""},null,null,null,null,null,null,{"$f":"IF(Conf5!$P$55>List!AD227,List!AD227+1,\"\")","v":""},{"$f":"IF(Conf5!$P$54+Conf5!$P$55>List!AE227,List!AE227+1,\"\")","v":""},{"$f":"IF(Conf5!$P$54>List!AF227,List!AF227+1,\"\")","v":""},{"$f":"IF(Conf6!$P$55>List!AG227,List!AG227+1,\"\")","v":""},{"$f":"IF(Conf6!$P$54+Conf6!$P$55>List!AH227,List!AH227+1,\"\")","v":""},{"$f":"IF(Conf6!$P$54>List!AI227,List!AI227+1,\"\")","v":""},{"$f":"IF(Conf7!$P$55>List!AJ227,List!AJ227+1,\"\")","v":""},{"$f":"IF(Conf7!$P$54+Conf7!$P$55>List!AK227,List!AK227+1,\"\")","v":""},{"$f":"IF(Conf7!$P$54>List!AL227,List!AL227+1,\"\")","v":""},{"$f":"IF(Conf8!$P$55>List!AM227,List!AM227+1,\"\")","v":""},{"$f":"IF(Conf8!$P$54+Conf8!$P$55>List!AN227,List!AN227+1,\"\")","v":""},{"$f":"IF(Conf8!$P$54>List!AO227,List!AO227+1,\"\")","v":""},{"$f":"IF(Conf9!$P$55>List!AP227,List!AP227+1,\"\")","v":""},{"$f":"IF(Conf9!$P$54+Conf9!$P$55>List!AQ227,List!AQ227+1,\"\")","v":""},{"$f":"IF(Conf9!$P$54>List!AR227,List!AR227+1,\"\")","v":""},{"$f":"IF(Conf10!$P$55>List!AS227,List!AS227+1,\"\")","v":""},{"$f":"IF(Conf10!$P$54+Conf10!$P$55>List!AT227,List!AT227+1,\"\")","v":""},{"$f":"IF(Conf10!$P$54>List!AU227,List!AU227+1,\"\")","v":""}]
[null,null,null,null,null,null,null,null,null,null,null,{"$f":"IF(Configurator!$P$55>List!L228,List!L228+1,\"\")","v":""},{"$f":"IF(Configurator!$P$54+Configurator!$P$55>List!M228,List!M228+1,\"\")","v":""},{"$f":"IF(Configurator!$P$54>List!N228,List!N228+1,\"\")","v":""},{"$f":"IF(Conf2!$P$55>List!O228,List!O228+1,\"\")","v":""},{"$f":"IF(Conf2!$P$54+Conf2!$P$55>List!P228,List!P228+1,\"\")","v":""},{"$f":"IF(Conf2!$P$54>List!Q228,List!Q228+1,\"\")","v":""},{"$f":"IF(Conf3!$P$55>List!R228,List!R228+1,\"\")","v":""},{"$f":"IF(Conf3!$P$54+Conf3!$P$55>List!S228,List!S228+1,\"\")","v":""},{"$f":"IF(Conf3!$P$54>List!T228,List!T228+1,\"\")","v":""},{"$f":"IF(Conf4!$P$55>List!U228,List!U228+1,\"\")","v":""},{"$f":"IF(Conf4!$P$54+Conf4!$P$55>List!V228,List!V228+1,\"\")","v":""},{"$f":"IF(Conf4!$P$54>List!W228,List!W228+1,\"\")","v":""},null,null,null,null,null,null,{"$f":"IF(Conf5!$P$55>List!AD228,List!AD228+1,\"\")","v":""},{"$f":"IF(Conf5!$P$54+Conf5!$P$55>List!AE228,List!AE228+1,\"\")","v":""},{"$f":"IF(Conf5!$P$54>List!AF228,List!AF228+1,\"\")","v":""},{"$f":"IF(Conf6!$P$55>List!AG228,List!AG228+1,\"\")","v":""},{"$f":"IF(Conf6!$P$54+Conf6!$P$55>List!AH228,List!AH228+1,\"\")","v":""},{"$f":"IF(Conf6!$P$54>List!AI228,List!AI228+1,\"\")","v":""},{"$f":"IF(Conf7!$P$55>List!AJ228,List!AJ228+1,\"\")","v":""},{"$f":"IF(Conf7!$P$54+Conf7!$P$55>List!AK228,List!AK228+1,\"\")","v":""},{"$f":"IF(Conf7!$P$54>List!AL228,List!AL228+1,\"\")","v":""},{"$f":"IF(Conf8!$P$55>List!AM228,List!AM228+1,\"\")","v":""},{"$f":"IF(Conf8!$P$54+Conf8!$P$55>List!AN228,List!AN228+1,\"\")","v":""},{"$f":"IF(Conf8!$P$54>List!AO228,List!AO228+1,\"\")","v":""},{"$f":"IF(Conf9!$P$55>List!AP228,List!AP228+1,\"\")","v":""},{"$f":"IF(Conf9!$P$54+Conf9!$P$55>List!AQ228,List!AQ228+1,\"\")","v":""},{"$f":"IF(Conf9!$P$54>List!AR228,List!AR228+1,\"\")","v":""},{"$f":"IF(Conf10!$P$55>List!AS228,List!AS228+1,\"\")","v":""},{"$f":"IF(Conf10!$P$54+Conf10!$P$55>List!AT228,List!AT228+1,\"\")","v":""},{"$f":"IF(Conf10!$P$54>List!AU228,List!AU228+1,\"\")","v":""}]
[null,null,null,null,null,null,null,null,null,null,null,{"$f":"IF(Configurator!$P$55>List!L229,List!L229+1,\"\")","v":""},{"$f":"IF(Configurator!$P$54+Configurator!$P$55>List!M229,List!M229+1,\"\")","v":""},{"$f":"IF(Configurator!$P$54>List!N229,List!N229+1,\"\")","v":""},{"$f":"IF(Conf2!$P$55>List!O229,List!O229+1,\"\")","v":""},{"$f":"IF(Conf2!$P$54+Conf2!$P$55>List!P229,List!P229+1,\"\")","v":""},{"$f":"IF(Conf2!$P$54>List!Q229,List!Q229+1,\"\")","v":""},{"$f":"IF(Conf3!$P$55>List!R229,List!R229+1,\"\")","v":""},{"$f":"IF(Conf3!$P$54+Conf3!$P$55>List!S229,List!S229+1,\"\")","v":""},{"$f":"IF(Conf3!$P$54>List!T229,List!T229+1,\"\")","v":""},{"$f":"IF(Conf4!$P$55>List!U229,List!U229+1,\"\")","v":""},{"$f":"IF(Conf4!$P$54+Conf4!$P$55>List!V229,List!V229+1,\"\")","v":""},{"$f":"IF(Conf4!$P$54>List!W229,List!W229+1,\"\")","v":""},null,null,null,null,null,null,{"$f":"IF(Conf5!$P$55>List!AD229,List!AD229+1,\"\")","v":""},{"$f":"IF(Conf5!$P$54+Conf5!$P$55>List!AE229,List!AE229+1,\"\")","v":""},{"$f":"IF(Conf5!$P$54>List!AF229,List!AF229+1,\"\")","v":""},{"$f":"IF(Conf6!$P$55>List!AG229,List!AG229+1,\"\")","v":""},{"$f":"IF(Conf6!$P$54+Conf6!$P$55>List!AH229,List!AH229+1,\"\")","v":""},{"$f":"IF(Conf6!$P$54>List!AI229,List!AI229+1,\"\")","v":""},{"$f":"IF(Conf7!$P$55>List!AJ229,List!AJ229+1,\"\")","v":""},{"$f":"IF(Conf7!$P$54+Conf7!$P$55>List!AK229,List!AK229+1,\"\")","v":""},{"$f":"IF(Conf7!$P$54>List!AL229,List!AL229+1,\"\")","v":""},{"$f":"IF(Conf8!$P$55>List!AM229,List!AM229+1,\"\")","v":""},{"$f":"IF(Conf8!$P$54+Conf8!$P$55>List!AN229,List!AN229+1,\"\")","v":""},{"$f":"IF(Conf8!$P$54>List!AO229,List!AO229+1,\"\")","v":""},{"$f":"IF(Conf9!$P$55>List!AP229,List!AP229+1,\"\")","v":""},{"$f":"IF(Conf9!$P$54+Conf9!$P$55>List!AQ229,List!AQ229+1,\"\")","v":""},{"$f":"IF(Conf9!$P$54>List!AR229,List!AR229+1,\"\")","v":""},{"$f":"IF(Conf10!$P$55>List!AS229,List!AS229+1,\"\")","v":""},{"$f":"IF(Conf10!$P$54+Conf10!$P$55>List!AT229,List!AT229+1,\"\")","v":""},{"$f":"IF(Conf10!$P$54>List!AU229,List!AU229+1,\"\")","v":""}]
[null,null,null,null,null,null,null,null,null,null,null,{"$f":"IF(Configurator!$P$55>List!L230,List!L230+1,\"\")","v":""},{"$f":"IF(Configurator!$P$54+Configurator!$P$55>List!M230,List!M230+1,\"\")","v":""},{"$f":"IF(Configurator!$P$54>List!N230,List!N230+1,\"\")","v":""},{"$f":"IF(Conf2!$P$55>List!O230,List!O230+1,\"\")","v":""},{"$f":"IF(Conf2!$P$54+Conf2!$P$55>List!P230,List!P230+1,\"\")","v":""},{"$f":"IF(Conf2!$P$54>List!Q230,List!Q230+1,\"\")","v":""},{"$f":"IF(Conf3!$P$55>List!R230,List!R230+1,\"\")","v":""},{"$f":"IF(Conf3!$P$54+Conf3!$P$55>List!S230,List!S230+1,\"\")","v":""},{"$f":"IF(Conf3!$P$54>List!T230,List!T230+1,\"\")","v":""},{"$f":"IF(Conf4!$P$55>List!U230,List!U230+1,\"\")","v":""},{"$f":"IF(Conf4!$P$54+Conf4!$P$55>List!V230,List!V230+1,\"\")","v":""},{"$f":"IF(Conf4!$P$54>List!W230,List!W230+1,\"\")","v":""},null,null,null,null,null,null,{"$f":"IF(Conf5!$P$55>List!AD230,List!AD230+1,\"\")","v":""},{"$f":"IF(Conf5!$P$54+Conf5!$P$55>List!AE230,List!AE230+1,\"\")","v":""},{"$f":"IF(Conf5!$P$54>List!AF230,List!AF230+1,\"\")","v":""},{"$f":"IF(Conf6!$P$55>List!AG230,List!AG230+1,\"\")","v":""},{"$f":"IF(Conf6!$P$54+Conf6!$P$55>List!AH230,List!AH230+1,\"\")","v":""},{"$f":"IF(Conf6!$P$54>List!AI230,List!AI230+1,\"\")","v":""},{"$f":"IF(Conf7!$P$55>List!AJ230,List!AJ230+1,\"\")","v":""},{"$f":"IF(Conf7!$P$54+Conf7!$P$55>List!AK230,List!AK230+1,\"\")","v":""},{"$f":"IF(Conf7!$P$54>List!AL230,List!AL230+1,\"\")","v":""},{"$f":"IF(Conf8!$P$55>List!AM230,List!AM230+1,\"\")","v":""},{"$f":"IF(Conf8!$P$54+Conf8!$P$55>List!AN230,List!AN230+1,\"\")","v":""},{"$f":"IF(Conf8!$P$54>List!AO230,List!AO230+1,\"\")","v":""},{"$f":"IF(Conf9!$P$55>List!AP230,List!AP230+1,\"\")","v":""},{"$f":"IF(Conf9!$P$54+Conf9!$P$55>List!AQ230,List!AQ230+1,\"\")","v":""},{"$f":"IF(Conf9!$P$54>List!AR230,List!AR230+1,\"\")","v":""},{"$f":"IF(Conf10!$P$55>List!AS230,List!AS230+1,\"\")","v":""},{"$f":"IF(Conf10!$P$54+Conf10!$P$55>List!AT230,List!AT230+1,\"\")","v":""},{"$f":"IF(Conf10!$P$54>List!AU230,List!AU230+1,\"\")","v":""}]
[null,null,null,null,null,null,null,null,null,null,null,{"$f":"IF(Configurator!$P$55>List!L231,List!L231+1,\"\")","v":""},{"$f":"IF(Configurator!$P$54+Configurator!$P$55>List!M231,List!M231+1,\"\")","v":""},{"$f":"IF(Configurator!$P$54>List!N231,List!N231+1,\"\")","v":""},{"$f":"IF(Conf2!$P$55>List!O231,List!O231+1,\"\")","v":""},{"$f":"IF(Conf2!$P$54+Conf2!$P$55>List!P231,List!P231+1,\"\")","v":""},{"$f":"IF(Conf2!$P$54>List!Q231,List!Q231+1,\"\")","v":""},{"$f":"IF(Conf3!$P$55>List!R231,List!R231+1,\"\")","v":""},{"$f":"IF(Conf3!$P$54+Conf3!$P$55>List!S231,List!S231+1,\"\")","v":""},{"$f":"IF(Conf3!$P$54>List!T231,List!T231+1,\"\")","v":""},{"$f":"IF(Conf4!$P$55>List!U231,List!U231+1,\"\")","v":""},{"$f":"IF(Conf4!$P$54+Conf4!$P$55>List!V231,List!V231+1,\"\")","v":""},{"$f":"IF(Conf4!$P$54>List!W231,List!W231+1,\"\")","v":""},null,null,null,null,null,null,{"$f":"IF(Conf5!$P$55>List!AD231,List!AD231+1,\"\")","v":""},{"$f":"IF(Conf5!$P$54+Conf5!$P$55>List!AE231,List!AE231+1,\"\")","v":""},{"$f":"IF(Conf5!$P$54>List!AF231,List!AF231+1,\"\")","v":""},{"$f":"IF(Conf6!$P$55>List!AG231,List!AG231+1,\"\")","v":""},{"$f":"IF(Conf6!$P$54+Conf6!$P$55>List!AH231,List!AH231+1,\"\")","v":""},{"$f":"IF(Conf6!$P$54>List!AI231,List!AI231+1,\"\")","v":""},{"$f":"IF(Conf7!$P$55>List!AJ231,List!AJ231+1,\"\")","v":""},{"$f":"IF(Conf7!$P$54+Conf7!$P$55>List!AK231,List!AK231+1,\"\")","v":""},{"$f":"IF(Conf7!$P$54>List!AL231,List!AL231+1,\"\")","v":""},{"$f":"IF(Conf8!$P$55>List!AM231,List!AM231+1,\"\")","v":""},{"$f":"IF(Conf8!$P$54+Conf8!$P$55>List!AN231,List!AN231+1,\"\")","v":""},{"$f":"IF(Conf8!$P$54>List!AO231,List!AO231+1,\"\")","v":""},{"$f":"IF(Conf9!$P$55>List!AP231,List!AP231+1,\"\")","v":""},{"$f":"IF(Conf9!$P$54+Conf9!$P$55>List!AQ231,List!AQ231+1,\"\")","v":""},{"$f":"IF(Conf9!$P$54>List!AR231,List!AR231+1,\"\")","v":""},{"$f":"IF(Conf10!$P$55>List!AS231,List!AS231+1,\"\")","v":""},{"$f":"IF(Conf10!$P$54+Conf10!$P$55>List!AT231,List!AT231+1,\"\")","v":""},{"$f":"IF(Conf10!$P$54>List!AU231,List!AU231+1,\"\")","v":""}]
[null,null,null,null,null,null,null,null,null,null,null,{"$f":"IF(Configurator!$P$55>List!L232,List!L232+1,\"\")","v":""},{"$f":"IF(Configurator!$P$54+Configurator!$P$55>List!M232,List!M232+1,\"\")","v":""},{"$f":"IF(Configurator!$P$54>List!N232,List!N232+1,\"\")","v":""},{"$f":"IF(Conf2!$P$55>List!O232,List!O232+1,\"\")","v":""},{"$f":"IF(Conf2!$P$54+Conf2!$P$55>List!P232,List!P232+1,\"\")","v":""},{"$f":"IF(Conf2!$P$54>List!Q232,List!Q232+1,\"\")","v":""},{"$f":"IF(Conf3!$P$55>List!R232,List!R232+1,\"\")","v":""},{"$f":"IF(Conf3!$P$54+Conf3!$P$55>List!S232,List!S232+1,\"\")","v":""},{"$f":"IF(Conf3!$P$54>List!T232,List!T232+1,\"\")","v":""},{"$f":"IF(Conf4!$P$55>List!U232,List!U232+1,\"\")","v":""},{"$f":"IF(Conf4!$P$54+Conf4!$P$55>List!V232,List!V232+1,\"\")","v":""},{"$f":"IF(Conf4!$P$54>List!W232,List!W232+1,\"\")","v":""},null,null,null,null,null,null,{"$f":"IF(Conf5!$P$55>List!AD232,List!AD232+1,\"\")","v":""},{"$f":"IF(Conf5!$P$54+Conf5!$P$55>List!AE232,List!AE232+1,\"\")","v":""},{"$f":"IF(Conf5!$P$54>List!AF232,List!AF232+1,\"\")","v":""},{"$f":"IF(Conf6!$P$55>List!AG232,List!AG232+1,\"\")","v":""},{"$f":"IF(Conf6!$P$54+Conf6!$P$55>List!AH232,List!AH232+1,\"\")","v":""},{"$f":"IF(Conf6!$P$54>List!AI232,List!AI232+1,\"\")","v":""},{"$f":"IF(Conf7!$P$55>List!AJ232,List!AJ232+1,\"\")","v":""},{"$f":"IF(Conf7!$P$54+Conf7!$P$55>List!AK232,List!AK232+1,\"\")","v":""},{"$f":"IF(Conf7!$P$54>List!AL232,List!AL232+1,\"\")","v":""},{"$f":"IF(Conf8!$P$55>List!AM232,List!AM232+1,\"\")","v":""},{"$f":"IF(Conf8!$P$54+Conf8!$P$55>List!AN232,List!AN232+1,\"\")","v":""},{"$f":"IF(Conf8!$P$54>List!AO232,List!AO232+1,\"\")","v":""},{"$f":"IF(Conf9!$P$55>List!AP232,List!AP232+1,\"\")","v":""},{"$f":"IF(Conf9!$P$54+Conf9!$P$55>List!AQ232,List!AQ232+1,\"\")","v":""},{"$f":"IF(Conf9!$P$54>List!AR232,List!AR232+1,\"\")","v":""},{"$f":"IF(Conf10!$P$55>List!AS232,List!AS232+1,\"\")","v":""},{"$f":"IF(Conf10!$P$54+Conf10!$P$55>List!AT232,List!AT232+1,\"\")","v":""},{"$f":"IF(Conf10!$P$54>List!AU232,List!AU232+1,\"\")","v":""}]
[null,null,null,null,null,null,null,null,null,null,null,{"$f":"IF(Configurator!$P$55>List!L233,List!L233+1,\"\")","v":""},{"$f":"IF(Configurator!$P$54+Configurator!$P$55>List!M233,List!M233+1,\"\")","v":""},{"$f":"IF(Configurator!$P$54>List!N233,List!N233+1,\"\")","v":""},{"$f":"IF(Conf2!$P$55>List!O233,List!O233+1,\"\")","v":""},{"$f":"IF(Conf2!$P$54+Conf2!$P$55>List!P233,List!P233+1,\"\")","v":""},{"$f":"IF(Conf2!$P$54>List!Q233,List!Q233+1,\"\")","v":""},{"$f":"IF(Conf3!$P$55>List!R233,List!R233+1,\"\")","v":""},{"$f":"IF(Conf3!$P$54+Conf3!$P$55>List!S233,List!S233+1,\"\")","v":""},{"$f":"IF(Conf3!$P$54>List!T233,List!T233+1,\"\")","v":""},{"$f":"IF(Conf4!$P$55>List!U233,List!U233+1,\"\")","v":""},{"$f":"IF(Conf4!$P$54+Conf4!$P$55>List!V233,List!V233+1,\"\")","v":""},{"$f":"IF(Conf4!$P$54>List!W233,List!W233+1,\"\")","v":""},null,null,null,null,null,null,{"$f":"IF(Conf5!$P$55>List!AD233,List!AD233+1,\"\")","v":""},{"$f":"IF(Conf5!$P$54+Conf5!$P$55>List!AE233,List!AE233+1,\"\")","v":""},{"$f":"IF(Conf5!$P$54>List!AF233,List!AF233+1,\"\")","v":""},{"$f":"IF(Conf6!$P$55>List!AG233,List!AG233+1,\"\")","v":""},{"$f":"IF(Conf6!$P$54+Conf6!$P$55>List!AH233,List!AH233+1,\"\")","v":""},{"$f":"IF(Conf6!$P$54>List!AI233,List!AI233+1,\"\")","v":""},{"$f":"IF(Conf7!$P$55>List!AJ233,List!AJ233+1,\"\")","v":""},{"$f":"IF(Conf7!$P$54+Conf7!$P$55>List!AK233,List!AK233+1,\"\")","v":""},{"$f":"IF(Conf7!$P$54>List!AL233,List!AL233+1,\"\")","v":""},{"$f":"IF(Conf8!$P$55>List!AM233,List!AM233+1,\"\")","v":""},{"$f":"IF(Conf8!$P$54+Conf8!$P$55>List!AN233,List!AN233+1,\"\")","v":""},{"$f":"IF(Conf8!$P$54>List!AO233,List!AO233+1,\"\")","v":""},{"$f":"IF(Conf9!$P$55>List!AP233,List!AP233+1,\"\")","v":""},{"$f":"IF(Conf9!$P$54+Conf9!$P$55>List!AQ233,List!AQ233+1,\"\")","v":""},{"$f":"IF(Conf9!$P$54>List!AR233,List!AR233+1,\"\")","v":""},{"$f":"IF(Conf10!$P$55>List!AS233,List!AS233+1,\"\")","v":""},{"$f":"IF(Conf10!$P$54+Conf10!$P$55>List!AT233,List!AT233+1,\"\")","v":""},{"$f":"IF(Conf10!$P$54>List!AU233,List!AU233+1,\"\")","v":""}]
[null,null,null,null,null,null,null,null,null,null,null,{"$f":"IF(Configurator!$P$55>List!L234,List!L234+1,\"\")","v":""},{"$f":"IF(Configurator!$P$54+Configurator!$P$55>List!M234,List!M234+1,\"\")","v":""},{"$f":"IF(Configurator!$P$54>List!N234,List!N234+1,\"\")","v":""},{"$f":"IF(Conf2!$P$55>List!O234,List!O234+1,\"\")","v":""},{"$f":"IF(Conf2!$P$54+Conf2!$P$55>List!P234,List!P234+1,\"\")","v":""},{"$f":"IF(Conf2!$P$54>List!Q234,List!Q234+1,\"\")","v":""},{"$f":"IF(Conf3!$P$55>List!R234,List!R234+1,\"\")","v":""},{"$f":"IF(Conf3!$P$54+Conf3!$P$55>List!S234,List!S234+1,\"\")","v":""},{"$f":"IF(Conf3!$P$54>List!T234,List!T234+1,\"\")","v":""},{"$f":"IF(Conf4!$P$55>List!U234,List!U234+1,\"\")","v":""},{"$f":"IF(Conf4!$P$54+Conf4!$P$55>List!V234,List!V234+1,\"\")","v":""},{"$f":"IF(Conf4!$P$54>List!W234,List!W234+1,\"\")","v":""},null,null,null,null,null,null,{"$f":"IF(Conf5!$P$55>List!AD234,List!AD234+1,\"\")","v":""},{"$f":"IF(Conf5!$P$54+Conf5!$P$55>List!AE234,List!AE234+1,\"\")","v":""},{"$f":"IF(Conf5!$P$54>List!AF234,List!AF234+1,\"\")","v":""},{"$f":"IF(Conf6!$P$55>List!AG234,List!AG234+1,\"\")","v":""},{"$f":"IF(Conf6!$P$54+Conf6!$P$55>List!AH234,List!AH234+1,\"\")","v":""},{"$f":"IF(Conf6!$P$54>List!AI234,List!AI234+1,\"\")","v":""},{"$f":"IF(Conf7!$P$55>List!AJ234,List!AJ234+1,\"\")","v":""},{"$f":"IF(Conf7!$P$54+Conf7!$P$55>List!AK234,List!AK234+1,\"\")","v":""},{"$f":"IF(Conf7!$P$54>List!AL234,List!AL234+1,\"\")","v":""},{"$f":"IF(Conf8!$P$55>List!AM234,List!AM234+1,\"\")","v":""},{"$f":"IF(Conf8!$P$54+Conf8!$P$55>List!AN234,List!AN234+1,\"\")","v":""},{"$f":"IF(Conf8!$P$54>List!AO234,List!AO234+1,\"\")","v":""},{"$f":"IF(Conf9!$P$55>List!AP234,List!AP234+1,\"\")","v":""},{"$f":"IF(Conf9!$P$54+Conf9!$P$55>List!AQ234,List!AQ234+1,\"\")","v":""},{"$f":"IF(Conf9!$P$54>List!AR234,List!AR234+1,\"\")","v":""},{"$f":"IF(Conf10!$P$55>List!AS234,List!AS234+1,\"\")","v":""},{"$f":"IF(Conf10!$P$54+Conf10!$P$55>List!AT234,List!AT234+1,\"\")","v":""},{"$f":"IF(Conf10!$P$54>List!AU234,List!AU234+1,\"\")","v":""}]
[null,null,null,null,null,null,null,null,null,null,null,{"$f":"IF(Configurator!$P$55>List!L235,List!L235+1,\"\")","v":""},{"$f":"IF(Configurator!$P$54+Configurator!$P$55>List!M235,List!M235+1,\"\")","v":""},{"$f":"IF(Configurator!$P$54>List!N235,List!N235+1,\"\")","v":""},{"$f":"IF(Conf2!$P$55>List!O235,List!O235+1,\"\")","v":""},{"$f":"IF(Conf2!$P$54+Conf2!$P$55>List!P235,List!P235+1,\"\")","v":""},{"$f":"IF(Conf2!$P$54>List!Q235,List!Q235+1,\"\")","v":""},{"$f":"IF(Conf3!$P$55>List!R235,List!R235+1,\"\")","v":""},{"$f":"IF(Conf3!$P$54+Conf3!$P$55>List!S235,List!S235+1,\"\")","v":""},{"$f":"IF(Conf3!$P$54>List!T235,List!T235+1,\"\")","v":""},{"$f":"IF(Conf4!$P$55>List!U235,List!U235+1,\"\")","v":""},{"$f":"IF(Conf4!$P$54+Conf4!$P$55>List!V235,List!V235+1,\"\")","v":""},{"$f":"IF(Conf4!$P$54>List!W235,List!W235+1,\"\")","v":""},null,null,null,null,null,null,{"$f":"IF(Conf5!$P$55>List!AD235,List!AD235+1,\"\")","v":""},{"$f":"IF(Conf5!$P$54+Conf5!$P$55>List!AE235,List!AE235+1,\"\")","v":""},{"$f":"IF(Conf5!$P$54>List!AF235,List!AF235+1,\"\")","v":""},{"$f":"IF(Conf6!$P$55>List!AG235,List!AG235+1,\"\")","v":""},{"$f":"IF(Conf6!$P$54+Conf6!$P$55>List!AH235,List!AH235+1,\"\")","v":""},{"$f":"IF(Conf6!$P$54>List!AI235,List!AI235+1,\"\")","v":""},{"$f":"IF(Conf7!$P$55>List!AJ235,List!AJ235+1,\"\")","v":""},{"$f":"IF(Conf7!$P$54+Conf7!$P$55>List!AK235,List!AK235+1,\"\")","v":""},{"$f":"IF(Conf7!$P$54>List!AL235,List!AL235+1,\"\")","v":""},{"$f":"IF(Conf8!$P$55>List!AM235,List!AM235+1,\"\")","v":""},{"$f":"IF(Conf8!$P$54+Conf8!$P$55>List!AN235,List!AN235+1,\"\")","v":""},{"$f":"IF(Conf8!$P$54>List!AO235,List!AO235+1,\"\")","v":""},{"$f":"IF(Conf9!$P$55>List!AP235,List!AP235+1,\"\")","v":""},{"$f":"IF(Conf9!$P$54+Conf9!$P$55>List!AQ235,List!AQ235+1,\"\")","v":""},{"$f":"IF(Conf9!$P$54>List!AR235,List!AR235+1,\"\")","v":""},{"$f":"IF(Conf10!$P$55>List!AS235,List!AS235+1,\"\")","v":""},{"$f":"IF(Conf10!$P$54+Conf10!$P$55>List!AT235,List!AT235+1,\"\")","v":""},{"$f":"IF(Conf10!$P$54>List!AU235,List!AU235+1,\"\")","v":""}]
[null,null,null,null,null,null,null,null,null,null,null,{"$f":"IF(Configurator!$P$55>List!L236,List!L236+1,\"\")","v":""},{"$f":"IF(Configurator!$P$54+Configurator!$P$55>List!M236,List!M236+1,\"\")","v":""},{"$f":"IF(Configurator!$P$54>List!N236,List!N236+1,\"\")","v":""},{"$f":"IF(Conf2!$P$55>List!O236,List!O236+1,\"\")","v":""},{"$f":"IF(Conf2!$P$54+Conf2!$P$55>List!P236,List!P236+1,\"\")","v":""},{"$f":"IF(Conf2!$P$54>List!Q236,List!Q236+1,\"\")","v":""},{"$f":"IF(Conf3!$P$55>List!R236,List!R236+1,\"\")","v":""},{"$f":"IF(Conf3!$P$54+Conf3!$P$55>List!S236,List!S236+1,\"\")","v":""},{"$f":"IF(Conf3!$P$54>List!T236,List!T236+1,\"\")","v":""},{"$f":"IF(Conf4!$P$55>List!U236,List!U236+1,\"\")","v":""},{"$f":"IF(Conf4!$P$54+Conf4!$P$55>List!V236,List!V236+1,\"\")","v":""},{"$f":"IF(Conf4!$P$54>List!W236,List!W236+1,\"\")","v":""},null,null,null,null,null,null,{"$f":"IF(Conf5!$P$55>List!AD236,List!AD236+1,\"\")","v":""},{"$f":"IF(Conf5!$P$54+Conf5!$P$55>List!AE236,List!AE236+1,\"\")","v":""},{"$f":"IF(Conf5!$P$54>List!AF236,List!AF236+1,\"\")","v":""},{"$f":"IF(Conf6!$P$55>List!AG236,List!AG236+1,\"\")","v":""},{"$f":"IF(Conf6!$P$54+Conf6!$P$55>List!AH236,List!AH236+1,\"\")","v":""},{"$f":"IF(Conf6!$P$54>List!AI236,List!AI236+1,\"\")","v":""},{"$f":"IF(Conf7!$P$55>List!AJ236,List!AJ236+1,\"\")","v":""},{"$f":"IF(Conf7!$P$54+Conf7!$P$55>List!AK236,List!AK236+1,\"\")","v":""},{"$f":"IF(Conf7!$P$54>List!AL236,List!AL236+1,\"\")","v":""},{"$f":"IF(Conf8!$P$55>List!AM236,List!AM236+1,\"\")","v":""},{"$f":"IF(Conf8!$P$54+Conf8!$P$55>List!AN236,List!AN236+1,\"\")","v":""},{"$f":"IF(Conf8!$P$54>List!AO236,List!AO236+1,\"\")","v":""},{"$f":"IF(Conf9!$P$55>List!AP236,List!AP236+1,\"\")","v":""},{"$f":"IF(Conf9!$P$54+Conf9!$P$55>List!AQ236,List!AQ236+1,\"\")","v":""},{"$f":"IF(Conf9!$P$54>List!AR236,List!AR236+1,\"\")","v":""},{"$f":"IF(Conf10!$P$55>List!AS236,List!AS236+1,\"\")","v":""},{"$f":"IF(Conf10!$P$54+Conf10!$P$55>List!AT236,List!AT236+1,\"\")","v":""},{"$f":"IF(Conf10!$P$54>List!AU236,List!AU236+1,\"\")","v":""}]
[null,null,null,null,null,null,null,null,null,null,null,{"$f":"IF(Configurator!$P$55>List!L237,List!L237+1,\"\")","v":""},{"$f":"IF(Configurator!$P$54+Configurator!$P$55>List!M237,List!M237+1,\"\")","v":""},{"$f":"IF(Configurator!$P$54>List!N237,List!N237+1,\"\")","v":""},{"$f":"IF(Conf2!$P$55>List!O237,List!O237+1,\"\")","v":""},{"$f":"IF(Conf2!$P$54+Conf2!$P$55>List!P237,List!P237+1,\"\")","v":""},{"$f":"IF(Conf2!$P$54>List!Q237,List!Q237+1,\"\")","v":""},{"$f":"IF(Conf3!$P$55>List!R237,List!R237+1,\"\")","v":""},{"$f":"IF(Conf3!$P$54+Conf3!$P$55>List!S237,List!S237+1,\"\")","v":""},{"$f":"IF(Conf3!$P$54>List!T237,List!T237+1,\"\")","v":""},{"$f":"IF(Conf4!$P$55>List!U237,List!U237+1,\"\")","v":""},{"$f":"IF(Conf4!$P$54+Conf4!$P$55>List!V237,List!V237+1,\"\")","v":""},{"$f":"IF(Conf4!$P$54>List!W237,List!W237+1,\"\")","v":""},null,null,null,null,null,null,{"$f":"IF(Conf5!$P$55>List!AD237,List!AD237+1,\"\")","v":""},{"$f":"IF(Conf5!$P$54+Conf5!$P$55>List!AE237,List!AE237+1,\"\")","v":""},{"$f":"IF(Conf5!$P$54>List!AF237,List!AF237+1,\"\")","v":""},{"$f":"IF(Conf6!$P$55>List!AG237,List!AG237+1,\"\")","v":""},{"$f":"IF(Conf6!$P$54+Conf6!$P$55>List!AH237,List!AH237+1,\"\")","v":""},{"$f":"IF(Conf6!$P$54>List!AI237,List!AI237+1,\"\")","v":""},{"$f":"IF(Conf7!$P$55>List!AJ237,List!AJ237+1,\"\")","v":""},{"$f":"IF(Conf7!$P$54+Conf7!$P$55>List!AK237,List!AK237+1,\"\")","v":""},{"$f":"IF(Conf7!$P$54>List!AL237,List!AL237+1,\"\")","v":""},{"$f":"IF(Conf8!$P$55>List!AM237,List!AM237+1,\"\")","v":""},{"$f":"IF(Conf8!$P$54+Conf8!$P$55>List!AN237,List!AN237+1,\"\")","v":""},{"$f":"IF(Conf8!$P$54>List!AO237,List!AO237+1,\"\")","v":""},{"$f":"IF(Conf9!$P$55>List!AP237,List!AP237+1,\"\")","v":""},{"$f":"IF(Conf9!$P$54+Conf9!$P$55>List!AQ237,List!AQ237+1,\"\")","v":""},{"$f":"IF(Conf9!$P$54>List!AR237,List!AR237+1,\"\")","v":""},{"$f":"IF(Conf10!$P$55>List!AS237,List!AS237+1,\"\")","v":""},{"$f":"IF(Conf10!$P$54+Conf10!$P$55>List!AT237,List!AT237+1,\"\")","v":""},{"$f":"IF(Conf10!$P$54>List!AU237,List!AU237+1,\"\")","v":""}]
[null,null,null,null,null,null,null,null,null,null,null,{"$f":"IF(Configurator!$P$55>List!L238,List!L238+1,\"\")","v":""},{"$f":"IF(Configurator!$P$54+Configurator!$P$55>List!M238,List!M238+1,\"\")","v":""},{"$f":"IF(Configurator!$P$54>List!N238,List!N238+1,\"\")","v":""},{"$f":"IF(Conf2!$P$55>List!O238,List!O238+1,\"\")","v":""},{"$f":"IF(Conf2!$P$54+Conf2!$P$55>List!P238,List!P238+1,\"\")","v":""},{"$f":"IF(Conf2!$P$54>List!Q238,List!Q238+1,\"\")","v":""},{"$f":"IF(Conf3!$P$55>List!R238,List!R238+1,\"\")","v":""},{"$f":"IF(Conf3!$P$54+Conf3!$P$55>List!S238,List!S238+1,\"\")","v":""},{"$f":"IF(Conf3!$P$54>List!T238,List!T238+1,\"\")","v":""},{"$f":"IF(Conf4!$P$55>List!U238,List!U238+1,\"\")","v":""},{"$f":"IF(Conf4!$P$54+Conf4!$P$55>List!V238,List!V238+1,\"\")","v":""},{"$f":"IF(Conf4!$P$54>List!W238,List!W238+1,\"\")","v":""},null,null,null,null,null,null,{"$f":"IF(Conf5!$P$55>List!AD238,List!AD238+1,\"\")","v":""},{"$f":"IF(Conf5!$P$54+Conf5!$P$55>List!AE238,List!AE238+1,\"\")","v":""},{"$f":"IF(Conf5!$P$54>List!AF238,List!AF238+1,\"\")","v":""},{"$f":"IF(Conf6!$P$55>List!AG238,List!AG238+1,\"\")","v":""},{"$f":"IF(Conf6!$P$54+Conf6!$P$55>List!AH238,List!AH238+1,\"\")","v":""},{"$f":"IF(Conf6!$P$54>List!AI238,List!AI238+1,\"\")","v":""},{"$f":"IF(Conf7!$P$55>List!AJ238,List!AJ238+1,\"\")","v":""},{"$f":"IF(Conf7!$P$54+Conf7!$P$55>List!AK238,List!AK238+1,\"\")","v":""},{"$f":"IF(Conf7!$P$54>List!AL238,List!AL238+1,\"\")","v":""},{"$f":"IF(Conf8!$P$55>List!AM238,List!AM238+1,\"\")","v":""},{"$f":"IF(Conf8!$P$54+Conf8!$P$55>List!AN238,List!AN238+1,\"\")","v":""},{"$f":"IF(Conf8!$P$54>List!AO238,List!AO238+1,\"\")","v":""},{"$f":"IF(Conf9!$P$55>List!AP238,List!AP238+1,\"\")","v":""},{"$f":"IF(Conf9!$P$54+Conf9!$P$55>List!AQ238,List!AQ238+1,\"\")","v":""},{"$f":"IF(Conf9!$P$54>List!AR238,List!AR238+1,\"\")","v":""},{"$f":"IF(Conf10!$P$55>List!AS238,List!AS238+1,\"\")","v":""},{"$f":"IF(Conf10!$P$54+Conf10!$P$55>List!AT238,List!AT238+1,\"\")","v":""},{"$f":"IF(Conf10!$P$54>List!AU238,List!AU238+1,\"\")","v":""}]
[null,null,null,null,null,null,null,null,null,null,null,{"$f":"IF(Configurator!$P$55>List!L239,List!L239+1,\"\")","v":""},{"$f":"IF(Configurator!$P$54+Configurator!$P$55>List!M239,List!M239+1,\"\")","v":""},{"$f":"IF(Configurator!$P$54>List!N239,List!N239+1,\"\")","v":""},{"$f":"IF(Conf2!$P$55>List!O239,List!O239+1,\"\")","v":""},{"$f":"IF(Conf2!$P$54+Conf2!$P$55>List!P239,List!P239+1,\"\")","v":""},{"$f":"IF(Conf2!$P$54>List!Q239,List!Q239+1,\"\")","v":""},{"$f":"IF(Conf3!$P$55>List!R239,List!R239+1,\"\")","v":""},{"$f":"IF(Conf3!$P$54+Conf3!$P$55>List!S239,List!S239+1,\"\")","v":""},{"$f":"IF(Conf3!$P$54>List!T239,List!T239+1,\"\")","v":""},{"$f":"IF(Conf4!$P$55>List!U239,List!U239+1,\"\")","v":""},{"$f":"IF(Conf4!$P$54+Conf4!$P$55>List!V239,List!V239+1,\"\")","v":""},{"$f":"IF(Conf4!$P$54>List!W239,List!W239+1,\"\")","v":""},null,null,null,null,null,null,{"$f":"IF(Conf5!$P$55>List!AD239,List!AD239+1,\"\")","v":""},{"$f":"IF(Conf5!$P$54+Conf5!$P$55>List!AE239,List!AE239+1,\"\")","v":""},{"$f":"IF(Conf5!$P$54>List!AF239,List!AF239+1,\"\")","v":""},{"$f":"IF(Conf6!$P$55>List!AG239,List!AG239+1,\"\")","v":""},{"$f":"IF(Conf6!$P$54+Conf6!$P$55>List!AH239,List!AH239+1,\"\")","v":""},{"$f":"IF(Conf6!$P$54>List!AI239,List!AI239+1,\"\")","v":""},{"$f":"IF(Conf7!$P$55>List!AJ239,List!AJ239+1,\"\")","v":""},{"$f":"IF(Conf7!$P$54+Conf7!$P$55>List!AK239,List!AK239+1,\"\")","v":""},{"$f":"IF(Conf7!$P$54>List!AL239,List!AL239+1,\"\")","v":""},{"$f":"IF(Conf8!$P$55>List!AM239,List!AM239+1,\"\")","v":""},{"$f":"IF(Conf8!$P$54+Conf8!$P$55>List!AN239,List!AN239+1,\"\")","v":""},{"$f":"IF(Conf8!$P$54>List!AO239,List!AO239+1,\"\")","v":""},{"$f":"IF(Conf9!$P$55>List!AP239,List!AP239+1,\"\")","v":""},{"$f":"IF(Conf9!$P$54+Conf9!$P$55>List!AQ239,List!AQ239+1,\"\")","v":""},{"$f":"IF(Conf9!$P$54>List!AR239,List!AR239+1,\"\")","v":""},{"$f":"IF(Conf10!$P$55>List!AS239,List!AS239+1,\"\")","v":""},{"$f":"IF(Conf10!$P$54+Conf10!$P$55>List!AT239,List!AT239+1,\"\")","v":""},{"$f":"IF(Conf10!$P$54>List!AU239,List!AU239+1,\"\")","v":""}]
[null,null,null,null,null,null,null,null,null,null,null,{"$f":"IF(Configurator!$P$55>List!L240,List!L240+1,\"\")","v":""},{"$f":"IF(Configurator!$P$54+Configurator!$P$55>List!M240,List!M240+1,\"\")","v":""},{"$f":"IF(Configurator!$P$54>List!N240,List!N240+1,\"\")","v":""},{"$f":"IF(Conf2!$P$55>List!O240,List!O240+1,\"\")","v":""},{"$f":"IF(Conf2!$P$54+Conf2!$P$55>List!P240,List!P240+1,\"\")","v":""},{"$f":"IF(Conf2!$P$54>List!Q240,List!Q240+1,\"\")","v":""},{"$f":"IF(Conf3!$P$55>List!R240,List!R240+1,\"\")","v":""},{"$f":"IF(Conf3!$P$54+Conf3!$P$55>List!S240,List!S240+1,\"\")","v":""},{"$f":"IF(Conf3!$P$54>List!T240,List!T240+1,\"\")","v":""},{"$f":"IF(Conf4!$P$55>List!U240,List!U240+1,\"\")","v":""},{"$f":"IF(Conf4!$P$54+Conf4!$P$55>List!V240,List!V240+1,\"\")","v":""},{"$f":"IF(Conf4!$P$54>List!W240,List!W240+1,\"\")","v":""},null,null,null,null,null,null,{"$f":"IF(Conf5!$P$55>List!AD240,List!AD240+1,\"\")","v":""},{"$f":"IF(Conf5!$P$54+Conf5!$P$55>List!AE240,List!AE240+1,\"\")","v":""},{"$f":"IF(Conf5!$P$54>List!AF240,List!AF240+1,\"\")","v":""},{"$f":"IF(Conf6!$P$55>List!AG240,List!AG240+1,\"\")","v":""},{"$f":"IF(Conf6!$P$54+Conf6!$P$55>List!AH240,List!AH240+1,\"\")","v":""},{"$f":"IF(Conf6!$P$54>List!AI240,List!AI240+1,\"\")","v":""},{"$f":"IF(Conf7!$P$55>List!AJ240,List!AJ240+1,\"\")","v":""},{"$f":"IF(Conf7!$P$54+Conf7!$P$55>List!AK240,List!AK240+1,\"\")","v":""},{"$f":"IF(Conf7!$P$54>List!AL240,List!AL240+1,\"\")","v":""},{"$f":"IF(Conf8!$P$55>List!AM240,List!AM240+1,\"\")","v":""},{"$f":"IF(Conf8!$P$54+Conf8!$P$55>List!AN240,List!AN240+1,\"\")","v":""},{"$f":"IF(Conf8!$P$54>List!AO240,List!AO240+1,\"\")","v":""},{"$f":"IF(Conf9!$P$55>List!AP240,List!AP240+1,\"\")","v":""},{"$f":"IF(Conf9!$P$54+Conf9!$P$55>List!AQ240,List!AQ240+1,\"\")","v":""},{"$f":"IF(Conf9!$P$54>List!AR240,List!AR240+1,\"\")","v":""},{"$f":"IF(Conf10!$P$55>List!AS240,List!AS240+1,\"\")","v":""},{"$f":"IF(Conf10!$P$54+Conf10!$P$55>List!AT240,List!AT240+1,\"\")","v":""},{"$f":"IF(Conf10!$P$54>List!AU240,List!AU240+1,\"\")","v":""}]
[null,null,null,null,null,null,null,null,null,null,null,{"$f":"IF(Configurator!$P$55>List!L241,List!L241+1,\"\")","v":""},{"$f":"IF(Configurator!$P$54+Configurator!$P$55>List!M241,List!M241+1,\"\")","v":""},{"$f":"IF(Configurator!$P$54>List!N241,List!N241+1,\"\")","v":""},{"$f":"IF(Conf2!$P$55>List!O241,List!O241+1,\"\")","v":""},{"$f":"IF(Conf2!$P$54+Conf2!$P$55>List!P241,List!P241+1,\"\")","v":""},{"$f":"IF(Conf2!$P$54>List!Q241,List!Q241+1,\"\")","v":""},{"$f":"IF(Conf3!$P$55>List!R241,List!R241+1,\"\")","v":""},{"$f":"IF(Conf3!$P$54+Conf3!$P$55>List!S241,List!S241+1,\"\")","v":""},{"$f":"IF(Conf3!$P$54>List!T241,List!T241+1,\"\")","v":""},{"$f":"IF(Conf4!$P$55>List!U241,List!U241+1,\"\")","v":""},{"$f":"IF(Conf4!$P$54+Conf4!$P$55>List!V241,List!V241+1,\"\")","v":""},{"$f":"IF(Conf4!$P$54>List!W241,List!W241+1,\"\")","v":""},null,null,null,null,null,null,{"$f":"IF(Conf5!$P$55>List!AD241,List!AD241+1,\"\")","v":""},{"$f":"IF(Conf5!$P$54+Conf5!$P$55>List!AE241,List!AE241+1,\"\")","v":""},{"$f":"IF(Conf5!$P$54>List!AF241,List!AF241+1,\"\")","v":""},{"$f":"IF(Conf6!$P$55>List!AG241,List!AG241+1,\"\")","v":""},{"$f":"IF(Conf6!$P$54+Conf6!$P$55>List!AH241,List!AH241+1,\"\")","v":""},{"$f":"IF(Conf6!$P$54>List!AI241,List!AI241+1,\"\")","v":""},{"$f":"IF(Conf7!$P$55>List!AJ241,List!AJ241+1,\"\")","v":""},{"$f":"IF(Conf7!$P$54+Conf7!$P$55>List!AK241,List!AK241+1,\"\")","v":""},{"$f":"IF(Conf7!$P$54>List!AL241,List!AL241+1,\"\")","v":""},{"$f":"IF(Conf8!$P$55>List!AM241,List!AM241+1,\"\")","v":""},{"$f":"IF(Conf8!$P$54+Conf8!$P$55>List!AN241,List!AN241+1,\"\")","v":""},{"$f":"IF(Conf8!$P$54>List!AO241,List!AO241+1,\"\")","v":""},{"$f":"IF(Conf9!$P$55>List!AP241,List!AP241+1,\"\")","v":""},{"$f":"IF(Conf9!$P$54+Conf9!$P$55>List!AQ241,List!AQ241+1,\"\")","v":""},{"$f":"IF(Conf9!$P$54>List!AR241,List!AR241+1,\"\")","v":""},{"$f":"IF(Conf10!$P$55>List!AS241,List!AS241+1,\"\")","v":""},{"$f":"IF(Conf10!$P$54+Conf10!$P$55>List!AT241,List!AT241+1,\"\")","v":""},{"$f":"IF(Conf10!$P$54>List!AU241,List!AU241+1,\"\")","v":""}]
[null,null,null,null,null,null,null,null,null,null,null,{"$f":"IF(Configurator!$P$55>List!L242,List!L242+1,\"\")","v":""},{"$f":"IF(Configurator!$P$54+Configurator!$P$55>List!M242,List!M242+1,\"\")","v":""},{"$f":"IF(Configurator!$P$54>List!N242,List!N242+1,\"\")","v":""},{"$f":"IF(Conf2!$P$55>List!O242,List!O242+1,\"\")","v":""},{"$f":"IF(Conf2!$P$54+Conf2!$P$55>List!P242,List!P242+1,\"\")","v":""},{"$f":"IF(Conf2!$P$54>List!Q242,List!Q242+1,\"\")","v":""},{"$f":"IF(Conf3!$P$55>List!R242,List!R242+1,\"\")","v":""},{"$f":"IF(Conf3!$P$54+Conf3!$P$55>List!S242,List!S242+1,\"\")","v":""},{"$f":"IF(Conf3!$P$54>List!T242,List!T242+1,\"\")","v":""},{"$f":"IF(Conf4!$P$55>List!U242,List!U242+1,\"\")","v":""},{"$f":"IF(Conf4!$P$54+Conf4!$P$55>List!V242,List!V242+1,\"\")","v":""},{"$f":"IF(Conf4!$P$54>List!W242,List!W242+1,\"\")","v":""},null,null,null,null,null,null,{"$f":"IF(Conf5!$P$55>List!AD242,List!AD242+1,\"\")","v":""},{"$f":"IF(Conf5!$P$54+Conf5!$P$55>List!AE242,List!AE242+1,\"\")","v":""},{"$f":"IF(Conf5!$P$54>List!AF242,List!AF242+1,\"\")","v":""},{"$f":"IF(Conf6!$P$55>List!AG242,List!AG242+1,\"\")","v":""},{"$f":"IF(Conf6!$P$54+Conf6!$P$55>List!AH242,List!AH242+1,\"\")","v":""},{"$f":"IF(Conf6!$P$54>List!AI242,List!AI242+1,\"\")","v":""},{"$f":"IF(Conf7!$P$55>List!AJ242,List!AJ242+1,\"\")","v":""},{"$f":"IF(Conf7!$P$54+Conf7!$P$55>List!AK242,List!AK242+1,\"\")","v":""},{"$f":"IF(Conf7!$P$54>List!AL242,List!AL242+1,\"\")","v":""},{"$f":"IF(Conf8!$P$55>List!AM242,List!AM242+1,\"\")","v":""},{"$f":"IF(Conf8!$P$54+Conf8!$P$55>List!AN242,List!AN242+1,\"\")","v":""},{"$f":"IF(Conf8!$P$54>List!AO242,List!AO242+1,\"\")","v":""},{"$f":"IF(Conf9!$P$55>List!AP242,List!AP242+1,\"\")","v":""},{"$f":"IF(Conf9!$P$54+Conf9!$P$55>List!AQ242,List!AQ242+1,\"\")","v":""},{"$f":"IF(Conf9!$P$54>List!AR242,List!AR242+1,\"\")","v":""},{"$f":"IF(Conf10!$P$55>List!AS242,List!AS242+1,\"\")","v":""},{"$f":"IF(Conf10!$P$54+Conf10!$P$55>List!AT242,List!AT242+1,\"\")","v":""},{"$f":"IF(Conf10!$P$54>List!AU242,List!AU242+1,\"\")","v":""}]
[null,null,null,null,null,null,null,null,null,null,null,{"$f":"IF(Configurator!$P$55>List!L243,List!L243+1,\"\")","v":""},{"$f":"IF(Configurator!$P$54+Configurator!$P$55>List!M243,List!M243+1,\"\")","v":""},{"$f":"IF(Configurator!$P$54>List!N243,List!N243+1,\"\")","v":""},{"$f":"IF(Conf2!$P$55>List!O243,List!O243+1,\"\")","v":""},{"$f":"IF(Conf2!$P$54+Conf2!$P$55>List!P243,List!P243+1,\"\")","v":""},{"$f":"IF(Conf2!$P$54>List!Q243,List!Q243+1,\"\")","v":""},{"$f":"IF(Conf3!$P$55>List!R243,List!R243+1,\"\")","v":""},{"$f":"IF(Conf3!$P$54+Conf3!$P$55>List!S243,List!S243+1,\"\")","v":""},{"$f":"IF(Conf3!$P$54>List!T243,List!T243+1,\"\")","v":""},{"$f":"IF(Conf4!$P$55>List!U243,List!U243+1,\"\")","v":""},{"$f":"IF(Conf4!$P$54+Conf4!$P$55>List!V243,List!V243+1,\"\")","v":""},{"$f":"IF(Conf4!$P$54>List!W243,List!W243+1,\"\")","v":""},null,null,null,null,null,null,{"$f":"IF(Conf5!$P$55>List!AD243,List!AD243+1,\"\")","v":""},{"$f":"IF(Conf5!$P$54+Conf5!$P$55>List!AE243,List!AE243+1,\"\")","v":""},{"$f":"IF(Conf5!$P$54>List!AF243,List!AF243+1,\"\")","v":""},{"$f":"IF(Conf6!$P$55>List!AG243,List!AG243+1,\"\")","v":""},{"$f":"IF(Conf6!$P$54+Conf6!$P$55>List!AH243,List!AH243+1,\"\")","v":""},{"$f":"IF(Conf6!$P$54>List!AI243,List!AI243+1,\"\")","v":""},{"$f":"IF(Conf7!$P$55>List!AJ243,List!AJ243+1,\"\")","v":""},{"$f":"IF(Conf7!$P$54+Conf7!$P$55>List!AK243,List!AK243+1,\"\")","v":""},{"$f":"IF(Conf7!$P$54>List!AL243,List!AL243+1,\"\")","v":""},{"$f":"IF(Conf8!$P$55>List!AM243,List!AM243+1,\"\")","v":""},{"$f":"IF(Conf8!$P$54+Conf8!$P$55>List!AN243,List!AN243+1,\"\")","v":""},{"$f":"IF(Conf8!$P$54>List!AO243,List!AO243+1,\"\")","v":""},{"$f":"IF(Conf9!$P$55>List!AP243,List!AP243+1,\"\")","v":""},{"$f":"IF(Conf9!$P$54+Conf9!$P$55>List!AQ243,List!AQ243+1,\"\")","v":""},{"$f":"IF(Conf9!$P$54>List!AR243,List!AR243+1,\"\")","v":""},{"$f":"IF(Conf10!$P$55>List!AS243,List!AS243+1,\"\")","v":""},{"$f":"IF(Conf10!$P$54+Conf10!$P$55>List!AT243,List!AT243+1,\"\")","v":""},{"$f":"IF(Conf10!$P$54>List!AU243,List!AU243+1,\"\")","v":""}]
[null,null,null,null,null,null,null,null,null,null,null,{"$f":"IF(Configurator!$P$55>List!L244,List!L244+1,\"\")","v":""},{"$f":"IF(Configurator!$P$54+Configurator!$P$55>List!M244,List!M244+1,\"\")","v":""},{"$f":"IF(Configurator!$P$54>List!N244,List!N244+1,\"\")","v":""},{"$f":"IF(Conf2!$P$55>List!O244,List!O244+1,\"\")","v":""},{"$f":"IF(Conf2!$P$54+Conf2!$P$55>List!P244,List!P244+1,\"\")","v":""},{"$f":"IF(Conf2!$P$54>List!Q244,List!Q244+1,\"\")","v":""},{"$f":"IF(Conf3!$P$55>List!R244,List!R244+1,\"\")","v":""},{"$f":"IF(Conf3!$P$54+Conf3!$P$55>List!S244,List!S244+1,\"\")","v":""},{"$f":"IF(Conf3!$P$54>List!T244,List!T244+1,\"\")","v":""},{"$f":"IF(Conf4!$P$55>List!U244,List!U244+1,\"\")","v":""},{"$f":"IF(Conf4!$P$54+Conf4!$P$55>List!V244,List!V244+1,\"\")","v":""},{"$f":"IF(Conf4!$P$54>List!W244,List!W244+1,\"\")","v":""},null,null,null,null,null,null,{"$f":"IF(Conf5!$P$55>List!AD244,List!AD244+1,\"\")","v":""},{"$f":"IF(Conf5!$P$54+Conf5!$P$55>List!AE244,List!AE244+1,\"\")","v":""},{"$f":"IF(Conf5!$P$54>List!AF244,List!AF244+1,\"\")","v":""},{"$f":"IF(Conf6!$P$55>List!AG244,List!AG244+1,\"\")","v":""},{"$f":"IF(Conf6!$P$54+Conf6!$P$55>List!AH244,List!AH244+1,\"\")","v":""},{"$f":"IF(Conf6!$P$54>List!AI244,List!AI244+1,\"\")","v":""},{"$f":"IF(Conf7!$P$55>List!AJ244,List!AJ244+1,\"\")","v":""},{"$f":"IF(Conf7!$P$54+Conf7!$P$55>List!AK244,List!AK244+1,\"\")","v":""},{"$f":"IF(Conf7!$P$54>List!AL244,List!AL244+1,\"\")","v":""},{"$f":"IF(Conf8!$P$55>List!AM244,List!AM244+1,\"\")","v":""},{"$f":"IF(Conf8!$P$54+Conf8!$P$55>List!AN244,List!AN244+1,\"\")","v":""},{"$f":"IF(Conf8!$P$54>List!AO244,List!AO244+1,\"\")","v":""},{"$f":"IF(Conf9!$P$55>List!AP244,List!AP244+1,\"\")","v":""},{"$f":"IF(Conf9!$P$54+Conf9!$P$55>List!AQ244,List!AQ244+1,\"\")","v":""},{"$f":"IF(Conf9!$P$54>List!AR244,List!AR244+1,\"\")","v":""},{"$f":"IF(Conf10!$P$55>List!AS244,List!AS244+1,\"\")","v":""},{"$f":"IF(Conf10!$P$54+Conf10!$P$55>List!AT244,List!AT244+1,\"\")","v":""},{"$f":"IF(Conf10!$P$54>List!AU244,List!AU244+1,\"\")","v":""}]
[null,null,null,null,null,null,null,null,null,null,null,{"$f":"IF(Configurator!$P$55>List!L245,List!L245+1,\"\")","v":""},{"$f":"IF(Configurator!$P$54+Configurator!$P$55>List!M245,List!M245+1,\"\")","v":""},{"$f":"IF(Configurator!$P$54>List!N245,List!N245+1,\"\")","v":""},{"$f":"IF(Conf2!$P$55>List!O245,List!O245+1,\"\")","v":""},{"$f":"IF(Conf2!$P$54+Conf2!$P$55>List!P245,List!P245+1,\"\")","v":""},{"$f":"IF(Conf2!$P$54>List!Q245,List!Q245+1,\"\")","v":""},{"$f":"IF(Conf3!$P$55>List!R245,List!R245+1,\"\")","v":""},{"$f":"IF(Conf3!$P$54+Conf3!$P$55>List!S245,List!S245+1,\"\")","v":""},{"$f":"IF(Conf3!$P$54>List!T245,List!T245+1,\"\")","v":""},{"$f":"IF(Conf4!$P$55>List!U245,List!U245+1,\"\")","v":""},{"$f":"IF(Conf4!$P$54+Conf4!$P$55>List!V245,List!V245+1,\"\")","v":""},{"$f":"IF(Conf4!$P$54>List!W245,List!W245+1,\"\")","v":""},null,null,null,null,null,null,{"$f":"IF(Conf5!$P$55>List!AD245,List!AD245+1,\"\")","v":""},{"$f":"IF(Conf5!$P$54+Conf5!$P$55>List!AE245,List!AE245+1,\"\")","v":""},{"$f":"IF(Conf5!$P$54>List!AF245,List!AF245+1,\"\")","v":""},{"$f":"IF(Conf6!$P$55>List!AG245,List!AG245+1,\"\")","v":""},{"$f":"IF(Conf6!$P$54+Conf6!$P$55>List!AH245,List!AH245+1,\"\")","v":""},{"$f":"IF(Conf6!$P$54>List!AI245,List!AI245+1,\"\")","v":""},{"$f":"IF(Conf7!$P$55>List!AJ245,List!AJ245+1,\"\")","v":""},{"$f":"IF(Conf7!$P$54+Conf7!$P$55>List!AK245,List!AK245+1,\"\")","v":""},{"$f":"IF(Conf7!$P$54>List!AL245,List!AL245+1,\"\")","v":""},{"$f":"IF(Conf8!$P$55>List!AM245,List!AM245+1,\"\")","v":""},{"$f":"IF(Conf8!$P$54+Conf8!$P$55>List!AN245,List!AN245+1,\"\")","v":""},{"$f":"IF(Conf8!$P$54>List!AO245,List!AO245+1,\"\")","v":""},{"$f":"IF(Conf9!$P$55>List!AP245,List!AP245+1,\"\")","v":""},{"$f":"IF(Conf9!$P$54+Conf9!$P$55>List!AQ245,List!AQ245+1,\"\")","v":""},{"$f":"IF(Conf9!$P$54>List!AR245,List!AR245+1,\"\")","v":""},{"$f":"IF(Conf10!$P$55>List!AS245,List!AS245+1,\"\")","v":""},{"$f":"IF(Conf10!$P$54+Conf10!$P$55>List!AT245,List!AT245+1,\"\")","v":""},{"$f":"IF(Conf10!$P$54>List!AU245,List!AU245+1,\"\")","v":""}]
[null,null,null,null,null,null,null,null,null,null,null,{"$f":"IF(Configurator!$P$55>List!L246,List!L246+1,\"\")","v":""},{"$f":"IF(Configurator!$P$54+Configurator!$P$55>List!M246,List!M246+1,\"\")","v":""},{"$f":"IF(Configurator!$P$54>List!N246,List!N246+1,\"\")","v":""},{"$f":"IF(Conf2!$P$55>List!O246,List!O246+1,\"\")","v":""},{"$f":"IF(Conf2!$P$54+Conf2!$P$55>List!P246,List!P246+1,\"\")","v":""},{"$f":"IF(Conf2!$P$54>List!Q246,List!Q246+1,\"\")","v":""},{"$f":"IF(Conf3!$P$55>List!R246,List!R246+1,\"\")","v":""},{"$f":"IF(Conf3!$P$54+Conf3!$P$55>List!S246,List!S246+1,\"\")","v":""},{"$f":"IF(Conf3!$P$54>List!T246,List!T246+1,\"\")","v":""},{"$f":"IF(Conf4!$P$55>List!U246,List!U246+1,\"\")","v":""},{"$f":"IF(Conf4!$P$54+Conf4!$P$55>List!V246,List!V246+1,\"\")","v":""},{"$f":"IF(Conf4!$P$54>List!W246,List!W246+1,\"\")","v":""},null,null,null,null,null,null,{"$f":"IF(Conf5!$P$55>List!AD246,List!AD246+1,\"\")","v":""},{"$f":"IF(Conf5!$P$54+Conf5!$P$55>List!AE246,List!AE246+1,\"\")","v":""},{"$f":"IF(Conf5!$P$54>List!AF246,List!AF246+1,\"\")","v":""},{"$f":"IF(Conf6!$P$55>List!AG246,List!AG246+1,\"\")","v":""},{"$f":"IF(Conf6!$P$54+Conf6!$P$55>List!AH246,List!AH246+1,\"\")","v":""},{"$f":"IF(Conf6!$P$54>List!AI246,List!AI246+1,\"\")","v":""},{"$f":"IF(Conf7!$P$55>List!AJ246,List!AJ246+1,\"\")","v":""},{"$f":"IF(Conf7!$P$54+Conf7!$P$55>List!AK246,List!AK246+1,\"\")","v":""},{"$f":"IF(Conf7!$P$54>List!AL246,List!AL246+1,\"\")","v":""},{"$f":"IF(Conf8!$P$55>List!AM246,List!AM246+1,\"\")","v":""},{"$f":"IF(Conf8!$P$54+Conf8!$P$55>List!AN246,List!AN246+1,\"\")","v":""},{"$f":"IF(Conf8!$P$54>List!AO246,List!AO246+1,\"\")","v":""},{"$f":"IF(Conf9!$P$55>List!AP246,List!AP246+1,\"\")","v":""},{"$f":"IF(Conf9!$P$54+Conf9!$P$55>List!AQ246,List!AQ246+1,\"\")","v":""},{"$f":"IF(Conf9!$P$54>List!AR246,List!AR246+1,\"\")","v":""},{"$f":"IF(Conf10!$P$55>List!AS246,List!AS246+1,\"\")","v":""},{"$f":"IF(Conf10!$P$54+Conf10!$P$55>List!AT246,List!AT246+1,\"\")","v":""},{"$f":"IF(Conf10!$P$54>List!AU246,List!AU246+1,\"\")","v":""}]
[null,null,null,null,null,null,null,null,null,null,null,{"$f":"IF(Configurator!$P$55>List!L247,List!L247+1,\"\")","v":""},{"$f":"IF(Configurator!$P$54+Configurator!$P$55>List!M247,List!M247+1,\"\")","v":""},{"$f":"IF(Configurator!$P$54>List!N247,List!N247+1,\"\")","v":""},{"$f":"IF(Conf2!$P$55>List!O247,List!O247+1,\"\")","v":""},{"$f":"IF(Conf2!$P$54+Conf2!$P$55>List!P247,List!P247+1,\"\")","v":""},{"$f":"IF(Conf2!$P$54>List!Q247,List!Q247+1,\"\")","v":""},{"$f":"IF(Conf3!$P$55>List!R247,List!R247+1,\"\")","v":""},{"$f":"IF(Conf3!$P$54+Conf3!$P$55>List!S247,List!S247+1,\"\")","v":""},{"$f":"IF(Conf3!$P$54>List!T247,List!T247+1,\"\")","v":""},{"$f":"IF(Conf4!$P$55>List!U247,List!U247+1,\"\")","v":""},{"$f":"IF(Conf4!$P$54+Conf4!$P$55>List!V247,List!V247+1,\"\")","v":""},{"$f":"IF(Conf4!$P$54>List!W247,List!W247+1,\"\")","v":""},null,null,null,null,null,null,{"$f":"IF(Conf5!$P$55>List!AD247,List!AD247+1,\"\")","v":""},{"$f":"IF(Conf5!$P$54+Conf5!$P$55>List!AE247,List!AE247+1,\"\")","v":""},{"$f":"IF(Conf5!$P$54>List!AF247,List!AF247+1,\"\")","v":""},{"$f":"IF(Conf6!$P$55>List!AG247,List!AG247+1,\"\")","v":""},{"$f":"IF(Conf6!$P$54+Conf6!$P$55>List!AH247,List!AH247+1,\"\")","v":""},{"$f":"IF(Conf6!$P$54>List!AI247,List!AI247+1,\"\")","v":""},{"$f":"IF(Conf7!$P$55>List!AJ247,List!AJ247+1,\"\")","v":""},{"$f":"IF(Conf7!$P$54+Conf7!$P$55>List!AK247,List!AK247+1,\"\")","v":""},{"$f":"IF(Conf7!$P$54>List!AL247,List!AL247+1,\"\")","v":""},{"$f":"IF(Conf8!$P$55>List!AM247,List!AM247+1,\"\")","v":""},{"$f":"IF(Conf8!$P$54+Conf8!$P$55>List!AN247,List!AN247+1,\"\")","v":""},{"$f":"IF(Conf8!$P$54>List!AO247,List!AO247+1,\"\")","v":""},{"$f":"IF(Conf9!$P$55>List!AP247,List!AP247+1,\"\")","v":""},{"$f":"IF(Conf9!$P$54+Conf9!$P$55>List!AQ247,List!AQ247+1,\"\")","v":""},{"$f":"IF(Conf9!$P$54>List!AR247,List!AR247+1,\"\")","v":""},{"$f":"IF(Conf10!$P$55>List!AS247,List!AS247+1,\"\")","v":""},{"$f":"IF(Conf10!$P$54+Conf10!$P$55>List!AT247,List!AT247+1,\"\")","v":""},{"$f":"IF(Conf10!$P$54>List!AU247,List!AU247+1,\"\")","v":""}]
[null,null,null,null,null,null,null,null,null,null,null,{"$f":"IF(Configurator!$P$55>List!L248,List!L248+1,\"\")","v":""},{"$f":"IF(Configurator!$P$54+Configurator!$P$55>List!M248,List!M248+1,\"\")","v":""},{"$f":"IF(Configurator!$P$54>List!N248,List!N248+1,\"\")","v":""},{"$f":"IF(Conf2!$P$55>List!O248,List!O248+1,\"\")","v":""},{"$f":"IF(Conf2!$P$54+Conf2!$P$55>List!P248,List!P248+1,\"\")","v":""},{"$f":"IF(Conf2!$P$54>List!Q248,List!Q248+1,\"\")","v":""},{"$f":"IF(Conf3!$P$55>List!R248,List!R248+1,\"\")","v":""},{"$f":"IF(Conf3!$P$54+Conf3!$P$55>List!S248,List!S248+1,\"\")","v":""},{"$f":"IF(Conf3!$P$54>List!T248,List!T248+1,\"\")","v":""},{"$f":"IF(Conf4!$P$55>List!U248,List!U248+1,\"\")","v":""},{"$f":"IF(Conf4!$P$54+Conf4!$P$55>List!V248,List!V248+1,\"\")","v":""},{"$f":"IF(Conf4!$P$54>List!W248,List!W248+1,\"\")","v":""},null,null,null,null,null,null,{"$f":"IF(Conf5!$P$55>List!AD248,List!AD248+1,\"\")","v":""},{"$f":"IF(Conf5!$P$54+Conf5!$P$55>List!AE248,List!AE248+1,\"\")","v":""},{"$f":"IF(Conf5!$P$54>List!AF248,List!AF248+1,\"\")","v":""},{"$f":"IF(Conf6!$P$55>List!AG248,List!AG248+1,\"\")","v":""},{"$f":"IF(Conf6!$P$54+Conf6!$P$55>List!AH248,List!AH248+1,\"\")","v":""},{"$f":"IF(Conf6!$P$54>List!AI248,List!AI248+1,\"\")","v":""},{"$f":"IF(Conf7!$P$55>List!AJ248,List!AJ248+1,\"\")","v":""},{"$f":"IF(Conf7!$P$54+Conf7!$P$55>List!AK248,List!AK248+1,\"\")","v":""},{"$f":"IF(Conf7!$P$54>List!AL248,List!AL248+1,\"\")","v":""},{"$f":"IF(Conf8!$P$55>List!AM248,List!AM248+1,\"\")","v":""},{"$f":"IF(Conf8!$P$54+Conf8!$P$55>List!AN248,List!AN248+1,\"\")","v":""},{"$f":"IF(Conf8!$P$54>List!AO248,List!AO248+1,\"\")","v":""},{"$f":"IF(Conf9!$P$55>List!AP248,List!AP248+1,\"\")","v":""},{"$f":"IF(Conf9!$P$54+Conf9!$P$55>List!AQ248,List!AQ248+1,\"\")","v":""},{"$f":"IF(Conf9!$P$54>List!AR248,List!AR248+1,\"\")","v":""},{"$f":"IF(Conf10!$P$55>List!AS248,List!AS248+1,\"\")","v":""},{"$f":"IF(Conf10!$P$54+Conf10!$P$55>List!AT248,List!AT248+1,\"\")","v":""},{"$f":"IF(Conf10!$P$54>List!AU248,List!AU248+1,\"\")","v":""}]
[null,null,null,null,null,null,null,null,null,null,null,{"$f":"IF(Configurator!$P$55>List!L249,List!L249+1,\"\")","v":""},{"$f":"IF(Configurator!$P$54+Configurator!$P$55>List!M249,List!M249+1,\"\")","v":""},{"$f":"IF(Configurator!$P$54>List!N249,List!N249+1,\"\")","v":""},{"$f":"IF(Conf2!$P$55>List!O249,List!O249+1,\"\")","v":""},{"$f":"IF(Conf2!$P$54+Conf2!$P$55>List!P249,List!P249+1,\"\")","v":""},{"$f":"IF(Conf2!$P$54>List!Q249,List!Q249+1,\"\")","v":""},{"$f":"IF(Conf3!$P$55>List!R249,List!R249+1,\"\")","v":""},{"$f":"IF(Conf3!$P$54+Conf3!$P$55>List!S249,List!S249+1,\"\")","v":""},{"$f":"IF(Conf3!$P$54>List!T249,List!T249+1,\"\")","v":""},{"$f":"IF(Conf4!$P$55>List!U249,List!U249+1,\"\")","v":""},{"$f":"IF(Conf4!$P$54+Conf4!$P$55>List!V249,List!V249+1,\"\")","v":""},{"$f":"IF(Conf4!$P$54>List!W249,List!W249+1,\"\")","v":""},null,null,null,null,null,null,{"$f":"IF(Conf5!$P$55>List!AD249,List!AD249+1,\"\")","v":""},{"$f":"IF(Conf5!$P$54+Conf5!$P$55>List!AE249,List!AE249+1,\"\")","v":""},{"$f":"IF(Conf5!$P$54>List!AF249,List!AF249+1,\"\")","v":""},{"$f":"IF(Conf6!$P$55>List!AG249,List!AG249+1,\"\")","v":""},{"$f":"IF(Conf6!$P$54+Conf6!$P$55>List!AH249,List!AH249+1,\"\")","v":""},{"$f":"IF(Conf6!$P$54>List!AI249,List!AI249+1,\"\")","v":""},{"$f":"IF(Conf7!$P$55>List!AJ249,List!AJ249+1,\"\")","v":""},{"$f":"IF(Conf7!$P$54+Conf7!$P$55>List!AK249,List!AK249+1,\"\")","v":""},{"$f":"IF(Conf7!$P$54>List!AL249,List!AL249+1,\"\")","v":""},{"$f":"IF(Conf8!$P$55>List!AM249,List!AM249+1,\"\")","v":""},{"$f":"IF(Conf8!$P$54+Conf8!$P$55>List!AN249,List!AN249+1,\"\")","v":""},{"$f":"IF(Conf8!$P$54>List!AO249,List!AO249+1,\"\")","v":""},{"$f":"IF(Conf9!$P$55>List!AP249,List!AP249+1,\"\")","v":""},{"$f":"IF(Conf9!$P$54+Conf9!$P$55>List!AQ249,List!AQ249+1,\"\")","v":""},{"$f":"IF(Conf9!$P$54>List!AR249,List!AR249+1,\"\")","v":""},{"$f":"IF(Conf10!$P$55>List!AS249,List!AS249+1,\"\")","v":""},{"$f":"IF(Conf10!$P$54+Conf10!$P$55>List!AT249,List!AT249+1,\"\")","v":""},{"$f":"IF(Conf10!$P$54>List!AU249,List!AU249+1,\"\")","v":""}]
[null,null,null,null,null,null,null,null,null,null,null,{"$f":"IF(Configurator!$P$55>List!L250,List!L250+1,\"\")","v":""},{"$f":"IF(Configurator!$P$54+Configurator!$P$55>List!M250,List!M250+1,\"\")","v":""},{"$f":"IF(Configurator!$P$54>List!N250,List!N250+1,\"\")","v":""},{"$f":"IF(Conf2!$P$55>List!O250,List!O250+1,\"\")","v":""},{"$f":"IF(Conf2!$P$54+Conf2!$P$55>List!P250,List!P250+1,\"\")","v":""},{"$f":"IF(Conf2!$P$54>List!Q250,List!Q250+1,\"\")","v":""},{"$f":"IF(Conf3!$P$55>List!R250,List!R250+1,\"\")","v":""},{"$f":"IF(Conf3!$P$54+Conf3!$P$55>List!S250,List!S250+1,\"\")","v":""},{"$f":"IF(Conf3!$P$54>List!T250,List!T250+1,\"\")","v":""},{"$f":"IF(Conf4!$P$55>List!U250,List!U250+1,\"\")","v":""},{"$f":"IF(Conf4!$P$54+Conf4!$P$55>List!V250,List!V250+1,\"\")","v":""},{"$f":"IF(Conf4!$P$54>List!W250,List!W250+1,\"\")","v":""},null,null,null,null,null,null,{"$f":"IF(Conf5!$P$55>List!AD250,List!AD250+1,\"\")","v":""},{"$f":"IF(Conf5!$P$54+Conf5!$P$55>List!AE250,List!AE250+1,\"\")","v":""},{"$f":"IF(Conf5!$P$54>List!AF250,List!AF250+1,\"\")","v":""},{"$f":"IF(Conf6!$P$55>List!AG250,List!AG250+1,\"\")","v":""},{"$f":"IF(Conf6!$P$54+Conf6!$P$55>List!AH250,List!AH250+1,\"\")","v":""},{"$f":"IF(Conf6!$P$54>List!AI250,List!AI250+1,\"\")","v":""},{"$f":"IF(Conf7!$P$55>List!AJ250,List!AJ250+1,\"\")","v":""},{"$f":"IF(Conf7!$P$54+Conf7!$P$55>List!AK250,List!AK250+1,\"\")","v":""},{"$f":"IF(Conf7!$P$54>List!AL250,List!AL250+1,\"\")","v":""},{"$f":"IF(Conf8!$P$55>List!AM250,List!AM250+1,\"\")","v":""},{"$f":"IF(Conf8!$P$54+Conf8!$P$55>List!AN250,List!AN250+1,\"\")","v":""},{"$f":"IF(Conf8!$P$54>List!AO250,List!AO250+1,\"\")","v":""},{"$f":"IF(Conf9!$P$55>List!AP250,List!AP250+1,\"\")","v":""},{"$f":"IF(Conf9!$P$54+Conf9!$P$55>List!AQ250,List!AQ250+1,\"\")","v":""},{"$f":"IF(Conf9!$P$54>List!AR250,List!AR250+1,\"\")","v":""},{"$f":"IF(Conf10!$P$55>List!AS250,List!AS250+1,\"\")","v":""},{"$f":"IF(Conf10!$P$54+Conf10!$P$55>List!AT250,List!AT250+1,\"\")","v":""},{"$f":"IF(Conf10!$P$54>List!AU250,List!AU250+1,\"\")","v":""}]
[null,null,null,null,null,null,null,null,null,null,null,{"$f":"IF(Configurator!$P$55>List!L251,List!L251+1,\"\")","v":""},{"$f":"IF(Configurator!$P$54+Configurator!$P$55>List!M251,List!M251+1,\"\")","v":""},{"$f":"IF(Configurator!$P$54>List!N251,List!N251+1,\"\")","v":""},{"$f":"IF(Conf2!$P$55>List!O251,List!O251+1,\"\")","v":""},{"$f":"IF(Conf2!$P$54+Conf2!$P$55>List!P251,List!P251+1,\"\")","v":""},{"$f":"IF(Conf2!$P$54>List!Q251,List!Q251+1,\"\")","v":""},{"$f":"IF(Conf3!$P$55>List!R251,List!R251+1,\"\")","v":""},{"$f":"IF(Conf3!$P$54+Conf3!$P$55>List!S251,List!S251+1,\"\")","v":""},{"$f":"IF(Conf3!$P$54>List!T251,List!T251+1,\"\")","v":""},{"$f":"IF(Conf4!$P$55>List!U251,List!U251+1,\"\")","v":""},{"$f":"IF(Conf4!$P$54+Conf4!$P$55>List!V251,List!V251+1,\"\")","v":""},{"$f":"IF(Conf4!$P$54>List!W251,List!W251+1,\"\")","v":""},null,null,null,null,null,null,{"$f":"IF(Conf5!$P$55>List!AD251,List!AD251+1,\"\")","v":""},{"$f":"IF(Conf5!$P$54+Conf5!$P$55>List!AE251,List!AE251+1,\"\")","v":""},{"$f":"IF(Conf5!$P$54>List!AF251,List!AF251+1,\"\")","v":""},{"$f":"IF(Conf6!$P$55>List!AG251,List!AG251+1,\"\")","v":""},{"$f":"IF(Conf6!$P$54+Conf6!$P$55>List!AH251,List!AH251+1,\"\")","v":""},{"$f":"IF(Conf6!$P$54>List!AI251,List!AI251+1,\"\")","v":""},{"$f":"IF(Conf7!$P$55>List!AJ251,List!AJ251+1,\"\")","v":""},{"$f":"IF(Conf7!$P$54+Conf7!$P$55>List!AK251,List!AK251+1,\"\")","v":""},{"$f":"IF(Conf7!$P$54>List!AL251,List!AL251+1,\"\")","v":""},{"$f":"IF(Conf8!$P$55>List!AM251,List!AM251+1,\"\")","v":""},{"$f":"IF(Conf8!$P$54+Conf8!$P$55>List!AN251,List!AN251+1,\"\")","v":""},{"$f":"IF(Conf8!$P$54>List!AO251,List!AO251+1,\"\")","v":""},{"$f":"IF(Conf9!$P$55>List!AP251,List!AP251+1,\"\")","v":""},{"$f":"IF(Conf9!$P$54+Conf9!$P$55>List!AQ251,List!AQ251+1,\"\")","v":""},{"$f":"IF(Conf9!$P$54>List!AR251,List!AR251+1,\"\")","v":""},{"$f":"IF(Conf10!$P$55>List!AS251,List!AS251+1,\"\")","v":""},{"$f":"IF(Conf10!$P$54+Conf10!$P$55>List!AT251,List!AT251+1,\"\")","v":""},{"$f":"IF(Conf10!$P$54>List!AU251,List!AU251+1,\"\")","v":""}]
[null,null,null,null,null,null,null,null,null,null,null,{"$f":"IF(Configurator!$P$55>List!L252,List!L252+1,\"\")","v":""},{"$f":"IF(Configurator!$P$54+Configurator!$P$55>List!M252,List!M252+1,\"\")","v":""},{"$f":"IF(Configurator!$P$54>List!N252,List!N252+1,\"\")","v":""},{"$f":"IF(Conf2!$P$55>List!O252,List!O252+1,\"\")","v":""},{"$f":"IF(Conf2!$P$54+Conf2!$P$55>List!P252,List!P252+1,\"\")","v":""},{"$f":"IF(Conf2!$P$54>List!Q252,List!Q252+1,\"\")","v":""},{"$f":"IF(Conf3!$P$55>List!R252,List!R252+1,\"\")","v":""},{"$f":"IF(Conf3!$P$54+Conf3!$P$55>List!S252,List!S252+1,\"\")","v":""},{"$f":"IF(Conf3!$P$54>List!T252,List!T252+1,\"\")","v":""},{"$f":"IF(Conf4!$P$55>List!U252,List!U252+1,\"\")","v":""},{"$f":"IF(Conf4!$P$54+Conf4!$P$55>List!V252,List!V252+1,\"\")","v":""},{"$f":"IF(Conf4!$P$54>List!W252,List!W252+1,\"\")","v":""},null,null,null,null,null,null,{"$f":"IF(Conf5!$P$55>List!AD252,List!AD252+1,\"\")","v":""},{"$f":"IF(Conf5!$P$54+Conf5!$P$55>List!AE252,List!AE252+1,\"\")","v":""},{"$f":"IF(Conf5!$P$54>List!AF252,List!AF252+1,\"\")","v":""},{"$f":"IF(Conf6!$P$55>List!AG252,List!AG252+1,\"\")","v":""},{"$f":"IF(Conf6!$P$54+Conf6!$P$55>List!AH252,List!AH252+1,\"\")","v":""},{"$f":"IF(Conf6!$P$54>List!AI252,List!AI252+1,\"\")","v":""},{"$f":"IF(Conf7!$P$55>List!AJ252,List!AJ252+1,\"\")","v":""},{"$f":"IF(Conf7!$P$54+Conf7!$P$55>List!AK252,List!AK252+1,\"\")","v":""},{"$f":"IF(Conf7!$P$54>List!AL252,List!AL252+1,\"\")","v":""},{"$f":"IF(Conf8!$P$55>List!AM252,List!AM252+1,\"\")","v":""},{"$f":"IF(Conf8!$P$54+Conf8!$P$55>List!AN252,List!AN252+1,\"\")","v":""},{"$f":"IF(Conf8!$P$54>List!AO252,List!AO252+1,\"\")","v":""},{"$f":"IF(Conf9!$P$55>List!AP252,List!AP252+1,\"\")","v":""},{"$f":"IF(Conf9!$P$54+Conf9!$P$55>List!AQ252,List!AQ252+1,\"\")","v":""},{"$f":"IF(Conf9!$P$54>List!AR252,List!AR252+1,\"\")","v":""},{"$f":"IF(Conf10!$P$55>List!AS252,List!AS252+1,\"\")","v":""},{"$f":"IF(Conf10!$P$54+Conf10!$P$55>List!AT252,List!AT252+1,\"\")","v":""},{"$f":"IF(Conf10!$P$54>List!AU252,List!AU252+1,\"\")","v":""}]
[null,null,null,null,null,null,null,null,null,null,null,{"$f":"IF(Configurator!$P$55>List!L253,List!L253+1,\"\")","v":""},{"$f":"IF(Configurator!$P$54+Configurator!$P$55>List!M253,List!M253+1,\"\")","v":""},{"$f":"IF(Configurator!$P$54>List!N253,List!N253+1,\"\")","v":""},{"$f":"IF(Conf2!$P$55>List!O253,List!O253+1,\"\")","v":""},{"$f":"IF(Conf2!$P$54+Conf2!$P$55>List!P253,List!P253+1,\"\")","v":""},{"$f":"IF(Conf2!$P$54>List!Q253,List!Q253+1,\"\")","v":""},{"$f":"IF(Conf3!$P$55>List!R253,List!R253+1,\"\")","v":""},{"$f":"IF(Conf3!$P$54+Conf3!$P$55>List!S253,List!S253+1,\"\")","v":""},{"$f":"IF(Conf3!$P$54>List!T253,List!T253+1,\"\")","v":""},{"$f":"IF(Conf4!$P$55>List!U253,List!U253+1,\"\")","v":""},{"$f":"IF(Conf4!$P$54+Conf4!$P$55>List!V253,List!V253+1,\"\")","v":""},{"$f":"IF(Conf4!$P$54>List!W253,List!W253+1,\"\")","v":""},null,null,null,null,null,null,{"$f":"IF(Conf5!$P$55>List!AD253,List!AD253+1,\"\")","v":""},{"$f":"IF(Conf5!$P$54+Conf5!$P$55>List!AE253,List!AE253+1,\"\")","v":""},{"$f":"IF(Conf5!$P$54>List!AF253,List!AF253+1,\"\")","v":""},{"$f":"IF(Conf6!$P$55>List!AG253,List!AG253+1,\"\")","v":""},{"$f":"IF(Conf6!$P$54+Conf6!$P$55>List!AH253,List!AH253+1,\"\")","v":""},{"$f":"IF(Conf6!$P$54>List!AI253,List!AI253+1,\"\")","v":""},{"$f":"IF(Conf7!$P$55>List!AJ253,List!AJ253+1,\"\")","v":""},{"$f":"IF(Conf7!$P$54+Conf7!$P$55>List!AK253,List!AK253+1,\"\")","v":""},{"$f":"IF(Conf7!$P$54>List!AL253,List!AL253+1,\"\")","v":""},{"$f":"IF(Conf8!$P$55>List!AM253,List!AM253+1,\"\")","v":""},{"$f":"IF(Conf8!$P$54+Conf8!$P$55>List!AN253,List!AN253+1,\"\")","v":""},{"$f":"IF(Conf8!$P$54>List!AO253,List!AO253+1,\"\")","v":""},{"$f":"IF(Conf9!$P$55>List!AP253,List!AP253+1,\"\")","v":""},{"$f":"IF(Conf9!$P$54+Conf9!$P$55>List!AQ253,List!AQ253+1,\"\")","v":""},{"$f":"IF(Conf9!$P$54>List!AR253,List!AR253+1,\"\")","v":""},{"$f":"IF(Conf10!$P$55>List!AS253,List!AS253+1,\"\")","v":""},{"$f":"IF(Conf10!$P$54+Conf10!$P$55>List!AT253,List!AT253+1,\"\")","v":""},{"$f":"IF(Conf10!$P$54>List!AU253,List!AU253+1,\"\")","v":""}]
[null,null,null,null,null,null,null,null,null,null,null,{"$f":"IF(Configurator!$P$55>List!L254,List!L254+1,\"\")","v":""},{"$f":"IF(Configurator!$P$54+Configurator!$P$55>List!M254,List!M254+1,\"\")","v":""},{"$f":"IF(Configurator!$P$54>List!N254,List!N254+1,\"\")","v":""},{"$f":"IF(Conf2!$P$55>List!O254,List!O254+1,\"\")","v":""},{"$f":"IF(Conf2!$P$54+Conf2!$P$55>List!P254,List!P254+1,\"\")","v":""},{"$f":"IF(Conf2!$P$54>List!Q254,List!Q254+1,\"\")","v":""},{"$f":"IF(Conf3!$P$55>List!R254,List!R254+1,\"\")","v":""},{"$f":"IF(Conf3!$P$54+Conf3!$P$55>List!S254,List!S254+1,\"\")","v":""},{"$f":"IF(Conf3!$P$54>List!T254,List!T254+1,\"\")","v":""},{"$f":"IF(Conf4!$P$55>List!U254,List!U254+1,\"\")","v":""},{"$f":"IF(Conf4!$P$54+Conf4!$P$55>List!V254,List!V254+1,\"\")","v":""},{"$f":"IF(Conf4!$P$54>List!W254,List!W254+1,\"\")","v":""},null,null,null,null,null,null,{"$f":"IF(Conf5!$P$55>List!AD254,List!AD254+1,\"\")","v":""},{"$f":"IF(Conf5!$P$54+Conf5!$P$55>List!AE254,List!AE254+1,\"\")","v":""},{"$f":"IF(Conf5!$P$54>List!AF254,List!AF254+1,\"\")","v":""},{"$f":"IF(Conf6!$P$55>List!AG254,List!AG254+1,\"\")","v":""},{"$f":"IF(Conf6!$P$54+Conf6!$P$55>List!AH254,List!AH254+1,\"\")","v":""},{"$f":"IF(Conf6!$P$54>List!AI254,List!AI254+1,\"\")","v":""},{"$f":"IF(Conf7!$P$55>List!AJ254,List!AJ254+1,\"\")","v":""},{"$f":"IF(Conf7!$P$54+Conf7!$P$55>List!AK254,List!AK254+1,\"\")","v":""},{"$f":"IF(Conf7!$P$54>List!AL254,List!AL254+1,\"\")","v":""},{"$f":"IF(Conf8!$P$55>List!AM254,List!AM254+1,\"\")","v":""},{"$f":"IF(Conf8!$P$54+Conf8!$P$55>List!AN254,List!AN254+1,\"\")","v":""},{"$f":"IF(Conf8!$P$54>List!AO254,List!AO254+1,\"\")","v":""},{"$f":"IF(Conf9!$P$55>List!AP254,List!AP254+1,\"\")","v":""},{"$f":"IF(Conf9!$P$54+Conf9!$P$55>List!AQ254,List!AQ254+1,\"\")","v":""},{"$f":"IF(Conf9!$P$54>List!AR254,List!AR254+1,\"\")","v":""},{"$f":"IF(Conf10!$P$55>List!AS254,List!AS254+1,\"\")","v":""},{"$f":"IF(Conf10!$P$54+Conf10!$P$55>List!AT254,List!AT254+1,\"\")","v":""},{"$f":"IF(Conf10!$P$54>List!AU254,List!AU254+1,\"\")","v":""}]
[null,null,null,null,null,null,null,null,null,null,null,{"$f":"IF(Configurator!$P$55>List!L255,List!L255+1,\"\")","v":""},{"$f":"IF(Configurator!$P$54+Configurator!$P$55>List!M255,List!M255+1,\"\")","v":""},{"$f":"IF(Configurator!$P$54>List!N255,List!N255+1,\"\")","v":""},{"$f":"IF(Conf2!$P$55>List!O255,List!O255+1,\"\")","v":""},{"$f":"IF(Conf2!$P$54+Conf2!$P$55>List!P255,List!P255+1,\"\")","v":""},{"$f":"IF(Conf2!$P$54>List!Q255,List!Q255+1,\"\")","v":""},{"$f":"IF(Conf3!$P$55>List!R255,List!R255+1,\"\")","v":""},{"$f":"IF(Conf3!$P$54+Conf3!$P$55>List!S255,List!S255+1,\"\")","v":""},{"$f":"IF(Conf3!$P$54>List!T255,List!T255+1,\"\")","v":""},{"$f":"IF(Conf4!$P$55>List!U255,List!U255+1,\"\")","v":""},{"$f":"IF(Conf4!$P$54+Conf4!$P$55>List!V255,List!V255+1,\"\")","v":""},{"$f":"IF(Conf4!$P$54>List!W255,List!W255+1,\"\")","v":""},null,null,null,null,null,null,{"$f":"IF(Conf5!$P$55>List!AD255,List!AD255+1,\"\")","v":""},{"$f":"IF(Conf5!$P$54+Conf5!$P$55>List!AE255,List!AE255+1,\"\")","v":""},{"$f":"IF(Conf5!$P$54>List!AF255,List!AF255+1,\"\")","v":""},{"$f":"IF(Conf6!$P$55>List!AG255,List!AG255+1,\"\")","v":""},{"$f":"IF(Conf6!$P$54+Conf6!$P$55>List!AH255,List!AH255+1,\"\")","v":""},{"$f":"IF(Conf6!$P$54>List!AI255,List!AI255+1,\"\")","v":""},{"$f":"IF(Conf7!$P$55>List!AJ255,List!AJ255+1,\"\")","v":""},{"$f":"IF(Conf7!$P$54+Conf7!$P$55>List!AK255,List!AK255+1,\"\")","v":""},{"$f":"IF(Conf7!$P$54>List!AL255,List!AL255+1,\"\")","v":""},{"$f":"IF(Conf8!$P$55>List!AM255,List!AM255+1,\"\")","v":""},{"$f":"IF(Conf8!$P$54+Conf8!$P$55>List!AN255,List!AN255+1,\"\")","v":""},{"$f":"IF(Conf8!$P$54>List!AO255,List!AO255+1,\"\")","v":""},{"$f":"IF(Conf9!$P$55>List!AP255,List!AP255+1,\"\")","v":""},{"$f":"IF(Conf9!$P$54+Conf9!$P$55>List!AQ255,List!AQ255+1,\"\")","v":""},{"$f":"IF(Conf9!$P$54>List!AR255,List!AR255+1,\"\")","v":""},{"$f":"IF(Conf10!$P$55>List!AS255,List!AS255+1,\"\")","v":""},{"$f":"IF(Conf10!$P$54+Conf10!$P$55>List!AT255,List!AT255+1,\"\")","v":""},{"$f":"IF(Conf10!$P$54>List!AU255,List!AU255+1,\"\")","v":""}]
[null,null,null,null,null,null,null,null,null,null,null,{"$f":"IF(Configurator!$P$55>List!L256,List!L256+1,\"\")","v":""},{"$f":"IF(Configurator!$P$54+Configurator!$P$55>List!M256,List!M256+1,\"\")","v":""},{"$f":"IF(Configurator!$P$54>List!N256,List!N256+1,\"\")","v":""},{"$f":"IF(Conf2!$P$55>List!O256,List!O256+1,\"\")","v":""},{"$f":"IF(Conf2!$P$54+Conf2!$P$55>List!P256,List!P256+1,\"\")","v":""},{"$f":"IF(Conf2!$P$54>List!Q256,List!Q256+1,\"\")","v":""},{"$f":"IF(Conf3!$P$55>List!R256,List!R256+1,\"\")","v":""},{"$f":"IF(Conf3!$P$54+Conf3!$P$55>List!S256,List!S256+1,\"\")","v":""},{"$f":"IF(Conf3!$P$54>List!T256,List!T256+1,\"\")","v":""},{"$f":"IF(Conf4!$P$55>List!U256,List!U256+1,\"\")","v":""},{"$f":"IF(Conf4!$P$54+Conf4!$P$55>List!V256,List!V256+1,\"\")","v":""},{"$f":"IF(Conf4!$P$54>List!W256,List!W256+1,\"\")","v":""},null,null,null,null,null,null,{"$f":"IF(Conf5!$P$55>List!AD256,List!AD256+1,\"\")","v":""},{"$f":"IF(Conf5!$P$54+Conf5!$P$55>List!AE256,List!AE256+1,\"\")","v":""},{"$f":"IF(Conf5!$P$54>List!AF256,List!AF256+1,\"\")","v":""},{"$f":"IF(Conf6!$P$55>List!AG256,List!AG256+1,\"\")","v":""},{"$f":"IF(Conf6!$P$54+Conf6!$P$55>List!AH256,List!AH256+1,\"\")","v":""},{"$f":"IF(Conf6!$P$54>List!AI256,List!AI256+1,\"\")","v":""},{"$f":"IF(Conf7!$P$55>List!AJ256,List!AJ256+1,\"\")","v":""},{"$f":"IF(Conf7!$P$54+Conf7!$P$55>List!AK256,List!AK256+1,\"\")","v":""},{"$f":"IF(Conf7!$P$54>List!AL256,List!AL256+1,\"\")","v":""},{"$f":"IF(Conf8!$P$55>List!AM256,List!AM256+1,\"\")","v":""},{"$f":"IF(Conf8!$P$54+Conf8!$P$55>List!AN256,List!AN256+1,\"\")","v":""},{"$f":"IF(Conf8!$P$54>List!AO256,List!AO256+1,\"\")","v":""},{"$f":"IF(Conf9!$P$55>List!AP256,List!AP256+1,\"\")","v":""},{"$f":"IF(Conf9!$P$54+Conf9!$P$55>List!AQ256,List!AQ256+1,\"\")","v":""},{"$f":"IF(Conf9!$P$54>List!AR256,List!AR256+1,\"\")","v":""},{"$f":"IF(Conf10!$P$55>List!AS256,List!AS256+1,\"\")","v":""},{"$f":"IF(Conf10!$P$54+Conf10!$P$55>List!AT256,List!AT256+1,\"\")","v":""},{"$f":"IF(Conf10!$P$54>List!AU256,List!AU256+1,\"\")","v":""}]
[null,null,null,null,null,null,null,null,null,null,null,{"$f":"IF(Configurator!$P$55>List!L257,List!L257+1,\"\")","v":""},{"$f":"IF(Configurator!$P$54+Configurator!$P$55>List!M257,List!M257+1,\"\")","v":""},{"$f":"IF(Configurator!$P$54>List!N257,List!N257+1,\"\")","v":""},{"$f":"IF(Conf2!$P$55>List!O257,List!O257+1,\"\")","v":""},{"$f":"IF(Conf2!$P$54+Conf2!$P$55>List!P257,List!P257+1,\"\")","v":""},{"$f":"IF(Conf2!$P$54>List!Q257,List!Q257+1,\"\")","v":""},{"$f":"IF(Conf3!$P$55>List!R257,List!R257+1,\"\")","v":""},{"$f":"IF(Conf3!$P$54+Conf3!$P$55>List!S257,List!S257+1,\"\")","v":""},{"$f":"IF(Conf3!$P$54>List!T257,List!T257+1,\"\")","v":""},{"$f":"IF(Conf4!$P$55>List!U257,List!U257+1,\"\")","v":""},{"$f":"IF(Conf4!$P$54+Conf4!$P$55>List!V257,List!V257+1,\"\")","v":""},{"$f":"IF(Conf4!$P$54>List!W257,List!W257+1,\"\")","v":""},null,null,null,null,null,null,{"$f":"IF(Conf5!$P$55>List!AD257,List!AD257+1,\"\")","v":""},{"$f":"IF(Conf5!$P$54+Conf5!$P$55>List!AE257,List!AE257+1,\"\")","v":""},{"$f":"IF(Conf5!$P$54>List!AF257,List!AF257+1,\"\")","v":""},{"$f":"IF(Conf6!$P$55>List!AG257,List!AG257+1,\"\")","v":""},{"$f":"IF(Conf6!$P$54+Conf6!$P$55>List!AH257,List!AH257+1,\"\")","v":""},{"$f":"IF(Conf6!$P$54>List!AI257,List!AI257+1,\"\")","v":""},{"$f":"IF(Conf7!$P$55>List!AJ257,List!AJ257+1,\"\")","v":""},{"$f":"IF(Conf7!$P$54+Conf7!$P$55>List!AK257,List!AK257+1,\"\")","v":""},{"$f":"IF(Conf7!$P$54>List!AL257,List!AL257+1,\"\")","v":""},{"$f":"IF(Conf8!$P$55>List!AM257,List!AM257+1,\"\")","v":""},{"$f":"IF(Conf8!$P$54+Conf8!$P$55>List!AN257,List!AN257+1,\"\")","v":""},{"$f":"IF(Conf8!$P$54>List!AO257,List!AO257+1,\"\")","v":""},{"$f":"IF(Conf9!$P$55>List!AP257,List!AP257+1,\"\")","v":""},{"$f":"IF(Conf9!$P$54+Conf9!$P$55>List!AQ257,List!AQ257+1,\"\")","v":""},{"$f":"IF(Conf9!$P$54>List!AR257,List!AR257+1,\"\")","v":""},{"$f":"IF(Conf10!$P$55>List!AS257,List!AS257+1,\"\")","v":""},{"$f":"IF(Conf10!$P$54+Conf10!$P$55>List!AT257,List!AT257+1,\"\")","v":""},{"$f":"IF(Conf10!$P$54>List!AU257,List!AU257+1,\"\")","v":""}]
[null,null,null,null,null,null,null,null,null,null,null,{"$f":"IF(Configurator!$P$55>List!L258,List!L258+1,\"\")","v":""},{"$f":"IF(Configurator!$P$54+Configurator!$P$55>List!M258,List!M258+1,\"\")","v":""},{"$f":"IF(Configurator!$P$54>List!N258,List!N258+1,\"\")","v":""},{"$f":"IF(Conf2!$P$55>List!O258,List!O258+1,\"\")","v":""},{"$f":"IF(Conf2!$P$54+Conf2!$P$55>List!P258,List!P258+1,\"\")","v":""},{"$f":"IF(Conf2!$P$54>List!Q258,List!Q258+1,\"\")","v":""},{"$f":"IF(Conf3!$P$55>List!R258,List!R258+1,\"\")","v":""},{"$f":"IF(Conf3!$P$54+Conf3!$P$55>List!S258,List!S258+1,\"\")","v":""},{"$f":"IF(Conf3!$P$54>List!T258,List!T258+1,\"\")","v":""},{"$f":"IF(Conf4!$P$55>List!U258,List!U258+1,\"\")","v":""},{"$f":"IF(Conf4!$P$54+Conf4!$P$55>List!V258,List!V258+1,\"\")","v":""},{"$f":"IF(Conf4!$P$54>List!W258,List!W258+1,\"\")","v":""},null,null,null,null,null,null,{"$f":"IF(Conf5!$P$55>List!AD258,List!AD258+1,\"\")","v":""},{"$f":"IF(Conf5!$P$54+Conf5!$P$55>List!AE258,List!AE258+1,\"\")","v":""},{"$f":"IF(Conf5!$P$54>List!AF258,List!AF258+1,\"\")","v":""},{"$f":"IF(Conf6!$P$55>List!AG258,List!AG258+1,\"\")","v":""},{"$f":"IF(Conf6!$P$54+Conf6!$P$55>List!AH258,List!AH258+1,\"\")","v":""},{"$f":"IF(Conf6!$P$54>List!AI258,List!AI258+1,\"\")","v":""},{"$f":"IF(Conf7!$P$55>List!AJ258,List!AJ258+1,\"\")","v":""},{"$f":"IF(Conf7!$P$54+Conf7!$P$55>List!AK258,List!AK258+1,\"\")","v":""},{"$f":"IF(Conf7!$P$54>List!AL258,List!AL258+1,\"\")","v":""},{"$f":"IF(Conf8!$P$55>List!AM258,List!AM258+1,\"\")","v":""},{"$f":"IF(Conf8!$P$54+Conf8!$P$55>List!AN258,List!AN258+1,\"\")","v":""},{"$f":"IF(Conf8!$P$54>List!AO258,List!AO258+1,\"\")","v":""},{"$f":"IF(Conf9!$P$55>List!AP258,List!AP258+1,\"\")","v":""},{"$f":"IF(Conf9!$P$54+Conf9!$P$55>List!AQ258,List!AQ258+1,\"\")","v":""},{"$f":"IF(Conf9!$P$54>List!AR258,List!AR258+1,\"\")","v":""},{"$f":"IF(Conf10!$P$55>List!AS258,List!AS258+1,\"\")","v":""},{"$f":"IF(Conf10!$P$54+Conf10!$P$55>List!AT258,List!AT258+1,\"\")","v":""},{"$f":"IF(Conf10!$P$54>List!AU258,List!AU258+1,\"\")","v":""}]
[null,null,null,null,null,null,null,null,null,null,null,{"$f":"IF(Configurator!$P$55>List!L259,List!L259+1,\"\")","v":""},{"$f":"IF(Configurator!$P$54+Configurator!$P$55>List!M259,List!M259+1,\"\")","v":""},{"$f":"IF(Configurator!$P$54>List!N259,List!N259+1,\"\")","v":""},{"$f":"IF(Conf2!$P$55>List!O259,List!O259+1,\"\")","v":""},{"$f":"IF(Conf2!$P$54+Conf2!$P$55>List!P259,List!P259+1,\"\")","v":""},{"$f":"IF(Conf2!$P$54>List!Q259,List!Q259+1,\"\")","v":""},{"$f":"IF(Conf3!$P$55>List!R259,List!R259+1,\"\")","v":""},{"$f":"IF(Conf3!$P$54+Conf3!$P$55>List!S259,List!S259+1,\"\")","v":""},{"$f":"IF(Conf3!$P$54>List!T259,List!T259+1,\"\")","v":""},{"$f":"IF(Conf4!$P$55>List!U259,List!U259+1,\"\")","v":""},{"$f":"IF(Conf4!$P$54+Conf4!$P$55>List!V259,List!V259+1,\"\")","v":""},{"$f":"IF(Conf4!$P$54>List!W259,List!W259+1,\"\")","v":""},null,null,null,null,null,null,{"$f":"IF(Conf5!$P$55>List!AD259,List!AD259+1,\"\")","v":""},{"$f":"IF(Conf5!$P$54+Conf5!$P$55>List!AE259,List!AE259+1,\"\")","v":""},{"$f":"IF(Conf5!$P$54>List!AF259,List!AF259+1,\"\")","v":""},{"$f":"IF(Conf6!$P$55>List!AG259,List!AG259+1,\"\")","v":""},{"$f":"IF(Conf6!$P$54+Conf6!$P$55>List!AH259,List!AH259+1,\"\")","v":""},{"$f":"IF(Conf6!$P$54>List!AI259,List!AI259+1,\"\")","v":""},{"$f":"IF(Conf7!$P$55>List!AJ259,List!AJ259+1,\"\")","v":""},{"$f":"IF(Conf7!$P$54+Conf7!$P$55>List!AK259,List!AK259+1,\"\")","v":""},{"$f":"IF(Conf7!$P$54>List!AL259,List!AL259+1,\"\")","v":""},{"$f":"IF(Conf8!$P$55>List!AM259,List!AM259+1,\"\")","v":""},{"$f":"IF(Conf8!$P$54+Conf8!$P$55>List!AN259,List!AN259+1,\"\")","v":""},{"$f":"IF(Conf8!$P$54>List!AO259,List!AO259+1,\"\")","v":""},{"$f":"IF(Conf9!$P$55>List!AP259,List!AP259+1,\"\")","v":""},{"$f":"IF(Conf9!$P$54+Conf9!$P$55>List!AQ259,List!AQ259+1,\"\")","v":""},{"$f":"IF(Conf9!$P$54>List!AR259,List!AR259+1,\"\")","v":""},{"$f":"IF(Conf10!$P$55>List!AS259,List!AS259+1,\"\")","v":""},{"$f":"IF(Conf10!$P$54+Conf10!$P$55>List!AT259,List!AT259+1,\"\")","v":""},{"$f":"IF(Conf10!$P$54>List!AU259,List!AU259+1,\"\")","v":""}]
[null,null,null,null,null,null,null,null,null,null,null,{"$f":"IF(Configurator!$P$55>List!L260,List!L260+1,\"\")","v":""},{"$f":"IF(Configurator!$P$54+Configurator!$P$55>List!M260,List!M260+1,\"\")","v":""},{"$f":"IF(Configurator!$P$54>List!N260,List!N260+1,\"\")","v":""},{"$f":"IF(Conf2!$P$55>List!O260,List!O260+1,\"\")","v":""},{"$f":"IF(Conf2!$P$54+Conf2!$P$55>List!P260,List!P260+1,\"\")","v":""},{"$f":"IF(Conf2!$P$54>List!Q260,List!Q260+1,\"\")","v":""},{"$f":"IF(Conf3!$P$55>List!R260,List!R260+1,\"\")","v":""},{"$f":"IF(Conf3!$P$54+Conf3!$P$55>List!S260,List!S260+1,\"\")","v":""},{"$f":"IF(Conf3!$P$54>List!T260,List!T260+1,\"\")","v":""},{"$f":"IF(Conf4!$P$55>List!U260,List!U260+1,\"\")","v":""},{"$f":"IF(Conf4!$P$54+Conf4!$P$55>List!V260,List!V260+1,\"\")","v":""},{"$f":"IF(Conf4!$P$54>List!W260,List!W260+1,\"\")","v":""},null,null,null,null,null,null,{"$f":"IF(Conf5!$P$55>List!AD260,List!AD260+1,\"\")","v":""},{"$f":"IF(Conf5!$P$54+Conf5!$P$55>List!AE260,List!AE260+1,\"\")","v":""},{"$f":"IF(Conf5!$P$54>List!AF260,List!AF260+1,\"\")","v":""},{"$f":"IF(Conf6!$P$55>List!AG260,List!AG260+1,\"\")","v":""},{"$f":"IF(Conf6!$P$54+Conf6!$P$55>List!AH260,List!AH260+1,\"\")","v":""},{"$f":"IF(Conf6!$P$54>List!AI260,List!AI260+1,\"\")","v":""},{"$f":"IF(Conf7!$P$55>List!AJ260,List!AJ260+1,\"\")","v":""},{"$f":"IF(Conf7!$P$54+Conf7!$P$55>List!AK260,List!AK260+1,\"\")","v":""},{"$f":"IF(Conf7!$P$54>List!AL260,List!AL260+1,\"\")","v":""},{"$f":"IF(Conf8!$P$55>List!AM260,List!AM260+1,\"\")","v":""},{"$f":"IF(Conf8!$P$54+Conf8!$P$55>List!AN260,List!AN260+1,\"\")","v":""},{"$f":"IF(Conf8!$P$54>List!AO260,List!AO260+1,\"\")","v":""},{"$f":"IF(Conf9!$P$55>List!AP260,List!AP260+1,\"\")","v":""},{"$f":"IF(Conf9!$P$54+Conf9!$P$55>List!AQ260,List!AQ260+1,\"\")","v":""},{"$f":"IF(Conf9!$P$54>List!AR260,List!AR260+1,\"\")","v":""},{"$f":"IF(Conf10!$P$55>List!AS260,List!AS260+1,\"\")","v":""},{"$f":"IF(Conf10!$P$54+Conf10!$P$55>List!AT260,List!AT260+1,\"\")","v":""},{"$f":"IF(Conf10!$P$54>List!AU260,List!AU260+1,\"\")","v":""}]
[null,null,null,null,null,null,null,null,null,null,null,{"$f":"IF(Configurator!$P$55>List!L261,List!L261+1,\"\")","v":""},{"$f":"IF(Configurator!$P$54+Configurator!$P$55>List!M261,List!M261+1,\"\")","v":""},{"$f":"IF(Configurator!$P$54>List!N261,List!N261+1,\"\")","v":""},{"$f":"IF(Conf2!$P$55>List!O261,List!O261+1,\"\")","v":""},{"$f":"IF(Conf2!$P$54+Conf2!$P$55>List!P261,List!P261+1,\"\")","v":""},{"$f":"IF(Conf2!$P$54>List!Q261,List!Q261+1,\"\")","v":""},{"$f":"IF(Conf3!$P$55>List!R261,List!R261+1,\"\")","v":""},{"$f":"IF(Conf3!$P$54+Conf3!$P$55>List!S261,List!S261+1,\"\")","v":""},{"$f":"IF(Conf3!$P$54>List!T261,List!T261+1,\"\")","v":""},{"$f":"IF(Conf4!$P$55>List!U261,List!U261+1,\"\")","v":""},{"$f":"IF(Conf4!$P$54+Conf4!$P$55>List!V261,List!V261+1,\"\")","v":""},{"$f":"IF(Conf4!$P$54>List!W261,List!W261+1,\"\")","v":""},null,null,null,null,null,null,{"$f":"IF(Conf5!$P$55>List!AD261,List!AD261+1,\"\")","v":""},{"$f":"IF(Conf5!$P$54+Conf5!$P$55>List!AE261,List!AE261+1,\"\")","v":""},{"$f":"IF(Conf5!$P$54>List!AF261,List!AF261+1,\"\")","v":""},{"$f":"IF(Conf6!$P$55>List!AG261,List!AG261+1,\"\")","v":""},{"$f":"IF(Conf6!$P$54+Conf6!$P$55>List!AH261,List!AH261+1,\"\")","v":""},{"$f":"IF(Conf6!$P$54>List!AI261,List!AI261+1,\"\")","v":""},{"$f":"IF(Conf7!$P$55>List!AJ261,List!AJ261+1,\"\")","v":""},{"$f":"IF(Conf7!$P$54+Conf7!$P$55>List!AK261,List!AK261+1,\"\")","v":""},{"$f":"IF(Conf7!$P$54>List!AL261,List!AL261+1,\"\")","v":""},{"$f":"IF(Conf8!$P$55>List!AM261,List!AM261+1,\"\")","v":""},{"$f":"IF(Conf8!$P$54+Conf8!$P$55>List!AN261,List!AN261+1,\"\")","v":""},{"$f":"IF(Conf8!$P$54>List!AO261,List!AO261+1,\"\")","v":""},{"$f":"IF(Conf9!$P$55>List!AP261,List!AP261+1,\"\")","v":""},{"$f":"IF(Conf9!$P$54+Conf9!$P$55>List!AQ261,List!AQ261+1,\"\")","v":""},{"$f":"IF(Conf9!$P$54>List!AR261,List!AR261+1,\"\")","v":""},{"$f":"IF(Conf10!$P$55>List!AS261,List!AS261+1,\"\")","v":""},{"$f":"IF(Conf10!$P$54+Conf10!$P$55>List!AT261,List!AT261+1,\"\")","v":""},{"$f":"IF(Conf10!$P$54>List!AU261,List!AU261+1,\"\")","v":""}]
[null,null,null,null,null,null,null,null,null,null,null,{"$f":"IF(Configurator!$P$55>List!L262,List!L262+1,\"\")","v":""},{"$f":"IF(Configurator!$P$54+Configurator!$P$55>List!M262,List!M262+1,\"\")","v":""},{"$f":"IF(Configurator!$P$54>List!N262,List!N262+1,\"\")","v":""},{"$f":"IF(Conf2!$P$55>List!O262,List!O262+1,\"\")","v":""},{"$f":"IF(Conf2!$P$54+Conf2!$P$55>List!P262,List!P262+1,\"\")","v":""},{"$f":"IF(Conf2!$P$54>List!Q262,List!Q262+1,\"\")","v":""},{"$f":"IF(Conf3!$P$55>List!R262,List!R262+1,\"\")","v":""},{"$f":"IF(Conf3!$P$54+Conf3!$P$55>List!S262,List!S262+1,\"\")","v":""},{"$f":"IF(Conf3!$P$54>List!T262,List!T262+1,\"\")","v":""},{"$f":"IF(Conf4!$P$55>List!U262,List!U262+1,\"\")","v":""},{"$f":"IF(Conf4!$P$54+Conf4!$P$55>List!V262,List!V262+1,\"\")","v":""},{"$f":"IF(Conf4!$P$54>List!W262,List!W262+1,\"\")","v":""},null,null,null,null,null,null,{"$f":"IF(Conf5!$P$55>List!AD262,List!AD262+1,\"\")","v":""},{"$f":"IF(Conf5!$P$54+Conf5!$P$55>List!AE262,List!AE262+1,\"\")","v":""},{"$f":"IF(Conf5!$P$54>List!AF262,List!AF262+1,\"\")","v":""},{"$f":"IF(Conf6!$P$55>List!AG262,List!AG262+1,\"\")","v":""},{"$f":"IF(Conf6!$P$54+Conf6!$P$55>List!AH262,List!AH262+1,\"\")","v":""},{"$f":"IF(Conf6!$P$54>List!AI262,List!AI262+1,\"\")","v":""},{"$f":"IF(Conf7!$P$55>List!AJ262,List!AJ262+1,\"\")","v":""},{"$f":"IF(Conf7!$P$54+Conf7!$P$55>List!AK262,List!AK262+1,\"\")","v":""},{"$f":"IF(Conf7!$P$54>List!AL262,List!AL262+1,\"\")","v":""},{"$f":"IF(Conf8!$P$55>List!AM262,List!AM262+1,\"\")","v":""},{"$f":"IF(Conf8!$P$54+Conf8!$P$55>List!AN262,List!AN262+1,\"\")","v":""},{"$f":"IF(Conf8!$P$54>List!AO262,List!AO262+1,\"\")","v":""},{"$f":"IF(Conf9!$P$55>List!AP262,List!AP262+1,\"\")","v":""},{"$f":"IF(Conf9!$P$54+Conf9!$P$55>List!AQ262,List!AQ262+1,\"\")","v":""},{"$f":"IF(Conf9!$P$54>List!AR262,List!AR262+1,\"\")","v":""},{"$f":"IF(Conf10!$P$55>List!AS262,List!AS262+1,\"\")","v":""},{"$f":"IF(Conf10!$P$54+Conf10!$P$55>List!AT262,List!AT262+1,\"\")","v":""},{"$f":"IF(Conf10!$P$54>List!AU262,List!AU262+1,\"\")","v":""}]
[null,null,null,null,null,null,null,null,null,null,null,{"$f":"IF(Configurator!$P$55>List!L263,List!L263+1,\"\")","v":""},{"$f":"IF(Configurator!$P$54+Configurator!$P$55>List!M263,List!M263+1,\"\")","v":""},{"$f":"IF(Configurator!$P$54>List!N263,List!N263+1,\"\")","v":""},{"$f":"IF(Conf2!$P$55>List!O263,List!O263+1,\"\")","v":""},{"$f":"IF(Conf2!$P$54+Conf2!$P$55>List!P263,List!P263+1,\"\")","v":""},{"$f":"IF(Conf2!$P$54>List!Q263,List!Q263+1,\"\")","v":""},{"$f":"IF(Conf3!$P$55>List!R263,List!R263+1,\"\")","v":""},{"$f":"IF(Conf3!$P$54+Conf3!$P$55>List!S263,List!S263+1,\"\")","v":""},{"$f":"IF(Conf3!$P$54>List!T263,List!T263+1,\"\")","v":""},{"$f":"IF(Conf4!$P$55>List!U263,List!U263+1,\"\")","v":""},{"$f":"IF(Conf4!$P$54+Conf4!$P$55>List!V263,List!V263+1,\"\")","v":""},{"$f":"IF(Conf4!$P$54>List!W263,List!W263+1,\"\")","v":""},null,null,null,null,null,null,{"$f":"IF(Conf5!$P$55>List!AD263,List!AD263+1,\"\")","v":""},{"$f":"IF(Conf5!$P$54+Conf5!$P$55>List!AE263,List!AE263+1,\"\")","v":""},{"$f":"IF(Conf5!$P$54>List!AF263,List!AF263+1,\"\")","v":""},{"$f":"IF(Conf6!$P$55>List!AG263,List!AG263+1,\"\")","v":""},{"$f":"IF(Conf6!$P$54+Conf6!$P$55>List!AH263,List!AH263+1,\"\")","v":""},{"$f":"IF(Conf6!$P$54>List!AI263,List!AI263+1,\"\")","v":""},{"$f":"IF(Conf7!$P$55>List!AJ263,List!AJ263+1,\"\")","v":""},{"$f":"IF(Conf7!$P$54+Conf7!$P$55>List!AK263,List!AK263+1,\"\")","v":""},{"$f":"IF(Conf7!$P$54>List!AL263,List!AL263+1,\"\")","v":""},{"$f":"IF(Conf8!$P$55>List!AM263,List!AM263+1,\"\")","v":""},{"$f":"IF(Conf8!$P$54+Conf8!$P$55>List!AN263,List!AN263+1,\"\")","v":""},{"$f":"IF(Conf8!$P$54>List!AO263,List!AO263+1,\"\")","v":""},{"$f":"IF(Conf9!$P$55>List!AP263,List!AP263+1,\"\")","v":""},{"$f":"IF(Conf9!$P$54+Conf9!$P$55>List!AQ263,List!AQ263+1,\"\")","v":""},{"$f":"IF(Conf9!$P$54>List!AR263,List!AR263+1,\"\")","v":""},{"$f":"IF(Conf10!$P$55>List!AS263,List!AS263+1,\"\")","v":""},{"$f":"IF(Conf10!$P$54+Conf10!$P$55>List!AT263,List!AT263+1,\"\")","v":""},{"$f":"IF(Conf10!$P$54>List!AU263,List!AU263+1,\"\")","v":""}]
[null,null,null,null,null,null,null,null,null,null,null,{"$f":"IF(Configurator!$P$55>List!L264,List!L264+1,\"\")","v":""},{"$f":"IF(Configurator!$P$54+Configurator!$P$55>List!M264,List!M264+1,\"\")","v":""},{"$f":"IF(Configurator!$P$54>List!N264,List!N264+1,\"\")","v":""},{"$f":"IF(Conf2!$P$55>List!O264,List!O264+1,\"\")","v":""},{"$f":"IF(Conf2!$P$54+Conf2!$P$55>List!P264,List!P264+1,\"\")","v":""},{"$f":"IF(Conf2!$P$54>List!Q264,List!Q264+1,\"\")","v":""},{"$f":"IF(Conf3!$P$55>List!R264,List!R264+1,\"\")","v":""},{"$f":"IF(Conf3!$P$54+Conf3!$P$55>List!S264,List!S264+1,\"\")","v":""},{"$f":"IF(Conf3!$P$54>List!T264,List!T264+1,\"\")","v":""},{"$f":"IF(Conf4!$P$55>List!U264,List!U264+1,\"\")","v":""},{"$f":"IF(Conf4!$P$54+Conf4!$P$55>List!V264,List!V264+1,\"\")","v":""},{"$f":"IF(Conf4!$P$54>List!W264,List!W264+1,\"\")","v":""},null,null,null,null,null,null,{"$f":"IF(Conf5!$P$55>List!AD264,List!AD264+1,\"\")","v":""},{"$f":"IF(Conf5!$P$54+Conf5!$P$55>List!AE264,List!AE264+1,\"\")","v":""},{"$f":"IF(Conf5!$P$54>List!AF264,List!AF264+1,\"\")","v":""},{"$f":"IF(Conf6!$P$55>List!AG264,List!AG264+1,\"\")","v":""},{"$f":"IF(Conf6!$P$54+Conf6!$P$55>List!AH264,List!AH264+1,\"\")","v":""},{"$f":"IF(Conf6!$P$54>List!AI264,List!AI264+1,\"\")","v":""},{"$f":"IF(Conf7!$P$55>List!AJ264,List!AJ264+1,\"\")","v":""},{"$f":"IF(Conf7!$P$54+Conf7!$P$55>List!AK264,List!AK264+1,\"\")","v":""},{"$f":"IF(Conf7!$P$54>List!AL264,List!AL264+1,\"\")","v":""},{"$f":"IF(Conf8!$P$55>List!AM264,List!AM264+1,\"\")","v":""},{"$f":"IF(Conf8!$P$54+Conf8!$P$55>List!AN264,List!AN264+1,\"\")","v":""},{"$f":"IF(Conf8!$P$54>List!AO264,List!AO264+1,\"\")","v":""},{"$f":"IF(Conf9!$P$55>List!AP264,List!AP264+1,\"\")","v":""},{"$f":"IF(Conf9!$P$54+Conf9!$P$55>List!AQ264,List!AQ264+1,\"\")","v":""},{"$f":"IF(Conf9!$P$54>List!AR264,List!AR264+1,\"\")","v":""},{"$f":"IF(Conf10!$P$55>List!AS264,List!AS264+1,\"\")","v":""},{"$f":"IF(Conf10!$P$54+Conf10!$P$55>List!AT264,List!AT264+1,\"\")","v":""},{"$f":"IF(Conf10!$P$54>List!AU264,List!AU264+1,\"\")","v":""}]
[null,null,null,null,null,null,null,null,null,null,null,{"$f":"IF(Configurator!$P$55>List!L265,List!L265+1,\"\")","v":""},{"$f":"IF(Configurator!$P$54+Configurator!$P$55>List!M265,List!M265+1,\"\")","v":""},{"$f":"IF(Configurator!$P$54>List!N265,List!N265+1,\"\")","v":""},{"$f":"IF(Conf2!$P$55>List!O265,List!O265+1,\"\")","v":""},{"$f":"IF(Conf2!$P$54+Conf2!$P$55>List!P265,List!P265+1,\"\")","v":""},{"$f":"IF(Conf2!$P$54>List!Q265,List!Q265+1,\"\")","v":""},{"$f":"IF(Conf3!$P$55>List!R265,List!R265+1,\"\")","v":""},{"$f":"IF(Conf3!$P$54+Conf3!$P$55>List!S265,List!S265+1,\"\")","v":""},{"$f":"IF(Conf3!$P$54>List!T265,List!T265+1,\"\")","v":""},{"$f":"IF(Conf4!$P$55>List!U265,List!U265+1,\"\")","v":""},{"$f":"IF(Conf4!$P$54+Conf4!$P$55>List!V265,List!V265+1,\"\")","v":""},{"$f":"IF(Conf4!$P$54>List!W265,List!W265+1,\"\")","v":""},null,null,null,null,null,null,{"$f":"IF(Conf5!$P$55>List!AD265,List!AD265+1,\"\")","v":""},{"$f":"IF(Conf5!$P$54+Conf5!$P$55>List!AE265,List!AE265+1,\"\")","v":""},{"$f":"IF(Conf5!$P$54>List!AF265,List!AF265+1,\"\")","v":""},{"$f":"IF(Conf6!$P$55>List!AG265,List!AG265+1,\"\")","v":""},{"$f":"IF(Conf6!$P$54+Conf6!$P$55>List!AH265,List!AH265+1,\"\")","v":""},{"$f":"IF(Conf6!$P$54>List!AI265,List!AI265+1,\"\")","v":""},{"$f":"IF(Conf7!$P$55>List!AJ265,List!AJ265+1,\"\")","v":""},{"$f":"IF(Conf7!$P$54+Conf7!$P$55>List!AK265,List!AK265+1,\"\")","v":""},{"$f":"IF(Conf7!$P$54>List!AL265,List!AL265+1,\"\")","v":""},{"$f":"IF(Conf8!$P$55>List!AM265,List!AM265+1,\"\")","v":""},{"$f":"IF(Conf8!$P$54+Conf8!$P$55>List!AN265,List!AN265+1,\"\")","v":""},{"$f":"IF(Conf8!$P$54>List!AO265,List!AO265+1,\"\")","v":""},{"$f":"IF(Conf9!$P$55>List!AP265,List!AP265+1,\"\")","v":""},{"$f":"IF(Conf9!$P$54+Conf9!$P$55>List!AQ265,List!AQ265+1,\"\")","v":""},{"$f":"IF(Conf9!$P$54>List!AR265,List!AR265+1,\"\")","v":""},{"$f":"IF(Conf10!$P$55>List!AS265,List!AS265+1,\"\")","v":""},{"$f":"IF(Conf10!$P$54+Conf10!$P$55>List!AT265,List!AT265+1,\"\")","v":""},{"$f":"IF(Conf10!$P$54>List!AU265,List!AU265+1,\"\")","v":""}]
[null,null,null,null,null,null,null,null,null,null,null,{"$f":"IF(Configurator!$P$55>List!L266,List!L266+1,\"\")","v":""},{"$f":"IF(Configurator!$P$54+Configurator!$P$55>List!M266,List!M266+1,\"\")","v":""},{"$f":"IF(Configurator!$P$54>List!N266,List!N266+1,\"\")","v":""},{"$f":"IF(Conf2!$P$55>List!O266,List!O266+1,\"\")","v":""},{"$f":"IF(Conf2!$P$54+Conf2!$P$55>List!P266,List!P266+1,\"\")","v":""},{"$f":"IF(Conf2!$P$54>List!Q266,List!Q266+1,\"\")","v":""},{"$f":"IF(Conf3!$P$55>List!R266,List!R266+1,\"\")","v":""},{"$f":"IF(Conf3!$P$54+Conf3!$P$55>List!S266,List!S266+1,\"\")","v":""},{"$f":"IF(Conf3!$P$54>List!T266,List!T266+1,\"\")","v":""},{"$f":"IF(Conf4!$P$55>List!U266,List!U266+1,\"\")","v":""},{"$f":"IF(Conf4!$P$54+Conf4!$P$55>List!V266,List!V266+1,\"\")","v":""},{"$f":"IF(Conf4!$P$54>List!W266,List!W266+1,\"\")","v":""},null,null,null,null,null,null,{"$f":"IF(Conf5!$P$55>List!AD266,List!AD266+1,\"\")","v":""},{"$f":"IF(Conf5!$P$54+Conf5!$P$55>List!AE266,List!AE266+1,\"\")","v":""},{"$f":"IF(Conf5!$P$54>List!AF266,List!AF266+1,\"\")","v":""},{"$f":"IF(Conf6!$P$55>List!AG266,List!AG266+1,\"\")","v":""},{"$f":"IF(Conf6!$P$54+Conf6!$P$55>List!AH266,List!AH266+1,\"\")","v":""},{"$f":"IF(Conf6!$P$54>List!AI266,List!AI266+1,\"\")","v":""},{"$f":"IF(Conf7!$P$55>List!AJ266,List!AJ266+1,\"\")","v":""},{"$f":"IF(Conf7!$P$54+Conf7!$P$55>List!AK266,List!AK266+1,\"\")","v":""},{"$f":"IF(Conf7!$P$54>List!AL266,List!AL266+1,\"\")","v":""},{"$f":"IF(Conf8!$P$55>List!AM266,List!AM266+1,\"\")","v":""},{"$f":"IF(Conf8!$P$54+Conf8!$P$55>List!AN266,List!AN266+1,\"\")","v":""},{"$f":"IF(Conf8!$P$54>List!AO266,List!AO266+1,\"\")","v":""},{"$f":"IF(Conf9!$P$55>List!AP266,List!AP266+1,\"\")","v":""},{"$f":"IF(Conf9!$P$54+Conf9!$P$55>List!AQ266,List!AQ266+1,\"\")","v":""},{"$f":"IF(Conf9!$P$54>List!AR266,List!AR266+1,\"\")","v":""},{"$f":"IF(Conf10!$P$55>List!AS266,List!AS266+1,\"\")","v":""},{"$f":"IF(Conf10!$P$54+Conf10!$P$55>List!AT266,List!AT266+1,\"\")","v":""},{"$f":"IF(Conf10!$P$54>List!AU266,List!AU266+1,\"\")","v":""}]
[null,null,null,null,null,null,null,null,null,null,null,{"$f":"IF(Configurator!$P$55>List!L267,List!L267+1,\"\")","v":""},{"$f":"IF(Configurator!$P$54+Configurator!$P$55>List!M267,List!M267+1,\"\")","v":""},{"$f":"IF(Configurator!$P$54>List!N267,List!N267+1,\"\")","v":""},{"$f":"IF(Conf2!$P$55>List!O267,List!O267+1,\"\")","v":""},{"$f":"IF(Conf2!$P$54+Conf2!$P$55>List!P267,List!P267+1,\"\")","v":""},{"$f":"IF(Conf2!$P$54>List!Q267,List!Q267+1,\"\")","v":""},{"$f":"IF(Conf3!$P$55>List!R267,List!R267+1,\"\")","v":""},{"$f":"IF(Conf3!$P$54+Conf3!$P$55>List!S267,List!S267+1,\"\")","v":""},{"$f":"IF(Conf3!$P$54>List!T267,List!T267+1,\"\")","v":""},{"$f":"IF(Conf4!$P$55>List!U267,List!U267+1,\"\")","v":""},{"$f":"IF(Conf4!$P$54+Conf4!$P$55>List!V267,List!V267+1,\"\")","v":""},{"$f":"IF(Conf4!$P$54>List!W267,List!W267+1,\"\")","v":""},null,null,null,null,null,null,{"$f":"IF(Conf5!$P$55>List!AD267,List!AD267+1,\"\")","v":""},{"$f":"IF(Conf5!$P$54+Conf5!$P$55>List!AE267,List!AE267+1,\"\")","v":""},{"$f":"IF(Conf5!$P$54>List!AF267,List!AF267+1,\"\")","v":""},{"$f":"IF(Conf6!$P$55>List!AG267,List!AG267+1,\"\")","v":""},{"$f":"IF(Conf6!$P$54+Conf6!$P$55>List!AH267,List!AH267+1,\"\")","v":""},{"$f":"IF(Conf6!$P$54>List!AI267,List!AI267+1,\"\")","v":""},{"$f":"IF(Conf7!$P$55>List!AJ267,List!AJ267+1,\"\")","v":""},{"$f":"IF(Conf7!$P$54+Conf7!$P$55>List!AK267,List!AK267+1,\"\")","v":""},{"$f":"IF(Conf7!$P$54>List!AL267,List!AL267+1,\"\")","v":""},{"$f":"IF(Conf8!$P$55>List!AM267,List!AM267+1,\"\")","v":""},{"$f":"IF(Conf8!$P$54+Conf8!$P$55>List!AN267,List!AN267+1,\"\")","v":""},{"$f":"IF(Conf8!$P$54>List!AO267,List!AO267+1,\"\")","v":""},{"$f":"IF(Conf9!$P$55>List!AP267,List!AP267+1,\"\")","v":""},{"$f":"IF(Conf9!$P$54+Conf9!$P$55>List!AQ267,List!AQ267+1,\"\")","v":""},{"$f":"IF(Conf9!$P$54>List!AR267,List!AR267+1,\"\")","v":""},{"$f":"IF(Conf10!$P$55>List!AS267,List!AS267+1,\"\")","v":""},{"$f":"IF(Conf10!$P$54+Conf10!$P$55>List!AT267,List!AT267+1,\"\")","v":""},{"$f":"IF(Conf10!$P$54>List!AU267,List!AU267+1,\"\")","v":""}]
[null,null,null,null,null,null,null,null,null,null,null,{"$f":"IF(Configurator!$P$55>List!L268,List!L268+1,\"\")","v":""},{"$f":"IF(Configurator!$P$54+Configurator!$P$55>List!M268,List!M268+1,\"\")","v":""},{"$f":"IF(Configurator!$P$54>List!N268,List!N268+1,\"\")","v":""},{"$f":"IF(Conf2!$P$55>List!O268,List!O268+1,\"\")","v":""},{"$f":"IF(Conf2!$P$54+Conf2!$P$55>List!P268,List!P268+1,\"\")","v":""},{"$f":"IF(Conf2!$P$54>List!Q268,List!Q268+1,\"\")","v":""},{"$f":"IF(Conf3!$P$55>List!R268,List!R268+1,\"\")","v":""},{"$f":"IF(Conf3!$P$54+Conf3!$P$55>List!S268,List!S268+1,\"\")","v":""},{"$f":"IF(Conf3!$P$54>List!T268,List!T268+1,\"\")","v":""},{"$f":"IF(Conf4!$P$55>List!U268,List!U268+1,\"\")","v":""},{"$f":"IF(Conf4!$P$54+Conf4!$P$55>List!V268,List!V268+1,\"\")","v":""},{"$f":"IF(Conf4!$P$54>List!W268,List!W268+1,\"\")","v":""},null,null,null,null,null,null,{"$f":"IF(Conf5!$P$55>List!AD268,List!AD268+1,\"\")","v":""},{"$f":"IF(Conf5!$P$54+Conf5!$P$55>List!AE268,List!AE268+1,\"\")","v":""},{"$f":"IF(Conf5!$P$54>List!AF268,List!AF268+1,\"\")","v":""},{"$f":"IF(Conf6!$P$55>List!AG268,List!AG268+1,\"\")","v":""},{"$f":"IF(Conf6!$P$54+Conf6!$P$55>List!AH268,List!AH268+1,\"\")","v":""},{"$f":"IF(Conf6!$P$54>List!AI268,List!AI268+1,\"\")","v":""},{"$f":"IF(Conf7!$P$55>List!AJ268,List!AJ268+1,\"\")","v":""},{"$f":"IF(Conf7!$P$54+Conf7!$P$55>List!AK268,List!AK268+1,\"\")","v":""},{"$f":"IF(Conf7!$P$54>List!AL268,List!AL268+1,\"\")","v":""},{"$f":"IF(Conf8!$P$55>List!AM268,List!AM268+1,\"\")","v":""},{"$f":"IF(Conf8!$P$54+Conf8!$P$55>List!AN268,List!AN268+1,\"\")","v":""},{"$f":"IF(Conf8!$P$54>List!AO268,List!AO268+1,\"\")","v":""},{"$f":"IF(Conf9!$P$55>List!AP268,List!AP268+1,\"\")","v":""},{"$f":"IF(Conf9!$P$54+Conf9!$P$55>List!AQ268,List!AQ268+1,\"\")","v":""},{"$f":"IF(Conf9!$P$54>List!AR268,List!AR268+1,\"\")","v":""},{"$f":"IF(Conf10!$P$55>List!AS268,List!AS268+1,\"\")","v":""},{"$f":"IF(Conf10!$P$54+Conf10!$P$55>List!AT268,List!AT268+1,\"\")","v":""},{"$f":"IF(Conf10!$P$54>List!AU268,List!AU268+1,\"\")","v":""}]
[null,null,null,null,null,null,null,null,null,null,null,{"$f":"IF(Configurator!$P$55>List!L269,List!L269+1,\"\")","v":""},{"$f":"IF(Configurator!$P$54+Configurator!$P$55>List!M269,List!M269+1,\"\")","v":""},{"$f":"IF(Configurator!$P$54>List!N269,List!N269+1,\"\")","v":""},{"$f":"IF(Conf2!$P$55>List!O269,List!O269+1,\"\")","v":""},{"$f":"IF(Conf2!$P$54+Conf2!$P$55>List!P269,List!P269+1,\"\")","v":""},{"$f":"IF(Conf2!$P$54>List!Q269,List!Q269+1,\"\")","v":""},{"$f":"IF(Conf3!$P$55>List!R269,List!R269+1,\"\")","v":""},{"$f":"IF(Conf3!$P$54+Conf3!$P$55>List!S269,List!S269+1,\"\")","v":""},{"$f":"IF(Conf3!$P$54>List!T269,List!T269+1,\"\")","v":""},{"$f":"IF(Conf4!$P$55>List!U269,List!U269+1,\"\")","v":""},{"$f":"IF(Conf4!$P$54+Conf4!$P$55>List!V269,List!V269+1,\"\")","v":""},{"$f":"IF(Conf4!$P$54>List!W269,List!W269+1,\"\")","v":""},null,null,null,null,null,null,{"$f":"IF(Conf5!$P$55>List!AD269,List!AD269+1,\"\")","v":""},{"$f":"IF(Conf5!$P$54+Conf5!$P$55>List!AE269,List!AE269+1,\"\")","v":""},{"$f":"IF(Conf5!$P$54>List!AF269,List!AF269+1,\"\")","v":""},{"$f":"IF(Conf6!$P$55>List!AG269,List!AG269+1,\"\")","v":""},{"$f":"IF(Conf6!$P$54+Conf6!$P$55>List!AH269,List!AH269+1,\"\")","v":""},{"$f":"IF(Conf6!$P$54>List!AI269,List!AI269+1,\"\")","v":""},{"$f":"IF(Conf7!$P$55>List!AJ269,List!AJ269+1,\"\")","v":""},{"$f":"IF(Conf7!$P$54+Conf7!$P$55>List!AK269,List!AK269+1,\"\")","v":""},{"$f":"IF(Conf7!$P$54>List!AL269,List!AL269+1,\"\")","v":""},{"$f":"IF(Conf8!$P$55>List!AM269,List!AM269+1,\"\")","v":""},{"$f":"IF(Conf8!$P$54+Conf8!$P$55>List!AN269,List!AN269+1,\"\")","v":""},{"$f":"IF(Conf8!$P$54>List!AO269,List!AO269+1,\"\")","v":""},{"$f":"IF(Conf9!$P$55>List!AP269,List!AP269+1,\"\")","v":""},{"$f":"IF(Conf9!$P$54+Conf9!$P$55>List!AQ269,List!AQ269+1,\"\")","v":""},{"$f":"IF(Conf9!$P$54>List!AR269,List!AR269+1,\"\")","v":""},{"$f":"IF(Conf10!$P$55>List!AS269,List!AS269+1,\"\")","v":""},{"$f":"IF(Conf10!$P$54+Conf10!$P$55>List!AT269,List!AT269+1,\"\")","v":""},{"$f":"IF(Conf10!$P$54>List!AU269,List!AU269+1,\"\")","v":""}]
[null,null,null,null,null,null,null,null,null,null,null,{"$f":"IF(Configurator!$P$55>List!L270,List!L270+1,\"\")","v":""},{"$f":"IF(Configurator!$P$54+Configurator!$P$55>List!M270,List!M270+1,\"\")","v":""},{"$f":"IF(Configurator!$P$54>List!N270,List!N270+1,\"\")","v":""},{"$f":"IF(Conf2!$P$55>List!O270,List!O270+1,\"\")","v":""},{"$f":"IF(Conf2!$P$54+Conf2!$P$55>List!P270,List!P270+1,\"\")","v":""},{"$f":"IF(Conf2!$P$54>List!Q270,List!Q270+1,\"\")","v":""},{"$f":"IF(Conf3!$P$55>List!R270,List!R270+1,\"\")","v":""},{"$f":"IF(Conf3!$P$54+Conf3!$P$55>List!S270,List!S270+1,\"\")","v":""},{"$f":"IF(Conf3!$P$54>List!T270,List!T270+1,\"\")","v":""},{"$f":"IF(Conf4!$P$55>List!U270,List!U270+1,\"\")","v":""},{"$f":"IF(Conf4!$P$54+Conf4!$P$55>List!V270,List!V270+1,\"\")","v":""},{"$f":"IF(Conf4!$P$54>List!W270,List!W270+1,\"\")","v":""},null,null,null,null,null,null,{"$f":"IF(Conf5!$P$55>List!AD270,List!AD270+1,\"\")","v":""},{"$f":"IF(Conf5!$P$54+Conf5!$P$55>List!AE270,List!AE270+1,\"\")","v":""},{"$f":"IF(Conf5!$P$54>List!AF270,List!AF270+1,\"\")","v":""},{"$f":"IF(Conf6!$P$55>List!AG270,List!AG270+1,\"\")","v":""},{"$f":"IF(Conf6!$P$54+Conf6!$P$55>List!AH270,List!AH270+1,\"\")","v":""},{"$f":"IF(Conf6!$P$54>List!AI270,List!AI270+1,\"\")","v":""},{"$f":"IF(Conf7!$P$55>List!AJ270,List!AJ270+1,\"\")","v":""},{"$f":"IF(Conf7!$P$54+Conf7!$P$55>List!AK270,List!AK270+1,\"\")","v":""},{"$f":"IF(Conf7!$P$54>List!AL270,List!AL270+1,\"\")","v":""},{"$f":"IF(Conf8!$P$55>List!AM270,List!AM270+1,\"\")","v":""},{"$f":"IF(Conf8!$P$54+Conf8!$P$55>List!AN270,List!AN270+1,\"\")","v":""},{"$f":"IF(Conf8!$P$54>List!AO270,List!AO270+1,\"\")","v":""},{"$f":"IF(Conf9!$P$55>List!AP270,List!AP270+1,\"\")","v":""},{"$f":"IF(Conf9!$P$54+Conf9!$P$55>List!AQ270,List!AQ270+1,\"\")","v":""},{"$f":"IF(Conf9!$P$54>List!AR270,List!AR270+1,\"\")","v":""},{"$f":"IF(Conf10!$P$55>List!AS270,List!AS270+1,\"\")","v":""},{"$f":"IF(Conf10!$P$54+Conf10!$P$55>List!AT270,List!AT270+1,\"\")","v":""},{"$f":"IF(Conf10!$P$54>List!AU270,List!AU270+1,\"\")","v":""}]
[null,null,null,null,null,null,null,null,null,null,null,{"$f":"IF(Configurator!$P$55>List!L271,List!L271+1,\"\")","v":""},{"$f":"IF(Configurator!$P$54+Configurator!$P$55>List!M271,List!M271+1,\"\")","v":""},{"$f":"IF(Configurator!$P$54>List!N271,List!N271+1,\"\")","v":""},{"$f":"IF(Conf2!$P$55>List!O271,List!O271+1,\"\")","v":""},{"$f":"IF(Conf2!$P$54+Conf2!$P$55>List!P271,List!P271+1,\"\")","v":""},{"$f":"IF(Conf2!$P$54>List!Q271,List!Q271+1,\"\")","v":""},{"$f":"IF(Conf3!$P$55>List!R271,List!R271+1,\"\")","v":""},{"$f":"IF(Conf3!$P$54+Conf3!$P$55>List!S271,List!S271+1,\"\")","v":""},{"$f":"IF(Conf3!$P$54>List!T271,List!T271+1,\"\")","v":""},{"$f":"IF(Conf4!$P$55>List!U271,List!U271+1,\"\")","v":""},{"$f":"IF(Conf4!$P$54+Conf4!$P$55>List!V271,List!V271+1,\"\")","v":""},{"$f":"IF(Conf4!$P$54>List!W271,List!W271+1,\"\")","v":""},null,null,null,null,null,null,{"$f":"IF(Conf5!$P$55>List!AD271,List!AD271+1,\"\")","v":""},{"$f":"IF(Conf5!$P$54+Conf5!$P$55>List!AE271,List!AE271+1,\"\")","v":""},{"$f":"IF(Conf5!$P$54>List!AF271,List!AF271+1,\"\")","v":""},{"$f":"IF(Conf6!$P$55>List!AG271,List!AG271+1,\"\")","v":""},{"$f":"IF(Conf6!$P$54+Conf6!$P$55>List!AH271,List!AH271+1,\"\")","v":""},{"$f":"IF(Conf6!$P$54>List!AI271,List!AI271+1,\"\")","v":""},{"$f":"IF(Conf7!$P$55>List!AJ271,List!AJ271+1,\"\")","v":""},{"$f":"IF(Conf7!$P$54+Conf7!$P$55>List!AK271,List!AK271+1,\"\")","v":""},{"$f":"IF(Conf7!$P$54>List!AL271,List!AL271+1,\"\")","v":""},{"$f":"IF(Conf8!$P$55>List!AM271,List!AM271+1,\"\")","v":""},{"$f":"IF(Conf8!$P$54+Conf8!$P$55>List!AN271,List!AN271+1,\"\")","v":""},{"$f":"IF(Conf8!$P$54>List!AO271,List!AO271+1,\"\")","v":""},{"$f":"IF(Conf9!$P$55>List!AP271,List!AP271+1,\"\")","v":""},{"$f":"IF(Conf9!$P$54+Conf9!$P$55>List!AQ271,List!AQ271+1,\"\")","v":""},{"$f":"IF(Conf9!$P$54>List!AR271,List!AR271+1,\"\")","v":""},{"$f":"IF(Conf10!$P$55>List!AS271,List!AS271+1,\"\")","v":""},{"$f":"IF(Conf10!$P$54+Conf10!$P$55>List!AT271,List!AT271+1,\"\")","v":""},{"$f":"IF(Conf10!$P$54>List!AU271,List!AU271+1,\"\")","v":""}]
[null,null,null,null,null,null,null,null,null,null,null,{"$f":"IF(Configurator!$P$55>List!L272,List!L272+1,\"\")","v":""},{"$f":"IF(Configurator!$P$54+Configurator!$P$55>List!M272,List!M272+1,\"\")","v":""},{"$f":"IF(Configurator!$P$54>List!N272,List!N272+1,\"\")","v":""},{"$f":"IF(Conf2!$P$55>List!O272,List!O272+1,\"\")","v":""},{"$f":"IF(Conf2!$P$54+Conf2!$P$55>List!P272,List!P272+1,\"\")","v":""},{"$f":"IF(Conf2!$P$54>List!Q272,List!Q272+1,\"\")","v":""},{"$f":"IF(Conf3!$P$55>List!R272,List!R272+1,\"\")","v":""},{"$f":"IF(Conf3!$P$54+Conf3!$P$55>List!S272,List!S272+1,\"\")","v":""},{"$f":"IF(Conf3!$P$54>List!T272,List!T272+1,\"\")","v":""},{"$f":"IF(Conf4!$P$55>List!U272,List!U272+1,\"\")","v":""},{"$f":"IF(Conf4!$P$54+Conf4!$P$55>List!V272,List!V272+1,\"\")","v":""},{"$f":"IF(Conf4!$P$54>List!W272,List!W272+1,\"\")","v":""},null,null,null,null,null,null,{"$f":"IF(Conf5!$P$55>List!AD272,List!AD272+1,\"\")","v":""},{"$f":"IF(Conf5!$P$54+Conf5!$P$55>List!AE272,List!AE272+1,\"\")","v":""},{"$f":"IF(Conf5!$P$54>List!AF272,List!AF272+1,\"\")","v":""},{"$f":"IF(Conf6!$P$55>List!AG272,List!AG272+1,\"\")","v":""},{"$f":"IF(Conf6!$P$54+Conf6!$P$55>List!AH272,List!AH272+1,\"\")","v":""},{"$f":"IF(Conf6!$P$54>List!AI272,List!AI272+1,\"\")","v":""},{"$f":"IF(Conf7!$P$55>List!AJ272,List!AJ272+1,\"\")","v":""},{"$f":"IF(Conf7!$P$54+Conf7!$P$55>List!AK272,List!AK272+1,\"\")","v":""},{"$f":"IF(Conf7!$P$54>List!AL272,List!AL272+1,\"\")","v":""},{"$f":"IF(Conf8!$P$55>List!AM272,List!AM272+1,\"\")","v":""},{"$f":"IF(Conf8!$P$54+Conf8!$P$55>List!AN272,List!AN272+1,\"\")","v":""},{"$f":"IF(Conf8!$P$54>List!AO272,List!AO272+1,\"\")","v":""},{"$f":"IF(Conf9!$P$55>List!AP272,List!AP272+1,\"\")","v":""},{"$f":"IF(Conf9!$P$54+Conf9!$P$55>List!AQ272,List!AQ272+1,\"\")","v":""},{"$f":"IF(Conf9!$P$54>List!AR272,List!AR272+1,\"\")","v":""},{"$f":"IF(Conf10!$P$55>List!AS272,List!AS272+1,\"\")","v":""},{"$f":"IF(Conf10!$P$54+Conf10!$P$55>List!AT272,List!AT272+1,\"\")","v":""},{"$f":"IF(Conf10!$P$54>List!AU272,List!AU272+1,\"\")","v":""}]
[null,null,null,null,null,null,null,null,null,null,null,{"$f":"IF(Configurator!$P$55>List!L273,List!L273+1,\"\")","v":""},{"$f":"IF(Configurator!$P$54+Configurator!$P$55>List!M273,List!M273+1,\"\")","v":""},{"$f":"IF(Configurator!$P$54>List!N273,List!N273+1,\"\")","v":""},{"$f":"IF(Conf2!$P$55>List!O273,List!O273+1,\"\")","v":""},{"$f":"IF(Conf2!$P$54+Conf2!$P$55>List!P273,List!P273+1,\"\")","v":""},{"$f":"IF(Conf2!$P$54>List!Q273,List!Q273+1,\"\")","v":""},{"$f":"IF(Conf3!$P$55>List!R273,List!R273+1,\"\")","v":""},{"$f":"IF(Conf3!$P$54+Conf3!$P$55>List!S273,List!S273+1,\"\")","v":""},{"$f":"IF(Conf3!$P$54>List!T273,List!T273+1,\"\")","v":""},{"$f":"IF(Conf4!$P$55>List!U273,List!U273+1,\"\")","v":""},{"$f":"IF(Conf4!$P$54+Conf4!$P$55>List!V273,List!V273+1,\"\")","v":""},{"$f":"IF(Conf4!$P$54>List!W273,List!W273+1,\"\")","v":""},null,null,null,null,null,null,{"$f":"IF(Conf5!$P$55>List!AD273,List!AD273+1,\"\")","v":""},{"$f":"IF(Conf5!$P$54+Conf5!$P$55>List!AE273,List!AE273+1,\"\")","v":""},{"$f":"IF(Conf5!$P$54>List!AF273,List!AF273+1,\"\")","v":""},{"$f":"IF(Conf6!$P$55>List!AG273,List!AG273+1,\"\")","v":""},{"$f":"IF(Conf6!$P$54+Conf6!$P$55>List!AH273,List!AH273+1,\"\")","v":""},{"$f":"IF(Conf6!$P$54>List!AI273,List!AI273+1,\"\")","v":""},{"$f":"IF(Conf7!$P$55>List!AJ273,List!AJ273+1,\"\")","v":""},{"$f":"IF(Conf7!$P$54+Conf7!$P$55>List!AK273,List!AK273+1,\"\")","v":""},{"$f":"IF(Conf7!$P$54>List!AL273,List!AL273+1,\"\")","v":""},{"$f":"IF(Conf8!$P$55>List!AM273,List!AM273+1,\"\")","v":""},{"$f":"IF(Conf8!$P$54+Conf8!$P$55>List!AN273,List!AN273+1,\"\")","v":""},{"$f":"IF(Conf8!$P$54>List!AO273,List!AO273+1,\"\")","v":""},{"$f":"IF(Conf9!$P$55>List!AP273,List!AP273+1,\"\")","v":""},{"$f":"IF(Conf9!$P$54+Conf9!$P$55>List!AQ273,List!AQ273+1,\"\")","v":""},{"$f":"IF(Conf9!$P$54>List!AR273,List!AR273+1,\"\")","v":""},{"$f":"IF(Conf10!$P$55>List!AS273,List!AS273+1,\"\")","v":""},{"$f":"IF(Conf10!$P$54+Conf10!$P$55>List!AT273,List!AT273+1,\"\")","v":""},{"$f":"IF(Conf10!$P$54>List!AU273,List!AU273+1,\"\")","v":""}]
[null,null,null,null,null,null,null,null,null,null,null,{"$f":"IF(Configurator!$P$55>List!L274,List!L274+1,\"\")","v":""},{"$f":"IF(Configurator!$P$54+Configurator!$P$55>List!M274,List!M274+1,\"\")","v":""},{"$f":"IF(Configurator!$P$54>List!N274,List!N274+1,\"\")","v":""},{"$f":"IF(Conf2!$P$55>List!O274,List!O274+1,\"\")","v":""},{"$f":"IF(Conf2!$P$54+Conf2!$P$55>List!P274,List!P274+1,\"\")","v":""},{"$f":"IF(Conf2!$P$54>List!Q274,List!Q274+1,\"\")","v":""},{"$f":"IF(Conf3!$P$55>List!R274,List!R274+1,\"\")","v":""},{"$f":"IF(Conf3!$P$54+Conf3!$P$55>List!S274,List!S274+1,\"\")","v":""},{"$f":"IF(Conf3!$P$54>List!T274,List!T274+1,\"\")","v":""},{"$f":"IF(Conf4!$P$55>List!U274,List!U274+1,\"\")","v":""},{"$f":"IF(Conf4!$P$54+Conf4!$P$55>List!V274,List!V274+1,\"\")","v":""},{"$f":"IF(Conf4!$P$54>List!W274,List!W274+1,\"\")","v":""},null,null,null,null,null,null,{"$f":"IF(Conf5!$P$55>List!AD274,List!AD274+1,\"\")","v":""},{"$f":"IF(Conf5!$P$54+Conf5!$P$55>List!AE274,List!AE274+1,\"\")","v":""},{"$f":"IF(Conf5!$P$54>List!AF274,List!AF274+1,\"\")","v":""},{"$f":"IF(Conf6!$P$55>List!AG274,List!AG274+1,\"\")","v":""},{"$f":"IF(Conf6!$P$54+Conf6!$P$55>List!AH274,List!AH274+1,\"\")","v":""},{"$f":"IF(Conf6!$P$54>List!AI274,List!AI274+1,\"\")","v":""},{"$f":"IF(Conf7!$P$55>List!AJ274,List!AJ274+1,\"\")","v":""},{"$f":"IF(Conf7!$P$54+Conf7!$P$55>List!AK274,List!AK274+1,\"\")","v":""},{"$f":"IF(Conf7!$P$54>List!AL274,List!AL274+1,\"\")","v":""},{"$f":"IF(Conf8!$P$55>List!AM274,List!AM274+1,\"\")","v":""},{"$f":"IF(Conf8!$P$54+Conf8!$P$55>List!AN274,List!AN274+1,\"\")","v":""},{"$f":"IF(Conf8!$P$54>List!AO274,List!AO274+1,\"\")","v":""},{"$f":"IF(Conf9!$P$55>List!AP274,List!AP274+1,\"\")","v":""},{"$f":"IF(Conf9!$P$54+Conf9!$P$55>List!AQ274,List!AQ274+1,\"\")","v":""},{"$f":"IF(Conf9!$P$54>List!AR274,List!AR274+1,\"\")","v":""},{"$f":"IF(Conf10!$P$55>List!AS274,List!AS274+1,\"\")","v":""},{"$f":"IF(Conf10!$P$54+Conf10!$P$55>List!AT274,List!AT274+1,\"\")","v":""},{"$f":"IF(Conf10!$P$54>List!AU274,List!AU274+1,\"\")","v":""}]